Workbook

Sheet Portada

Sheet C01
A1: Cuadro No. 1. Tasa de Desempleo Abierto (TDA) de la Población en Edad de Trabajar (PET) y Población Económicamente Activa (PEA), | S1: Cuadro No. 2. Tasa de Desempleo Abierto (TDA) de la Población en Edad de Trabajar (PET) y Población Económicamente Activa (PEA),
A2: según dominio, nivel educativo, rango de edad, sexo, rama de actividad y ocupación | S2: según dominio, nivel educativo, rango de edad, sexo, rama de actividad y ocupación
A3: Hombres | S3: Hombres
A4: Categorías | B4: Población Total | E4: Población en Edad de Trabajar (PET) | H4: Población Económicamente Activa (PEA) | Q4: TDA | R4: MBT | S4: Categorías | T4: Población Económicamente Activa (PEA) | AC4: TDA | AD4: MBT
H5: Total | K5: Ocupados | N5: Desocupados | T5: Total | W5: Ocupados | Z5: Desocupados
B6: No. | C6: % 1/ | D6: AEP | E6: No. | F6: % 1/ | G6: AEP | H6: No. | I6: % 1/ | J6: AEP | K6: No. | L6: % 1/ | M6: AEP | N6: No. | O6: % 1/ | P6: AEP | T6: No. | U6: % 1/ | V6: AEP | W6: No. | X6: % 1/ | Y6: AEP | Z6: No. | AA6: % 1/ | AB6: AEP
A8: Total Nacional | B8: =[1]MercLab!N48 -> 3939101.1 | C8: =SUM(C11,C15) -> 100 | D8: =[1]MercLab!O48 -> 5.8880173 | E8: =[1]MercLab!P48 -> 3073237.8 | F8: =SUM(F11,F15) -> 100 | G8: =[1]MercLab!Q48 -> 6.4239498 | H8: =[1]MercLab!R48 -> 2191748.7 | I8: =SUM(I11,I15) -> 100 | J8: =[1]MercLab!S48 -> 6.6415627 | K8: =[1]MercLab!T48 -> 2102297.2 | L8: =SUM(L11,L15) -> 100 | M8: =[1]MercLab!U48 -> 6.5721496 | N8: =[1]MercLab!V48 -> 89451.528 | O8: =SUM(O11,O15) -> 100 | P8: =[1]MercLab!W48 -> 8.1395651 | Q8: =IF(ISNUMBER(N8/H8*100),N8/H8*100,0) -> 4.0812858 | R8: =[1]MercLab!X48 -> 3.5453236 | S8: Total Nacional | T8: =H8 -> 2191748.7 | U8: =I8 -> 100 | V8: =J8 -> 6.6415627 | W8: =K8 -> 2102297.2 | X8: =L8 -> 100 | Y8: =M8 -> 6.5721496 | Z8: =N8 -> 89451.528 | AA8: =O8 -> 100 | ... AD8: =R8 -> 3.5453236
A10: Dominio | S10: Rama de Actividad (1 Dig.)
A11: Urbano | B11: =SUM(B12:B14) -> 1694076.9 | C11: =IF(ISNUMBER(B11/B$8*100),B11/B$8*100,0) -> 43.006689 | D11: =AVERAGE(D12:D14) -> 7.508326 | E11: =SUM(E12:E14) -> 1340834.1 | F11: =IF(ISNUMBER(E11/E$8*100),E11/E$8*100,0) -> 43.629365 | G11: =AVERAGE(G12:G14) -> 8.1270676 | H11: =SUM(H12:H14) -> 888723.17 | I11: =IF(ISNUMBER(H11/H$8*100),H11/H$8*100,0) -> 40.548589 | J11: =AVERAGE(J12:J14) -> 8.6658166 | K11: =SUM(K12:K14) -> 824838.33 | L11: =IF(ISNUMBER(K11/K$8*100),K11/K$8*100,0) -> 39.235097 | M11: =AVERAGE(M12:M14) -> 8.6614338 | N11: =SUM(N12:N14) -> 63884.832 | O11: =IF(ISNUMBER(N11/N$8*100),N11/N$8*100,0) -> 71.418381 | P11: =AVERAGE(P12:P14) -> 8.6200033 | Q11: =IF(ISNUMBER(N11/H11*100),N11/H11*100,0) -> 7.1883838 | R11: =AVERAGE(R12:R14) -> 3.5798012 | S11: Agricultura, Silvicultura, Caza y Pesca | T11: =[1]MercLab!R79 -> 1058333.8 | U11: =IF(ISNUMBER(T11/T$8*100),T11/T$8*100,0) -> 48.287186 | V11: =[1]MercLab!S79 -> 4.9050659 | W11: =[1]MercLab!T79 -> 1048033.7 | X11: =IF(ISNUMBER(W11/W$8*100),W11/W$8*100,0) -> 49.851834 | Y11: =[1]MercLab!U79 -> 4.8899668 | Z11: =[1]MercLab!V79 -> 10300.069 | AA11: =IF(ISNUMBER(Z11/Z$8*100),Z11/Z$8*100,0) -> 11.514694 | AB11: =[1]MercLab!W79 -> 6.5406747 | AC11: =IF(ISNUMBER(Z11/T11*100),Z11/T11*100,0) -> 0.97323451 | AD11: =[1]MercLab!X79 -> 1.5325828
A12: Distrito Central | B12: =[1]MercLab!N49 -> 455537.62 | C12: =IF(ISNUMBER(B12/B$8*100),B12/B$8*100,0) -> 11.564507 | D12: =[1]MercLab!O49 -> 8.2248786 | E12: =[1]MercLab!P49 -> 371627.12 | F12: =IF(ISNUMBER(E12/E$8*100),E12/E$8*100,0) -> 12.092365 | G12: =[1]MercLab!Q49 -> 8.8445486 | H12: =[1]MercLab!R49 -> 245397.76 | I12: =IF(ISNUMBER(H12/H$8*100),H12/H$8*100,0) -> 11.196437 | J12: =[1]MercLab!S49 -> 9.3425165 | K12: =[1]MercLab!T49 -> 220907.25 | L12: =IF(ISNUMBER(K12/K$8*100),K12/K$8*100,0) -> 10.507898 | M12: =[1]MercLab!U49 -> 9.2864931 | N12: =[1]MercLab!V49 -> 24490.513 | O12: =IF(ISNUMBER(N12/N$8*100),N12/N$8*100,0) -> 27.37853 | P12: =[1]MercLab!W49 -> 9.8490946 | Q12: =IF(ISNUMBER(N12/H12*100),N12/H12*100,0) -> 9.9799254 | R12: =[1]MercLab!X49 -> 4.2663338 | S12: Explotación de minas y canteras | T12: =[1]MercLab!R80 -> 7967.4787 | U12: =IF(ISNUMBER(T12/T$8*100),T12/T$8*100,0) -> 0.36352155 | V12: =[1]MercLab!S80 -> 5.6366751 | W12: =[1]MercLab!T80 -> 7967.4787 | X12: =IF(ISNUMBER(W12/W$8*100),W12/W$8*100,0) -> 0.37898918 | Y12: =[1]MercLab!U80 -> 5.6366751 | Z12: =[1]MercLab!V80 -> 0 | AA12: =IF(ISNUMBER(Z12/Z$8*100),Z12/Z$8*100,0) -> 0 | AB12: =[1]MercLab!W80 -> 0 | AC12: =IF(ISNUMBER(Z12/T12*100),Z12/T12*100,0) -> 0 | AD12: =[1]MercLab!X80 -> 1
A13: San Pedro Sula | B13: =[1]MercLab!N50 -> 274975.04 | C13: =IF(ISNUMBER(B13/B$8*100),B13/B$8*100,0) -> 6.9806547 | D13: =[1]MercLab!O50 -> 7.7269365 | E13: =[1]MercLab!P50 -> 217390.26 | F13: =IF(ISNUMBER(E13/E$8*100),E13/E$8*100,0) -> 7.0736557 | G13: =[1]MercLab!Q50 -> 8.3576476 | H13: =[1]MercLab!R50 -> 149782.03 | I13: =IF(ISNUMBER(H13/H$8*100),H13/H$8*100,0) -> 6.8339052 | J13: =[1]MercLab!S50 -> 9.0506437 | K13: =[1]MercLab!T50 -> 140081.92 | L13: =IF(ISNUMBER(K13/K$8*100),K13/K$8*100,0) -> 6.6632786 | M13: =[1]MercLab!U50 -> 9.0980592 | N13: =[1]MercLab!V50 -> 9700.1107 | O13: =IF(ISNUMBER(N13/N$8*100),N13/N$8*100,0) -> 10.843986 | P13: =[1]MercLab!W50 -> 8.3401361 | Q13: =IF(ISNUMBER(N13/H13*100),N13/H13*100,0) -> 6.4761513 | R13: =[1]MercLab!X50 -> 2.7239249 | S13: Industria manufacturera | T13: =[1]MercLab!R81 -> 220365.73 | U13: =IF(ISNUMBER(T13/T$8*100),T13/T$8*100,0) -> 10.054334 | V13: =[1]MercLab!S81 -> 7.6413081 | W13: =[1]MercLab!T81 -> 207193.24 | X13: =IF(ISNUMBER(W13/W$8*100),W13/W$8*100,0) -> 9.855564 | Y13: =[1]MercLab!U81 -> 7.6296941 | Z13: =[1]MercLab!V81 -> 13172.488 | AA13: =IF(ISNUMBER(Z13/Z$8*100),Z13/Z$8*100,0) -> 14.725839 | AB13: =[1]MercLab!W81 -> 7.8193756 | AC13: =IF(ISNUMBER(Z13/T13*100),Z13/T13*100,0) -> 5.9775575 | AD13: =[1]MercLab!X81 -> 3.1158898
A14: Resto urbano | B14: =[1]MercLab!N51 -> 963564.28 | C14: =IF(ISNUMBER(B14/B$8*100),B14/B$8*100,0) -> 24.461527 | D14: =[1]MercLab!O51 -> 6.5731628 | E14: =[1]MercLab!P51 -> 751816.74 | F14: =IF(ISNUMBER(E14/E$8*100),E14/E$8*100,0) -> 24.463344 | G14: =[1]MercLab!Q51 -> 7.1790066 | H14: =[1]MercLab!R51 -> 493543.38 | I14: =IF(ISNUMBER(H14/H$8*100),H14/H$8*100,0) -> 22.518247 | J14: =[1]MercLab!S51 -> 7.6042896 | K14: =[1]MercLab!T51 -> 463849.17 | L14: =IF(ISNUMBER(K14/K$8*100),K14/K$8*100,0) -> 22.063921 | M14: =[1]MercLab!U51 -> 7.599749 | N14: =[1]MercLab!V51 -> 29694.208 | O14: =IF(ISNUMBER(N14/N$8*100),N14/N$8*100,0) -> 33.195865 | P14: =[1]MercLab!W51 -> 7.6707793 | Q14: =IF(ISNUMBER(N14/H14*100),N14/H14*100,0) -> 6.0165346 | R14: =[1]MercLab!X51 -> 3.749145 | S14: Electricidad, gas y agua | T14: =[1]MercLab!R82 -> 9896.6926 | U14: =IF(ISNUMBER(T14/T$8*100),T14/T$8*100,0) -> 0.45154322 | V14: =[1]MercLab!S82 -> 8.9056092 | W14: =[1]MercLab!T82 -> 9212.0699 | X14: =IF(ISNUMBER(W14/W$8*100),W14/W$8*100,0) -> 0.43819067 | Y14: =[1]MercLab!U82 -> 8.7249943 | Z14: =[1]MercLab!V82 -> 684.62267 | AA14: =IF(ISNUMBER(Z14/Z$8*100),Z14/Z$8*100,0) -> 0.76535605 | AB14: =[1]MercLab!W82 -> 11.335907 | AC14: =IF(ISNUMBER(Z14/T14*100),Z14/T14*100,0) -> 6.9176916 | AD14: =[1]MercLab!X82 -> 6.2913756
A15: Rural | B15: =[1]MercLab!N52 -> 2245024.1 | C15: =IF(ISNUMBER(B15/B$8*100),B15/B$8*100,0) -> 56.993311 | D15: =[1]MercLab!O52 -> 4.7464746 | E15: =[1]MercLab!P52 -> 1732403.6 | F15: =IF(ISNUMBER(E15/E$8*100),E15/E$8*100,0) -> 56.370635 | G15: =[1]MercLab!Q52 -> 5.1923091 | H15: =[1]MercLab!R52 -> 1303025.5 | I15: =IF(ISNUMBER(H15/H$8*100),H15/H$8*100,0) -> 59.451411 | J15: =[1]MercLab!S52 -> 5.3088736 | K15: =[1]MercLab!T52 -> 1277458.8 | L15: =IF(ISNUMBER(K15/K$8*100),K15/K$8*100,0) -> 60.764903 | M15: =[1]MercLab!U52 -> 5.2745517 | N15: =[1]MercLab!V52 -> 25566.695 | O15: =IF(ISNUMBER(N15/N$8*100),N15/N$8*100,0) -> 28.581619 | P15: =[1]MercLab!W52 -> 6.8883495 | Q15: =IF(ISNUMBER(N15/H15*100),N15/H15*100,0) -> 1.9621024 | R15: =[1]MercLab!X52 -> 2.9529909 | S15: Construcción | T15: =[1]MercLab!R83 -> 187728.88 | U15: =IF(ISNUMBER(T15/T$8*100),T15/T$8*100,0) -> 8.5652559 | V15: =[1]MercLab!S83 -> 6.2469399 | W15: =[1]MercLab!T83 -> 166553.59 | X15: =IF(ISNUMBER(W15/W$8*100),W15/W$8*100,0) -> 7.9224572 | Y15: =[1]MercLab!U83 -> 6.2507487 | Z15: =[1]MercLab!V83 -> 21175.29 | AA15: =IF(ISNUMBER(Z15/Z$8*100),Z15/Z$8*100,0) -> 23.672363 | AB15: =[1]MercLab!W83 -> 6.2180604 | AC15: =IF(ISNUMBER(Z15/T15*100),Z15/T15*100,0) -> 11.279719 | AD15: =[1]MercLab!X83 -> 2.5847915
S16: Comercio por Mayor/Menor, Hoteles / restaurantes | T16: =[1]MercLab!R84 -> 349143.97 | U16: =IF(ISNUMBER(T16/T$8*100),T16/T$8*100,0) -> 15.929927 | V16: =[1]MercLab!S84 -> 7.7044891 | W16: =[1]MercLab!T84 -> 335238.5 | X16: =IF(ISNUMBER(W16/W$8*100),W16/W$8*100,0) -> 15.946295 | Y16: =[1]MercLab!U84 -> 7.660344 | Z16: =[1]MercLab!V84 -> 13905.467 | AA16: =IF(ISNUMBER(Z16/Z$8*100),Z16/Z$8*100,0) -> 15.545254 | AB16: =[1]MercLab!W84 -> 8.7260485 | AC16: =IF(ISNUMBER(Z16/T16*100),Z16/T16*100,0) -> 3.9827315 | AD16: =[1]MercLab!X84 -> 3.0726297
A17: Nivel educativo | S17: Transp. almac. y comunicaciones | T17: =[1]MercLab!R85 -> 112833.85 | U17: =IF(ISNUMBER(T17/T$8*100),T17/T$8*100,0) -> 5.1481198 | V17: =[1]MercLab!S85 -> 7.5186986 | W17: =[1]MercLab!T85 -> 108446.42 | X17: =IF(ISNUMBER(W17/W$8*100),W17/W$8*100,0) -> 5.1584724 | Y17: =[1]MercLab!U85 -> 7.5079981 | Z17: =[1]MercLab!V85 -> 4387.4298 | AA17: =IF(ISNUMBER(Z17/Z$8*100),Z17/Z$8*100,0) -> 4.9048126 | AB17: =[1]MercLab!W85 -> 7.7699276 | AC17: =IF(ISNUMBER(Z17/T17*100),Z17/T17*100,0) -> 3.8883986 | AD17: =[1]MercLab!X85 -> 4.3313096
A18: Sin Nivel | B18: =[1]MercLab!N54 -> 926716.57 | C18: =IF(ISNUMBER(B18/B$8*100),B18/B$8*100,0) -> 23.526093 | D18: =[1]MercLab!O54 -> 0 | E18: =[1]MercLab!P54 -> 359962.42 | F18: =IF(ISNUMBER(E18/E$8*100),E18/E$8*100,0) -> 11.712807 | G18: =[1]MercLab!Q54 -> 0 | H18: =[1]MercLab!R54 -> 291297.62 | I18: =IF(ISNUMBER(H18/H$8*100),H18/H$8*100,0) -> 13.290649 | J18: =[1]MercLab!S54 -> 0 | K18: =[1]MercLab!T54 -> 285711.32 | L18: =IF(ISNUMBER(K18/K$8*100),K18/K$8*100,0) -> 13.590435 | M18: =[1]MercLab!U54 -> 0 | N18: =[1]MercLab!V54 -> 5586.2966 | O18: =IF(ISNUMBER(N18/N$8*100),N18/N$8*100,0) -> 6.2450545 | P18: =[1]MercLab!W54 -> 0 | Q18: =IF(ISNUMBER(N18/H18*100),N18/H18*100,0) -> 1.9177282 | R18: =[1]MercLab!X54 -> 2.6003331 | S18: Estab. finac. seguros, Bienes inmuebles y servicios | T18: =[1]MercLab!R86 -> 70876.596 | U18: =IF(ISNUMBER(T18/T$8*100),T18/T$8*100,0) -> 3.2337921 | V18: =[1]MercLab!S86 -> 10.536424 | W18: =[1]MercLab!T86 -> 66618.982 | X18: =IF(ISNUMBER(W18/W$8*100),W18/W$8*100,0) -> 3.1688661 | Y18: =[1]MercLab!U86 -> 10.491272 | Z18: =[1]MercLab!V86 -> 4257.6134 | AA18: =IF(ISNUMBER(Z18/Z$8*100),Z18/Z$8*100,0) -> 4.7596878 | AB18: =[1]MercLab!W86 -> 11.311722 | AC18: =IF(ISNUMBER(Z18/T18*100),Z18/T18*100,0) -> 6.0070794 | AD18: =[1]MercLab!X86 -> 6.0371712
A19: Primaria | B19: =[1]MercLab!N55 -> 2087766.9 | C19: =IF(ISNUMBER(B19/B$8*100),B19/B$8*100,0) -> 53.0011 | D19: =[1]MercLab!O55 -> 3.8931175 | E19: =[1]MercLab!P55 -> 1788657.8 | F19: =IF(ISNUMBER(E19/E$8*100),E19/E$8*100,0) -> 58.201086 | G19: =[1]MercLab!Q55 -> 4.3684658 | H19: =[1]MercLab!R55 -> 1289997.6 | I19: =IF(ISNUMBER(H19/H$8*100),H19/H$8*100,0) -> 58.857006 | J19: =[1]MercLab!S55 -> 4.5634274 | K19: =[1]MercLab!T55 -> 1248443.5 | L19: =IF(ISNUMBER(K19/K$8*100),K19/K$8*100,0) -> 59.384728 | M19: =[1]MercLab!U55 -> 4.5534946 | N19: =[1]MercLab!V55 -> 41554.19 | O19: =IF(ISNUMBER(N19/N$8*100),N19/N$8*100,0) -> 46.454422 | P19: =[1]MercLab!W55 -> 4.8617657 | Q19: =IF(ISNUMBER(N19/H19*100),N19/H19*100,0) -> 3.2212609 | R19: =[1]MercLab!X55 -> 2.7914805 | S19: Servicios Comunales, Sociales y Personales | T19: =[1]MercLab!R87 -> 158934.69 | U19: =IF(ISNUMBER(T19/T$8*100),T19/T$8*100,0) -> 7.2515016 | V19: =[1]MercLab!S87 -> 10.197736 | W19: =[1]MercLab!T87 -> 147821.73 | X19: =IF(ISNUMBER(W19/W$8*100),W19/W$8*100,0) -> 7.0314387 | Y19: =[1]MercLab!U87 -> 10.288042 | Z19: =[1]MercLab!V87 -> 11112.956 | AA19: =IF(ISNUMBER(Z19/Z$8*100),Z19/Z$8*100,0) -> 12.423439 | AB19: =[1]MercLab!W87 -> 9.0119259 | AC19: =IF(ISNUMBER(Z19/T19*100),Z19/T19*100,0) -> 6.9921523 | AD19: =[1]MercLab!X87 -> 4.5989083
A20: Secundaria | B20: =[1]MercLab!N56 -> 731304.94 | C20: =IF(ISNUMBER(B20/B$8*100),B20/B$8*100,0) -> 18.565275 | D20: =[1]MercLab!O56 -> 9.3572622 | E20: =[1]MercLab!P56 -> 731304.94 | F20: =IF(ISNUMBER(E20/E$8*100),E20/E$8*100,0) -> 23.795912 | G20: =[1]MercLab!Q56 -> 9.3572622 | H20: =[1]MercLab!R56 -> 462542.71 | I20: =IF(ISNUMBER(H20/H$8*100),H20/H$8*100,0) -> 21.103821 | J20: =[1]MercLab!S56 -> 9.8554 | K20: =[1]MercLab!T56 -> 429272.04 | L20: =IF(ISNUMBER(K20/K$8*100),K20/K$8*100,0) -> 20.41919 | M20: =[1]MercLab!U56 -> 9.8205074 | N20: =[1]MercLab!V56 -> 33270.67 | O20: =IF(ISNUMBER(N20/N$8*100),N20/N$8*100,0) -> 37.194077 | P20: =[1]MercLab!W56 -> 10.305288 | Q20: =IF(ISNUMBER(N20/H20*100),N20/H20*100,0) -> 7.1929941 | R20: =[1]MercLab!X56 -> 4.4351769 | S20: No sabe, No responde | T20: =[1]MercLab!R88 -> 5661.4821 | U20: =IF(ISNUMBER(T20/T$8*100),T20/T$8*100,0) -> 0.25830891 | V20: =[1]MercLab!S88 -> 7.2349629 | W20: =[1]MercLab!T88 -> 5211.4429 | X20: =IF(ISNUMBER(W20/W$8*100),W20/W$8*100,0) -> 0.24789278 | Y20: =[1]MercLab!U88 -> 7.3669655 | Z20: =[1]MercLab!V88 -> 450.03921 | AA20: =IF(ISNUMBER(Z20/Z$8*100),Z20/Z$8*100,0) -> 0.50310959 | AB20: =[1]MercLab!W88 -> 5.9472454 | AC20: =IF(ISNUMBER(Z20/T20*100),Z20/T20*100,0) -> 7.9491413 | AD20: =[1]MercLab!X88 -> 1.3947613
A21: Superior | B21: =[1]MercLab!N57 -> 180034.08 | C21: =IF(ISNUMBER(B21/B$8*100),B21/B$8*100,0) -> 4.5704358 | D21: =[1]MercLab!O57 -> 14.923183 | E21: =[1]MercLab!P57 -> 180034.08 | F21: =IF(ISNUMBER(E21/E$8*100),E21/E$8*100,0) -> 5.8581242 | G21: =[1]MercLab!Q57 -> 14.923183 | H21: =[1]MercLab!R57 -> 136376.19 | I21: =IF(ISNUMBER(H21/H$8*100),H21/H$8*100,0) -> 6.2222551 | J21: =[1]MercLab!S57 -> 15.390196 | K21: =[1]MercLab!T57 -> 127570.41 | L21: =IF(ISNUMBER(K21/K$8*100),K21/K$8*100,0) -> 6.0681434 | M21: =[1]MercLab!U57 -> 15.387815 | N21: =[1]MercLab!V57 -> 8805.7876 | O21: =IF(ISNUMBER(N21/N$8*100),N21/N$8*100,0) -> 9.8442004 | P21: =[1]MercLab!W57 -> 15.424689 | Q21: =IF(ISNUMBER(N21/H21*100),N21/H21*100,0) -> 6.456983 | R21: =[1]MercLab!X57 -> 4.64098 | S21: Busca trabajo por primera vez | T21: =[1]MercLab!R89 -> 10005.552 | U21: =IF(ISNUMBER(T21/T$8*100),T21/T$8*100,0) -> 0.45651003 | V21: =[1]MercLab!S89 -> 10.743679 | W21: =[1]MercLab!T89 -> 0 | X21: =IF(ISNUMBER(W21/W$8*100),W21/W$8*100,0) -> 0 | Y21: =[1]MercLab!U89 -> 0 | Z21: =[1]MercLab!V89 -> 10005.552 | AA21: =IF(ISNUMBER(Z21/Z$8*100),Z21/Z$8*100,0) -> 11.185446 | AB21: =[1]MercLab!W89 -> 10.743679 | AC21: =IF(ISNUMBER(Z21/T21*100),Z21/T21*100,0) -> 100 | AD21: =[1]MercLab!X89 -> 6.0797198
A22: No sabe, no responde | B22: =[1]MercLab!N58 -> 13278.569 | C22: =IF(ISNUMBER(B22/B$8*100),B22/B$8*100,0) -> 0.33709643 | D22: =[1]MercLab!O58 -> 15 | E22: =[1]MercLab!P58 -> 13278.569 | F22: =IF(ISNUMBER(E22/E$8*100),E22/E$8*100,0) -> 0.43207099 | G22: =[1]MercLab!Q58 -> 15 | H22: =[1]MercLab!R58 -> 11534.512 | I22: =IF(ISNUMBER(H22/H$8*100),H22/H$8*100,0) -> 0.52626984 | J22: =[1]MercLab!S58 -> 15 | K22: =[1]MercLab!T58 -> 11299.929 | L22: =IF(ISNUMBER(K22/K$8*100),K22/K$8*100,0) -> 0.53750388 | M22: =[1]MercLab!U58 -> 15 | N22: =[1]MercLab!V58 -> 234.58346 | O22: =IF(ISNUMBER(N22/N$8*100),N22/N$8*100,0) -> 0.26224646 | P22: =[1]MercLab!W58 -> 0 | Q22: =IF(ISNUMBER(N22/H22*100),N22/H22*100,0) -> 2.0337528 | R22: =[1]MercLab!X58 -> 3.5
S23: Ocupación (1 Dig.)
A24: Rango de Edad | S24: Profesionales, Técnicos y PEOA | T24: =[1]MercLab!R91 -> 117019.57 | U24: =IF(ISNUMBER(T24/T$8*100),T24/T$8*100,0) -> 5.3390963 | V24: =[1]MercLab!S91 -> 12.667774 | W24: =[1]MercLab!T91 -> 111503.05 | X24: =IF(ISNUMBER(W24/W$8*100),W24/W$8*100,0) -> 5.3038671 | Y24: =[1]MercLab!U91 -> 12.723378 | Z24: =[1]MercLab!V91 -> 5516.5259 | AA24: =IF(ISNUMBER(Z24/Z$8*100),Z24/Z$8*100,0) -> 6.1670561 | AB24: =[1]MercLab!W91 -> 11.553699 | AC24: =IF(ISNUMBER(Z24/T24*100),Z24/T24*100,0) -> 4.7141908 | AD24: =[1]MercLab!X91 -> 4.9021253
A25: De 10 a 11 años | B25: =[1]MercLab!N60 -> 231692.39 | C25: =IF(ISNUMBER(B25/B$8*100),B25/B$8*100,0) -> 5.8818595 | D25: =[1]MercLab!O60 -> 3.0105631 | E25: =[1]MercLab!P60 -> 231692.39 | F25: =IF(ISNUMBER(E25/E$8*100),E25/E$8*100,0) -> 7.5390324 | G25: =[1]MercLab!Q60 -> 3.0105631 | H25: =[1]MercLab!R60 -> 22112.243 | I25: =IF(ISNUMBER(H25/H$8*100),H25/H$8*100,0) -> 1.0088859 | J25: =[1]MercLab!S60 -> 2.9373207 | K25: =[1]MercLab!T60 -> 22112.243 | L25: =IF(ISNUMBER(K25/K$8*100),K25/K$8*100,0) -> 1.0518134 | M25: =[1]MercLab!U60 -> 2.9373207 | N25: =[1]MercLab!V60 -> 0 | O25: =IF(ISNUMBER(N25/N$8*100),N25/N$8*100,0) -> 0 | P25: =[1]MercLab!W60 -> 0 | Q25: =IF(ISNUMBER(N25/H25*100),N25/H25*100,0) -> 0 | R25: =[1]MercLab!X60 -> 0 | S25: Directores Gerentes y Administ. Grales. | T25: =[1]MercLab!R92 -> 65479.954 | U25: =IF(ISNUMBER(T25/T$8*100),T25/T$8*100,0) -> 2.9875667 | V25: =[1]MercLab!S92 -> 10.591521 | W25: =[1]MercLab!T92 -> 61678.423 | X25: =IF(ISNUMBER(W25/W$8*100),W25/W$8*100,0) -> 2.9338585 | Y25: =[1]MercLab!U92 -> 10.428498 | Z25: =[1]MercLab!V92 -> 3801.5311 | AA25: =IF(ISNUMBER(Z25/Z$8*100),Z25/Z$8*100,0) -> 4.2498225 | AB25: =[1]MercLab!W92 -> 13.059024 | AC25: =IF(ISNUMBER(Z25/T25*100),Z25/T25*100,0) -> 5.8056411 | AD25: =[1]MercLab!X92 -> 7.4419704
A26: De 12 a 14 años | B26: =[1]MercLab!N61 -> 336403.51 | C26: =IF(ISNUMBER(B26/B$8*100),B26/B$8*100,0) -> 8.5401087 | D26: =[1]MercLab!O61 -> 5.0181416 | E26: =[1]MercLab!P61 -> 336403.51 | F26: =IF(ISNUMBER(E26/E$8*100),E26/E$8*100,0) -> 10.946225 | G26: =[1]MercLab!Q61 -> 5.0181416 | H26: =[1]MercLab!R61 -> 107210.19 | I26: =IF(ISNUMBER(H26/H$8*100),H26/H$8*100,0) -> 4.8915365 | J26: =[1]MercLab!S61 -> 4.8454175 | K26: =[1]MercLab!T61 -> 106618.05 | L26: =IF(ISNUMBER(K26/K$8*100),K26/K$8*100,0) -> 5.0715023 | M26: =[1]MercLab!U61 -> 4.8445191 | N26: =[1]MercLab!V61 -> 592.1384 | O26: =IF(ISNUMBER(N26/N$8*100),N26/N$8*100,0) -> 0.66196567 | P26: =[1]MercLab!W61 -> 5 | Q26: =IF(ISNUMBER(N26/H26*100),N26/H26*100,0) -> 0.55231543 | R26: =[1]MercLab!X61 -> 2.6158785 | S26: Empleados de Oficina | T26: =[1]MercLab!R93 -> 34073.007 | U26: =IF(ISNUMBER(T26/T$8*100),T26/T$8*100,0) -> 1.5546038 | V26: =[1]MercLab!S93 -> 10.377005 | W26: =[1]MercLab!T93 -> 32147.995 | X26: =IF(ISNUMBER(W26/W$8*100),W26/W$8*100,0) -> 1.5291842 | Y26: =[1]MercLab!U93 -> 10.336835 | Z26: =[1]MercLab!V93 -> 1925.0123 | AA26: =IF(ISNUMBER(Z26/Z$8*100),Z26/Z$8*100,0) -> 2.1520172 | AB26: =[1]MercLab!W93 -> 11.036423 | AC26: =IF(ISNUMBER(Z26/T26*100),Z26/T26*100,0) -> 5.6496694 | AD26: =[1]MercLab!X93 -> 3.9771162
A27: De 15 a 18 años | B27: =[1]MercLab!N62 -> 438481.66 | C27: =IF(ISNUMBER(B27/B$8*100),B27/B$8*100,0) -> 11.131516 | D27: =[1]MercLab!O62 -> 7.0297243 | E27: =[1]MercLab!P62 -> 438481.66 | F27: =IF(ISNUMBER(E27/E$8*100),E27/E$8*100,0) -> 14.267743 | G27: =[1]MercLab!Q62 -> 7.0297243 | H27: =[1]MercLab!R62 -> 247167.5 | I27: =IF(ISNUMBER(H27/H$8*100),H27/H$8*100,0) -> 11.277182 | J27: =[1]MercLab!S62 -> 6.1449392 | K27: =[1]MercLab!T62 -> 236019.56 | L27: =IF(ISNUMBER(K27/K$8*100),K27/K$8*100,0) -> 11.226746 | M27: =[1]MercLab!U62 -> 6.118026 | N27: =[1]MercLab!V62 -> 11147.942 | O27: =IF(ISNUMBER(N27/N$8*100),N27/N$8*100,0) -> 12.462551 | P27: =[1]MercLab!W62 -> 6.7650797 | Q27: =IF(ISNUMBER(N27/H27*100),N27/H27*100,0) -> 4.5102785 | R27: =[1]MercLab!X62 -> 2.3257801 | S27: Comerciantes y Vendedores | T27: =[1]MercLab!R94 -> 217733.83 | U27: =IF(ISNUMBER(T27/T$8*100),T27/T$8*100,0) -> 9.9342515 | V27: =[1]MercLab!S94 -> 7.7440984 | W27: =[1]MercLab!T94 -> 208419.25 | X27: =IF(ISNUMBER(W27/W$8*100),W27/W$8*100,0) -> 9.9138818 | Y27: =[1]MercLab!U94 -> 7.6654659 | Z27: =[1]MercLab!V94 -> 9314.5723 | AA27: =IF(ISNUMBER(Z27/Z$8*100),Z27/Z$8*100,0) -> 10.412983 | AB27: =[1]MercLab!W94 -> 9.3789103 | AC27: =IF(ISNUMBER(Z27/T27*100),Z27/T27*100,0) -> 4.2779629 | AD27: =[1]MercLab!X94 -> 4.1191358
A28: De 19 a 24 años | B28: =[1]MercLab!N63 -> 494369.48 | C28: =IF(ISNUMBER(B28/B$8*100),B28/B$8*100,0) -> 12.550312 | D28: =[1]MercLab!O63 -> 7.9584358 | E28: =[1]MercLab!P63 -> 494369.48 | F28: =IF(ISNUMBER(E28/E$8*100),E28/E$8*100,0) -> 16.086275 | G28: =[1]MercLab!Q63 -> 7.9584358 | H28: =[1]MercLab!R63 -> 403491.53 | I28: =IF(ISNUMBER(H28/H$8*100),H28/H$8*100,0) -> 18.409571 | J28: =[1]MercLab!S63 -> 7.4663889 | K28: =[1]MercLab!T63 -> 376030.05 | L28: =IF(ISNUMBER(K28/K$8*100),K28/K$8*100,0) -> 17.886627 | M28: =[1]MercLab!U63 -> 7.3842098 | N28: =[1]MercLab!V63 -> 27461.48 | O28: =IF(ISNUMBER(N28/N$8*100),N28/N$8*100,0) -> 30.699844 | P28: =[1]MercLab!W63 -> 8.5323828 | Q28: =IF(ISNUMBER(N28/H28*100),N28/H28*100,0) -> 6.8059619 | R28: =[1]MercLab!X63 -> 3.1201584 | S28: Agricultores, Ganaderos y Trab. Agrop. | T28: =[1]MercLab!R95 -> 1016833.3 | U28: =IF(ISNUMBER(T28/T$8*100),T28/T$8*100,0) -> 46.393699 | V28: =[1]MercLab!S95 -> 4.8618689 | W28: =[1]MercLab!T95 -> 1011938.4 | X28: =IF(ISNUMBER(W28/W$8*100),W28/W$8*100,0) -> 48.134888 | Y28: =[1]MercLab!U95 -> 4.8559883 | Z28: =[1]MercLab!V95 -> 4894.9091 | AA28: =IF(ISNUMBER(Z28/Z$8*100),Z28/Z$8*100,0) -> 5.4721359 | AB28: =[1]MercLab!W95 -> 6.356927 | AC28: =IF(ISNUMBER(Z28/T28*100),Z28/T28*100,0) -> 0.48138758 | AD28: =[1]MercLab!X95 -> 1.0178306
A29: De 25 a 29 años | B29: =[1]MercLab!N64 -> 273263.86 | C29: =IF(ISNUMBER(B29/B$8*100),B29/B$8*100,0) -> 6.9372138 | D29: =[1]MercLab!O64 -> 7.7950729 | E29: =[1]MercLab!P64 -> 273263.86 | F29: =IF(ISNUMBER(E29/E$8*100),E29/E$8*100,0) -> 8.8917254 | G29: =[1]MercLab!Q64 -> 7.7950729 | H29: =[1]MercLab!R64 -> 249163.81 | I29: =IF(ISNUMBER(H29/H$8*100),H29/H$8*100,0) -> 11.368266 | J29: =[1]MercLab!S64 -> 7.7130591 | K29: =[1]MercLab!T64 -> 234407.31 | L29: =IF(ISNUMBER(K29/K$8*100),K29/K$8*100,0) -> 11.150056 | M29: =[1]MercLab!U64 -> 7.5599366 | N29: =[1]MercLab!V64 -> 14756.509 | O29: =IF(ISNUMBER(N29/N$8*100),N29/N$8*100,0) -> 16.496654 | P29: =[1]MercLab!W64 -> 9.9901785 | Q29: =IF(ISNUMBER(N29/H29*100),N29/H29*100,0) -> 5.9224126 | R29: =[1]MercLab!X64 -> 3.4784446 | S29: Conductores de Transporte | T29: =[1]MercLab!R96 -> 86734.658 | U29: =IF(ISNUMBER(T29/T$8*100),T29/T$8*100,0) -> 3.9573268 | V29: =[1]MercLab!S96 -> 6.8581363 | W29: =[1]MercLab!T96 -> 84098.573 | X29: =IF(ISNUMBER(W29/W$8*100),W29/W$8*100,0) -> 4.0003181 | Y29: =[1]MercLab!U96 -> 6.8878848 | Z29: =[1]MercLab!V96 -> 2636.0852 | AA29: =IF(ISNUMBER(Z29/Z$8*100),Z29/Z$8*100,0) -> 2.9469426 | AB29: =[1]MercLab!W96 -> 5.9447578 | AC29: =IF(ISNUMBER(Z29/T29*100),Z29/T29*100,0) -> 3.0392524 | AD29: =[1]MercLab!X96 -> 4.1198577
A30: De 30 a 35 años | B30: =[1]MercLab!N65 -> 250947.15 | C30: =IF(ISNUMBER(B30/B$8*100),B30/B$8*100,0) -> 6.3706705 | D30: =[1]MercLab!O65 -> 7.4098386 | E30: =[1]MercLab!P65 -> 250947.15 | F30: =IF(ISNUMBER(E30/E$8*100),E30/E$8*100,0) -> 8.1655625 | G30: =[1]MercLab!Q65 -> 7.4098386 | H30: =[1]MercLab!R65 -> 243036.68 | I30: =IF(ISNUMBER(H30/H$8*100),H30/H$8*100,0) -> 11.088711 | J30: =[1]MercLab!S65 -> 7.4294166 | K30: =[1]MercLab!T65 -> 235391.18 | L30: =IF(ISNUMBER(K30/K$8*100),K30/K$8*100,0) -> 11.196856 | M30: =[1]MercLab!U65 -> 7.3886397 | N30: =[1]MercLab!V65 -> 7645.5013 | O30: =IF(ISNUMBER(N30/N$8*100),N30/N$8*100,0) -> 8.5470885 | P30: =[1]MercLab!W65 -> 8.6486098 | Q30: =IF(ISNUMBER(N30/H30*100),N30/H30*100,0) -> 3.1458219 | R30: =[1]MercLab!X65 -> 4.5789623 | S30: Trab. Ind. Textil, Albañilería, Mecánica, etc. | T30: =[1]MercLab!R97 -> 374801.95 | U30: =IF(ISNUMBER(T30/T$8*100),T30/T$8*100,0) -> 17.10059 | V30: =[1]MercLab!S97 -> 6.8199285 | W30: =[1]MercLab!T97 -> 346099.94 | X30: =IF(ISNUMBER(W30/W$8*100),W30/W$8*100,0) -> 16.462941 | Y30: =[1]MercLab!U97 -> 6.8882486 | Z30: =[1]MercLab!V97 -> 28702.008 | AA30: =IF(ISNUMBER(Z30/Z$8*100),Z30/Z$8*100,0) -> 32.086661 | AB30: =[1]MercLab!W97 -> 5.9957102 | AC30: =IF(ISNUMBER(Z30/T30*100),Z30/T30*100,0) -> 7.6579133 | AD30: =[1]MercLab!X97 -> 2.2470216
A31: De 36 a 44 años | B31: =[1]MercLab!N66 -> 305271.5 | C31: =IF(ISNUMBER(B31/B$8*100),B31/B$8*100,0) -> 7.7497757 | D31: =[1]MercLab!O66 -> 6.712516 | E31: =[1]MercLab!P66 -> 305271.5 | F31: =IF(ISNUMBER(E31/E$8*100),E31/E$8*100,0) -> 9.9332209 | G31: =[1]MercLab!Q66 -> 6.712516 | H31: =[1]MercLab!R66 -> 297515.53 | I31: =IF(ISNUMBER(H31/H$8*100),H31/H$8*100,0) -> 13.574345 | J31: =[1]MercLab!S66 -> 6.7148181 | K31: =[1]MercLab!T66 -> 286410.26 | L31: =IF(ISNUMBER(K31/K$8*100),K31/K$8*100,0) -> 13.623681 | M31: =[1]MercLab!U66 -> 6.6772221 | N31: =[1]MercLab!V66 -> 11105.279 | O31: =IF(ISNUMBER(N31/N$8*100),N31/N$8*100,0) -> 12.414856 | P31: =[1]MercLab!W66 -> 7.6446003 | Q31: =IF(ISNUMBER(N31/H31*100),N31/H31*100,0) -> 3.7326719 | R31: =[1]MercLab!X66 -> 4.3229723 | S31: Trab. Area Grafica, Quim., Alimentos, etc. | T31: =[1]MercLab!R98 -> 46534.642 | U31: =IF(ISNUMBER(T31/T$8*100),T31/T$8*100,0) -> 2.1231742 | V31: =[1]MercLab!S98 -> 6.3493978 | W31: =[1]MercLab!T98 -> 43738.078 | X31: =IF(ISNUMBER(W31/W$8*100),W31/W$8*100,0) -> 2.0804898 | Y31: =[1]MercLab!U98 -> 6.2768454 | Z31: =[1]MercLab!V98 -> 2796.5638 | AA31: =IF(ISNUMBER(Z31/Z$8*100),Z31/Z$8*100,0) -> 3.1263455 | AB31: =[1]MercLab!W98 -> 7.4332184 | AC31: =IF(ISNUMBER(Z31/T31*100),Z31/T31*100,0) -> 6.0096385 | AD31: =[1]MercLab!X98 -> 2.3557982
A32: De 45 a 59 años | B32: =[1]MercLab!N67 -> 415179.57 | C32: =IF(ISNUMBER(B32/B$8*100),B32/B$8*100,0) -> 10.539957 | D32: =[1]MercLab!O67 -> 6.2638254 | E32: =[1]MercLab!P67 -> 415179.57 | F32: =IF(ISNUMBER(E32/E$8*100),E32/E$8*100,0) -> 13.509517 | G32: =[1]MercLab!Q67 -> 6.2638254 | H32: =[1]MercLab!R67 -> 395557.41 | I32: =IF(ISNUMBER(H32/H$8*100),H32/H$8*100,0) -> 18.047572 | J32: =[1]MercLab!S67 -> 6.2807274 | K32: =[1]MercLab!T67 -> 382074.03 | L32: =IF(ISNUMBER(K32/K$8*100),K32/K$8*100,0) -> 18.174121 | M32: =[1]MercLab!U67 -> 6.2401294 | N32: =[1]MercLab!V67 -> 13483.387 | O32: =IF(ISNUMBER(N32/N$8*100),N32/N$8*100,0) -> 15.073401 | P32: =[1]MercLab!W67 -> 7.2630912 | Q32: =IF(ISNUMBER(N32/H32*100),N32/H32*100,0) -> 3.4087055 | R32: =[1]MercLab!X67 -> 4.7321171 | S32: Operador de Carga y Almacenaje | T32: =[1]MercLab!R99 -> 60260.569 | U32: =IF(ISNUMBER(T32/T$8*100),T32/T$8*100,0) -> 2.7494288 | V32: =[1]MercLab!S99 -> 7.0046932 | W32: =[1]MercLab!T99 -> 50927.185 | X32: =IF(ISNUMBER(W32/W$8*100),W32/W$8*100,0) -> 2.4224542 | Y32: =[1]MercLab!U99 -> 6.9675319 | Z32: =[1]MercLab!V99 -> 9333.3835 | AA32: =IF(ISNUMBER(Z32/Z$8*100),Z32/Z$8*100,0) -> 10.434012 | AB32: =[1]MercLab!W99 -> 7.2129413 | AC32: =IF(ISNUMBER(Z32/T32*100),Z32/T32*100,0) -> 15.488376 | AD32: =[1]MercLab!X99 -> 2.7051838
A33: De 60 años y más | B33: =[1]MercLab!N68 -> 327628.65 | C33: =IF(ISNUMBER(B33/B$8*100),B33/B$8*100,0) -> 8.3173456 | D33: =[1]MercLab!O68 -> 4.8629599 | E33: =[1]MercLab!P68 -> 327628.65 | F33: =IF(ISNUMBER(E33/E$8*100),E33/E$8*100,0) -> 10.6607 | G33: =[1]MercLab!Q68 -> 4.8629599 | H33: =[1]MercLab!R68 -> 226493.78 | I33: =IF(ISNUMBER(H33/H$8*100),H33/H$8*100,0) -> 10.33393 | J33: =[1]MercLab!S68 -> 4.7695257 | K33: =[1]MercLab!T68 -> 223234.49 | L33: =IF(ISNUMBER(K33/K$8*100),K33/K$8*100,0) -> 10.618598 | M33: =[1]MercLab!U68 -> 4.7841295 | N33: =[1]MercLab!V68 -> 3259.2909 | O33: =IF(ISNUMBER(N33/N$8*100),N33/N$8*100,0) -> 3.6436392 | P33: =[1]MercLab!W68 -> 3.9422476 | Q33: =IF(ISNUMBER(N33/H33*100),N33/H33*100,0) -> 1.4390201 | R33: =[1]MercLab!X68 -> 2.9974746 | S33: Ocupación de los Servicios | T33: =[1]MercLab!R100 -> 128279.33 | U33: =IF(ISNUMBER(T33/T$8*100),T33/T$8*100,0) -> 5.8528301 | V33: =[1]MercLab!S100 -> 6.4041298 | W33: =[1]MercLab!T100 -> 119131.65 | X33: =IF(ISNUMBER(W33/W$8*100),W33/W$8*100,0) -> 5.6667368 | Y33: =[1]MercLab!U100 -> 6.2776799 | Z33: =[1]MercLab!V100 -> 9147.6801 | AA33: =IF(ISNUMBER(Z33/Z$8*100),Z33/Z$8*100,0) -> 10.22641 | AB33: =[1]MercLab!W100 -> 7.9463259 | AC33: =IF(ISNUMBER(Z33/T33*100),Z33/T33*100,0) -> 7.1310633 | AD33: =[1]MercLab!X100 -> 4.2866955
S34: No sabe, No responde | T34: =[1]MercLab!R101 -> 33992.334 | U34: =IF(ISNUMBER(T34/T$8*100),T34/T$8*100,0) -> 1.550923 | V34: =[1]MercLab!S101 -> 7.1552992 | W34: =[1]MercLab!T101 -> 32614.63 | X34: =IF(ISNUMBER(W34/W$8*100),W34/W$8*100,0) -> 1.5513806 | Y34: =[1]MercLab!U101 -> 7.1381702 | Z34: =[1]MercLab!V101 -> 1377.7035 | AA34: =IF(ISNUMBER(Z34/Z$8*100),Z34/Z$8*100,0) -> 1.5401677 | AB34: =[1]MercLab!W101 -> 7.5627662 | AC34: =IF(ISNUMBER(Z34/T34*100),Z34/T34*100,0) -> 4.052983 | AD34: =[1]MercLab!X101 -> 2.9551616
A35: Rama de Actividad | S35: Busca trabajo por primera vez | T35: =[1]MercLab!R102 -> 10005.552 | U35: =IF(ISNUMBER(T35/T$8*100),T35/T$8*100,0) -> 0.45651003 | V35: =[1]MercLab!S102 -> 10.743679 | W35: =[1]MercLab!T102 -> 0 | X35: =IF(ISNUMBER(W35/W$8*100),W35/W$8*100,0) -> 0 | Y35: =[1]MercLab!U102 -> 0 | Z35: =[1]MercLab!V102 -> 10005.552 | AA35: =IF(ISNUMBER(Z35/Z$8*100),Z35/Z$8*100,0) -> 11.185446 | AB35: =[1]MercLab!W102 -> 10.743679 | AC35: =IF(ISNUMBER(Z35/T35*100),Z35/T35*100,0) -> 100 | AD35: =[1]MercLab!X102 -> 6.0797198
A36: Primaria | B36: =[1]MercLab!N73 -> 1104304 | C36: =IF(ISNUMBER(B36/B$8*100),B36/B$8*100,0) -> 28.034416 | D36: =[1]MercLab!O73 -> 4.8902134 | E36: =[1]MercLab!P73 -> 1094827.6 | F36: =IF(ISNUMBER(E36/E$8*100),E36/E$8*100,0) -> 35.624565 | G36: =[1]MercLab!Q73 -> 4.9237602 | H36: =[1]MercLab!R73 -> 1066301.2 | I36: =IF(ISNUMBER(H36/H$8*100),H36/H$8*100,0) -> 48.650707 | J36: =[1]MercLab!S73 -> 4.9115166 | K36: =[1]MercLab!T73 -> 1056001.2 | L36: =IF(ISNUMBER(K36/K$8*100),K36/K$8*100,0) -> 50.230823 | M36: =[1]MercLab!U73 -> 4.8966109 | N36: =[1]MercLab!V73 -> 10300.069 | O36: =IF(ISNUMBER(N36/N$8*100),N36/N$8*100,0) -> 11.514694 | P36: =[1]MercLab!W73 -> 6.5406747 | Q36: =IF(ISNUMBER(N36/H36*100),N36/H36*100,0) -> 0.96596244 | R36: =[1]MercLab!X73 -> 1.5254672
A37: Secundaria | B37: =[1]MercLab!N74 -> 230446.84 | C37: =IF(ISNUMBER(B37/B$8*100),B37/B$8*100,0) -> 5.8502394 | D37: =[1]MercLab!O74 -> 7.6040956 | E37: =[1]MercLab!P74 -> 230212.26 | F37: =IF(ISNUMBER(E37/E$8*100),E37/E$8*100,0) -> 7.4908704 | G37: =[1]MercLab!Q74 -> 7.6100932 | H37: =[1]MercLab!R74 -> 220365.73 | I37: =IF(ISNUMBER(H37/H$8*100),H37/H$8*100,0) -> 10.054334 | J37: =[1]MercLab!S74 -> 7.6413081 | K37: =[1]MercLab!T74 -> 207193.24 | L37: =IF(ISNUMBER(K37/K$8*100),K37/K$8*100,0) -> 9.855564 | M37: =[1]MercLab!U74 -> 7.6296941 | N37: =[1]MercLab!V74 -> 13172.488 | O37: =IF(ISNUMBER(N37/N$8*100),N37/N$8*100,0) -> 14.725839 | P37: =[1]MercLab!W74 -> 7.8193756 | Q37: =IF(ISNUMBER(N37/H37*100),N37/H37*100,0) -> 5.9775575 | R37: =[1]MercLab!X74 -> 3.1158898 | S37: =A42 -> Fuente: Instituto Nacional de Estadística (INE). XL Encuesta Permanente de Hogares de Propósitos Múltiples, Septiembre 2010.
A38: Terciaria | B38: =[1]MercLab!N75 -> 937447.36 | C38: =IF(ISNUMBER(B38/B$8*100),B38/B$8*100,0) -> 23.79851 | D38: =[1]MercLab!O75 -> 8.0359763 | E38: =[1]MercLab!P75 -> 935622.69 | F38: =IF(ISNUMBER(E38/E$8*100),E38/E$8*100,0) -> 30.444201 | G38: =[1]MercLab!Q75 -> 8.0496842 | H38: =[1]MercLab!R75 -> 889414.68 | I38: =IF(ISNUMBER(H38/H$8*100),H38/H$8*100,0) -> 40.58014 | J38: =[1]MercLab!S75 -> 8.0752568 | K38: =[1]MercLab!T75 -> 833891.3 | L38: =IF(ISNUMBER(K38/K$8*100),K38/K$8*100,0) -> 39.66572 | M38: =[1]MercLab!U75 -> 8.0822977 | N38: =[1]MercLab!V75 -> 55523.378 | O38: =IF(ISNUMBER(N38/N$8*100),N38/N$8*100,0) -> 62.070911 | P38: =[1]MercLab!W75 -> 7.9715912 | Q38: =IF(ISNUMBER(N38/H38*100),N38/H38*100,0) -> 6.2426874 | R38: =[1]MercLab!X75 -> 3.5898661 | S38: =A43 -> El salario mínimo en el área urbana es Lps. 5,500 y en la área rural es Lps. 4,055 (Promedio de salarios mínimos por rama)
A39: No sabe, no responde | B39: =[1]MercLab!N76 -> 6612.9671 | C39: =IF(ISNUMBER(B39/B$8*100),B39/B$8*100,0) -> 0.16788011 | D39: =[1]MercLab!O76 -> 6.737259 | E39: =[1]MercLab!P76 -> 6612.9671 | F39: =IF(ISNUMBER(E39/E$8*100),E39/E$8*100,0) -> 0.21517915 | G39: =[1]MercLab!Q76 -> 6.737259 | H39: =[1]MercLab!R76 -> 5661.4821 | I39: =IF(ISNUMBER(H39/H$8*100),H39/H$8*100,0) -> 0.25830891 | J39: =[1]MercLab!S76 -> 7.2349629 | K39: =[1]MercLab!T76 -> 5211.4429 | L39: =IF(ISNUMBER(K39/K$8*100),K39/K$8*100,0) -> 0.24789278 | M39: =[1]MercLab!U76 -> 7.3669655 | N39: =[1]MercLab!V76 -> 450.03921 | O39: =IF(ISNUMBER(N39/N$8*100),N39/N$8*100,0) -> 0.50310959 | P39: =[1]MercLab!W76 -> 5.9472454 | Q39: =IF(ISNUMBER(N39/H39*100),N39/H39*100,0) -> 7.9491413 | R39: =[1]MercLab!X76 -> 1.3947613 | S39: AEP= Años de Estudio Promedio
A40: Busca trabajo por primera vez | B40: =[1]MercLab!N77 -> 41109.617 | C40: =IF(ISNUMBER(B40/B$8*100),B40/B$8*100,0) -> 1.0436294 | D40: =[1]MercLab!O77 -> 8.4729062 | E40: =[1]MercLab!P77 -> 41109.617 | F40: =IF(ISNUMBER(E40/E$8*100),E40/E$8*100,0) -> 1.3376647 | G40: =[1]MercLab!Q77 -> 8.4729062 | H40: =[1]MercLab!R77 -> 10005.552 | I40: =IF(ISNUMBER(H40/H$8*100),H40/H$8*100,0) -> 0.45651003 | J40: =[1]MercLab!S77 -> 10.743679 | K40: =[1]MercLab!T77 -> 0 | L40: =IF(ISNUMBER(K40/K$8*100),K40/K$8*100,0) -> 0 | M40: =[1]MercLab!U77 -> 0 | N40: =[1]MercLab!V77 -> 10005.552 | O40: =IF(ISNUMBER(N40/N$8*100),N40/N$8*100,0) -> 11.185446 | P40: =[1]MercLab!W77 -> 10.743679 | Q40: =IF(ISNUMBER(N40/H40*100),N40/H40*100,0) -> 100 | R40: =[1]MercLab!X77 -> 6.0797198 | S40: TDA= Tasa de Desempleo Abierto
S41: MBT= Meses promedio en Busca de Trabajo
A42: Fuente: Instituto Nacional de Estadística (INE). XL Encuesta Permanente de Hogares de Propósitos Múltiples, Septiembre 2010. | S42: 1/ Porcentaje por columna
A43: El salario mínimo en el área urbana es Lps. 5,500 y en la área rural es Lps. 4,055 (Promedio de salarios mínimos por rama)
A44: AEP= Años de Estudio Promedio
A45: TDA= Tasa de Desempleo Abierto
A46: MBT= Meses promedio en Busca de Trabajo
A47: 1/ Porcentaje por columna
A48: 2/ El nivel educativo incluye la población menor de cinco años

Sheet C02
A1: Cuadro No. 3. Personas ocupadas por categoría ocupacional, según dominio, nivel educativo, rango de edad, sexo.
A2: número de salarios mínimos, rama de actividad y ocupación
A3: Ocupación Principal
A4: Hombres
A5: Categorías | B5: Total Ocupados | D5: Asalariados | L5: Cuenta propia | N5: Trab. fam. no remu.
D6: Total Asalariados | F6: Público | H6: Privado | J6: Doméstico
B7: No. | C7: % 1/ | D7: No. | E7: % 1/ | F7: No. | G7: % 1/ | H7: No. | I7: % 1/ | J7: No. | K7: % 1/ | L7: No. | M7: % 1/ | N7: No. | O7: % 1/
A9: Total Nacional 2/ | B9: =[1]MercLab!J114 -> 2102297.2 | C9: =SUM(E9,M9,O9) -> 100 | D9: =F9+H9+J9 -> 965130.33 | E9: =IF(ISNUMBER(D9/$B$9*100),D9/$B$9*100,0) -> 45.908369 | F9: =[1]MercLab!K114 -> 83411.102 | G9: =IF(ISNUMBER(F9/$B$9*100),F9/$B$9*100,0) -> 3.9676171 | H9: =[1]MercLab!L114 -> 875805.25 | I9: =IF(ISNUMBER(H9/$B$9*100),H9/$B$9*100,0) -> 41.659441 | J9: =[1]MercLab!M114 -> 5913.9802 | K9: =IF(ISNUMBER(J9/$B$9*100),J9/$B$9*100,0) -> 0.28131039 | L9: =[1]MercLab!N114 -> 857194.35 | M9: =IF(ISNUMBER(L9/$B$9*100),L9/$B$9*100,0) -> 40.774176 | N9: =[1]MercLab!O114 -> 279972.47 | O9: =IF(ISNUMBER(N9/$B$9*100),N9/$B$9*100,0) -> 13.317455
A11: Dominio
A12: Urbano | B12: =SUM(B13:B15) -> 824838.33 | C12: =IF(ISNUMBER(B12/B$9*100),B12/B$9*100,0) -> 39.235097 | D12: =SUM(D13:D15) -> 473833.71 | E12: =IF(ISNUMBER(D12/D$9*100),D12/D$9*100,0) -> 49.095308 | F12: =SUM(F13:F15) -> 65727.928 | G12: =IF(ISNUMBER(F12/F$9*100),F12/F$9*100,0) -> 78.799975 | H12: =SUM(H13:H15) -> 404655.4 | I12: =IF(ISNUMBER(H12/H$9*100),H12/H$9*100,0) -> 46.203811 | J12: =SUM(J13:J15) -> 3450.38 | K12: =IF(ISNUMBER(J12/J$9*100),J12/J$9*100,0) -> 58.342773 | L12: =SUM(L13:L15) -> 297491.76 | M12: =IF(ISNUMBER(L12/L$9*100),L12/L$9*100,0) -> 34.705287 | N12: =SUM(N13:N15) -> 53512.869 | O12: =IF(ISNUMBER(N12/N$9*100),N12/N$9*100,0) -> 19.113618
A13: Distrito Central | B13: =[1]MercLab!J115 -> 220907.25 | C13: =IF(ISNUMBER(B13/B$9*100),B13/B$9*100,0) -> 10.507898 | D13: =F13+H13+J13 -> 139905.58 | E13: =IF(ISNUMBER(D13/D$9*100),D13/D$9*100,0) -> 14.496029 | F13: =[1]MercLab!K115 -> 28384.599 | G13: =IF(ISNUMBER(F13/F$9*100),F13/F$9*100,0) -> 34.029761 | H13: =[1]MercLab!L115 -> 110817.23 | I13: =IF(ISNUMBER(H13/H$9*100),H13/H$9*100,0) -> 12.653181 | J13: =[1]MercLab!M115 -> 703.75039 | K13: =IF(ISNUMBER(J13/J$9*100),J13/J$9*100,0) -> 11.899776 | L13: =[1]MercLab!N115 -> 72017.123 | M13: =IF(ISNUMBER(L13/L$9*100),L13/L$9*100,0) -> 8.401493 | N13: =[1]MercLab!O115 -> 8984.5466 | O13: =IF(ISNUMBER(N13/N$9*100),N13/N$9*100,0) -> 3.2090821
A14: San Pedro Sula | B14: =[1]MercLab!J116 -> 140081.92 | C14: =IF(ISNUMBER(B14/B$9*100),B14/B$9*100,0) -> 6.6632786 | D14: =F14+H14+J14 -> 88332.596 | E14: =IF(ISNUMBER(D14/D$9*100),D14/D$9*100,0) -> 9.1524008 | F14: =[1]MercLab!K116 -> 5897.0514 | G14: =IF(ISNUMBER(F14/F$9*100),F14/F$9*100,0) -> 7.0698639 | H14: =[1]MercLab!L116 -> 81973.634 | I14: =IF(ISNUMBER(H14/H$9*100),H14/H$9*100,0) -> 9.3598017 | J14: =[1]MercLab!M116 -> 461.91003 | K14: =IF(ISNUMBER(J14/J$9*100),J14/J$9*100,0) -> 7.8104765 | L14: =[1]MercLab!N116 -> 46729.899 | M14: =IF(ISNUMBER(L14/L$9*100),L14/L$9*100,0) -> 5.451494 | N14: =[1]MercLab!O116 -> 5019.4224 | O14: =IF(ISNUMBER(N14/N$9*100),N14/N$9*100,0) -> 1.7928271
A15: Resto urbano | B15: =[1]MercLab!J117 -> 463849.17 | C15: =IF(ISNUMBER(B15/B$9*100),B15/B$9*100,0) -> 22.063921 | D15: =F15+H15+J15 -> 245595.53 | E15: =IF(ISNUMBER(D15/D$9*100),D15/D$9*100,0) -> 25.446878 | F15: =[1]MercLab!K117 -> 31446.277 | G15: =IF(ISNUMBER(F15/F$9*100),F15/F$9*100,0) -> 37.70035 | H15: =[1]MercLab!L117 -> 211864.54 | I15: =IF(ISNUMBER(H15/H$9*100),H15/H$9*100,0) -> 24.190828 | J15: =[1]MercLab!M117 -> 2284.7196 | K15: =IF(ISNUMBER(J15/J$9*100),J15/J$9*100,0) -> 38.63252 | L15: =[1]MercLab!N117 -> 178744.74 | M15: =IF(ISNUMBER(L15/L$9*100),L15/L$9*100,0) -> 20.8523 | N15: =[1]MercLab!O117 -> 39508.9 | O15: =IF(ISNUMBER(N15/N$9*100),N15/N$9*100,0) -> 14.111709
A16: Rural | B16: =[1]MercLab!J118 -> 1277458.8 | C16: =IF(ISNUMBER(B16/B$9*100),B16/B$9*100,0) -> 60.764903 | D16: =F16+H16+J16 -> 491296.62 | E16: =IF(ISNUMBER(D16/D$9*100),D16/D$9*100,0) -> 50.904692 | F16: =[1]MercLab!K118 -> 17683.175 | G16: =IF(ISNUMBER(F16/F$9*100),F16/F$9*100,0) -> 21.200025 | H16: =[1]MercLab!L118 -> 471149.85 | I16: =IF(ISNUMBER(H16/H$9*100),H16/H$9*100,0) -> 53.796189 | J16: =[1]MercLab!M118 -> 2463.6002 | K16: =IF(ISNUMBER(J16/J$9*100),J16/J$9*100,0) -> 41.657227 | L16: =[1]MercLab!N118 -> 559702.59 | M16: =IF(ISNUMBER(L16/L$9*100),L16/L$9*100,0) -> 65.294713 | N16: =[1]MercLab!O118 -> 226459.6 | O16: =IF(ISNUMBER(N16/N$9*100),N16/N$9*100,0) -> 80.886382
D17: =F17+H17+J17 -> 0
A18: Nivel Educativo
A19: Sin Nivel | B19: =[1]MercLab!J120 -> 285711.32 | C19: =IF(ISNUMBER(B19/B$9*100),B19/B$9*100,0) -> 13.590435 | D19: =F19+H19+J19 -> 103354.59 | E19: =IF(ISNUMBER(D19/D$9*100),D19/D$9*100,0) -> 10.708874 | F19: =[1]MercLab!K120 -> 2992.0643 | G19: =IF(ISNUMBER(F19/F$9*100),F19/F$9*100,0) -> 3.5871296 | H19: =[1]MercLab!L120 -> 99496.654 | I19: =IF(ISNUMBER(H19/H$9*100),H19/H$9*100,0) -> 11.360591 | J19: =[1]MercLab!M120 -> 865.87176 | K19: =IF(ISNUMBER(J19/J$9*100),J19/J$9*100,0) -> 14.6411 | L19: =[1]MercLab!N120 -> 164662.14 | M19: =IF(ISNUMBER(L19/L$9*100),L19/L$9*100,0) -> 19.209429 | N19: =[1]MercLab!O120 -> 17694.586 | O19: =IF(ISNUMBER(N19/N$9*100),N19/N$9*100,0) -> 6.3201162
A20: Primaria | B20: =[1]MercLab!J121 -> 1248443.5 | C20: =IF(ISNUMBER(B20/B$9*100),B20/B$9*100,0) -> 59.384728 | D20: =F20+H20+J20 -> 526601.12 | E20: =IF(ISNUMBER(D20/D$9*100),D20/D$9*100,0) -> 54.562696 | F20: =[1]MercLab!K121 -> 18084.826 | G20: =IF(ISNUMBER(F20/F$9*100),F20/F$9*100,0) -> 21.681557 | H20: =[1]MercLab!L121 -> 504758.56 | I20: =IF(ISNUMBER(H20/H$9*100),H20/H$9*100,0) -> 57.633653 | J20: =[1]MercLab!M121 -> 3757.7415 | K20: =IF(ISNUMBER(J20/J$9*100),J20/J$9*100,0) -> 63.539974 | L20: =[1]MercLab!N121 -> 527432.72 | M20: =IF(ISNUMBER(L20/L$9*100),L20/L$9*100,0) -> 61.530121 | N20: =[1]MercLab!O121 -> 194409.61 | O20: =IF(ISNUMBER(N20/N$9*100),N20/N$9*100,0) -> 69.43883
A21: Secundaria | B21: =[1]MercLab!J122 -> 429272.04 | C21: =IF(ISNUMBER(B21/B$9*100),B21/B$9*100,0) -> 20.41919 | D21: =F21+H21+J21 -> 236826.95 | E21: =IF(ISNUMBER(D21/D$9*100),D21/D$9*100,0) -> 24.538338 | F21: =[1]MercLab!K122 -> 27854.749 | G21: =IF(ISNUMBER(F21/F$9*100),F21/F$9*100,0) -> 33.394534 | H21: =[1]MercLab!L122 -> 207681.83 | I21: =IF(ISNUMBER(H21/H$9*100),H21/H$9*100,0) -> 23.713243 | J21: =[1]MercLab!M122 -> 1290.367 | K21: =IF(ISNUMBER(J21/J$9*100),J21/J$9*100,0) -> 21.818926 | L21: =[1]MercLab!N122 -> 130529.39 | M21: =IF(ISNUMBER(L21/L$9*100),L21/L$9*100,0) -> 15.227514 | N21: =[1]MercLab!O122 -> 61915.706 | O21: =IF(ISNUMBER(N21/N$9*100),N21/N$9*100,0) -> 22.114926
A22: Superior | B22: =[1]MercLab!J123 -> 127570.41 | C22: =IF(ISNUMBER(B22/B$9*100),B22/B$9*100,0) -> 6.0681434 | D22: =F22+H22+J22 -> 93950.297 | E22: =IF(ISNUMBER(D22/D$9*100),D22/D$9*100,0) -> 9.7344674 | F22: =[1]MercLab!K123 -> 33209.573 | G22: =IF(ISNUMBER(F22/F$9*100),F22/F$9*100,0) -> 39.814332 | H22: =[1]MercLab!L123 -> 60740.724 | I22: =IF(ISNUMBER(H22/H$9*100),H22/H$9*100,0) -> 6.9354145 | J22: =[1]MercLab!M123 -> 0 | K22: =IF(ISNUMBER(J22/J$9*100),J22/J$9*100,0) -> 0 | L22: =[1]MercLab!N123 -> 28511.072 | M22: =IF(ISNUMBER(L22/L$9*100),L22/L$9*100,0) -> 3.3260919 | N22: =[1]MercLab!O123 -> 5109.0368 | O22: =IF(ISNUMBER(N22/N$9*100),N22/N$9*100,0) -> 1.8248354
A23: No sabe, no responde | B23: =[1]MercLab!J124 -> 11299.929 | C23: =IF(ISNUMBER(B23/B$9*100),B23/B$9*100,0) -> 0.53750388 | D23: =F23+H23+J23 -> 4397.3727 | E23: =IF(ISNUMBER(D23/D$9*100),D23/D$9*100,0) -> 0.45562476 | F23: =[1]MercLab!K124 -> 1269.89 | G23: =IF(ISNUMBER(F23/F$9*100),F23/F$9*100,0) -> 1.5224472 | H23: =[1]MercLab!L124 -> 3127.4827 | I23: =IF(ISNUMBER(H23/H$9*100),H23/H$9*100,0) -> 0.35709797 | J23: =[1]MercLab!M124 -> 0 | K23: =IF(ISNUMBER(J23/J$9*100),J23/J$9*100,0) -> 0 | L23: =[1]MercLab!N124 -> 6059.0202 | M23: =IF(ISNUMBER(L23/L$9*100),L23/L$9*100,0) -> 0.70684322 | N23: =[1]MercLab!O124 -> 843.53591 | O23: =IF(ISNUMBER(N23/N$9*100),N23/N$9*100,0) -> 0.30129245
D24: =F24+H24+J24 -> 0
A25: Rango de Edad
A26: De 10 a 11 años | B26: =[1]MercLab!J126 -> 22112.243 | C26: =IF(ISNUMBER(B26/B$9*100),B26/B$9*100,0) -> 1.0518134 | D26: =F26+H26+J26 -> 1298.5749 | E26: =IF(ISNUMBER(D26/D$9*100),D26/D$9*100,0) -> 0.13454917 | F26: =[1]MercLab!K126 -> 0 | G26: =IF(ISNUMBER(F26/F$9*100),F26/F$9*100,0) -> 0 | H26: =[1]MercLab!L126 -> 1298.5749 | I26: =IF(ISNUMBER(H26/H$9*100),H26/H$9*100,0) -> 0.14827211 | J26: =[1]MercLab!M126 -> 0 | K26: =IF(ISNUMBER(J26/J$9*100),J26/J$9*100,0) -> 0 | L26: =[1]MercLab!N126 -> 1055.7835 | M26: =IF(ISNUMBER(L26/L$9*100),L26/L$9*100,0) -> 0.12316735 | N26: =[1]MercLab!O126 -> 19757.885 | O26: =IF(ISNUMBER(N26/N$9*100),N26/N$9*100,0) -> 7.0570812
A27: De 12 a 14 años | B27: =[1]MercLab!J127 -> 106618.05 | C27: =IF(ISNUMBER(B27/B$9*100),B27/B$9*100,0) -> 5.0715023 | D27: =F27+H27+J27 -> 25769.712 | E27: =IF(ISNUMBER(D27/D$9*100),D27/D$9*100,0) -> 2.6700759 | F27: =[1]MercLab!K127 -> 0 | G27: =IF(ISNUMBER(F27/F$9*100),F27/F$9*100,0) -> 0 | H27: =[1]MercLab!L127 -> 25769.712 | I27: =IF(ISNUMBER(H27/H$9*100),H27/H$9*100,0) -> 2.9424021 | J27: =[1]MercLab!M127 -> 0 | K27: =IF(ISNUMBER(J27/J$9*100),J27/J$9*100,0) -> 0 | L27: =[1]MercLab!N127 -> 8020.4802 | M27: =IF(ISNUMBER(L27/L$9*100),L27/L$9*100,0) -> 0.93566649 | N27: =[1]MercLab!O127 -> 72827.855 | O27: =IF(ISNUMBER(N27/N$9*100),N27/N$9*100,0) -> 26.012506
A28: De 15 a 18 años | B28: =[1]MercLab!J128 -> 236019.56 | C28: =IF(ISNUMBER(B28/B$9*100),B28/B$9*100,0) -> 11.226746 | D28: =F28+H28+J28 -> 114970.82 | E28: =IF(ISNUMBER(D28/D$9*100),D28/D$9*100,0) -> 11.912466 | F28: =[1]MercLab!K128 -> 0 | G28: =IF(ISNUMBER(F28/F$9*100),F28/F$9*100,0) -> 0 | H28: =[1]MercLab!L128 -> 114247.05 | I28: =IF(ISNUMBER(H28/H$9*100),H28/H$9*100,0) -> 13.0448 | J28: =[1]MercLab!M128 -> 723.77257 | K28: =IF(ISNUMBER(J28/J$9*100),J28/J$9*100,0) -> 12.238333 | L28: =[1]MercLab!N128 -> 27746.373 | M28: =IF(ISNUMBER(L28/L$9*100),L28/L$9*100,0) -> 3.2368824 | N28: =[1]MercLab!O128 -> 93302.364 | O28: =IF(ISNUMBER(N28/N$9*100),N28/N$9*100,0) -> 33.325549
A29: De 19 a 24 años | B29: =[1]MercLab!J129 -> 376030.05 | C29: =IF(ISNUMBER(B29/B$9*100),B29/B$9*100,0) -> 17.886627 | D29: =F29+H29+J29 -> 233078.84 | E29: =IF(ISNUMBER(D29/D$9*100),D29/D$9*100,0) -> 24.149986 | F29: =[1]MercLab!K129 -> 7781.4384 | G29: =IF(ISNUMBER(F29/F$9*100),F29/F$9*100,0) -> 9.3290199 | H29: =[1]MercLab!L129 -> 225062.82 | I29: =IF(ISNUMBER(H29/H$9*100),H29/H$9*100,0) -> 25.697816 | J29: =[1]MercLab!M129 -> 234.58346 | K29: =IF(ISNUMBER(J29/J$9*100),J29/J$9*100,0) -> 3.9665919 | L29: =[1]MercLab!N129 -> 87406.523 | M29: =IF(ISNUMBER(L29/L$9*100),L29/L$9*100,0) -> 10.196815 | N29: =[1]MercLab!O129 -> 55544.687 | O29: =IF(ISNUMBER(N29/N$9*100),N29/N$9*100,0) -> 19.839339
A30: De 25 a 29 años | B30: =[1]MercLab!J130 -> 234407.31 | C30: =IF(ISNUMBER(B30/B$9*100),B30/B$9*100,0) -> 11.150056 | D30: =F30+H30+J30 -> 135284.59 | E30: =IF(ISNUMBER(D30/D$9*100),D30/D$9*100,0) -> 14.017235 | F30: =[1]MercLab!K130 -> 8070.7438 | G30: =IF(ISNUMBER(F30/F$9*100),F30/F$9*100,0) -> 9.6758628 | H30: =[1]MercLab!L130 -> 126644.04 | I30: =IF(ISNUMBER(H30/H$9*100),H30/H$9*100,0) -> 14.460297 | J30: =[1]MercLab!M130 -> 569.80255 | K30: =IF(ISNUMBER(J30/J$9*100),J30/J$9*100,0) -> 9.6348404 | L30: =[1]MercLab!N130 -> 83106.872 | M30: =IF(ISNUMBER(L30/L$9*100),L30/L$9*100,0) -> 9.6952193 | N30: =[1]MercLab!O130 -> 16015.843 | O30: =IF(ISNUMBER(N30/N$9*100),N30/N$9*100,0) -> 5.7205064
A31: De 30 a 35 años | B31: =[1]MercLab!J131 -> 235391.18 | C31: =IF(ISNUMBER(B31/B$9*100),B31/B$9*100,0) -> 11.196856 | D31: =F31+H31+J31 -> 128543.25 | E31: =IF(ISNUMBER(D31/D$9*100),D31/D$9*100,0) -> 13.318745 | F31: =[1]MercLab!K131 -> 10429.054 | G31: =IF(ISNUMBER(F31/F$9*100),F31/F$9*100,0) -> 12.503196 | H31: =[1]MercLab!L131 -> 117671.03 | I31: =IF(ISNUMBER(H31/H$9*100),H31/H$9*100,0) -> 13.435753 | J31: =[1]MercLab!M131 -> 443.16815 | K31: =IF(ISNUMBER(J31/J$9*100),J31/J$9*100,0) -> 7.4935684 | L31: =[1]MercLab!N131 -> 98268.253 | M31: =IF(ISNUMBER(L31/L$9*100),L31/L$9*100,0) -> 11.463941 | N31: =[1]MercLab!O131 -> 8579.6801 | O31: =IF(ISNUMBER(N31/N$9*100),N31/N$9*100,0) -> 3.0644728
A32: De 36 a 44 años | B32: =[1]MercLab!J132 -> 286410.26 | C32: =IF(ISNUMBER(B32/B$9*100),B32/B$9*100,0) -> 13.623681 | D32: =F32+H32+J32 -> 138531.41 | E32: =IF(ISNUMBER(D32/D$9*100),D32/D$9*100,0) -> 14.353648 | F32: =[1]MercLab!K132 -> 19218.226 | G32: =IF(ISNUMBER(F32/F$9*100),F32/F$9*100,0) -> 23.04037 | H32: =[1]MercLab!L132 -> 118804.87 | I32: =IF(ISNUMBER(H32/H$9*100),H32/H$9*100,0) -> 13.565215 | J32: =[1]MercLab!M132 -> 508.31682 | K32: =IF(ISNUMBER(J32/J$9*100),J32/J$9*100,0) -> 8.5951728 | L32: =[1]MercLab!N132 -> 143288.24 | M32: =IF(ISNUMBER(L32/L$9*100),L32/L$9*100,0) -> 16.715957 | N32: =[1]MercLab!O132 -> 4590.6036 | O32: =IF(ISNUMBER(N32/N$9*100),N32/N$9*100,0) -> 1.6396625
A33: De 45 a 59 años | B33: =[1]MercLab!J133 -> 382074.03 | C33: =IF(ISNUMBER(B33/B$9*100),B33/B$9*100,0) -> 18.174121 | D33: =F33+H33+J33 -> 142194.61 | E33: =IF(ISNUMBER(D33/D$9*100),D33/D$9*100,0) -> 14.733202 | F33: =[1]MercLab!K133 -> 30198.725 | G33: =IF(ISNUMBER(F33/F$9*100),F33/F$9*100,0) -> 36.204683 | H33: =[1]MercLab!L133 -> 110370.29 | I33: =IF(ISNUMBER(H33/H$9*100),H33/H$9*100,0) -> 12.60215 | J33: =[1]MercLab!M133 -> 1625.5861 | K33: =IF(ISNUMBER(J33/J$9*100),J33/J$9*100,0) -> 27.487175 | L33: =[1]MercLab!N133 -> 233898.72 | M33: =IF(ISNUMBER(L33/L$9*100),L33/L$9*100,0) -> 27.286544 | N33: =[1]MercLab!O133 -> 5980.7036 | O33: =IF(ISNUMBER(N33/N$9*100),N33/N$9*100,0) -> 2.1361756
A34: De 60 años y más | B34: =[1]MercLab!J134 -> 223234.49 | C34: =IF(ISNUMBER(B34/B$9*100),B34/B$9*100,0) -> 10.618598 | D34: =F34+H34+J34 -> 45458.529 | E34: =IF(ISNUMBER(D34/D$9*100),D34/D$9*100,0) -> 4.7100923 | F34: =[1]MercLab!K134 -> 7712.9145 | G34: =IF(ISNUMBER(F34/F$9*100),F34/F$9*100,0) -> 9.246868 | H34: =[1]MercLab!L134 -> 35936.864 | I34: =IF(ISNUMBER(H34/H$9*100),H34/H$9*100,0) -> 4.103294 | J34: =[1]MercLab!M134 -> 1808.7506 | K34: =IF(ISNUMBER(J34/J$9*100),J34/J$9*100,0) -> 30.584319 | L34: =[1]MercLab!N134 -> 174403.11 | M34: =IF(ISNUMBER(L34/L$9*100),L34/L$9*100,0) -> 20.345807 | N34: =[1]MercLab!O134 -> 3372.8509 | O34: =IF(ISNUMBER(N34/N$9*100),N34/N$9*100,0) -> 1.2047081
D35: =F35+H35+J35 -> 0
A36: No. de Salarios Mínimos 3/ | B36: =[1]MercLab!J138 -> 1769346.2 | C36: =IF(ISNUMBER(B36/B$9*100),B36/B$9*100,0) -> 84.162515 | D36: =F36+H36+J36 -> 956166.1 | E36: =IF(ISNUMBER(D36/D$9*100),D36/D$9*100,0) -> 99.071189 | F36: =[1]MercLab!K138 -> 80660.503 | G36: =IF(ISNUMBER(F36/F$9*100),F36/F$9*100,0) -> 96.702358 | H36: =[1]MercLab!L138 -> 869591.61 | I36: =IF(ISNUMBER(H36/H$9*100),H36/H$9*100,0) -> 99.290523 | J36: =[1]MercLab!M138 -> 5913.9802 | K36: =IF(ISNUMBER(J36/J$9*100),J36/J$9*100,0) -> 100 | L36: =[1]MercLab!N138 -> 813180.05 | M36: =IF(ISNUMBER(L36/L$9*100),L36/L$9*100,0) -> 94.865307 | N36: =[1]MercLab!O138 -> 0 | O36: =IF(ISNUMBER(N36/N$9*100),N36/N$9*100,0) -> 0
A37: Menos de un salario | B37: =SUM(B38:B40) -> 1203424.1 | C37: =IF(ISNUMBER(B37/B$9*100),B37/B$9*100,0) -> 57.243292 | D37: =F37+H37+J37 -> 581459.07 | E37: =IF(ISNUMBER(D37/D$9*100),D37/D$9*100,0) -> 60.246689 | F37: =SUM(F38:F40) -> 8106.8632 | G37: =IF(ISNUMBER(F37/F$9*100),F37/F$9*100,0) -> 9.7191657 | H37: =SUM(H38:H40) -> 570102.78 | I37: =IF(ISNUMBER(H37/H$9*100),H37/H$9*100,0) -> 65.094698 | J37: =SUM(J38:J40) -> 3249.4247 | K37: =IF(ISNUMBER(J37/J$9*100),J37/J$9*100,0) -> 54.944801 | L37: =SUM(L38:L40) -> 621965.03 | M37: =IF(ISNUMBER(L37/L$9*100),L37/L$9*100,0) -> 72.558228 | N37: =SUM(N38:N40) -> 0 | O37: =IF(ISNUMBER(N37/N$9*100),N37/N$9*100,0) -> 0
A38: Menos de 1 salario y trab <36 horas | B38: =[1]MercLab!J139 -> 557818.21 | C38: =IF(ISNUMBER(B38/B$9*100),B38/B$9*100,0) -> 26.533747 | D38: =F38+H38+J38 -> 214497.38 | E38: =IF(ISNUMBER(D38/D$9*100),D38/D$9*100,0) -> 22.224706 | F38: =[1]MercLab!K139 -> 1217.5079 | G38: =IF(ISNUMBER(F38/F$9*100),F38/F$9*100,0) -> 1.4596473 | H38: =[1]MercLab!L139 -> 212540.63 | I38: =IF(ISNUMBER(H38/H$9*100),H38/H$9*100,0) -> 24.268024 | J38: =[1]MercLab!M139 -> 739.23736 | K38: =IF(ISNUMBER(J38/J$9*100),J38/J$9*100,0) -> 12.499828 | L38: =[1]MercLab!N139 -> 343320.83 | M38: =IF(ISNUMBER(L38/L$9*100),L38/L$9*100,0) -> 40.051691 | N38: =[1]MercLab!O139 -> 0 | O38: =IF(ISNUMBER(N38/N$9*100),N38/N$9*100,0) -> 0
A39: Menos de 1 salario y trab >=36 horas | B39: =[1]MercLab!J140 -> 645436.46 | C39: =IF(ISNUMBER(B39/B$9*100),B39/B$9*100,0) -> 30.701486 | D39: =F39+H39+J39 -> 366792.26 | E39: =IF(ISNUMBER(D39/D$9*100),D39/D$9*100,0) -> 38.004428 | F39: =[1]MercLab!K140 -> 6889.3553 | G39: =IF(ISNUMBER(F39/F$9*100),F39/F$9*100,0) -> 8.2595183 | H39: =[1]MercLab!L140 -> 357392.71 | I39: =IF(ISNUMBER(H39/H$9*100),H39/H$9*100,0) -> 40.807327 | J39: =[1]MercLab!M140 -> 2510.1873 | K39: =IF(ISNUMBER(J39/J$9*100),J39/J$9*100,0) -> 42.444973 | L39: =[1]MercLab!N140 -> 278644.2 | M39: =IF(ISNUMBER(L39/L$9*100),L39/L$9*100,0) -> 32.506537 | N39: =[1]MercLab!O140 -> 0 | O39: =IF(ISNUMBER(N39/N$9*100),N39/N$9*100,0) -> 0
A40: Menos de 1 salario y no decl. horas | B40: =[1]MercLab!J141 -> 169.4348 | C40: =IF(ISNUMBER(B40/B$9*100),B40/B$9*100,0) -> 0.0080595077 | D40: =F40+H40+J40 -> 169.4348 | E40: =IF(ISNUMBER(D40/D$9*100),D40/D$9*100,0) -> 0.017555639 | F40: =[1]MercLab!K141 -> 0 | G40: =IF(ISNUMBER(F40/F$9*100),F40/F$9*100,0) -> 0 | H40: =[1]MercLab!L141 -> 169.4348 | I40: =IF(ISNUMBER(H40/H$9*100),H40/H$9*100,0) -> 0.019346173 | J40: =[1]MercLab!M141 -> 0 | K40: =IF(ISNUMBER(J40/J$9*100),J40/J$9*100,0) -> 0 | L40: =[1]MercLab!N141 -> 0 | M40: =IF(ISNUMBER(L40/L$9*100),L40/L$9*100,0) -> 0 | N40: =[1]MercLab!O141 -> 0 | O40: =IF(ISNUMBER(N40/N$9*100),N40/N$9*100,0) -> 0
A41: De 1 a 2 salarios | B41: =[1]MercLab!J142 -> 416370.21 | C41: =IF(ISNUMBER(B41/B$9*100),B41/B$9*100,0) -> 19.805488 | D41: =F41+H41+J41 -> 283324.48 | E41: =IF(ISNUMBER(D41/D$9*100),D41/D$9*100,0) -> 29.356085 | F41: =[1]MercLab!K142 -> 40451.763 | G41: =IF(ISNUMBER(F41/F$9*100),F41/F$9*100,0) -> 48.496857 | H41: =[1]MercLab!L142 -> 240208.16 | I41: =IF(ISNUMBER(H41/H$9*100),H41/H$9*100,0) -> 27.427121 | J41: =[1]MercLab!M142 -> 2664.5556 | K41: =IF(ISNUMBER(J41/J$9*100),J41/J$9*100,0) -> 45.055199 | L41: =[1]MercLab!N142 -> 133045.73 | M41: =IF(ISNUMBER(L41/L$9*100),L41/L$9*100,0) -> 15.521069 | N41: =[1]MercLab!O142 -> 0 | O41: =IF(ISNUMBER(N41/N$9*100),N41/N$9*100,0) -> 0
A42: De 2 a 3 salarios | B42: =[1]MercLab!J143 -> 78575.275 | C42: =IF(ISNUMBER(B42/B$9*100),B42/B$9*100,0) -> 3.7375913 | D42: =F42+H42+J42 -> 50204.769 | E42: =IF(ISNUMBER(D42/D$9*100),D42/D$9*100,0) -> 5.2018642 | F42: =[1]MercLab!K143 -> 14619.96 | G42: =IF(ISNUMBER(F42/F$9*100),F42/F$9*100,0) -> 17.527595 | H42: =[1]MercLab!L143 -> 35584.809 | I42: =IF(ISNUMBER(H42/H$9*100),H42/H$9*100,0) -> 4.0630961 | J42: =[1]MercLab!M143 -> 0 | K42: =IF(ISNUMBER(J42/J$9*100),J42/J$9*100,0) -> 0 | L42: =[1]MercLab!N143 -> 28370.506 | M42: =IF(ISNUMBER(L42/L$9*100),L42/L$9*100,0) -> 3.3096935 | N42: =[1]MercLab!O143 -> 0 | O42: =IF(ISNUMBER(N42/N$9*100),N42/N$9*100,0) -> 0
A43: De 3 a 4 salarios | B43: =[1]MercLab!J144 -> 32526.884 | C43: =IF(ISNUMBER(B43/B$9*100),B43/B$9*100,0) -> 1.5472068 | D43: =F43+H43+J43 -> 21291.303 | E43: =IF(ISNUMBER(D43/D$9*100),D43/D$9*100,0) -> 2.2060547 | F43: =[1]MercLab!K144 -> 8665.0874 | G43: =IF(ISNUMBER(F43/F$9*100),F43/F$9*100,0) -> 10.38841 | H43: =[1]MercLab!L144 -> 12626.216 | I43: =IF(ISNUMBER(H43/H$9*100),H43/H$9*100,0) -> 1.4416694 | J43: =[1]MercLab!M144 -> 0 | K43: =IF(ISNUMBER(J43/J$9*100),J43/J$9*100,0) -> 0 | L43: =[1]MercLab!N144 -> 11235.581 | M43: =IF(ISNUMBER(L43/L$9*100),L43/L$9*100,0) -> 1.310739 | N43: =[1]MercLab!O144 -> 0 | O43: =IF(ISNUMBER(N43/N$9*100),N43/N$9*100,0) -> 0
A44: De 4 salarios y más | B44: =[1]MercLab!J145 -> 38449.686 | C44: =IF(ISNUMBER(B44/B$9*100),B44/B$9*100,0) -> 1.8289368 | D44: =F44+H44+J44 -> 19886.477 | E44: =IF(ISNUMBER(D44/D$9*100),D44/D$9*100,0) -> 2.0604965 | F44: =[1]MercLab!K145 -> 8816.8295 | G44: =IF(ISNUMBER(F44/F$9*100),F44/F$9*100,0) -> 10.570331 | H44: =[1]MercLab!L145 -> 11069.647 | I44: =IF(ISNUMBER(H44/H$9*100),H44/H$9*100,0) -> 1.2639394 | J44: =[1]MercLab!M145 -> 0 | K44: =IF(ISNUMBER(J44/J$9*100),J44/J$9*100,0) -> 0 | L44: =[1]MercLab!N145 -> 18563.21 | M44: =IF(ISNUMBER(L44/L$9*100),L44/L$9*100,0) -> 2.1655777 | N44: =[1]MercLab!O145 -> 0 | O44: =IF(ISNUMBER(N44/N$9*100),N44/N$9*100,0) -> 0
D45: =F45+H45+J45 -> 0
A46: Rama de Actividad
A47: Primaria | B47: =[1]MercLab!J147 -> 1056001.2 | C47: =IF(ISNUMBER(B47/B$9*100),B47/B$9*100,0) -> 50.230823 | D47: =F47+H47+J47 -> 333306.42 | E47: =IF(ISNUMBER(D47/D$9*100),D47/D$9*100,0) -> 34.534861 | F47: =[1]MercLab!K147 -> 0 | G47: =IF(ISNUMBER(F47/F$9*100),F47/F$9*100,0) -> 0 | H47: =[1]MercLab!L147 -> 333306.42 | I47: =IF(ISNUMBER(H47/H$9*100),H47/H$9*100,0) -> 38.057139 | J47: =[1]MercLab!M147 -> 0 | K47: =IF(ISNUMBER(J47/J$9*100),J47/J$9*100,0) -> 0 | L47: =[1]MercLab!N147 -> 507176.52 | M47: =IF(ISNUMBER(L47/L$9*100),L47/L$9*100,0) -> 59.167039 | N47: =[1]MercLab!O147 -> 215518.23 | O47: =IF(ISNUMBER(N47/N$9*100),N47/N$9*100,0) -> 76.978364
A48: Secundaria | B48: =[1]MercLab!J148 -> 207193.24 | C48: =IF(ISNUMBER(B48/B$9*100),B48/B$9*100,0) -> 9.855564 | D48: =F48+H48+J48 -> 147935.66 | E48: =IF(ISNUMBER(D48/D$9*100),D48/D$9*100,0) -> 15.32805 | F48: =[1]MercLab!K148 -> 0 | G48: =IF(ISNUMBER(F48/F$9*100),F48/F$9*100,0) -> 0 | H48: =[1]MercLab!L148 -> 147935.66 | I48: =IF(ISNUMBER(H48/H$9*100),H48/H$9*100,0) -> 16.891388 | J48: =[1]MercLab!M148 -> 0 | K48: =IF(ISNUMBER(J48/J$9*100),J48/J$9*100,0) -> 0 | L48: =[1]MercLab!N148 -> 47349.126 | M48: =IF(ISNUMBER(L48/L$9*100),L48/L$9*100,0) -> 5.5237329 | N48: =[1]MercLab!O148 -> 11908.453 | O48: =IF(ISNUMBER(N48/N$9*100),N48/N$9*100,0) -> 4.2534372
A49: Terciaria | B49: =[1]MercLab!J149 -> 833891.3 | C49: =IF(ISNUMBER(B49/B$9*100),B49/B$9*100,0) -> 39.66572 | D49: =F49+H49+J49 -> 482026.74 | E49: =IF(ISNUMBER(D49/D$9*100),D49/D$9*100,0) -> 49.944212 | F49: =[1]MercLab!K149 -> 83241.667 | G49: =IF(ISNUMBER(F49/F$9*100),F49/F$9*100,0) -> 99.796868 | H49: =[1]MercLab!L149 -> 392871.1 | I49: =IF(ISNUMBER(H49/H$9*100),H49/H$9*100,0) -> 44.858271 | J49: =[1]MercLab!M149 -> 5913.9802 | K49: =IF(ISNUMBER(J49/J$9*100),J49/J$9*100,0) -> 100 | L49: =[1]MercLab!N149 -> 300413.7 | M49: =IF(ISNUMBER(L49/L$9*100),L49/L$9*100,0) -> 35.04616 | N49: =[1]MercLab!O149 -> 51450.857 | O49: =IF(ISNUMBER(N49/N$9*100),N49/N$9*100,0) -> 18.377113
A50: No sabe, no responde | B50: =[1]MercLab!J150 -> 5211.4429 | C50: =IF(ISNUMBER(B50/B$9*100),B50/B$9*100,0) -> 0.24789278 | D50: =F50+H50+J50 -> 1861.5064 | E50: =IF(ISNUMBER(D50/D$9*100),D50/D$9*100,0) -> 0.19287617 | F50: =[1]MercLab!K150 -> 169.4348 | G50: =IF(ISNUMBER(F50/F$9*100),F50/F$9*100,0) -> 0.20313219 | H50: =[1]MercLab!L150 -> 1692.0716 | I50: =IF(ISNUMBER(H50/H$9*100),H50/H$9*100,0) -> 0.19320181 | J50: =[1]MercLab!M150 -> 0 | K50: =IF(ISNUMBER(J50/J$9*100),J50/J$9*100,0) -> 0 | L50: =[1]MercLab!N150 -> 2255.0031 | M50: =IF(ISNUMBER(L50/L$9*100),L50/L$9*100,0) -> 0.26306789 | N50: =[1]MercLab!O150 -> 1094.9334 | O50: =IF(ISNUMBER(N50/N$9*100),N50/N$9*100,0) -> 0.3910861
A52: ='C01'!A42 -> Fuente: Instituto Nacional de Estadística (INE). XL Encuesta Permanente de Hogares de Propósitos Múltiples, Septiembre 2010.
A53: ='C01'!A43 -> El salario mínimo en el área urbana es Lps. 5,500 y en la área rural es Lps. 4,055 (Promedio de salarios mínimos por rama)
A54: 1/ Porcentaje por columnas
A55: 2/ Porcentaje por filas
A56: 3/ No. de salarios mínimos (personas que declaran ingresos) y trabajan 36 Hrs. o mas
A59: Cuadro No. 3. Personas ocupadas por categoría ocupacional, según dominio, nivel educativo, rango de edad, sexo,
A60: número de salarios mínimos, rama de actividad y ocupación
A61: Ocupación Principal
A62: Hombres
A63: ....... Continuación
A64: Categorías | B64: Total Ocupados | D64: Asalariados | L64: Cuenta propia | N64: Trab. fam. no remu.
D65: Total Asalariados | F65: Público | H65: Privado | J65: Doméstico
B66: No. | C66: % 1/ | D66: No. | E66: % 1/ | F66: No. | G66: % 1/ | H66: No. | I66: % 1/ | J66: No. | K66: % 1/ | L66: No. | M66: % 1/ | N66: No. | O66: % 1/
A68: Total Nacional 2/ | B68: =B9 -> 2102297.2 | C68: =C9 -> 100 | D68: =D9 -> 965130.33 | E68: =E9 -> 45.908369 | F68: =F9 -> 83411.102 | G68: =G9 -> 3.9676171 | H68: =H9 -> 875805.25 | I68: =I9 -> 41.659441 | ... O68: =O9 -> 13.317455
D69: =F69+H69+J69 -> 0
A70: Rama de Actividad (1 dig.)
A71: Agricultura, Silvicultura, Caza y Pesca | B71: =[1]MercLab!J153 -> 1048033.7 | C71: =IF(ISNUMBER(B71/B$68*100),B71/B$68*100,0) -> 49.851834 | D71: =F71+H71+J71 -> 328923.45 | E71: =IF(ISNUMBER(D71/D$68*100),D71/D$68*100,0) -> 34.080728 | F71: =[1]MercLab!K153 -> 0 | G71: =IF(ISNUMBER(F71/F$68*100),F71/F$68*100,0) -> 0 | H71: =[1]MercLab!L153 -> 328923.45 | I71: =IF(ISNUMBER(H71/H$68*100),H71/H$68*100,0) -> 37.556688 | J71: =[1]MercLab!M153 -> 0 | K71: =IF(ISNUMBER(J71/J$68*100),J71/J$68*100,0) -> 0 | L71: =[1]MercLab!N153 -> 504035.18 | M71: =IF(ISNUMBER(L71/L$68*100),L71/L$68*100,0) -> 58.800572 | N71: =[1]MercLab!O153 -> 215075.06 | O71: =IF(ISNUMBER(N71/N$68*100),N71/N$68*100,0) -> 76.820074
A72: Explotación de minas y canteras | B72: =[1]MercLab!J154 -> 7967.4787 | C72: =IF(ISNUMBER(B72/B$68*100),B72/B$68*100,0) -> 0.37898918 | D72: =F72+H72+J72 -> 4382.9712 | E72: =IF(ISNUMBER(D72/D$68*100),D72/D$68*100,0) -> 0.45413257 | F72: =[1]MercLab!K154 -> 0 | G72: =IF(ISNUMBER(F72/F$68*100),F72/F$68*100,0) -> 0 | H72: =[1]MercLab!L154 -> 4382.9712 | I72: =IF(ISNUMBER(H72/H$68*100),H72/H$68*100,0) -> 0.50045043 | J72: =[1]MercLab!M154 -> 0 | K72: =IF(ISNUMBER(J72/J$68*100),J72/J$68*100,0) -> 0 | L72: =[1]MercLab!N154 -> 3141.3394 | M72: =IF(ISNUMBER(L72/L$68*100),L72/L$68*100,0) -> 0.36646758 | N72: =[1]MercLab!O154 -> 443.16815 | O72: =IF(ISNUMBER(N72/N$68*100),N72/N$68*100,0) -> 0.1582899
A73: Industria manufacturera | B73: =[1]MercLab!J155 -> 207193.24 | C73: =IF(ISNUMBER(B73/B$68*100),B73/B$68*100,0) -> 9.855564 | D73: =F73+H73+J73 -> 147935.66 | E73: =IF(ISNUMBER(D73/D$68*100),D73/D$68*100,0) -> 15.32805 | F73: =[1]MercLab!K155 -> 0 | G73: =IF(ISNUMBER(F73/F$68*100),F73/F$68*100,0) -> 0 | H73: =[1]MercLab!L155 -> 147935.66 | I73: =IF(ISNUMBER(H73/H$68*100),H73/H$68*100,0) -> 16.891388 | J73: =[1]MercLab!M155 -> 0 | K73: =IF(ISNUMBER(J73/J$68*100),J73/J$68*100,0) -> 0 | L73: =[1]MercLab!N155 -> 47349.126 | M73: =IF(ISNUMBER(L73/L$68*100),L73/L$68*100,0) -> 5.5237329 | N73: =[1]MercLab!O155 -> 11908.453 | O73: =IF(ISNUMBER(N73/N$68*100),N73/N$68*100,0) -> 4.2534372
A74: Electricidad, gas y agua | B74: =[1]MercLab!J156 -> 9212.0699 | C74: =IF(ISNUMBER(B74/B$68*100),B74/B$68*100,0) -> 0.43819067 | D74: =F74+H74+J74 -> 9212.0699 | E74: =IF(ISNUMBER(D74/D$68*100),D74/D$68*100,0) -> 0.95448973 | F74: =[1]MercLab!K156 -> 4351.0725 | G74: =IF(ISNUMBER(F74/F$68*100),F74/F$68*100,0) -> 5.2164188 | H74: =[1]MercLab!L156 -> 4860.9975 | I74: =IF(ISNUMBER(H74/H$68*100),H74/H$68*100,0) -> 0.55503178 | J74: =[1]MercLab!M156 -> 0 | K74: =IF(ISNUMBER(J74/J$68*100),J74/J$68*100,0) -> 0 | L74: =[1]MercLab!N156 -> 0 | M74: =IF(ISNUMBER(L74/L$68*100),L74/L$68*100,0) -> 0 | N74: =[1]MercLab!O156 -> 0 | O74: =IF(ISNUMBER(N74/N$68*100),N74/N$68*100,0) -> 0
A75: Construcción | B75: =[1]MercLab!J157 -> 166553.59 | C75: =IF(ISNUMBER(B75/B$68*100),B75/B$68*100,0) -> 7.9224572 | D75: =F75+H75+J75 -> 110589.77 | E75: =IF(ISNUMBER(D75/D$68*100),D75/D$68*100,0) -> 11.458533 | F75: =[1]MercLab!K157 -> 508.31682 | G75: =IF(ISNUMBER(F75/F$68*100),F75/F$68*100,0) -> 0.60941146 | H75: =[1]MercLab!L157 -> 110081.46 | I75: =IF(ISNUMBER(H75/H$68*100),H75/H$68*100,0) -> 12.569171 | J75: =[1]MercLab!M157 -> 0 | K75: =IF(ISNUMBER(J75/J$68*100),J75/J$68*100,0) -> 0 | L75: =[1]MercLab!N157 -> 53253.198 | M75: =IF(ISNUMBER(L75/L$68*100),L75/L$68*100,0) -> 6.2124999 | N75: =[1]MercLab!O157 -> 2710.6206 | O75: =IF(ISNUMBER(N75/N$68*100),N75/N$68*100,0) -> 0.96817398
A76: Comercio por Mayor / menor, Hoteles / restaurantes | B76: =[1]MercLab!J158 -> 335238.5 | C76: =IF(ISNUMBER(B76/B$68*100),B76/B$68*100,0) -> 15.946295 | D76: =F76+H76+J76 -> 144932.12 | E76: =IF(ISNUMBER(D76/D$68*100),D76/D$68*100,0) -> 15.016844 | F76: =[1]MercLab!K158 -> 0 | G76: =IF(ISNUMBER(F76/F$68*100),F76/F$68*100,0) -> 0 | H76: =[1]MercLab!L158 -> 144932.12 | I76: =IF(ISNUMBER(H76/H$68*100),H76/H$68*100,0) -> 16.548441 | J76: =[1]MercLab!M158 -> 0 | K76: =IF(ISNUMBER(J76/J$68*100),J76/J$68*100,0) -> 0 | L76: =[1]MercLab!N158 -> 145637.6 | M76: =IF(ISNUMBER(L76/L$68*100),L76/L$68*100,0) -> 16.990033 | N76: =[1]MercLab!O158 -> 44668.783 | O76: =IF(ISNUMBER(N76/N$68*100),N76/N$68*100,0) -> 15.954705
A77: Transp. almac. y comunicaciones | B77: =[1]MercLab!J159 -> 108446.42 | C77: =IF(ISNUMBER(B77/B$68*100),B77/B$68*100,0) -> 5.1584724 | D77: =F77+H77+J77 -> 48002.619 | E77: =IF(ISNUMBER(D77/D$68*100),D77/D$68*100,0) -> 4.9736929 | F77: =[1]MercLab!K159 -> 2805.8154 | G77: =IF(ISNUMBER(F77/F$68*100),F77/F$68*100,0) -> 3.3638393 | H77: =[1]MercLab!L159 -> 45196.804 | I77: =IF(ISNUMBER(H77/H$68*100),H77/H$68*100,0) -> 5.1605998 | J77: =[1]MercLab!M159 -> 0 | K77: =IF(ISNUMBER(J77/J$68*100),J77/J$68*100,0) -> 0 | L77: =[1]MercLab!N159 -> 58855.504 | M77: =IF(ISNUMBER(L77/L$68*100),L77/L$68*100,0) -> 6.866063 | N77: =[1]MercLab!O159 -> 1588.2951 | O77: =IF(ISNUMBER(N77/N$68*100),N77/N$68*100,0) -> 0.56730401
A78: Estab. finac. seguros, Bienes inmuebles y servicios | B78: =[1]MercLab!J160 -> 66618.982 | C78: =IF(ISNUMBER(B78/B$68*100),B78/B$68*100,0) -> 3.1688661 | D78: =F78+H78+J78 -> 49125.358 | E78: =IF(ISNUMBER(D78/D$68*100),D78/D$68*100,0) -> 5.0900233 | F78: =[1]MercLab!K160 -> 2215.5373 | G78: =IF(ISNUMBER(F78/F$68*100),F78/F$68*100,0) -> 2.656166 | H78: =[1]MercLab!L160 -> 46909.821 | I78: =IF(ISNUMBER(H78/H$68*100),H78/H$68*100,0) -> 5.3561932 | J78: =[1]MercLab!M160 -> 0 | K78: =IF(ISNUMBER(J78/J$68*100),J78/J$68*100,0) -> 0 | L78: =[1]MercLab!N160 -> 17324.189 | M78: =IF(ISNUMBER(L78/L$68*100),L78/L$68*100,0) -> 2.021034 | N78: =[1]MercLab!O160 -> 169.4348 | O78: =IF(ISNUMBER(N78/N$68*100),N78/N$68*100,0) -> 0.060518378
A79: Servicios Comunales, Sociales y Personales | B79: =[1]MercLab!J161 -> 147821.73 | C79: =IF(ISNUMBER(B79/B$68*100),B79/B$68*100,0) -> 7.0314387 | D79: =F79+H79+J79 -> 120164.81 | E79: =IF(ISNUMBER(D79/D$68*100),D79/D$68*100,0) -> 12.45063 | F79: =[1]MercLab!K161 -> 73360.925 | G79: =IF(ISNUMBER(F79/F$68*100),F79/F$68*100,0) -> 87.951032 | H79: =[1]MercLab!L161 -> 40889.9 | I79: =IF(ISNUMBER(H79/H$68*100),H79/H$68*100,0) -> 4.6688348 | J79: =[1]MercLab!M161 -> 5913.9802 | K79: =IF(ISNUMBER(J79/J$68*100),J79/J$68*100,0) -> 100 | L79: =[1]MercLab!N161 -> 25343.206 | M79: =IF(ISNUMBER(L79/L$68*100),L79/L$68*100,0) -> 2.9565297 | N79: =[1]MercLab!O161 -> 2313.7237 | O79: =IF(ISNUMBER(N79/N$68*100),N79/N$68*100,0) -> 0.82641113
A80: No sabe, No responde | B80: =[1]MercLab!J162 -> 5211.4429 | C80: =IF(ISNUMBER(B80/B$68*100),B80/B$68*100,0) -> 0.24789278 | D80: =F80+H80+J80 -> 1861.5064 | E80: =IF(ISNUMBER(D80/D$68*100),D80/D$68*100,0) -> 0.19287617 | F80: =[1]MercLab!K162 -> 169.4348 | G80: =IF(ISNUMBER(F80/F$68*100),F80/F$68*100,0) -> 0.20313219 | H80: =[1]MercLab!L162 -> 1692.0716 | I80: =IF(ISNUMBER(H80/H$68*100),H80/H$68*100,0) -> 0.19320181 | J80: =[1]MercLab!M162 -> 0 | K80: =IF(ISNUMBER(J80/J$68*100),J80/J$68*100,0) -> 0 | L80: =[1]MercLab!N162 -> 2255.0031 | M80: =IF(ISNUMBER(L80/L$68*100),L80/L$68*100,0) -> 0.26306789 | N80: =[1]MercLab!O162 -> 1094.9334 | O80: =IF(ISNUMBER(N80/N$68*100),N80/N$68*100,0) -> 0.3910861
D81: =F81+H81+J81 -> 0
A82: Ocupación (1 Dig.)
A83: Profesionales, Técnicos y PEOA | B83: =[1]MercLab!J165 -> 111503.05 | C83: =IF(ISNUMBER(B83/B$68*100),B83/B$68*100,0) -> 5.3038671 | D83: =F83+H83+J83 -> 88830.11 | E83: =IF(ISNUMBER(D83/D$68*100),D83/D$68*100,0) -> 9.2039497 | F83: =[1]MercLab!K165 -> 36891.812 | G83: =IF(ISNUMBER(F83/F$68*100),F83/F$68*100,0) -> 44.228898 | H83: =[1]MercLab!L165 -> 51938.298 | I83: =IF(ISNUMBER(H83/H$68*100),H83/H$68*100,0) -> 5.9303479 | J83: =[1]MercLab!M165 -> 0 | K83: =IF(ISNUMBER(J83/J$68*100),J83/J$68*100,0) -> 0 | L83: =[1]MercLab!N165 -> 21617.165 | M83: =IF(ISNUMBER(L83/L$68*100),L83/L$68*100,0) -> 2.5218511 | N83: =[1]MercLab!O165 -> 1055.7711 | O83: =IF(ISNUMBER(N83/N$68*100),N83/N$68*100,0) -> 0.37709818
A84: Directores Gerentes y Administ. Grales. | B84: =[1]MercLab!J166 -> 61678.423 | C84: =IF(ISNUMBER(B84/B$68*100),B84/B$68*100,0) -> 2.9338585 | D84: =F84+H84+J84 -> 34220.349 | E84: =IF(ISNUMBER(D84/D$68*100),D84/D$68*100,0) -> 3.5456713 | F84: =[1]MercLab!K166 -> 10400.213 | G84: =IF(ISNUMBER(F84/F$68*100),F84/F$68*100,0) -> 12.468619 | H84: =[1]MercLab!L166 -> 23820.136 | I84: =IF(ISNUMBER(H84/H$68*100),H84/H$68*100,0) -> 2.7197983 | J84: =[1]MercLab!M166 -> 0 | K84: =IF(ISNUMBER(J84/J$68*100),J84/J$68*100,0) -> 0 | L84: =[1]MercLab!N166 -> 27458.074 | M84: =IF(ISNUMBER(L84/L$68*100),L84/L$68*100,0) -> 3.2032495 | N84: =[1]MercLab!O166 -> 0 | O84: =IF(ISNUMBER(N84/N$68*100),N84/N$68*100,0) -> 0
A85: Empleados de Oficina | B85: =[1]MercLab!J167 -> 32147.995 | C85: =IF(ISNUMBER(B85/B$68*100),B85/B$68*100,0) -> 1.5291842 | D85: =F85+H85+J85 -> 29546.808 | E85: =IF(ISNUMBER(D85/D$68*100),D85/D$68*100,0) -> 3.061432 | F85: =[1]MercLab!K167 -> 3876.4524 | G85: =IF(ISNUMBER(F85/F$68*100),F85/F$68*100,0) -> 4.6474058 | H85: =[1]MercLab!L167 -> 25670.356 | I85: =IF(ISNUMBER(H85/H$68*100),H85/H$68*100,0) -> 2.9310576 | J85: =[1]MercLab!M167 -> 0 | K85: =IF(ISNUMBER(J85/J$68*100),J85/J$68*100,0) -> 0 | L85: =[1]MercLab!N167 -> 2327.4534 | M85: =IF(ISNUMBER(L85/L$68*100),L85/L$68*100,0) -> 0.27151992 | N85: =[1]MercLab!O167 -> 273.73335 | O85: =IF(ISNUMBER(N85/N$68*100),N85/N$68*100,0) -> 0.097771524
A86: Comerciantes y Vendedores | B86: =[1]MercLab!J168 -> 208419.25 | C86: =IF(ISNUMBER(B86/B$68*100),B86/B$68*100,0) -> 9.9138818 | D86: =F86+H86+J86 -> 65292.173 | E86: =IF(ISNUMBER(D86/D$68*100),D86/D$68*100,0) -> 6.7651146 | F86: =[1]MercLab!K168 -> 169.4348 | G86: =IF(ISNUMBER(F86/F$68*100),F86/F$68*100,0) -> 0.20313219 | H86: =[1]MercLab!L168 -> 65122.738 | I86: =IF(ISNUMBER(H86/H$68*100),H86/H$68*100,0) -> 7.4357557 | J86: =[1]MercLab!M168 -> 0 | K86: =IF(ISNUMBER(J86/J$68*100),J86/J$68*100,0) -> 0 | L86: =[1]MercLab!N168 -> 100199.67 | M86: =IF(ISNUMBER(L86/L$68*100),L86/L$68*100,0) -> 11.689259 | N86: =[1]MercLab!O168 -> 42927.412 | O86: =IF(ISNUMBER(N86/N$68*100),N86/N$68*100,0) -> 15.332726
A87: Agricultores, Ganaderos y Trab. Agrop. | B87: =[1]MercLab!J169 -> 1011938.4 | C87: =IF(ISNUMBER(B87/B$68*100),B87/B$68*100,0) -> 48.134888 | D87: =F87+H87+J87 -> 301820.56 | E87: =IF(ISNUMBER(D87/D$68*100),D87/D$68*100,0) -> 31.272518 | F87: =[1]MercLab!K169 -> 328.48002 | G87: =IF(ISNUMBER(F87/F$68*100),F87/F$68*100,0) -> 0.39380852 | H87: =[1]MercLab!L169 -> 301492.08 | I87: =IF(ISNUMBER(H87/H$68*100),H87/H$68*100,0) -> 34.424557 | J87: =[1]MercLab!M169 -> 0 | K87: =IF(ISNUMBER(J87/J$68*100),J87/J$68*100,0) -> 0 | L87: =[1]MercLab!N169 -> 496453.82 | M87: =IF(ISNUMBER(L87/L$68*100),L87/L$68*100,0) -> 57.916134 | N87: =[1]MercLab!O169 -> 213663.99 | O87: =IF(ISNUMBER(N87/N$68*100),N87/N$68*100,0) -> 76.316072
A88: Conductores de Transporte | B88: =[1]MercLab!J170 -> 84098.573 | C88: =IF(ISNUMBER(B88/B$68*100),B88/B$68*100,0) -> 4.0003181 | D88: =F88+H88+J88 -> 35544.114 | E88: =IF(ISNUMBER(D88/D$68*100),D88/D$68*100,0) -> 3.6828304 | F88: =[1]MercLab!K170 -> 4751.6668 | G88: =IF(ISNUMBER(F88/F$68*100),F88/F$68*100,0) -> 5.6966839 | H88: =[1]MercLab!L170 -> 29988.061 | I88: =IF(ISNUMBER(H88/H$68*100),H88/H$68*100,0) -> 3.4240558 | J88: =[1]MercLab!M170 -> 804.38602 | K88: =IF(ISNUMBER(J88/J$68*100),J88/J$68*100,0) -> 13.601432 | L88: =[1]MercLab!N170 -> 47854.372 | M88: =IF(ISNUMBER(L88/L$68*100),L88/L$68*100,0) -> 5.5826747 | N88: =[1]MercLab!O170 -> 700.08746 | O88: =IF(ISNUMBER(N88/N$68*100),N88/N$68*100,0) -> 0.25005582
A89: Trab. Ind. Textil, Albañilería, Mecánica, etc. | B89: =[1]MercLab!J171 -> 346099.94 | C89: =IF(ISNUMBER(B89/B$68*100),B89/B$68*100,0) -> 16.462941 | D89: =F89+H89+J89 -> 227839.6 | E89: =IF(ISNUMBER(D89/D$68*100),D89/D$68*100,0) -> 23.607132 | F89: =[1]MercLab!K171 -> 6740.7473 | G89: =IF(ISNUMBER(F89/F$68*100),F89/F$68*100,0) -> 8.0813551 | H89: =[1]MercLab!L171 -> 221098.85 | I89: =IF(ISNUMBER(H89/H$68*100),H89/H$68*100,0) -> 25.245207 | J89: =[1]MercLab!M171 -> 0 | K89: =IF(ISNUMBER(J89/J$68*100),J89/J$68*100,0) -> 0 | L89: =[1]MercLab!N171 -> 107389.49 | M89: =IF(ISNUMBER(L89/L$68*100),L89/L$68*100,0) -> 12.528022 | N89: =[1]MercLab!O171 -> 10870.851 | O89: =IF(ISNUMBER(N89/N$68*100),N89/N$68*100,0) -> 3.8828285
A90: Trab. Area Grafica, Quim., Alimentos, etc. | B90: =[1]MercLab!J172 -> 43738.078 | C90: =IF(ISNUMBER(B90/B$68*100),B90/B$68*100,0) -> 2.0804898 | D90: =F90+H90+J90 -> 25137.322 | E90: =IF(ISNUMBER(D90/D$68*100),D90/D$68*100,0) -> 2.6045521 | F90: =[1]MercLab!K172 -> 0 | G90: =IF(ISNUMBER(F90/F$68*100),F90/F$68*100,0) -> 0 | H90: =[1]MercLab!L172 -> 25137.322 | I90: =IF(ISNUMBER(H90/H$68*100),H90/H$68*100,0) -> 2.8701954 | J90: =[1]MercLab!M172 -> 0 | K90: =IF(ISNUMBER(J90/J$68*100),J90/J$68*100,0) -> 0 | L90: =[1]MercLab!N172 -> 13524.433 | M90: =IF(ISNUMBER(L90/L$68*100),L90/L$68*100,0) -> 1.5777557 | N90: =[1]MercLab!O172 -> 5076.3238 | O90: =IF(ISNUMBER(N90/N$68*100),N90/N$68*100,0) -> 1.813151
A91: Operador de Carga y Almacenaje | B91: =[1]MercLab!J173 -> 50927.185 | C91: =IF(ISNUMBER(B91/B$68*100),B91/B$68*100,0) -> 2.4224542 | D91: =F91+H91+J91 -> 37983.324 | E91: =IF(ISNUMBER(D91/D$68*100),D91/D$68*100,0) -> 3.9355642 | F91: =[1]MercLab!K173 -> 2523.1929 | G91: =IF(ISNUMBER(F91/F$68*100),F91/F$68*100,0) -> 3.0250085 | H91: =[1]MercLab!L173 -> 35186.397 | I91: =IF(ISNUMBER(H91/H$68*100),H91/H$68*100,0) -> 4.0176052 | J91: =[1]MercLab!M173 -> 273.73335 | K91: =IF(ISNUMBER(J91/J$68*100),J91/J$68*100,0) -> 4.6285808 | L91: =[1]MercLab!N173 -> 11225.791 | M91: =IF(ISNUMBER(L91/L$68*100),L91/L$68*100,0) -> 1.309597 | N91: =[1]MercLab!O173 -> 1718.0704 | O91: =IF(ISNUMBER(N91/N$68*100),N91/N$68*100,0) -> 0.61365688
A92: Ocupación de los Servicios | B92: =[1]MercLab!J174 -> 119131.65 | C92: =IF(ISNUMBER(B92/B$68*100),B92/B$68*100,0) -> 5.6667368 | D92: =F92+H92+J92 -> 98381.104 | E92: =IF(ISNUMBER(D92/D$68*100),D92/D$68*100,0) -> 10.193556 | F92: =[1]MercLab!K174 -> 17263.599 | G92: =IF(ISNUMBER(F92/F$68*100),F92/F$68*100,0) -> 20.697004 | H92: =[1]MercLab!L174 -> 76281.644 | I92: =IF(ISNUMBER(H92/H$68*100),H92/H$68*100,0) -> 8.7098866 | J92: =[1]MercLab!M174 -> 4835.8608 | K92: =IF(ISNUMBER(J92/J$68*100),J92/J$68*100,0) -> 81.769987 | L92: =[1]MercLab!N174 -> 18881.67 | M92: =IF(ISNUMBER(L92/L$68*100),L92/L$68*100,0) -> 2.2027292 | N92: =[1]MercLab!O174 -> 1868.8726 | O92: =IF(ISNUMBER(N92/N$68*100),N92/N$68*100,0) -> 0.66752012
A93: No sabe, No responde | B93: =[1]MercLab!J175 -> 32614.63 | C93: =IF(ISNUMBER(B93/B$68*100),B93/B$68*100,0) -> 1.5513806 | D93: =F93+H93+J93 -> 20534.869 | E93: =IF(ISNUMBER(D93/D$68*100),D93/D$68*100,0) -> 2.1276784 | F93: =[1]MercLab!K175 -> 465.504 | G93: =IF(ISNUMBER(F93/F$68*100),F93/F$68*100,0) -> 0.55808398 | H93: =[1]MercLab!L175 -> 20069.365 | I93: =IF(ISNUMBER(H93/H$68*100),H93/H$68*100,0) -> 2.2915329 | J93: =[1]MercLab!M175 -> 0 | K93: =IF(ISNUMBER(J93/J$68*100),J93/J$68*100,0) -> 0 | L93: =[1]MercLab!N175 -> 10262.404 | M93: =IF(ISNUMBER(L93/L$68*100),L93/L$68*100,0) -> 1.1972086 | N93: =[1]MercLab!O175 -> 1817.3567 | O93: =IF(ISNUMBER(N93/N$68*100),N93/N$68*100,0) -> 0.64911979
A95: ='C01'!A42 -> Fuente: Instituto Nacional de Estadística (INE). XL Encuesta Permanente de Hogares de Propósitos Múltiples, Septiembre 2010.
A96: ='C01'!A43 -> El salario mínimo en el área urbana es Lps. 5,500 y en la área rural es Lps. 4,055 (Promedio de salarios mínimos por rama)
A97: 1/ Porcentaje por columnas
A98: 2/ Porcentaje por filas

Sheet C03
A1: Cuadro No. 5. Ingreso promedio de las personas ocupadas por categoría ocupacional, según dominio,
A2: nivel educativo, rango de edad, sexo, número de salarios mínimos, rama de actividad y ocupación
A3: Ocupación Principal, Lps/Mes/Persona
A4: Hombres
A5: Categorías | B5: Ingreso Promedio
B6: Ingreso Promedio | C6: Asalariados | G6: Cuenta propia
C7: Total | D7: Público | E7: Privado | F7: Doméstico
A9: Total Nacional | B9: =[1]MercLab!J260 -> 4375.048 | C9: =AVERAGE(D9:G9) -> 5922.7199 | D9: =[1]MercLab!K260 -> 11804.725 | E9: =[1]MercLab!L260 -> 4322.3936 | F9: =[1]MercLab!M260 -> 3865.6616 | G9: =[1]MercLab!N260 -> 3698.0993
A11: Dominio
A12: Urbano | B12: =AVERAGE(B13:B15) -> 7248.8229 | C12: =AVERAGE(D12:G12) -> 7888.2433 | D12: =AVERAGE(D13:D15) -> 13951.544 | E12: =AVERAGE(E13:E15) -> 6518.5691 | F12: =AVERAGE(F13:F15) -> 4127.589 | G12: =AVERAGE(G13:G15) -> 6955.2708
A13: Distrito Central | B13: =[1]MercLab!J262 -> 7710.3269 | C13: =AVERAGE(D13:G13) -> 8340.6081 | D13: =[1]MercLab!K262 -> 14576.259 | E13: =[1]MercLab!L262 -> 7145.0399 | F13: =[1]MercLab!M262 -> 5700 | G13: =[1]MercLab!N262 -> 5941.134
A14: San Pedro Sula | B14: =[1]MercLab!J263 -> 8615.2798 | C14: =AVERAGE(D14:G14) -> 9383.2922 | D14: =[1]MercLab!K263 -> 17015.66 | E14: =[1]MercLab!L263 -> 7490.404 | F14: =[1]MercLab!M263 -> 3300 | G14: =[1]MercLab!N263 -> 9727.1048
A15: Resto urbano | B15: =[1]MercLab!J264 -> 5420.862 | C15: =AVERAGE(D15:G15) -> 5940.8297 | D15: =[1]MercLab!K264 -> 10262.715 | E15: =[1]MercLab!L264 -> 4920.2633 | F15: =[1]MercLab!M264 -> 3382.7671 | G15: =[1]MercLab!N264 -> 5197.5734
A16: Rural | B16: =[1]MercLab!J265 -> 2719.3755 | C16: =AVERAGE(D16:G16) -> 4449.2796 | D16: =[1]MercLab!K265 -> 8653.5604 | E16: =[1]MercLab!L265 -> 2852.5924 | F16: =[1]MercLab!M265 -> 3895.5556 | G16: =[1]MercLab!N265 -> 2395.41
A18: Nivel Educativo
A19: Sin Nivel | B19: =[1]MercLab!J267 -> 1868.4676 | C19: =AVERAGE(D19:G19) -> 2766.6365 | D19: =[1]MercLab!K267 -> 5157.534 | E19: =[1]MercLab!L267 -> 2287.8745 | F19: =[1]MercLab!M267 -> 2083.9956 | G19: =[1]MercLab!N267 -> 1537.1421
A20: Primaria | B20: =[1]MercLab!J268 -> 3341.1546 | C20: =AVERAGE(D20:G20) -> 4507.9838 | D20: =[1]MercLab!K268 -> 7386.8134 | E20: =[1]MercLab!L268 -> 3299.6274 | F20: =[1]MercLab!M268 -> 4114.6004 | G20: =[1]MercLab!N268 -> 3230.894
A21: Secundaria | B21: =[1]MercLab!J269 -> 5902.2772 | C21: =AVERAGE(D21:G21) -> 6241.902 | D21: =[1]MercLab!K269 -> 9299.1935 | E21: =[1]MercLab!L269 -> 5527.2402 | F21: =[1]MercLab!M269 -> 4336.2613 | G21: =[1]MercLab!N269 -> 5804.9131
A22: Superior | B22: =[1]MercLab!J270 -> 14445.71 | C22: =AVERAGE(D22:G22) -> 11352.281 | D22: =[1]MercLab!K270 -> 17210.9 | E22: =[1]MercLab!L270 -> 12314.569 | F22: =[1]MercLab!M270 -> 0 | G22: =[1]MercLab!N270 -> 15883.654
A23: No sabe, no responde | B23: =[1]MercLab!J271 -> 3731.7774 | C23: =AVERAGE(D23:G23) -> 3873.0503 | D23: =[1]MercLab!K271 -> 8768.1148 | E23: =[1]MercLab!L271 -> 4140.2643 | F23: =[1]MercLab!M271 -> 0 | G23: =[1]MercLab!N271 -> 2583.8223
A25: Rango de Edad
A26: De 10 a 11 años | B26: =[1]MercLab!J273 -> 404.39319 | C26: =AVERAGE(D26:G26) -> 190.06523 | D26: =[1]MercLab!K273 -> 0 | E26: =[1]MercLab!L273 -> 615.40715 | F26: =[1]MercLab!M273 -> 0 | G26: =[1]MercLab!N273 -> 144.85377
A27: De 12 a 14 años | B27: =[1]MercLab!J274 -> 899.07663 | C27: =AVERAGE(D27:G27) -> 387.65802 | D27: =[1]MercLab!K274 -> 0 | E27: =[1]MercLab!L274 -> 1000.173 | F27: =[1]MercLab!M274 -> 0 | G27: =[1]MercLab!N274 -> 550.45913
A28: De 15 a 18 años | B28: =[1]MercLab!J275 -> 1837.9259 | C28: =AVERAGE(D28:G28) -> 1332.3745 | D28: =[1]MercLab!K275 -> 0 | E28: =[1]MercLab!L275 -> 1959.1617 | F28: =[1]MercLab!M275 -> 2114.5185 | G28: =[1]MercLab!N275 -> 1255.8177
A29: De 19 a 24 años | B29: =[1]MercLab!J276 -> 3660.3853 | C29: =AVERAGE(D29:G29) -> 4837.6837 | D29: =[1]MercLab!K276 -> 6445.3136 | E29: =[1]MercLab!L276 -> 3733.0345 | F29: =[1]MercLab!M276 -> 6000 | G29: =[1]MercLab!N276 -> 3172.3866
A30: De 25 a 29 años | B30: =[1]MercLab!J277 -> 4769.2155 | C30: =AVERAGE(D30:G30) -> 5912.993 | D30: =[1]MercLab!K277 -> 9194.102 | E30: =[1]MercLab!L277 -> 5014.5654 | F30: =[1]MercLab!M277 -> 5519.5996 | G30: =[1]MercLab!N277 -> 3923.7048
A31: De 30 a 35 años | B31: =[1]MercLab!J278 -> 5508.3261 | C31: =AVERAGE(D31:G31) -> 6207.7685 | D31: =[1]MercLab!K278 -> 10320.556 | E31: =[1]MercLab!L278 -> 5684.7648 | F31: =[1]MercLab!M278 -> 4044.1845 | G31: =[1]MercLab!N278 -> 4781.5683
A32: De 36 a 44 años | B32: =[1]MercLab!J279 -> 5281.007 | C32: =AVERAGE(D32:G32) -> 6905.8649 | D32: =[1]MercLab!K279 -> 12416.216 | E32: =[1]MercLab!L279 -> 5605.8834 | F32: =[1]MercLab!M279 -> 5546.1491 | G32: =[1]MercLab!N279 -> 4055.2113
A33: De 45 a 59 años | B33: =[1]MercLab!J280 -> 5227.8378 | C33: =AVERAGE(D33:G33) -> 6589.9214 | D33: =[1]MercLab!K280 -> 12200.523 | E33: =[1]MercLab!L280 -> 5514.8322 | F33: =[1]MercLab!M280 -> 4439.2739 | G33: =[1]MercLab!N280 -> 4205.0562
A34: De 60 años y más | B34: =[1]MercLab!J281 -> 3447.7535 | C34: =AVERAGE(D34:G34) -> 6948.4446 | D34: =[1]MercLab!K281 -> 18966.083 | E34: =[1]MercLab!L281 -> 3335.6222 | F34: =[1]MercLab!M281 -> 2737.0033 | G34: =[1]MercLab!N281 -> 2755.0701
A36: No. de Salarios Mínimos 1/
A37: Menos de un salario | B37: =SUM(B38:B40) -> 6643.7913 | C37: =AVERAGE(D37:G37) -> 5301.8032 | D37: =SUM(D38:D40) -> 7153.0766 | E37: =SUM(E38:E40) -> 7144.9895 | F37: =SUM(F38:F40) -> 4084.2873 | G37: =SUM(G38:G40) -> 2824.8596
A38: Menos de 1 salario y trab <36 horas | B38: =[1]MercLab!J286 -> 1206.466 | C38: =AVERAGE(D38:G38) -> 1854.6905 | D38: =[1]MercLab!K286 -> 3806.6732 | E38: =[1]MercLab!L286 -> 1306.7969 | F38: =[1]MercLab!M286 -> 1170.081 | G38: =[1]MercLab!N286 -> 1135.2111
A39: Menos de 1 salario y trab >=36 horas | B39: =[1]MercLab!J287 -> 2237.3254 | C39: =AVERAGE(D39:G39) -> 2647.1127 | D39: =[1]MercLab!K287 -> 3346.4034 | E39: =[1]MercLab!L287 -> 2638.1927 | F39: =[1]MercLab!M287 -> 2914.2063 | G39: =[1]MercLab!N287 -> 1689.6485
A40: Menos de 1 salario y no decl. horas | B40: =[1]MercLab!J288 -> 3200 | C40: =AVERAGE(D40:G40) -> 800 | D40: =[1]MercLab!K288 -> 0 | E40: =[1]MercLab!L288 -> 3200 | F40: =[1]MercLab!M288 -> 0 | G40: =[1]MercLab!N288 -> 0
A41: De 1 a 2 salarios | B41: =[1]MercLab!J289 -> 6633.2359 | C41: =AVERAGE(D41:G41) -> 6517.5068 | D41: =[1]MercLab!K289 -> 7287.5914 | E41: =[1]MercLab!L289 -> 6406.5588 | F41: =[1]MercLab!M289 -> 5509.84 | G41: =[1]MercLab!N289 -> 6866.0371
A42: De 2 a 3 salarios | B42: =[1]MercLab!J290 -> 12055.362 | C42: =AVERAGE(D42:G42) -> 9054.9004 | D42: =[1]MercLab!K290 -> 12303.211 | E42: =[1]MercLab!L290 -> 12317.316 | F42: =[1]MercLab!M290 -> 0 | G42: =[1]MercLab!N290 -> 11599.074
A43: De 3 a 4 salarios | B43: =[1]MercLab!J291 -> 17769.746 | C43: =AVERAGE(D43:G43) -> 13352.83 | D43: =[1]MercLab!K291 -> 18198.695 | E43: =[1]MercLab!L291 -> 17737.851 | F43: =[1]MercLab!M291 -> 0 | G43: =[1]MercLab!N291 -> 17474.775
A44: De 4 salarios y más | B44: =[1]MercLab!J292 -> 34753.533 | C44: =AVERAGE(D44:G44) -> 25411.755 | D44: =[1]MercLab!K292 -> 33132.568 | E44: =[1]MercLab!L292 -> 30387.4 | F44: =[1]MercLab!M292 -> 0 | G44: =[1]MercLab!N292 -> 38127.052
A46: Rama de Actividad
A47: Primaria | B47: =[1]MercLab!J294 -> 2097.6001 | C47: =AVERAGE(D47:G47) -> 1044.2638 | D47: =[1]MercLab!K294 -> 0 | E47: =[1]MercLab!L294 -> 2035.6069 | F47: =[1]MercLab!M294 -> 0 | G47: =[1]MercLab!N294 -> 2141.4482
A48: Secundaria | B48: =[1]MercLab!J295 -> 5811.7807 | C48: =AVERAGE(D48:G48) -> 2716.7745 | D48: =[1]MercLab!K295 -> 0 | E48: =[1]MercLab!L295 -> 6160.1667 | F48: =[1]MercLab!M295 -> 0 | G48: =[1]MercLab!N295 -> 4706.9312
A49: Terciaria | B49: =[1]MercLab!J296 -> 6391.3268 | C49: =AVERAGE(D49:G49) -> 6816.2259 | D49: =[1]MercLab!K296 -> 11791.684 | E49: =[1]MercLab!L296 -> 5599.0688 | F49: =[1]MercLab!M296 -> 3865.6616 | G49: =[1]MercLab!N296 -> 6008.489
A50: No sabe, no responde | B50: =[1]MercLab!J297 -> 5395.8461 | C50: =AVERAGE(D50:G50) -> 6847.8203 | D50: =[1]MercLab!K297 -> 18000 | E50: =[1]MercLab!L297 -> 2041.4705 | F50: =[1]MercLab!M297 -> 0 | G50: =[1]MercLab!N297 -> 7349.8107
A52: ='C01'!A42 -> Fuente: Instituto Nacional de Estadística (INE). XL Encuesta Permanente de Hogares de Propósitos Múltiples, Septiembre 2010.
A53: ='C01'!$A$43 -> El salario mínimo en el área urbana es Lps. 5,500 y en la área rural es Lps. 4,055 (Promedio de salarios mínimos por rama)
A54: 1/ No. de salarios mínimos (personas que declaran ingresos) y trabajan 36 Hrs. o mas
A56: Cuadro No. 5. Ingreso promedio de las personas ocupadas por categoría ocupacional, según dominio,
A57: nivel educativo, rango de edad, sexo, número de salarios mínimos, rama de actividad y ocupación
A58: Ocupación Principal, Lps/Mes/Persona
A59: Hombres
A60: Categorías | B60: Ingreso Promedio
B61: Ingreso Promedio | C61: Asalariados | G61: Cuenta propia
C62: Total | D62: Público | E62: Privado | F62: Doméstico
A64: Total Nacional | B64: =B9 -> 4375.048 | C64: =C9 -> 5922.7199 | D64: =D9 -> 11804.725 | E64: =E9 -> 4322.3936 | F64: =F9 -> 3865.6616 | G64: =G9 -> 3698.0993
A66: Rama de Actividad (1 Dig.)
A67: Agricultura, Silvicultura, Caza y Pesca | B67: =[1]MercLab!J300 -> 2083.4929 | C67: =AVERAGE(D67:G67) -> 1035.8772 | D67: =[1]MercLab!K300 -> 0 | E67: =[1]MercLab!L300 -> 2004.5297 | F67: =[1]MercLab!M300 -> 0 | G67: =[1]MercLab!N300 -> 2138.9791
A68: Explotación de minas y canteras | B68: =[1]MercLab!J301 -> 3590.6718 | C68: =AVERAGE(D68:G68) -> 1718.7345 | D68: =[1]MercLab!K301 -> 0 | E68: =[1]MercLab!L301 -> 4365.8806 | F68: =[1]MercLab!M301 -> 0 | G68: =[1]MercLab!N301 -> 2509.0575
A69: Industria manufacturera | B69: =[1]MercLab!J302 -> 5811.7807 | C69: =AVERAGE(D69:G69) -> 2716.7745 | D69: =[1]MercLab!K302 -> 0 | E69: =[1]MercLab!L302 -> 6160.1667 | F69: =[1]MercLab!M302 -> 0 | G69: =[1]MercLab!N302 -> 4706.9312
A70: Electricidad, gas y agua | B70: =[1]MercLab!J303 -> 7563.2294 | C70: =AVERAGE(D70:G70) -> 3860.6226 | D70: =[1]MercLab!K303 -> 9877.1927 | E70: =[1]MercLab!L303 -> 5565.2976 | F70: =[1]MercLab!M303 -> 0 | G70: =[1]MercLab!N303 -> 0
A71: Construcción | B71: =[1]MercLab!J304 -> 4589.0654 | C71: =AVERAGE(D71:G71) -> 5019.9272 | D71: =[1]MercLab!K304 -> 10522.236 | E71: =[1]MercLab!L304 -> 4187.6404 | F71: =[1]MercLab!M304 -> 0 | G71: =[1]MercLab!N304 -> 5369.8327
A72: Comercio por Mayor / menor, Hoteles / restaurantes | B72: =[1]MercLab!J305 -> 5616.1224 | C72: =AVERAGE(D72:G72) -> 2808.2153 | D72: =[1]MercLab!K305 -> 0 | E72: =[1]MercLab!L305 -> 5385.828 | F72: =[1]MercLab!M305 -> 0 | G72: =[1]MercLab!N305 -> 5847.0331
A73: Transp. almac. y comunicaciones | B73: =[1]MercLab!J306 -> 5865.1249 | C73: =AVERAGE(D73:G73) -> 6373.3174 | D73: =[1]MercLab!K306 -> 14216.267 | E73: =[1]MercLab!L306 -> 5658.674 | F73: =[1]MercLab!M306 -> 0 | G73: =[1]MercLab!N306 -> 5618.3283
A74: Estab. finac. seguros, Bienes inmuebles y servicios | B74: =[1]MercLab!J307 -> 10093.42 | C74: =AVERAGE(D74:G74) -> 10557.081 | D74: =[1]MercLab!K307 -> 20351.762 | E74: =[1]MercLab!L307 -> 8432.9317 | F74: =[1]MercLab!M307 -> 0 | G74: =[1]MercLab!N307 -> 13443.629
A75: Servicios Comunales, Sociales y Personales | B75: =[1]MercLab!J308 -> 8644.8044 | C75: =AVERAGE(D75:G75) -> 6648.7746 | D75: =[1]MercLab!K308 -> 11579.294 | E75: =[1]MercLab!L308 -> 6910.1749 | F75: =[1]MercLab!M308 -> 3865.6616 | G75: =[1]MercLab!N308 -> 4239.9681
A76: No sabe, No responde | B76: =[1]MercLab!J309 -> 5395.8461 | C76: =AVERAGE(D76:G76) -> 6847.8203 | D76: =[1]MercLab!K309 -> 18000 | E76: =[1]MercLab!L309 -> 2041.4705 | F76: =[1]MercLab!M309 -> 0 | G76: =[1]MercLab!N309 -> 7349.8107
A78: Ocupación (1 Dig.)
A79: Profesionales, Técnicos y PEOA | B79: =[1]MercLab!J312 -> 11399.022 | C79: =AVERAGE(D79:G79) -> 8542.4087 | D79: =[1]MercLab!K312 -> 14991.679 | E79: =[1]MercLab!L312 -> 9742.9109 | F79: =[1]MercLab!M312 -> 0 | G79: =[1]MercLab!N312 -> 9435.045
A80: Directores Gerentes y Administ. Grales. | B80: =[1]MercLab!J313 -> 11588.589 | C80: =AVERAGE(D80:G80) -> 8877.6665 | D80: =[1]MercLab!K313 -> 13024.674 | E80: =[1]MercLab!L313 -> 10395.628 | F80: =[1]MercLab!M313 -> 0 | G80: =[1]MercLab!N313 -> 12090.364
A81: Empleados de Oficina | B81: =[1]MercLab!J314 -> 7229.898 | C81: =AVERAGE(D81:G81) -> 5411.7265 | D81: =[1]MercLab!K314 -> 11460.144 | E81: =[1]MercLab!L314 -> 6948.0062 | F81: =[1]MercLab!M314 -> 0 | G81: =[1]MercLab!N314 -> 3238.7562
A82: Comerciantes y Vendedores | B82: =[1]MercLab!J315 -> 5961.3481 | C82: =AVERAGE(D82:G82) -> 4243.2774 | D82: =[1]MercLab!K315 -> 5000 | E82: =[1]MercLab!L315 -> 6104.0126 | F82: =[1]MercLab!M315 -> 0 | G82: =[1]MercLab!N315 -> 5869.0971
A83: Agricultores, Ganaderos y Trab. Agrop. | B83: =[1]MercLab!J316 -> 1955.6207 | C83: =AVERAGE(D83:G83) -> 1703.9896 | D83: =[1]MercLab!K316 -> 3000 | E83: =[1]MercLab!L316 -> 1682.0717 | F83: =[1]MercLab!M316 -> 0 | G83: =[1]MercLab!N316 -> 2133.8868
A84: Conductores de Transporte | B84: =[1]MercLab!J317 -> 6015.9507 | C84: =AVERAGE(D84:G84) -> 6453.9704 | D84: =[1]MercLab!K317 -> 8281.1758 | E84: =[1]MercLab!L317 -> 6140.839 | F84: =[1]MercLab!M317 -> 5659.699 | G84: =[1]MercLab!N317 -> 5734.1679
A85: Trab. Ind. Textil, Albañilería, Mecánica, etc. | B85: =[1]MercLab!J318 -> 4709.3673 | C85: =AVERAGE(D85:G85) -> 4322.6856 | D85: =[1]MercLab!K318 -> 7923.4571 | E85: =[1]MercLab!L318 -> 4570.9528 | F85: =[1]MercLab!M318 -> 0 | G85: =[1]MercLab!N318 -> 4796.3326
A86: Trab. Area Grafica, Quim., Alimentos, etc. | B86: =[1]MercLab!J319 -> 3459.9742 | C86: =AVERAGE(D86:G86) -> 1669.3346 | D86: =[1]MercLab!K319 -> 0 | E86: =[1]MercLab!L319 -> 3723.8869 | F86: =[1]MercLab!M319 -> 0 | G86: =[1]MercLab!N319 -> 2953.4514
A87: Operador de Carga y Almacenaje | B87: =[1]MercLab!J320 -> 4097.4958 | C87: =AVERAGE(D87:G87) -> 3486.7123 | D87: =[1]MercLab!K320 -> 5304.3315 | E87: =[1]MercLab!L320 -> 4555.6172 | F87: =[1]MercLab!M320 -> 1660 | G87: =[1]MercLab!N320 -> 2426.9004
A88: Ocupación de los Servicios | B88: =[1]MercLab!J321 -> 5451.5959 | C88: =AVERAGE(D88:G88) -> 5063.7302 | D88: =[1]MercLab!K321 -> 8262.6633 | E88: =[1]MercLab!L321 -> 5612.715 | F88: =[1]MercLab!M321 -> 3692.0967 | G88: =[1]MercLab!N321 -> 2687.4457
A89: No sabe, No responde | B89: =[1]MercLab!J322 -> 4069.1202 | C89: =AVERAGE(D89:G89) -> 4441.4945 | D89: =[1]MercLab!K322 -> 10049.768 | E89: =[1]MercLab!L322 -> 4217.0214 | F89: =[1]MercLab!M322 -> 0 | G89: =[1]MercLab!N322 -> 3499.1889
A91: =A52 -> Fuente: Instituto Nacional de Estadística (INE). XL Encuesta Permanente de Hogares de Propósitos Múltiples, Septiembre 2010.
A92: ='C01'!$A$43 -> El salario mínimo en el área urbana es Lps. 5,500 y en la área rural es Lps. 4,055 (Promedio de salarios mínimos por rama)

Sheet C04
A1: Cuadro No. 6. Años de estudio promedio de las personas ocupadas por categoría ocupacional, según dominio, nivel educativo,
A2: rangos de edad, sexo, número de salarios mínimos devengados, rama de actividad y ocupación
A3: Ocupación Principal
A4: Hombres
A5: Categorías | B5: Declaran Ingresos | C5: Asalariados | G5: Cuenta Propia | H5: Trab. Fam. no Remu. | I5: No Declaran.
C6: Total | D6: Público | E6: Privado | F6: Doméstico
A8: Total Nacional | B8: =[1]MercLab!J335 -> 6.6767157 | C8: =AVERAGE(D8:H8) -> 5.9380402 | D8: =[1]MercLab!K335 -> 11.554776 | E8: =[1]MercLab!L335 -> 6.9020496 | F8: =[1]MercLab!M335 -> 5.3876541 | G8: =[1]MercLab!N335 -> 5.8457209 | H8: =[1]MercLab!O335 -> 0 | I8: =[1]MercLab!P335 -> 0
A10: Dominios | H10: =[1]MercLab!O336 -> 0 | I10: =[1]MercLab!P336 -> 0
A11: Urbano | B11: =AVERAGE(B12:B14) -> 8.6477983 | C11: =AVERAGE(C12:C14) -> 6.9684193 | D11: =AVERAGE(D12:D14) -> 12.147631 | E11: =AVERAGE(E12:E14) -> 8.5887727 | F11: =AVERAGE(F12:F14) -> 6.1580637 | G11: =AVERAGE(G12:G14) -> 7.9476289 | H11: =AVERAGE(H12:H14) -> 0 | I11: =AVERAGE(I12:I14) -> 0
A12: Distrito Central | B12: =[1]MercLab!J337 -> 9.2932322 | C12: =AVERAGE(D12:H12) -> 7.5386405 | D12: =[1]MercLab!K337 -> 12.474561 | E12: =[1]MercLab!L337 -> 9.3767093 | F12: =[1]MercLab!M337 -> 8 | G12: =[1]MercLab!N337 -> 7.8419319 | H12: =[1]MercLab!O337 -> 0 | I12: =[1]MercLab!P337 -> 0
A13: San Pedro Sula | B13: =[1]MercLab!J338 -> 9.0340703 | C13: =AVERAGE(D13:H13) -> 7.3099991 | D13: =[1]MercLab!K338 -> 12.772586 | E13: =[1]MercLab!L338 -> 8.9077527 | F13: =[1]MercLab!M338 -> 6 | G13: =[1]MercLab!N338 -> 8.8696574 | H13: =[1]MercLab!O338 -> 0 | I13: =[1]MercLab!P338 -> 0
A14: Resto urbano | B14: =[1]MercLab!J339 -> 7.6160923 | C14: =AVERAGE(D14:H14) -> 6.0566182 | D14: =[1]MercLab!K339 -> 11.195747 | E14: =[1]MercLab!L339 -> 7.4818561 | F14: =[1]MercLab!M339 -> 4.474191 | G14: =[1]MercLab!N339 -> 7.1312974 | H14: =[1]MercLab!O339 -> 0 | I14: =[1]MercLab!P339 -> 0
A15: Rural | B15: =[1]MercLab!J340 -> 5.2142271 | C15: =AVERAGE(D15:H15) -> 5.129423 | D15: =[1]MercLab!K340 -> 10.296928 | E15: =[1]MercLab!L340 -> 5.531272 | F15: =[1]MercLab!M340 -> 5.125 | G15: =[1]MercLab!N340 -> 4.6939145 | H15: =[1]MercLab!O340 -> 0 | I15: =[1]MercLab!P340 -> 0
A17: Nivel Educativo
A18: Sin Nivel | B18: =[1]MercLab!J342 -> 0 | C18: =AVERAGE(D18:H18) -> 0 | D18: =[1]MercLab!K342 -> 0 | E18: =[1]MercLab!L342 -> 0 | F18: =[1]MercLab!M342 -> 0 | G18: =[1]MercLab!N342 -> 0 | H18: =[1]MercLab!O342 -> 0 | I18: =[1]MercLab!P342 -> 0
A19: Primaria | B19: =[1]MercLab!J343 -> 4.5258285 | C19: =AVERAGE(D19:H19) -> 3.74458 | D19: =[1]MercLab!K343 -> 5.1839223 | E19: =[1]MercLab!L343 -> 4.7383013 | F19: =[1]MercLab!M343 -> 4.5114403 | G19: =[1]MercLab!N343 -> 4.289236 | H19: =[1]MercLab!O343 -> 0 | I19: =[1]MercLab!P343 -> 0
A20: Secundaria | B20: =[1]MercLab!J344 -> 9.9877537 | C20: =AVERAGE(D20:H20) -> 7.7075005 | D20: =[1]MercLab!K344 -> 10.699393 | E20: =[1]MercLab!L344 -> 9.9025283 | F20: =[1]MercLab!M344 -> 7.9393198 | G20: =[1]MercLab!N344 -> 9.9962614 | H20: =[1]MercLab!O344 -> 0 | I20: =[1]MercLab!P344 -> 0
A21: Superior | B21: =[1]MercLab!J345 -> 15.400776 | C21: =AVERAGE(D21:H21) -> 9.3533687 | D21: =[1]MercLab!K345 -> 15.919888 | E21: =[1]MercLab!L345 -> 14.860775 | F21: =[1]MercLab!M345 -> 0 | G21: =[1]MercLab!N345 -> 15.98618 | H21: =[1]MercLab!O345 -> 0 | I21: =[1]MercLab!P345 -> 0
A22: No sabe, no responde | B22: =[1]MercLab!J346 -> 15 | C22: =AVERAGE(D22:H22) -> 3 | D22: =[1]MercLab!K346 -> 15 | E22: =[1]MercLab!L346 -> 0 | F22: =[1]MercLab!M346 -> 0 | G22: =[1]MercLab!N346 -> 0 | H22: =[1]MercLab!O346 -> 0 | I22: =[1]MercLab!P346 -> 0
A24: Rango de Edad
A25: De 10 a 11 años | B25: =[1]MercLab!J348 -> 3.0055859 | C25: =AVERAGE(D25:H25) -> 1.2158803 | D25: =[1]MercLab!K348 -> 0 | E25: =[1]MercLab!L348 -> 2.7088871 | F25: =[1]MercLab!M348 -> 0 | G25: =[1]MercLab!N348 -> 3.3705144 | H25: =[1]MercLab!O348 -> 0 | I25: =[1]MercLab!P348 -> 0
A26: De 12 a 14 años | B26: =[1]MercLab!J349 -> 4.8276263 | C26: =AVERAGE(D26:H26) -> 1.9172934 | D26: =[1]MercLab!K349 -> 0 | E26: =[1]MercLab!L349 -> 4.8578199 | F26: =[1]MercLab!M349 -> 0 | G26: =[1]MercLab!N349 -> 4.728647 | H26: =[1]MercLab!O349 -> 0 | I26: =[1]MercLab!P349 -> 0
A27: De 15 a 18 años | B27: =[1]MercLab!J350 -> 6.0230501 | C27: =AVERAGE(D27:H27) -> 3.5814659 | D27: =[1]MercLab!K350 -> 0 | E27: =[1]MercLab!L350 -> 6.0580128 | F27: =[1]MercLab!M350 -> 6 | G27: =[1]MercLab!N350 -> 5.8493165 | H27: =[1]MercLab!O350 -> 0 | I27: =[1]MercLab!P350 -> 0
A28: De 19 a 24 años | B28: =[1]MercLab!J351 -> 7.3945423 | C28: =AVERAGE(D28:H28) -> 7.0158322 | D28: =[1]MercLab!K351 -> 11.860207 | E28: =[1]MercLab!L351 -> 7.4569462 | F28: =[1]MercLab!M351 -> 9 | G28: =[1]MercLab!N351 -> 6.7620079 | H28: =[1]MercLab!O351 -> 0 | I28: =[1]MercLab!P351 -> 0
A29: De 25 a 29 años | B29: =[1]MercLab!J352 -> 7.5679659 | C29: =AVERAGE(D29:H29) -> 6.0133694 | D29: =[1]MercLab!K352 -> 11.8158 | E29: =[1]MercLab!L352 -> 7.6422649 | F29: =[1]MercLab!M352 -> 3.5979982 | G29: =[1]MercLab!N352 -> 7.0107837 | H29: =[1]MercLab!O352 -> 0 | I29: =[1]MercLab!P352 -> 0
A30: De 30 a 35 años | B30: =[1]MercLab!J353 -> 7.4835358 | C30: =AVERAGE(D30:H30) -> 5.8875765 | D30: =[1]MercLab!K353 -> 12.705288 | E30: =[1]MercLab!L353 -> 7.5611665 | F30: =[1]MercLab!M353 -> 2.3823262 | G30: =[1]MercLab!N353 -> 6.7891021 | H30: =[1]MercLab!O353 -> 0 | I30: =[1]MercLab!P353 -> 0
A31: De 36 a 44 años | B31: =[1]MercLab!J354 -> 6.6589662 | C31: =AVERAGE(D31:H31) -> 6.3694384 | D31: =[1]MercLab!K354 -> 11.913969 | E31: =[1]MercLab!L354 -> 6.6718563 | F31: =[1]MercLab!M354 -> 7.384472 | G31: =[1]MercLab!N354 -> 5.8768945 | H31: =[1]MercLab!O354 -> 0 | I31: =[1]MercLab!P354 -> 0
A32: De 45 a 59 años | B32: =[1]MercLab!J355 -> 6.2017451 | C32: =AVERAGE(D32:H32) -> 5.8231459 | D32: =[1]MercLab!K355 -> 11.371614 | E32: =[1]MercLab!L355 -> 6.1583886 | F32: =[1]MercLab!M355 -> 6.1529204 | G32: =[1]MercLab!N355 -> 5.4328064 | H32: =[1]MercLab!O355 -> 0 | I32: =[1]MercLab!P355 -> 0
A33: De 60 años y más | B33: =[1]MercLab!J356 -> 4.7422263 | C33: =AVERAGE(D33:H33) -> 4.6573728 | D33: =[1]MercLab!K356 -> 9.1480296 | E33: =[1]MercLab!L356 -> 5.2377658 | F33: =[1]MercLab!M356 -> 4.5751332 | G33: =[1]MercLab!N356 -> 4.3259354 | H33: =[1]MercLab!O356 -> 0 | I33: =[1]MercLab!P356 -> 0
A35: No. de Salarios Mínimos 1/
A36: Menos de un salario | B36: =AVERAGE(B37:B39) -> 7.3268576 | C36: =AVERAGE(D36:H36) -> 3.8958749 | D36: =AVERAGE(D37:D39) -> 5.9562261 | E36: =AVERAGE(E37:E39) -> 7.4843901 | F36: =AVERAGE(F37:F39) -> 2.5548275 | G36: =AVERAGE(G37:G39) -> 3.4839311 | H36: =AVERAGE(H37:H39) -> 0 | I36: =AVERAGE(I37:I39) -> 0
A37: Menos de 1 salario y trab <36 horas | B37: =[1]MercLab!J361 -> 5.2815823 | C37: =AVERAGE(D37:H37) -> 4.4433719 | D37: =[1]MercLab!K361 -> 9.5756292 | E37: =[1]MercLab!L361 -> 5.5862693 | F37: =[1]MercLab!M361 -> 2 | G37: =[1]MercLab!N361 -> 5.0549607 | H37: =[1]MercLab!O361 -> 0 | I37: =[1]MercLab!P361 -> 0
A38: Menos de 1 salario y trab >=36 horas | B38: =[1]MercLab!J362 -> 5.6989906 | C38: =AVERAGE(D38:H38) -> 5.044253 | D38: =[1]MercLab!K362 -> 8.293049 | E38: =[1]MercLab!L362 -> 5.8669009 | F38: =[1]MercLab!M362 -> 5.6644825 | G38: =[1]MercLab!N362 -> 5.3968325 | H38: =[1]MercLab!O362 -> 0 | I38: =[1]MercLab!P362 -> 0
A39: Menos de 1 salario y no decl. horas | B39: =[1]MercLab!J363 -> 11 | C39: =AVERAGE(D39:H39) -> 2.2 | D39: =[1]MercLab!K363 -> 0 | E39: =[1]MercLab!L363 -> 11 | F39: =[1]MercLab!M363 -> 0 | G39: =[1]MercLab!N363 -> 0 | H39: =[1]MercLab!O363 -> 0 | I39: =[1]MercLab!P363 -> 0
A40: De 1 a 2 salarios | B40: =[1]MercLab!J364 -> 7.86166 | C40: =AVERAGE(D40:H40) -> 6.0460121 | D40: =[1]MercLab!K364 -> 9.8615576 | E40: =[1]MercLab!L364 -> 8.033166 | F40: =[1]MercLab!M364 -> 5.3730385 | G40: =[1]MercLab!N364 -> 6.9622982 | H40: =[1]MercLab!O364 -> 0 | I40: =[1]MercLab!P364 -> 0
A41: De 2 a 3 salarios | B41: =[1]MercLab!J365 -> 10.12613 | C41: =AVERAGE(D41:H41) -> 6.301843 | D41: =[1]MercLab!K365 -> 12.864761 | E41: =[1]MercLab!L365 -> 10.76865 | F41: =[1]MercLab!M365 -> 0 | G41: =[1]MercLab!N365 -> 7.8758038 | H41: =[1]MercLab!O365 -> 0 | I41: =[1]MercLab!P365 -> 0
A42: De 3 a 4 salarios | B42: =[1]MercLab!J366 -> 12.113674 | C42: =AVERAGE(D42:H42) -> 7.3747842 | D42: =[1]MercLab!K366 -> 14.815315 | E42: =[1]MercLab!L366 -> 12.801934 | F42: =[1]MercLab!M366 -> 0 | G42: =[1]MercLab!N366 -> 9.2566721 | H42: =[1]MercLab!O366 -> 0 | I42: =[1]MercLab!P366 -> 0
A43: De 4 salarios y más | B43: =[1]MercLab!J367 -> 12.545883 | C43: =AVERAGE(D43:H43) -> 7.9861626 | D43: =[1]MercLab!K367 -> 15.972262 | E43: =[1]MercLab!L367 -> 14.082137 | F43: =[1]MercLab!M367 -> 0 | G43: =[1]MercLab!N367 -> 9.8764133 | H43: =[1]MercLab!O367 -> 0 | I43: =[1]MercLab!P367 -> 0
A45: Rama de Actividad
A46: Primaria | B46: =[1]MercLab!J369 -> 4.6717052 | C46: =AVERAGE(D46:H46) -> 1.8811729 | D46: =[1]MercLab!K369 -> 0 | E46: =[1]MercLab!L369 -> 4.9390385 | F46: =[1]MercLab!M369 -> 0 | G46: =[1]MercLab!N369 -> 4.4668262 | H46: =[1]MercLab!O369 -> 0 | I46: =[1]MercLab!P369 -> 0
A47: Secundaria | B47: =[1]MercLab!J370 -> 7.7176467 | C47: =AVERAGE(D47:H47) -> 2.9804785 | D47: =[1]MercLab!K370 -> 0 | E47: =[1]MercLab!L370 -> 7.945132 | F47: =[1]MercLab!M370 -> 0 | G47: =[1]MercLab!N370 -> 6.9572604 | H47: =[1]MercLab!O370 -> 0 | I47: =[1]MercLab!P370 -> 0
A48: Terciaria | B48: =[1]MercLab!J371 -> 8.0853902 | C48: =AVERAGE(D48:H48) -> 6.4471238 | D48: =[1]MercLab!K371 -> 11.542737 | E48: =[1]MercLab!L371 -> 7.8895509 | F48: =[1]MercLab!M371 -> 5.3876541 | G48: =[1]MercLab!N371 -> 7.4156767 | H48: =[1]MercLab!O371 -> 0 | I48: =[1]MercLab!P371 -> 0
A49: No sabe, no responde | B49: =[1]MercLab!J372 -> 7.3638064 | C49: =AVERAGE(D49:H49) -> 6.0574816 | D49: =[1]MercLab!K372 -> 17 | E49: =[1]MercLab!L372 -> 8.586397 | F49: =[1]MercLab!M372 -> 0 | G49: =[1]MercLab!N372 -> 4.7010112 | H49: =[1]MercLab!O372 -> 0 | I49: =[1]MercLab!P372 -> 0
A51: ='C01'!A42 -> Fuente: Instituto Nacional de Estadística (INE). XL Encuesta Permanente de Hogares de Propósitos Múltiples, Septiembre 2010.
A52: ='C01'!A43 -> El salario mínimo en el área urbana es Lps. 5,500 y en la área rural es Lps. 4,055 (Promedio de salarios mínimos por rama)
A53: 1/ No. de salarios mínimos (personas que declaran ingresos) y trabajan 36 Hrs. o mas
A55: Cuadro No. 6. Años de estudio promedio de las personas ocupadas por categoría ocupacional, según dominio, nivel educativo,
A56: rangos de edad, sexo, número de salarios mínimos devengados, rama de actividad y ocupación
A57: Ocupación Principal
A58: Hombres
A59: Categorías | B59: Declaran Ingresos | C59: Asalariados | G59: Cuenta Propia | H59: Trab. Fam. no Remu. | I59: No Declaran.
C60: Total | D60: Público | E60: Privado | F60: Doméstico | I60: Media
A62: Total Nacional | B62: =B8 -> 6.6767157 | C62: =C8 -> 5.9380402 | D62: =D8 -> 11.554776 | E62: =E8 -> 6.9020496 | F62: =F8 -> 5.3876541 | G62: =G8 -> 5.8457209 | H62: =H8 -> 0 | I62: =I8 -> 0
A64: Rama de Actividad (1 dig.)
A65: Agricultura, Silvicultura, Caza y Pesca | B65: =[1]MercLab!J375 -> 4.6597787 | C65: =AVERAGE(D65:H65) -> 1.8762569 | D65: =[1]MercLab!K375 -> 0 | E65: =[1]MercLab!L375 -> 4.9160255 | F65: =[1]MercLab!M375 -> 0 | G65: =[1]MercLab!N375 -> 4.4652591 | H65: =[1]MercLab!O375 -> 0 | I65: =[1]MercLab!P375 -> 0
A66: Explotación de minas y canteras | B66: =[1]MercLab!J376 -> 5.6925878 | C66: =AVERAGE(D66:H66) -> 2.1909575 | D66: =[1]MercLab!K376 -> 0 | E66: =[1]MercLab!L376 -> 6.2795349 | F66: =[1]MercLab!M376 -> 0 | G66: =[1]MercLab!N376 -> 4.6752528 | H66: =[1]MercLab!O376 -> 0 | I66: =[1]MercLab!P376 -> 0
A67: Industria manufacturera | B67: =[1]MercLab!J377 -> 7.7176467 | C67: =AVERAGE(D67:H67) -> 2.9804785 | D67: =[1]MercLab!K377 -> 0 | E67: =[1]MercLab!L377 -> 7.945132 | F67: =[1]MercLab!M377 -> 0 | G67: =[1]MercLab!N377 -> 6.9572604 | H67: =[1]MercLab!O377 -> 0 | I67: =[1]MercLab!P377 -> 0
A68: Electricidad, gas y agua | B68: =[1]MercLab!J378 -> 8.6693256 | C68: =AVERAGE(D68:H68) -> 3.5207048 | D68: =[1]MercLab!K378 -> 10.608709 | E68: =[1]MercLab!L378 -> 6.994815 | F68: =[1]MercLab!M378 -> 0 | G68: =[1]MercLab!N378 -> 0 | H68: =[1]MercLab!O378 -> 0 | I68: =[1]MercLab!P378 -> 0
A69: Construcción | B69: =[1]MercLab!J379 -> 6.2214307 | C69: =AVERAGE(D69:H69) -> 4.2724029 | D69: =[1]MercLab!K379 -> 8.9223599 | E69: =[1]MercLab!L379 -> 6.1976733 | F69: =[1]MercLab!M379 -> 0 | G69: =[1]MercLab!N379 -> 6.2419813 | H69: =[1]MercLab!O379 -> 0 | I69: =[1]MercLab!P379 -> 0
A70: Comercio por Mayor / menor, Hoteles / restaurantes | B70: =[1]MercLab!J380 -> 7.7326831 | C70: =AVERAGE(D70:H70) -> 3.0880759 | D70: =[1]MercLab!K380 -> 0 | E70: =[1]MercLab!L380 -> 8.0543217 | F70: =[1]MercLab!M380 -> 0 | G70: =[1]MercLab!N380 -> 7.3860579 | H70: =[1]MercLab!O380 -> 0 | I70: =[1]MercLab!P380 -> 0
A71: Transp. almac. y comunicaciones | B71: =[1]MercLab!J381 -> 7.4573948 | C71: =AVERAGE(D71:H71) -> 4.6560168 | D71: =[1]MercLab!K381 -> 8.3359113 | E71: =[1]MercLab!L381 -> 7.8135773 | F71: =[1]MercLab!M381 -> 0 | G71: =[1]MercLab!N381 -> 7.1305956 | H71: =[1]MercLab!O381 -> 0 | I71: =[1]MercLab!P381 -> 0
A72: Estab. finac. seguros, Bienes inmuebles y servicios | B72: =[1]MercLab!J382 -> 10.377951 | C72: =AVERAGE(D72:H72) -> 7.1987385 | D72: =[1]MercLab!K382 -> 14.598602 | E72: =[1]MercLab!L382 -> 9.6740364 | F72: =[1]MercLab!M382 -> 0 | G72: =[1]MercLab!N382 -> 11.721055 | H72: =[1]MercLab!O382 -> 0 | I72: =[1]MercLab!P382 -> 0
A73: Servicios Comunales, Sociales y Personales | B73: =[1]MercLab!J383 -> 10.20478 | C73: =AVERAGE(D73:H73) -> 6.9067109 | D73: =[1]MercLab!K383 -> 11.664815 | E73: =[1]MercLab!L383 -> 9.8724978 | F73: =[1]MercLab!M383 -> 5.3876541 | G73: =[1]MercLab!N383 -> 7.6085877 | H73: =[1]MercLab!O383 -> 0 | I73: =[1]MercLab!P383 -> 0
A74: No sabe, No responde | B74: =[1]MercLab!J384 -> 7.3638064 | C74: =AVERAGE(D74:H74) -> 6.0574816 | D74: =[1]MercLab!K384 -> 17 | E74: =[1]MercLab!L384 -> 8.586397 | F74: =[1]MercLab!M384 -> 0 | G74: =[1]MercLab!N384 -> 4.7010112 | H74: =[1]MercLab!O384 -> 0 | I74: =[1]MercLab!P384 -> 0
A76: Ocupación a (1 Dig.)
A77: Profesionales, Técnicos y PEOA | B77: =[1]MercLab!J387 -> 12.684098 | C77: =AVERAGE(D77:H77) -> 7.5263491 | D77: =[1]MercLab!K387 -> 14.145148 | E77: =[1]MercLab!L387 -> 12.302717 | F77: =[1]MercLab!M387 -> 0 | G77: =[1]MercLab!N387 -> 11.183881 | H77: =[1]MercLab!O387 -> 0 | I77: =[1]MercLab!P387 -> 0
A78: Directores Gerentes y Administ. Grales. | B78: =[1]MercLab!J388 -> 10.24291 | C78: =AVERAGE(D78:H78) -> 6.4322074 | D78: =[1]MercLab!K388 -> 12.589207 | E78: =[1]MercLab!L388 -> 10.421424 | F78: =[1]MercLab!M388 -> 0 | G78: =[1]MercLab!N388 -> 9.150406 | H78: =[1]MercLab!O388 -> 0 | I78: =[1]MercLab!P388 -> 0
A79: Empleados de Oficina | B79: =[1]MercLab!J389 -> 10.383319 | C79: =AVERAGE(D79:H79) -> 5.9448607 | D79: =[1]MercLab!K389 -> 11.818244 | E79: =[1]MercLab!L389 -> 10.432344 | F79: =[1]MercLab!M389 -> 0 | G79: =[1]MercLab!N389 -> 7.4737159 | H79: =[1]MercLab!O389 -> 0 | I79: =[1]MercLab!P389 -> 0
A80: Comerciantes y Vendedores | B80: =[1]MercLab!J390 -> 7.8644622 | C80: =AVERAGE(D80:H80) -> 4.9845445 | D80: =[1]MercLab!K390 -> 9 | E80: =[1]MercLab!L390 -> 8.5610063 | F80: =[1]MercLab!M390 -> 0 | G80: =[1]MercLab!N390 -> 7.3617162 | H80: =[1]MercLab!O390 -> 0 | I80: =[1]MercLab!P390 -> 0
A81: Agricultores, Ganaderos y Trab. Agrop. | B81: =[1]MercLab!J391 -> 4.5982903 | C81: =AVERAGE(D81:H81) -> 3.0502916 | D81: =[1]MercLab!K391 -> 6 | E81: =[1]MercLab!L391 -> 4.7898666 | F81: =[1]MercLab!M391 -> 0 | G81: =[1]MercLab!N391 -> 4.4615917 | H81: =[1]MercLab!O391 -> 0 | I81: =[1]MercLab!P391 -> 0
A82: Conductores de Transporte | B82: =[1]MercLab!J392 -> 6.8456548 | C82: =AVERAGE(D82:H82) -> 5.5205826 | D82: =[1]MercLab!K392 -> 8.4000903 | E82: =[1]MercLab!L392 -> 6.4833354 | F82: =[1]MercLab!M392 -> 5.7706857 | G82: =[1]MercLab!N392 -> 6.9488017 | H82: =[1]MercLab!O392 -> 0 | I82: =[1]MercLab!P392 -> 0
A83: Trab. Ind. Textil, Albañilería, Mecánica, etc. | B83: =[1]MercLab!J393 -> 6.8647477 | C83: =AVERAGE(D83:H83) -> 4.3791308 | D83: =[1]MercLab!K393 -> 8.3036048 | E83: =[1]MercLab!L393 -> 6.9046466 | F83: =[1]MercLab!M393 -> 0 | G83: =[1]MercLab!N393 -> 6.6874027 | H83: =[1]MercLab!O393 -> 0 | I83: =[1]MercLab!P393 -> 0
A84: Trab. Area Grafica, Quim., Alimentos, etc. | B84: =[1]MercLab!J394 -> 6.1466801 | C84: =AVERAGE(D84:H84) -> 2.4322553 | D84: =[1]MercLab!K394 -> 0 | E84: =[1]MercLab!L394 -> 6.2863057 | F84: =[1]MercLab!M394 -> 0 | G84: =[1]MercLab!N394 -> 5.8749711 | H84: =[1]MercLab!O394 -> 0 | I84: =[1]MercLab!P394 -> 0
A85: Operador de Carga y Almacenaje | B85: =[1]MercLab!J395 -> 7.0046492 | C85: =AVERAGE(D85:H85) -> 4.0781069 | D85: =[1]MercLab!K395 -> 7.4773801 | E85: =[1]MercLab!L395 -> 7.3575066 | F85: =[1]MercLab!M395 -> 0 | G85: =[1]MercLab!N395 -> 5.5556478 | H85: =[1]MercLab!O395 -> 0 | I85: =[1]MercLab!P395 -> 0
A86: Ocupación de los Servicios | B86: =[1]MercLab!J396 -> 6.268741 | C86: =AVERAGE(D86:H86) -> 4.8684449 | D86: =[1]MercLab!K396 -> 7.5766178 | E86: =[1]MercLab!L396 -> 6.3119031 | F86: =[1]MercLab!M396 -> 5.3150516 | G86: =[1]MercLab!N396 -> 5.1386521 | H86: =[1]MercLab!O396 -> 0 | I86: =[1]MercLab!P396 -> 0
A87: No sabe, No responde | B87: =[1]MercLab!J397 -> 7.1082879 | C87: =AVERAGE(D87:H87) -> 5.5463284 | D87: =[1]MercLab!K397 -> 13.819907 | E87: =[1]MercLab!L397 -> 7.0356449 | F87: =[1]MercLab!M397 -> 0 | G87: =[1]MercLab!N397 -> 6.8760899 | H87: =[1]MercLab!O397 -> 0 | I87: =[1]MercLab!P397 -> 0
A89: ='C01'!A42 -> Fuente: Instituto Nacional de Estadística (INE). XL Encuesta Permanente de Hogares de Propósitos Múltiples, Septiembre 2010.
A90: ='C01'!A43 -> El salario mínimo en el área urbana es Lps. 5,500 y en la área rural es Lps. 4,055 (Promedio de salarios mínimos por rama)
A91: =A53 -> 1/ No. de salarios mínimos (personas que declaran ingresos) y trabajan 36 Hrs. o mas

Sheet C05
A1: Cuadro No. 2. Tasa de Desempleo Abierto (TDA) de la Población en Edad de Trabajar (PET) y Población Económicamente Activa (PEA), | S1: Cuadro No. 2. Tasa de Desempleo Abierto (TDA) de la Población en Edad de Trabajar (PET) y Población Económicamente Activa (PEA),
A2: según dominio, nivel educativo, rango de edad, sexo, rama de actividad y ocupación | S2: según dominio, nivel educativo, rango de edad, sexo, rama de actividad y ocupación
A3: Mujeres | S3: Mujeres
A4: Categorías | B4: Población Total | E4: Población en Edad de Trabajar (PET) | H4: Población Económicamente Activa (PEA) | Q4: TDA | R4: MBT | S4: Categorías | T4: Población Económicamente Activa (PEA) | AC4: TDA | AD4: MBT
H5: Total | K5: Ocupados | N5: Desocupados | T5: Total | W5: Ocupados | Z5: Desocupados
B6: No. | C6: % 1/ | D6: AEP | E6: No. | F6: % 1/ | G6: AEP | H6: No. | I6: % 1/ | J6: AEP | K6: No. | L6: % 1/ | M6: AEP | N6: No. | O6: % 1/ | P6: AEP | T6: No. | U6: % 1/ | V6: AEP | W6: No. | X6: % 1/ | Y6: AEP | Z6: No. | AA6: % 1/ | AB6: AEP
A8: Total Nacional | B8: =[1]MercLab!Y48 -> 4154775.9 | C8: =SUM(C11,C15) -> 100 | D8: =[1]MercLab!Z48 -> 6.3043092 | E8: =[1]MercLab!AA48 -> 3328547.7 | F8: =SUM(F11,F15) -> 100 | G8: =[1]MercLab!AB48 -> 6.8282182 | H8: =[1]MercLab!AC48 -> 1274766.5 | I8: =SUM(I11,I15) -> 100 | J8: =[1]MercLab!AD48 -> 7.8351746 | K8: =[1]MercLab!AE48 -> 1205405.4 | L8: =SUM(L11,L15) -> 100 | M8: =[1]MercLab!AF48 -> 7.711099 | N8: =[1]MercLab!AG48 -> 69361.062 | O8: =SUM(O11,O15) -> 100 | P8: =[1]MercLab!AH48 -> 9.8362058 | Q8: =IF(ISNUMBER(N8/H8*100),N8/H8*100,0) -> 5.4410799 | R8: =[1]MercLab!AI48 -> 4.8246127 | S8: Total Nacional | T8: =H8 -> 1274766.5 | U8: =I8 -> 100 | V8: =J8 -> 7.8351746 | W8: =K8 -> 1205405.4 | X8: =L8 -> 100 | Y8: =M8 -> 7.711099 | Z8: =N8 -> 69361.062 | AA8: =O8 -> 100 | ... AD8: =R8 -> 4.8246127
A10: Dominio | S10: Rama de Actividad (1 Dig.)
A11: Urbano | B11: =SUM(B12:B14) -> 1986534.1 | C11: =IF(ISNUMBER(B11/B$8*100),B11/B$8*100,0) -> 47.813265 | D11: =AVERAGE(D12:D14) -> 7.792619 | E11: =SUM(E12:E14) -> 1641501.7 | F11: =IF(ISNUMBER(E11/E$8*100),E11/E$8*100,0) -> 49.315853 | G11: =AVERAGE(G12:G14) -> 8.2965159 | H11: =SUM(H12:H14) -> 738440.72 | I11: =IF(ISNUMBER(H11/H$8*100),H11/H$8*100,0) -> 57.927529 | J11: =AVERAGE(J12:J14) -> 9.1086604 | K11: =SUM(K12:K14) -> 690020.26 | L11: =IF(ISNUMBER(K11/K$8*100),K11/K$8*100,0) -> 57.243832 | M11: =AVERAGE(M12:M14) -> 9.0200991 | N11: =SUM(N12:N14) -> 48420.461 | O11: =IF(ISNUMBER(N11/N$8*100),N11/N$8*100,0) -> 69.809284 | P11: =AVERAGE(P12:P14) -> 10.336235 | Q11: =IF(ISNUMBER(N11/H11*100),N11/H11*100,0) -> 6.5571223 | R11: =AVERAGE(R12:R14) -> 4.2232011 | S11: Agricultura, Silvicultura, Caza y Pesca | T11: =[1]MercLab!AC79 -> 146233.33 | U11: =IF(ISNUMBER(T11/T$8*100),T11/T$8*100,0) -> 11.471382 | V11: =[1]MercLab!AD79 -> 4.8094761 | W11: =[1]MercLab!AE79 -> 143528.29 | X11: =IF(ISNUMBER(W11/W$8*100),W11/W$8*100,0) -> 11.907055 | Y11: =[1]MercLab!AF79 -> 4.8152594 | Z11: =[1]MercLab!AG79 -> 2705.0423 | AA11: =IF(ISNUMBER(Z11/Z$8*100),Z11/Z$8*100,0) -> 3.8999436 | AB11: =[1]MercLab!AH79 -> 4.4427805 | AC11: =IF(ISNUMBER(Z11/T11*100),Z11/T11*100,0) -> 1.8498124 | AD11: =[1]MercLab!AI79 -> 2.0990198
A12: Distrito Central | B12: =[1]MercLab!Y49 -> 555634.39 | C12: =IF(ISNUMBER(B12/B$8*100),B12/B$8*100,0) -> 13.37339 | D12: =[1]MercLab!Z49 -> 8.4978205 | E12: =[1]MercLab!AA49 -> 466117.34 | F12: =IF(ISNUMBER(E12/E$8*100),E12/E$8*100,0) -> 14.003625 | G12: =[1]MercLab!AB49 -> 8.9717956 | H12: =[1]MercLab!AC49 -> 223839.54 | I12: =IF(ISNUMBER(H12/H$8*100),H12/H$8*100,0) -> 17.559258 | J12: =[1]MercLab!AD49 -> 9.6614094 | K12: =[1]MercLab!AE49 -> 207301.41 | L12: =IF(ISNUMBER(K12/K$8*100),K12/K$8*100,0) -> 17.19765 | M12: =[1]MercLab!AF49 -> 9.5440194 | N12: =[1]MercLab!AG49 -> 16538.134 | O12: =IF(ISNUMBER(N12/N$8*100),N12/N$8*100,0) -> 23.843542 | P12: =[1]MercLab!AH49 -> 11.032624 | Q12: =IF(ISNUMBER(N12/H12*100),N12/H12*100,0) -> 7.3883882 | R12: =[1]MercLab!AI49 -> 4.0262248 | S12: Explotación de minas y canteras | T12: =[1]MercLab!AC80 -> 524.71784 | U12: =IF(ISNUMBER(T12/T$8*100),T12/T$8*100,0) -> 0.041161879 | V12: =[1]MercLab!AD80 -> 7.2603455 | W12: =[1]MercLab!AE80 -> 524.71784 | X12: =IF(ISNUMBER(W12/W$8*100),W12/W$8*100,0) -> 0.043530404 | Y12: =[1]MercLab!AF80 -> 7.2603455 | Z12: =[1]MercLab!AG80 -> 0 | AA12: =IF(ISNUMBER(Z12/Z$8*100),Z12/Z$8*100,0) -> 0 | AB12: =[1]MercLab!AH80 -> 0 | AC12: =IF(ISNUMBER(Z12/T12*100),Z12/T12*100,0) -> 0 | AD12: =[1]MercLab!AI80 -> 0
A13: San Pedro Sula | B13: =[1]MercLab!Y50 -> 324753.55 | C13: =IF(ISNUMBER(B13/B$8*100),B13/B$8*100,0) -> 7.8163914 | D13: =[1]MercLab!Z50 -> 7.8863376 | E13: =[1]MercLab!AA50 -> 263812.22 | F13: =IF(ISNUMBER(E13/E$8*100),E13/E$8*100,0) -> 7.9257454 | G13: =[1]MercLab!AB50 -> 8.4610458 | H13: =[1]MercLab!AC50 -> 121759.49 | I13: =IF(ISNUMBER(H13/H$8*100),H13/H$8*100,0) -> 9.5515129 | J13: =[1]MercLab!AD50 -> 9.3261187 | K13: =[1]MercLab!AE50 -> 114661.47 | L13: =IF(ISNUMBER(K13/K$8*100),K13/K$8*100,0) -> 9.5122741 | M13: =[1]MercLab!AF50 -> 9.2474314 | N13: =[1]MercLab!AG50 -> 7098.0175 | O13: =IF(ISNUMBER(N13/N$8*100),N13/N$8*100,0) -> 10.233433 | P13: =[1]MercLab!AH50 -> 10.638498 | Q13: =IF(ISNUMBER(N13/H13*100),N13/H13*100,0) -> 5.8295397 | R13: =[1]MercLab!AI50 -> 3.831294 | S13: Industria manufacturera | T13: =[1]MercLab!AC81 -> 261563.67 | U13: =IF(ISNUMBER(T13/T$8*100),T13/T$8*100,0) -> 20.518555 | V13: =[1]MercLab!AD81 -> 6.8446151 | W13: =[1]MercLab!AE81 -> 250608.09 | X13: =IF(ISNUMBER(W13/W$8*100),W13/W$8*100,0) -> 20.790357 | Y13: =[1]MercLab!AF81 -> 6.7655021 | Z13: =[1]MercLab!AG81 -> 10955.581 | AA13: =IF(ISNUMBER(Z13/Z$8*100),Z13/Z$8*100,0) -> 15.795001 | AB13: =[1]MercLab!AH81 -> 8.4766092 | AC13: =IF(ISNUMBER(Z13/T13*100),Z13/T13*100,0) -> 4.1884949 | AD13: =[1]MercLab!AI81 -> 5.2370961
A14: Resto urbano | B14: =[1]MercLab!Y51 -> 1106146.1 | C14: =IF(ISNUMBER(B14/B$8*100),B14/B$8*100,0) -> 26.623484 | D14: =[1]MercLab!Z51 -> 6.9936989 | E14: =[1]MercLab!AA51 -> 911572.14 | F14: =IF(ISNUMBER(E14/E$8*100),E14/E$8*100,0) -> 27.386482 | G14: =[1]MercLab!AB51 -> 7.4567062 | H14: =[1]MercLab!AC51 -> 392841.69 | I14: =IF(ISNUMBER(H14/H$8*100),H14/H$8*100,0) -> 30.816757 | J14: =[1]MercLab!AD51 -> 8.3384531 | K14: =[1]MercLab!AE51 -> 368057.38 | L14: =IF(ISNUMBER(K14/K$8*100),K14/K$8*100,0) -> 30.533908 | M14: =[1]MercLab!AF51 -> 8.2688464 | N14: =[1]MercLab!AG51 -> 24784.309 | O14: =IF(ISNUMBER(N14/N$8*100),N14/N$8*100,0) -> 35.732309 | P14: =[1]MercLab!AH51 -> 9.3375844 | Q14: =IF(ISNUMBER(N14/H14*100),N14/H14*100,0) -> 6.3089814 | R14: =[1]MercLab!AI51 -> 4.8120845 | S14: Electricidad, gas y agua | T14: =[1]MercLab!AC82 -> 1813.7628 | U14: =IF(ISNUMBER(T14/T$8*100),T14/T$8*100,0) -> 0.14228196 | V14: =[1]MercLab!AD82 -> 13.358281 | W14: =[1]MercLab!AE82 -> 1813.7628 | X14: =IF(ISNUMBER(W14/W$8*100),W14/W$8*100,0) -> 0.15046911 | Y14: =[1]MercLab!AF82 -> 13.358281 | Z14: =[1]MercLab!AG82 -> 0 | AA14: =IF(ISNUMBER(Z14/Z$8*100),Z14/Z$8*100,0) -> 0 | AB14: =[1]MercLab!AH82 -> 0 | AC14: =IF(ISNUMBER(Z14/T14*100),Z14/T14*100,0) -> 0 | AD14: =[1]MercLab!AI82 -> 2
A15: Rural | B15: =[1]MercLab!Y52 -> 2168241.9 | C15: =IF(ISNUMBER(B15/B$8*100),B15/B$8*100,0) -> 52.186735 | D15: =[1]MercLab!Z52 -> 4.9900208 | E15: =[1]MercLab!AA52 -> 1687046 | F15: =IF(ISNUMBER(E15/E$8*100),E15/E$8*100,0) -> 50.684147 | G15: =[1]MercLab!AB52 -> 5.493457 | H15: =[1]MercLab!AC52 -> 536325.76 | I15: =IF(ISNUMBER(H15/H$8*100),H15/H$8*100,0) -> 42.072471 | J15: =[1]MercLab!AD52 -> 6.1822745 | K15: =[1]MercLab!AE52 -> 515385.16 | L15: =IF(ISNUMBER(K15/K$8*100),K15/K$8*100,0) -> 42.756168 | M15: =[1]MercLab!AF52 -> 6.0459579 | N15: =[1]MercLab!AG52 -> 20940.602 | O15: =IF(ISNUMBER(N15/N$8*100),N15/N$8*100,0) -> 30.190716 | P15: =[1]MercLab!AH52 -> 9.1608392 | Q15: =IF(ISNUMBER(N15/H15*100),N15/H15*100,0) -> 3.9044557 | R15: =[1]MercLab!AI52 -> 5.8171116 | S15: Construcción | T15: =[1]MercLab!AC83 -> 2768.0368 | U15: =IF(ISNUMBER(T15/T$8*100),T15/T$8*100,0) -> 0.2171407 | V15: =[1]MercLab!AD83 -> 10.670052 | W15: =[1]MercLab!AE83 -> 2263.3485 | X15: =IF(ISNUMBER(W15/W$8*100),W15/W$8*100,0) -> 0.18776657 | Y15: =[1]MercLab!AF83 -> 11.319858 | Z15: =[1]MercLab!AG83 -> 504.68837 | AA15: =IF(ISNUMBER(Z15/Z$8*100),Z15/Z$8*100,0) -> 0.72762491 | AB15: =[1]MercLab!AH83 -> 6 | AC15: =IF(ISNUMBER(Z15/T15*100),Z15/T15*100,0) -> 18.232719 | AD15: =[1]MercLab!AI83 -> 5.7119047
S16: Comercio por Mayor/Menor, Hoteles / restaurantes | T16: =[1]MercLab!AC84 -> 427965.97 | U16: =IF(ISNUMBER(T16/T$8*100),T16/T$8*100,0) -> 33.572108 | V16: =[1]MercLab!AD84 -> 7.4577865 | W16: =[1]MercLab!AE84 -> 408218.56 | X16: =IF(ISNUMBER(W16/W$8*100),W16/W$8*100,0) -> 33.865665 | Y16: =[1]MercLab!AF84 -> 7.3525817 | Z16: =[1]MercLab!AG84 -> 19747.408 | AA16: =IF(ISNUMBER(Z16/Z$8*100),Z16/Z$8*100,0) -> 28.470452 | AB16: =[1]MercLab!AH84 -> 9.4604456 | AC16: =IF(ISNUMBER(Z16/T16*100),Z16/T16*100,0) -> 4.6142471 | AD16: =[1]MercLab!AI84 -> 4.1441477
A17: Nivel educativo /2 | S17: Transp. almac. y comunicaciones | T17: =[1]MercLab!AC85 -> 10112.927 | U17: =IF(ISNUMBER(T17/T$8*100),T17/T$8*100,0) -> 0.79331607 | V17: =[1]MercLab!AD85 -> 12.19679 | W17: =[1]MercLab!AE85 -> 9169.1404 | X17: =IF(ISNUMBER(W17/W$8*100),W17/W$8*100,0) -> 0.76066859 | Y17: =[1]MercLab!AF85 -> 12.16613 | Z17: =[1]MercLab!AG85 -> 943.78698 | AA17: =IF(ISNUMBER(Z17/Z$8*100),Z17/Z$8*100,0) -> 1.360687 | AB17: =[1]MercLab!AH85 -> 12.49466 | AC17: =IF(ISNUMBER(Z17/T17*100),Z17/T17*100,0) -> 9.3324806 | AD17: =[1]MercLab!AI85 -> 3.8642643
A18: Sin Nivel | B18: =[1]MercLab!Y54 -> 933531.12 | C18: =IF(ISNUMBER(B18/B$8*100),B18/B$8*100,0) -> 22.468868 | D18: =[1]MercLab!Z54 -> 0 | E18: =[1]MercLab!AA54 -> 402752.76 | F18: =IF(ISNUMBER(E18/E$8*100),E18/E$8*100,0) -> 12.099954 | G18: =[1]MercLab!AB54 -> 0 | H18: =[1]MercLab!AC54 -> 133387.57 | I18: =IF(ISNUMBER(H18/H$8*100),H18/H$8*100,0) -> 10.463687 | J18: =[1]MercLab!AD54 -> 0 | K18: =[1]MercLab!AE54 -> 130807.29 | L18: =IF(ISNUMBER(K18/K$8*100),K18/K$8*100,0) -> 10.851726 | M18: =[1]MercLab!AF54 -> 0 | N18: =[1]MercLab!AG54 -> 2580.2792 | O18: =IF(ISNUMBER(N18/N$8*100),N18/N$8*100,0) -> 3.7200687 | P18: =[1]MercLab!AH54 -> 0 | Q18: =IF(ISNUMBER(N18/H18*100),N18/H18*100,0) -> 1.9344225 | R18: =[1]MercLab!AI54 -> 2.4007444 | S18: Estab. finac. seguros, Bienes inmuebles y servicios | T18: =[1]MercLab!AC86 -> 36673.577 | U18: =IF(ISNUMBER(T18/T$8*100),T18/T$8*100,0) -> 2.8768859 | V18: =[1]MercLab!AD86 -> 11.671652 | W18: =[1]MercLab!AE86 -> 35153.129 | X18: =IF(ISNUMBER(W18/W$8*100),W18/W$8*100,0) -> 2.9162909 | Y18: =[1]MercLab!AF86 -> 11.609917 | Z18: =[1]MercLab!AG86 -> 1520.4483 | AA18: =IF(ISNUMBER(Z18/Z$8*100),Z18/Z$8*100,0) -> 2.1920775 | AB18: =[1]MercLab!AH86 -> 13.06742 | AC18: =IF(ISNUMBER(Z18/T18*100),Z18/T18*100,0) -> 4.1458957 | AD18: =[1]MercLab!AI86 -> 4.3731936
A19: Primaria | B19: =[1]MercLab!Y55 -> 2067406.7 | C19: =IF(ISNUMBER(B19/B$8*100),B19/B$8*100,0) -> 49.759764 | D19: =[1]MercLab!Z55 -> 3.9688447 | E19: =[1]MercLab!AA55 -> 1772191.4 | F19: =IF(ISNUMBER(E19/E$8*100),E19/E$8*100,0) -> 53.242182 | G19: =[1]MercLab!AB55 -> 4.4429747 | H19: =[1]MercLab!AC55 -> 608799.93 | I19: =IF(ISNUMBER(H19/H$8*100),H19/H$8*100,0) -> 47.757761 | J19: =[1]MercLab!AD55 -> 4.6710997 | K19: =[1]MercLab!AE55 -> 590333.3 | L19: =IF(ISNUMBER(K19/K$8*100),K19/K$8*100,0) -> 48.973838 | M19: =[1]MercLab!AF55 -> 4.6512716 | N19: =[1]MercLab!AG55 -> 18466.629 | O19: =IF(ISNUMBER(N19/N$8*100),N19/N$8*100,0) -> 26.623913 | P19: =[1]MercLab!AH55 -> 5.3049555 | Q19: =IF(ISNUMBER(N19/H19*100),N19/H19*100,0) -> 3.0332837 | R19: =[1]MercLab!AI55 -> 3.2914558 | S19: Servicios Comunales, Sociales y Personales | T19: =[1]MercLab!AC87 -> 368153.64 | U19: =IF(ISNUMBER(T19/T$8*100),T19/T$8*100,0) -> 28.880085 | V19: =[1]MercLab!AD87 -> 9.1812933 | W19: =[1]MercLab!AE87 -> 351926 | X19: =IF(ISNUMBER(W19/W$8*100),W19/W$8*100,0) -> 29.195655 | Y19: =[1]MercLab!AF87 -> 9.1796624 | Z19: =[1]MercLab!AG87 -> 16227.636 | AA19: =IF(ISNUMBER(Z19/Z$8*100),Z19/Z$8*100,0) -> 23.395888 | AB19: =[1]MercLab!AH87 -> 9.2156345 | AC19: =IF(ISNUMBER(Z19/T19*100),Z19/T19*100,0) -> 4.4078435 | AD19: =[1]MercLab!AI87 -> 4.6037016
A20: Secundaria | B20: =[1]MercLab!Y56 -> 932877.58 | C20: =IF(ISNUMBER(B20/B$8*100),B20/B$8*100,0) -> 22.453138 | D20: =[1]MercLab!Z56 -> 9.5481645 | E20: =[1]MercLab!AA56 -> 932643 | F20: =IF(ISNUMBER(E20/E$8*100),E20/E$8*100,0) -> 28.019517 | G20: =[1]MercLab!AB56 -> 9.5485539 | H20: =[1]MercLab!AC56 -> 394189.74 | I20: =IF(ISNUMBER(H20/H$8*100),H20/H$8*100,0) -> 30.922506 | J20: =[1]MercLab!AD56 -> 10.212003 | K20: =[1]MercLab!AE56 -> 357630.05 | L20: =IF(ISNUMBER(K20/K$8*100),K20/K$8*100,0) -> 29.668861 | M20: =[1]MercLab!AF56 -> 10.176283 | N20: =[1]MercLab!AG56 -> 36559.688 | O20: =IF(ISNUMBER(N20/N$8*100),N20/N$8*100,0) -> 52.709239 | P20: =[1]MercLab!AH56 -> 10.561419 | Q20: =IF(ISNUMBER(N20/H20*100),N20/H20*100,0) -> 9.2746423 | R20: =[1]MercLab!AI56 -> 5.7964405 | S20: No sabe, No responde | T20: =[1]MercLab!AC88 -> 2628.0793 | U20: =IF(ISNUMBER(T20/T$8*100),T20/T$8*100,0) -> 0.20616163 | V20: =[1]MercLab!AD88 -> 8.3847021 | W20: =[1]MercLab!AE88 -> 2200.376 | X20: =IF(ISNUMBER(W20/W$8*100),W20/W$8*100,0) -> 0.1825424 | Y20: =[1]MercLab!AF88 -> 7.5047406 | Z20: =[1]MercLab!AG88 -> 427.70337 | AA20: =IF(ISNUMBER(Z20/Z$8*100),Z20/Z$8*100,0) -> 0.61663324 | AB20: =[1]MercLab!AH88 -> 12 | AC20: =IF(ISNUMBER(Z20/T20*100),Z20/T20*100,0) -> 16.27437 | AD20: =[1]MercLab!AI88 -> 1.3631541
A21: Superior | B21: =[1]MercLab!Y57 -> 214449.25 | C21: =IF(ISNUMBER(B21/B$8*100),B21/B$8*100,0) -> 5.1615119 | D21: =[1]MercLab!Z57 -> 14.717529 | E21: =[1]MercLab!AA57 -> 214449.25 | F21: =IF(ISNUMBER(E21/E$8*100),E21/E$8*100,0) -> 6.4427273 | G21: =[1]MercLab!AB57 -> 14.717529 | H21: =[1]MercLab!AC57 -> 134441.03 | I21: =IF(ISNUMBER(H21/H$8*100),H21/H$8*100,0) -> 10.546326 | J21: =[1]MercLab!AD57 -> 15.207155 | K21: =[1]MercLab!AE57 -> 123071.49 | L21: =IF(ISNUMBER(K21/K$8*100),K21/K$8*100,0) -> 10.209967 | M21: =[1]MercLab!AF57 -> 15.23892 | N21: =[1]MercLab!AG57 -> 11369.541 | O21: =IF(ISNUMBER(N21/N$8*100),N21/N$8*100,0) -> 16.391821 | P21: =[1]MercLab!AH57 -> 14.863969 | Q21: =IF(ISNUMBER(N21/H21*100),N21/H21*100,0) -> 8.456898 | R21: =[1]MercLab!AI57 -> 5.125235 | S21: Busca trabajo por primera vez | T21: =[1]MercLab!AC89 -> 16328.769 | U21: =IF(ISNUMBER(T21/T$8*100),T21/T$8*100,0) -> 1.2809223 | V21: =[1]MercLab!AD89 -> 11.903337 | W21: =[1]MercLab!AE89 -> 0 | X21: =IF(ISNUMBER(W21/W$8*100),W21/W$8*100,0) -> 0 | Y21: =[1]MercLab!AF89 -> 0 | Z21: =[1]MercLab!AG89 -> 16328.769 | AA21: =IF(ISNUMBER(Z21/Z$8*100),Z21/Z$8*100,0) -> 23.541693 | AB21: =[1]MercLab!AH89 -> 11.903337 | AC21: =IF(ISNUMBER(Z21/T21*100),Z21/T21*100,0) -> 100 | AD21: =[1]MercLab!AI89 -> 6.1644876
A22: No sabe, no responde | B22: =[1]MercLab!Y58 -> 6511.2848 | C22: =IF(ISNUMBER(B22/B$8*100),B22/B$8*100,0) -> 0.15671807 | D22: =[1]MercLab!Z58 -> 0 | E22: =[1]MercLab!AA58 -> 6511.2848 | F22: =IF(ISNUMBER(E22/E$8*100),E22/E$8*100,0) -> 0.19561939 | G22: =[1]MercLab!AB58 -> 0 | H22: =[1]MercLab!AC58 -> 3948.2098 | I22: =IF(ISNUMBER(H22/H$8*100),H22/H$8*100,0) -> 0.30972024 | J22: =[1]MercLab!AD58 -> 0 | K22: =[1]MercLab!AE58 -> 3563.2847 | L22: =IF(ISNUMBER(K22/K$8*100),K22/K$8*100,0) -> 0.29560882 | M22: =[1]MercLab!AF58 -> 0 | N22: =[1]MercLab!AG58 -> 384.92503 | O22: =IF(ISNUMBER(N22/N$8*100),N22/N$8*100,0) -> 0.55495838 | P22: =[1]MercLab!AH58 -> 0 | Q22: =IF(ISNUMBER(N22/H22*100),N22/H22*100,0) -> 9.7493561 | R22: =[1]MercLab!AI58 -> 1.8533333
S23: Ocupación (1 Dig.)
A24: Rango de Edad | S24: Profesionales, Técnicos y PEOA | T24: =[1]MercLab!AC91 -> 151404.75 | U24: =IF(ISNUMBER(T24/T$8*100),T24/T$8*100,0) -> 11.877058 | V24: =[1]MercLab!AD91 -> 12.764997 | W24: =[1]MercLab!AE91 -> 144405.13 | X24: =IF(ISNUMBER(W24/W$8*100),W24/W$8*100,0) -> 11.979797 | Y24: =[1]MercLab!AF91 -> 12.775035 | Z24: =[1]MercLab!AG91 -> 6999.6294 | AA24: =IF(ISNUMBER(Z24/Z$8*100),Z24/Z$8*100,0) -> 10.091583 | AB24: =[1]MercLab!AH91 -> 12.561588 | AC24: =IF(ISNUMBER(Z24/T24*100),Z24/T24*100,0) -> 4.6231239 | AD24: =[1]MercLab!AI91 -> 5.7208163
A25: De 10 a 11 años | B25: =[1]MercLab!Y60 -> 219584.12 | C25: =IF(ISNUMBER(B25/B$8*100),B25/B$8*100,0) -> 5.2851014 | D25: =[1]MercLab!Z60 -> 3.3474061 | E25: =[1]MercLab!AA60 -> 219584.12 | F25: =IF(ISNUMBER(E25/E$8*100),E25/E$8*100,0) -> 6.5969949 | G25: =[1]MercLab!AB60 -> 3.3474061 | H25: =[1]MercLab!AC60 -> 7994.6027 | I25: =IF(ISNUMBER(H25/H$8*100),H25/H$8*100,0) -> 0.62714253 | J25: =[1]MercLab!AD60 -> 3.6711218 | K25: =[1]MercLab!AE60 -> 7994.6027 | L25: =IF(ISNUMBER(K25/K$8*100),K25/K$8*100,0) -> 0.66322937 | M25: =[1]MercLab!AF60 -> 3.6711218 | N25: =[1]MercLab!AG60 -> 0 | O25: =IF(ISNUMBER(N25/N$8*100),N25/N$8*100,0) -> 0 | P25: =[1]MercLab!AH60 -> 0 | Q25: =IF(ISNUMBER(N25/H25*100),N25/H25*100,0) -> 0 | R25: =[1]MercLab!AI60 -> 0 | S25: Directores Gerentes y Administ. Grales. | T25: =[1]MercLab!AC92 -> 41253.233 | U25: =IF(ISNUMBER(T25/T$8*100),T25/T$8*100,0) -> 3.2361404 | V25: =[1]MercLab!AD92 -> 11.156889 | W25: =[1]MercLab!AE92 -> 39292.139 | X25: =IF(ISNUMBER(W25/W$8*100),W25/W$8*100,0) -> 3.2596617 | Y25: =[1]MercLab!AF92 -> 11.115286 | Z25: =[1]MercLab!AG92 -> 1961.0945 | AA25: =IF(ISNUMBER(Z25/Z$8*100),Z25/Z$8*100,0) -> 2.8273708 | AB25: =[1]MercLab!AH92 -> 11.965832 | AC25: =IF(ISNUMBER(Z25/T25*100),Z25/T25*100,0) -> 4.7537958 | AD25: =[1]MercLab!AI92 -> 4.0302899
A26: De 12 a 14 años | B26: =[1]MercLab!Y61 -> 314577.51 | C26: =IF(ISNUMBER(B26/B$8*100),B26/B$8*100,0) -> 7.5714675 | D26: =[1]MercLab!Z61 -> 5.3128672 | E26: =[1]MercLab!AA61 -> 314577.51 | F26: =IF(ISNUMBER(E26/E$8*100),E26/E$8*100,0) -> 9.4508938 | G26: =[1]MercLab!AB61 -> 5.3128672 | H26: =[1]MercLab!AC61 -> 31187.448 | I26: =IF(ISNUMBER(H26/H$8*100),H26/H$8*100,0) -> 2.4465225 | J26: =[1]MercLab!AD61 -> 5.6170744 | K26: =[1]MercLab!AE61 -> 31187.448 | L26: =IF(ISNUMBER(K26/K$8*100),K26/K$8*100,0) -> 2.5872995 | M26: =[1]MercLab!AF61 -> 5.6170744 | N26: =[1]MercLab!AG61 -> 0 | O26: =IF(ISNUMBER(N26/N$8*100),N26/N$8*100,0) -> 0 | P26: =[1]MercLab!AH61 -> 0 | Q26: =IF(ISNUMBER(N26/H26*100),N26/H26*100,0) -> 0 | R26: =[1]MercLab!AI61 -> 0 | S26: Empleados de Oficina | T26: =[1]MercLab!AC93 -> 51826.903 | U26: =IF(ISNUMBER(T26/T$8*100),T26/T$8*100,0) -> 4.0655998 | V26: =[1]MercLab!AD93 -> 11.815557 | W26: =[1]MercLab!AE93 -> 47986.609 | X26: =IF(ISNUMBER(W26/W$8*100),W26/W$8*100,0) -> 3.9809518 | Y26: =[1]MercLab!AF93 -> 11.862207 | Z26: =[1]MercLab!AG93 -> 3840.2941 | AA26: =IF(ISNUMBER(Z26/Z$8*100),Z26/Z$8*100,0) -> 5.5366713 | AB26: =[1]MercLab!AH93 -> 11.237959 | AC26: =IF(ISNUMBER(Z26/T26*100),Z26/T26*100,0) -> 7.4098467 | AD26: =[1]MercLab!AI93 -> 6.072157
A27: De 15 a 18 años | B27: =[1]MercLab!Y62 -> 411753.56 | C27: =IF(ISNUMBER(B27/B$8*100),B27/B$8*100,0) -> 9.9103673 | D27: =[1]MercLab!Z62 -> 7.4915408 | E27: =[1]MercLab!AA62 -> 411753.56 | F27: =IF(ISNUMBER(E27/E$8*100),E27/E$8*100,0) -> 12.370367 | G27: =[1]MercLab!AB62 -> 7.4915408 | H27: =[1]MercLab!AC62 -> 83309.761 | I27: =IF(ISNUMBER(H27/H$8*100),H27/H$8*100,0) -> 6.5352959 | J27: =[1]MercLab!AD62 -> 6.9607561 | K27: =[1]MercLab!AE62 -> 79644.197 | L27: =IF(ISNUMBER(K27/K$8*100),K27/K$8*100,0) -> 6.607254 | M27: =[1]MercLab!AF62 -> 6.9026935 | N27: =[1]MercLab!AG62 -> 3665.564 | O27: =IF(ISNUMBER(N27/N$8*100),N27/N$8*100,0) -> 5.2847576 | P27: =[1]MercLab!AH62 -> 8.1938304 | Q27: =IF(ISNUMBER(N27/H27*100),N27/H27*100,0) -> 4.3999214 | R27: =[1]MercLab!AI62 -> 4.0532687 | S27: Comerciantes y Vendedores | T27: =[1]MercLab!AC94 -> 332582.26 | U27: =IF(ISNUMBER(T27/T$8*100),T27/T$8*100,0) -> 26.089662 | V27: =[1]MercLab!AD94 -> 7.3449685 | W27: =[1]MercLab!AE94 -> 320154.56 | X27: =IF(ISNUMBER(W27/W$8*100),W27/W$8*100,0) -> 26.559907 | Y27: =[1]MercLab!AF94 -> 7.2390235 | Z27: =[1]MercLab!AG94 -> 12427.701 | AA27: =IF(ISNUMBER(Z27/Z$8*100),Z27/Z$8*100,0) -> 17.917403 | AB27: =[1]MercLab!AH94 -> 9.856232 | AC27: =IF(ISNUMBER(Z27/T27*100),Z27/T27*100,0) -> 3.7367299 | AD27: =[1]MercLab!AI94 -> 3.6771561
A28: De 19 a 24 años | B28: =[1]MercLab!Y63 -> 479924.23 | C28: =IF(ISNUMBER(B28/B$8*100),B28/B$8*100,0) -> 11.551146 | D28: =[1]MercLab!Z63 -> 8.8508766 | E28: =[1]MercLab!AA63 -> 479924.23 | F28: =IF(ISNUMBER(E28/E$8*100),E28/E$8*100,0) -> 14.418427 | G28: =[1]MercLab!AB63 -> 8.8508766 | H28: =[1]MercLab!AC63 -> 198025.01 | I28: =IF(ISNUMBER(H28/H$8*100),H28/H$8*100,0) -> 15.534219 | J28: =[1]MercLab!AD63 -> 9.2325869 | K28: =[1]MercLab!AE63 -> 171341.34 | L28: =IF(ISNUMBER(K28/K$8*100),K28/K$8*100,0) -> 14.214416 | M28: =[1]MercLab!AF63 -> 9.0784762 | N28: =[1]MercLab!AG63 -> 26683.672 | O28: =IF(ISNUMBER(N28/N$8*100),N28/N$8*100,0) -> 38.470679 | P28: =[1]MercLab!AH63 -> 10.208605 | Q28: =IF(ISNUMBER(N28/H28*100),N28/H28*100,0) -> 13.4749 | R28: =[1]MercLab!AI63 -> 4.7046796 | S28: Agricultores, Ganaderos y Trab. Agrop. | T28: =[1]MercLab!AC95 -> 138376.34 | U28: =IF(ISNUMBER(T28/T$8*100),T28/T$8*100,0) -> 10.855035 | V28: =[1]MercLab!AD95 -> 4.7357883 | W28: =[1]MercLab!AE95 -> 136268.44 | X28: =IF(ISNUMBER(W28/W$8*100),W28/W$8*100,0) -> 11.304781 | Y28: =[1]MercLab!AF95 -> 4.7277277 | Z28: =[1]MercLab!AG95 -> 2107.9041 | AA28: =IF(ISNUMBER(Z28/Z$8*100),Z28/Z$8*100,0) -> 3.0390309 | AB28: =[1]MercLab!AH95 -> 5.3814794 | AC28: =IF(ISNUMBER(Z28/T28*100),Z28/T28*100,0) -> 1.5233125 | AD28: =[1]MercLab!AI95 -> 3.5235433
A29: De 25 a 29 años | B29: =[1]MercLab!Y64 -> 299343.12 | C29: =IF(ISNUMBER(B29/B$8*100),B29/B$8*100,0) -> 7.2047958 | D29: =[1]MercLab!Z64 -> 8.1818633 | E29: =[1]MercLab!AA64 -> 299343.12 | F29: =IF(ISNUMBER(E29/E$8*100),E29/E$8*100,0) -> 8.9932051 | G29: =[1]MercLab!AB64 -> 8.1818633 | H29: =[1]MercLab!AC64 -> 157817.26 | I29: =IF(ISNUMBER(H29/H$8*100),H29/H$8*100,0) -> 12.380092 | J29: =[1]MercLab!AD64 -> 9.1109462 | K29: =[1]MercLab!AE64 -> 141176.84 | L29: =IF(ISNUMBER(K29/K$8*100),K29/K$8*100,0) -> 11.71198 | M29: =[1]MercLab!AF64 -> 9.0104248 | N29: =[1]MercLab!AG64 -> 16640.424 | O29: =IF(ISNUMBER(N29/N$8*100),N29/N$8*100,0) -> 23.991016 | P29: =[1]MercLab!AH64 -> 9.9379248 | Q29: =IF(ISNUMBER(N29/H29*100),N29/H29*100,0) -> 10.544109 | R29: =[1]MercLab!AI64 -> 4.6779065 | S29: Conductores de Transporte | T29: =[1]MercLab!AC96 -> 281.50015 | U29: =IF(ISNUMBER(T29/T$8*100),T29/T$8*100,0) -> 0.022082488 | V29: =[1]MercLab!AD96 -> 12 | W29: =[1]MercLab!AE96 -> 281.50015 | X29: =IF(ISNUMBER(W29/W$8*100),W29/W$8*100,0) -> 0.023353152 | Y29: =[1]MercLab!AF96 -> 12 | Z29: =[1]MercLab!AG96 -> 0 | AA29: =IF(ISNUMBER(Z29/Z$8*100),Z29/Z$8*100,0) -> 0 | AB29: =[1]MercLab!AH96 -> 0 | AC29: =IF(ISNUMBER(Z29/T29*100),Z29/T29*100,0) -> 0 | AD29: =[1]MercLab!AI96 -> 4
A30: De 30 a 35 años | B30: =[1]MercLab!Y65 -> 331128.73 | C30: =IF(ISNUMBER(B30/B$8*100),B30/B$8*100,0) -> 7.9698337 | D30: =[1]MercLab!Z65 -> 7.5751859 | E30: =[1]MercLab!AA65 -> 331128.73 | F30: =IF(ISNUMBER(E30/E$8*100),E30/E$8*100,0) -> 9.9481444 | G30: =[1]MercLab!AB65 -> 7.5751859 | H30: =[1]MercLab!AC65 -> 196279.55 | I30: =IF(ISNUMBER(H30/H$8*100),H30/H$8*100,0) -> 15.397295 | J30: =[1]MercLab!AD65 -> 8.3606839 | K30: =[1]MercLab!AE65 -> 187357.82 | L30: =IF(ISNUMBER(K30/K$8*100),K30/K$8*100,0) -> 15.543137 | M30: =[1]MercLab!AF65 -> 8.2668362 | N30: =[1]MercLab!AG65 -> 8921.7319 | O30: =IF(ISNUMBER(N30/N$8*100),N30/N$8*100,0) -> 12.862738 | P30: =[1]MercLab!AH65 -> 10.320412 | Q30: =IF(ISNUMBER(N30/H30*100),N30/H30*100,0) -> 4.545421 | R30: =[1]MercLab!AI65 -> 5.6183171 | S30: Trab. Ind. Textil, Albañilería, Mecánica, etc. | T30: =[1]MercLab!AC97 -> 81091.047 | U30: =IF(ISNUMBER(T30/T$8*100),T30/T$8*100,0) -> 6.3612472 | V30: =[1]MercLab!AD97 -> 7.0598281 | W30: =[1]MercLab!AE97 -> 75398.452 | X30: =IF(ISNUMBER(W30/W$8*100),W30/W$8*100,0) -> 6.2550285 | Y30: =[1]MercLab!AF97 -> 6.9809962 | Z30: =[1]MercLab!AG97 -> 5692.5948 | AA30: =IF(ISNUMBER(Z30/Z$8*100),Z30/Z$8*100,0) -> 8.2071908 | AB30: =[1]MercLab!AH97 -> 8.1238483 | AC30: =IF(ISNUMBER(Z30/T30*100),Z30/T30*100,0) -> 7.020004 | AD30: =[1]MercLab!AI97 -> 6.2240379
A31: De 36 a 44 años | B31: =[1]MercLab!Y66 -> 381011.04 | C31: =IF(ISNUMBER(B31/B$8*100),B31/B$8*100,0) -> 9.1704352 | D31: =[1]MercLab!Z66 -> 6.9924853 | E31: =[1]MercLab!AA66 -> 381011.04 | F31: =IF(ISNUMBER(E31/E$8*100),E31/E$8*100,0) -> 11.446765 | G31: =[1]MercLab!AB66 -> 6.9924853 | H31: =[1]MercLab!AC66 -> 220422.66 | I31: =IF(ISNUMBER(H31/H$8*100),H31/H$8*100,0) -> 17.291219 | J31: =[1]MercLab!AD66 -> 7.6816308 | K31: =[1]MercLab!AE66 -> 209811.12 | L31: =IF(ISNUMBER(K31/K$8*100),K31/K$8*100,0) -> 17.405855 | M31: =[1]MercLab!AF66 -> 7.6036504 | N31: =[1]MercLab!AG66 -> 10611.542 | O31: =IF(ISNUMBER(N31/N$8*100),N31/N$8*100,0) -> 15.29899 | P31: =[1]MercLab!AH66 -> 9.2409734 | Q31: =IF(ISNUMBER(N31/H31*100),N31/H31*100,0) -> 4.8141794 | R31: =[1]MercLab!AI66 -> 5.2847661 | S31: Trab. Area Grafica, Quim., Alimentos, etc. | T31: =[1]MercLab!AC98 -> 138893.41 | U31: =IF(ISNUMBER(T31/T$8*100),T31/T$8*100,0) -> 10.895597 | V31: =[1]MercLab!AD98 -> 5.8882704 | W31: =[1]MercLab!AE98 -> 137596.19 | X31: =IF(ISNUMBER(W31/W$8*100),W31/W$8*100,0) -> 11.41493 | Y31: =[1]MercLab!AF98 -> 5.889532 | Z31: =[1]MercLab!AG98 -> 1297.2256 | AA31: =IF(ISNUMBER(Z31/Z$8*100),Z31/Z$8*100,0) -> 1.8702505 | AB31: =[1]MercLab!AH98 -> 5.7760144 | AC31: =IF(ISNUMBER(Z31/T31*100),Z31/T31*100,0) -> 0.93397202 | AD31: =[1]MercLab!AI98 -> 3.3779626
A32: De 45 a 59 años | B32: =[1]MercLab!Y67 -> 516863.1 | C32: =IF(ISNUMBER(B32/B$8*100),B32/B$8*100,0) -> 12.440216 | D32: =[1]MercLab!Z67 -> 6.2670534 | E32: =[1]MercLab!AA67 -> 516863.1 | F32: =IF(ISNUMBER(E32/E$8*100),E32/E$8*100,0) -> 15.528187 | G32: =[1]MercLab!AB67 -> 6.2670534 | H32: =[1]MercLab!AC67 -> 272333.88 | I32: =IF(ISNUMBER(H32/H$8*100),H32/H$8*100,0) -> 21.363433 | J32: =[1]MercLab!AD67 -> 7.0531969 | K32: =[1]MercLab!AE67 -> 269726.71 | L32: =IF(ISNUMBER(K32/K$8*100),K32/K$8*100,0) -> 22.376431 | M32: =[1]MercLab!AF67 -> 7.0447551 | N32: =[1]MercLab!AG67 -> 2607.1737 | O32: =IF(ISNUMBER(N32/N$8*100),N32/N$8*100,0) -> 3.7588434 | P32: =[1]MercLab!AH67 -> 7.9612028 | Q32: =IF(ISNUMBER(N32/H32*100),N32/H32*100,0) -> 0.95734459 | R32: =[1]MercLab!AI67 -> 4.0590209 | S32: Operador de Carga y Almacenaje | T32: =[1]MercLab!AC99 -> 22578.7 | U32: =IF(ISNUMBER(T32/T$8*100),T32/T$8*100,0) -> 1.7712029 | V32: =[1]MercLab!AD99 -> 7.1762249 | W32: =[1]MercLab!AE99 -> 19907.286 | X32: =IF(ISNUMBER(W32/W$8*100),W32/W$8*100,0) -> 1.6515013 | Y32: =[1]MercLab!AF99 -> 7.2552642 | Z32: =[1]MercLab!AG99 -> 2671.4142 | AA32: =IF(ISNUMBER(Z32/Z$8*100),Z32/Z$8*100,0) -> 3.8514609 | AB32: =[1]MercLab!AH99 -> 6.6191332 | AC32: =IF(ISNUMBER(Z32/T32*100),Z32/T32*100,0) -> 11.831568 | AD32: =[1]MercLab!AI99 -> 3.9473796
A33: De 60 años y más | B33: =[1]MercLab!Y68 -> 374362.31 | C33: =IF(ISNUMBER(B33/B$8*100),B33/B$8*100,0) -> 9.010409 | D33: =[1]MercLab!Z68 -> 4.903733 | E33: =[1]MercLab!AA68 -> 374362.31 | F33: =IF(ISNUMBER(E33/E$8*100),E33/E$8*100,0) -> 11.247016 | G33: =[1]MercLab!AB68 -> 4.903733 | H33: =[1]MercLab!AC68 -> 107396.29 | I33: =IF(ISNUMBER(H33/H$8*100),H33/H$8*100,0) -> 8.4247815 | J33: =[1]MercLab!AD68 -> 5.0313273 | K33: =[1]MercLab!AE68 -> 107165.34 | L33: =IF(ISNUMBER(K33/K$8*100),K33/K$8*100,0) -> 8.8903977 | M33: =[1]MercLab!AF68 -> 5.0313273 | N33: =[1]MercLab!AG68 -> 230.95502 | O33: =IF(ISNUMBER(N33/N$8*100),N33/N$8*100,0) -> 0.33297503 | P33: =[1]MercLab!AH68 -> 0 | Q33: =IF(ISNUMBER(N33/H33*100),N33/H33*100,0) -> 0.21504934 | R33: =[1]MercLab!AI68 -> 1.662127 | S33: Ocupación de los Servicios | T33: =[1]MercLab!AC100 -> 293823.28 | U33: =IF(ISNUMBER(T33/T$8*100),T33/T$8*100,0) -> 23.049184 | V33: =[1]MercLab!AD100 -> 6.2927706 | W33: =[1]MercLab!AE100 -> 278605.1 | X33: =IF(ISNUMBER(W33/W$8*100),W33/W$8*100,0) -> 23.112979 | Y33: =[1]MercLab!AF100 -> 6.2341484 | Z33: =[1]MercLab!AG100 -> 15218.18 | AA33: =IF(ISNUMBER(Z33/Z$8*100),Z33/Z$8*100,0) -> 21.940523 | AB33: =[1]MercLab!AH100 -> 7.2898321 | AC33: =IF(ISNUMBER(Z33/T33*100),Z33/T33*100,0) -> 5.1793649 | AD33: =[1]MercLab!AI100 -> 3.4668823
S34: No sabe, No responde | T34: =[1]MercLab!AC101 -> 6326.2766 | U34: =IF(ISNUMBER(T34/T$8*100),T34/T$8*100,0) -> 0.49626945 | V34: =[1]MercLab!AD101 -> 10.908786 | W34: =[1]MercLab!AE101 -> 5510.0198 | X34: =IF(ISNUMBER(W34/W$8*100),W34/W$8*100,0) -> 0.45710926 | Y34: =[1]MercLab!AF101 -> 10.78593 | Z34: =[1]MercLab!AG101 -> 816.25684 | AA34: =IF(ISNUMBER(Z34/Z$8*100),Z34/Z$8*100,0) -> 1.1768229 | AB34: =[1]MercLab!AH101 -> 11.712611 | AC34: =IF(ISNUMBER(Z34/T34*100),Z34/T34*100,0) -> 12.902642 | AD34: =[1]MercLab!AI101 -> 2.5266598
A35: Rama de Actividad | S35: Busca trabajo por primera vez | T35: =[1]MercLab!AC102 -> 16328.769 | U35: =IF(ISNUMBER(T35/T$8*100),T35/T$8*100,0) -> 1.2809223 | V35: =[1]MercLab!AD102 -> 11.903337 | W35: =[1]MercLab!AE102 -> 0 | X35: =IF(ISNUMBER(W35/W$8*100),W35/W$8*100,0) -> 0 | Y35: =[1]MercLab!AF102 -> 0 | Z35: =[1]MercLab!AG102 -> 16328.769 | AA35: =IF(ISNUMBER(Z35/Z$8*100),Z35/Z$8*100,0) -> 23.541693 | AB35: =[1]MercLab!AH102 -> 11.903337 | AC35: =IF(ISNUMBER(Z35/T35*100),Z35/T35*100,0) -> 100 | AD35: =[1]MercLab!AI102 -> 6.1644876
A36: Primaria | B36: =[1]MercLab!Y73 -> 198463.3 | C36: =IF(ISNUMBER(B36/B$8*100),B36/B$8*100,0) -> 4.776751 | D36: =[1]MercLab!Z73 -> 4.7191232 | E36: =[1]MercLab!AA73 -> 195282.8 | F36: =IF(ISNUMBER(E36/E$8*100),E36/E$8*100,0) -> 5.8669071 | G36: =[1]MercLab!AB73 -> 4.7898911 | H36: =[1]MercLab!AC73 -> 146758.05 | I36: =IF(ISNUMBER(H36/H$8*100),H36/H$8*100,0) -> 11.512544 | J36: =[1]MercLab!AD73 -> 4.8211143 | K36: =[1]MercLab!AE73 -> 144053.01 | L36: =IF(ISNUMBER(K36/K$8*100),K36/K$8*100,0) -> 11.950586 | M36: =[1]MercLab!AF73 -> 4.8270523 | N36: =[1]MercLab!AG73 -> 2705.0423 | O36: =IF(ISNUMBER(N36/N$8*100),N36/N$8*100,0) -> 3.8999436 | P36: =[1]MercLab!AH73 -> 4.4427805 | Q36: =IF(ISNUMBER(N36/H36*100),N36/H36*100,0) -> 1.8431986 | R36: =[1]MercLab!AI73 -> 2.0990198
A37: Secundaria | B37: =[1]MercLab!Y74 -> 279071.51 | C37: =IF(ISNUMBER(B37/B$8*100),B37/B$8*100,0) -> 6.7168846 | D37: =[1]MercLab!Z74 -> 6.8265538 | E37: =[1]MercLab!AA74 -> 278080.87 | F37: =IF(ISNUMBER(E37/E$8*100),E37/E$8*100,0) -> 8.3544204 | G37: =[1]MercLab!AB74 -> 6.8454718 | H37: =[1]MercLab!AC74 -> 261563.67 | I37: =IF(ISNUMBER(H37/H$8*100),H37/H$8*100,0) -> 20.518555 | J37: =[1]MercLab!AD74 -> 6.8446151 | K37: =[1]MercLab!AE74 -> 250608.09 | L37: =IF(ISNUMBER(K37/K$8*100),K37/K$8*100,0) -> 20.790357 | M37: =[1]MercLab!AF74 -> 6.7655021 | N37: =[1]MercLab!AG74 -> 10955.581 | O37: =IF(ISNUMBER(N37/N$8*100),N37/N$8*100,0) -> 15.795001 | P37: =[1]MercLab!AH74 -> 8.4766092 | Q37: =IF(ISNUMBER(N37/H37*100),N37/H37*100,0) -> 4.1884949 | R37: =[1]MercLab!AI74 -> 5.2370961 | S37: =A42 -> Fuente: Instituto Nacional de Estadística (INE). XL Encuesta Permanente de Hogares de Propósitos Múltiples, Septiembre 2010.
A38: Terciaria | B38: =[1]MercLab!Y75 -> 896042.73 | C38: =IF(ISNUMBER(B38/B$8*100),B38/B$8*100,0) -> 21.566572 | D38: =[1]MercLab!Z75 -> 8.4419914 | E38: =[1]MercLab!AA75 -> 893291.22 | F38: =IF(ISNUMBER(E38/E$8*100),E38/E$8*100,0) -> 26.837266 | G38: =[1]MercLab!AB75 -> 8.4595505 | H38: =[1]MercLab!AC75 -> 847487.91 | I38: =IF(ISNUMBER(H38/H$8*100),H38/H$8*100,0) -> 66.481817 | J38: =[1]MercLab!AD75 -> 8.4723974 | K38: =[1]MercLab!AE75 -> 808543.95 | L38: =IF(ISNUMBER(K38/K$8*100),K38/K$8*100,0) -> 67.076515 | M38: =[1]MercLab!AF75 -> 8.4172624 | N38: =[1]MercLab!AG75 -> 38943.968 | O38: =IF(ISNUMBER(N38/N$8*100),N38/N$8*100,0) -> 56.146729 | P38: =[1]MercLab!AH75 -> 9.5595581 | Q38: =IF(ISNUMBER(N38/H38*100),N38/H38*100,0) -> 4.595224 | R38: =[1]MercLab!AI75 -> 4.3294859 | S38: =A43 -> El salario mínimo en el área urbana es Lps. 5,500 y en la área rural es Lps. 4,055 (Promedio de salarios mínimos por rama)
A39: No sabe, no responde | B39: =[1]MercLab!Y76 -> 3175.5461 | C39: =IF(ISNUMBER(B39/B$8*100),B39/B$8*100,0) -> 0.076431223 | D39: =[1]MercLab!Z76 -> 7.7065339 | E39: =[1]MercLab!AA76 -> 3175.5461 | F39: =IF(ISNUMBER(E39/E$8*100),E39/E$8*100,0) -> 0.09540335 | G39: =[1]MercLab!AB76 -> 7.7065339 | H39: =[1]MercLab!AC76 -> 2628.0793 | I39: =IF(ISNUMBER(H39/H$8*100),H39/H$8*100,0) -> 0.20616163 | J39: =[1]MercLab!AD76 -> 8.3847021 | K39: =[1]MercLab!AE76 -> 2200.376 | L39: =IF(ISNUMBER(K39/K$8*100),K39/K$8*100,0) -> 0.1825424 | M39: =[1]MercLab!AF76 -> 7.5047406 | N39: =[1]MercLab!AG76 -> 427.70337 | O39: =IF(ISNUMBER(N39/N$8*100),N39/N$8*100,0) -> 0.61663324 | P39: =[1]MercLab!AH76 -> 12 | Q39: =IF(ISNUMBER(N39/H39*100),N39/H39*100,0) -> 16.27437 | R39: =[1]MercLab!AI76 -> 1.3631541 | S39: AEP= Años de Estudio Promedio
A40: Busca trabajo por primera vez | B40: =[1]MercLab!Y77 -> 49964.322 | C40: =IF(ISNUMBER(B40/B$8*100),B40/B$8*100,0) -> 1.2025756 | D40: =[1]MercLab!Z77 -> 8.9754022 | E40: =[1]MercLab!AA77 -> 48908.538 | F40: =IF(ISNUMBER(E40/E$8*100),E40/E$8*100,0) -> 1.4693657 | G40: =[1]MercLab!AB77 -> 9.0997896 | H40: =[1]MercLab!AC77 -> 16328.769 | I40: =IF(ISNUMBER(H40/H$8*100),H40/H$8*100,0) -> 1.2809223 | J40: =[1]MercLab!AD77 -> 11.903337 | K40: =[1]MercLab!AE77 -> 0 | L40: =IF(ISNUMBER(K40/K$8*100),K40/K$8*100,0) -> 0 | M40: =[1]MercLab!AF77 -> 0 | N40: =[1]MercLab!AG77 -> 16328.769 | O40: =IF(ISNUMBER(N40/N$8*100),N40/N$8*100,0) -> 23.541693 | P40: =[1]MercLab!AH77 -> 11.903337 | Q40: =IF(ISNUMBER(N40/H40*100),N40/H40*100,0) -> 100 | R40: =[1]MercLab!AI77 -> 6.1644876 | S40: TDA= Tasa de Desempleo Abierto
S41: MBT= Meses promedio en Busca de Trabajo
A42: ='C01'!A42 -> Fuente: Instituto Nacional de Estadística (INE). XL Encuesta Permanente de Hogares de Propósitos Múltiples, Septiembre 2010. | S42: 1/ Porcentaje por columna
A43: ='C01'!A43 -> El salario mínimo en el área urbana es Lps. 5,500 y en la área rural es Lps. 4,055 (Promedio de salarios mínimos por rama)
A44: AEP= Años de Estudio Promedio
A45: TDA= Tasa de Desempleo Abierto
A46: MBT= Meses promedio en Busca de Trabajo
A47: 1/ Porcentaje por columna
A48: 2/ El nivel educativo incluye la población menor de cinco años

Sheet C06
A1: Cuadro No. 3. Personas ocupadas por categoría ocupacional, según dominio, nivel educativo, rango de edad, sexo.
A2: número de salarios mínimos, rama de actividad y ocupación
A3: Ocupación Principal
A4: Mujeres
A5: Categorías | B5: Total Ocupados | D5: Asalariados | L5: Cuenta propia | N5: Trab. fam. no remu.
D6: Total Asalariados | F6: Público | H6: Privado | J6: Doméstico
B7: No. | C7: % 1/ | D7: No. | E7: % 1/ | F7: No. | G7: % 1/ | H7: No. | I7: % 1/ | J7: No. | K7: % 1/ | L7: No. | M7: % 1/ | N7: No. | O7: % 1/
A9: Total Nacional 2/ | B9: =[1]MercLab!Q114 -> 1205405.4 | C9: =SUM(E9,M9,O9) -> 88.078722 | D9: =F9+H9+J9 -> 496463.47 | E9: =IF(ISNUMBER(D9/$B$9*100),D9/$B$9*100,0) -> 41.186431 | F9: =[1]MercLab!R114 -> 108128.84 | G9: =IF(ISNUMBER(F9/$B$9*100),F9/$B$9*100,0) -> 8.9703297 | H9: =[1]MercLab!S114 -> 298292.81 | I9: =IF(ISNUMBER(H9/$B$9*100),H9/$B$9*100,0) -> 24.746264 | J9: =[1]MercLab!T114 -> 90041.823 | K9: =IF(ISNUMBER(J9/$B$9*100),J9/$B$9*100,0) -> 7.4698373 | L9: =[1]MercLab!U114 -> 565242.21 | M9: =IF(ISNUMBER(L9/$B$9*100),L9/$B$9*100,0) -> 46.892291 | N9: =[1]MercLab!V11 -> 0 | O9: =IF(ISNUMBER(N9/$B$9*100),N9/$B$9*100,0) -> 0
A11: Dominio
A12: Urbano | B12: =SUM(B13:B15) -> 690020.26 | C12: =IF(ISNUMBER(B12/B$9*100),B12/B$9*100,0) -> 57.243832 | D12: =SUM(D13:D15) -> 365454.69 | E12: =IF(ISNUMBER(D12/D$9*100),D12/D$9*100,0) -> 73.611597 | F12: =SUM(F13:F15) -> 84478.278 | G12: =IF(ISNUMBER(F12/F$9*100),F12/F$9*100,0) -> 78.127425 | H12: =SUM(H13:H15) -> 219950.32 | I12: =IF(ISNUMBER(H12/H$9*100),H12/H$9*100,0) -> 73.736381 | J12: =SUM(J13:J15) -> 61026.088 | K12: =IF(ISNUMBER(J12/J$9*100),J12/J$9*100,0) -> 67.775269 | L12: =SUM(L13:L15) -> 260549.62 | M12: =IF(ISNUMBER(L12/L$9*100),L12/L$9*100,0) -> 46.095216 | N12: =SUM(N13:N15) -> 64015.951 | O12: =IF(ISNUMBER(N12/N$9*100),N12/N$9*100,0) -> 0
A13: Distrito Central | B13: =[1]MercLab!Q115 -> 207301.41 | C13: =IF(ISNUMBER(B13/B$9*100),B13/B$9*100,0) -> 17.19765 | D13: =F13+H13+J13 -> 123672.4 | E13: =IF(ISNUMBER(D13/D$9*100),D13/D$9*100,0) -> 24.910675 | F13: =[1]MercLab!R115 -> 33052.81 | G13: =IF(ISNUMBER(F13/F$9*100),F13/F$9*100,0) -> 30.567987 | H13: =[1]MercLab!S115 -> 72204.79 | I13: =IF(ISNUMBER(H13/H$9*100),H13/H$9*100,0) -> 24.206011 | J13: =[1]MercLab!T115 -> 18414.802 | K13: =IF(ISNUMBER(J13/J$9*100),J13/J$9*100,0) -> 20.451387 | L13: =[1]MercLab!U115 -> 64252.41 | M13: =IF(ISNUMBER(L13/L$9*100),L13/L$9*100,0) -> 11.367235 | N13: =[1]MercLab!V115 -> 19376.594 | O13: =IF(ISNUMBER(N13/N$9*100),N13/N$9*100,0) -> 0
A14: San Pedro Sula | B14: =[1]MercLab!Q116 -> 114661.47 | C14: =IF(ISNUMBER(B14/B$9*100),B14/B$9*100,0) -> 9.5122741 | D14: =F14+H14+J14 -> 65775.989 | E14: =IF(ISNUMBER(D14/D$9*100),D14/D$9*100,0) -> 13.248908 | F14: =[1]MercLab!R116 -> 5250.3774 | G14: =IF(ISNUMBER(F14/F$9*100),F14/F$9*100,0) -> 4.8556679 | H14: =[1]MercLab!S116 -> 52411.392 | I14: =IF(ISNUMBER(H14/H$9*100),H14/H$9*100,0) -> 17.570451 | J14: =[1]MercLab!T116 -> 8114.2196 | K14: =IF(ISNUMBER(J14/J$9*100),J14/J$9*100,0) -> 9.0116118 | L14: =[1]MercLab!U116 -> 41510.315 | M14: =IF(ISNUMBER(L14/L$9*100),L14/L$9*100,0) -> 7.3438102 | N14: =[1]MercLab!V116 -> 7375.1636 | O14: =IF(ISNUMBER(N14/N$9*100),N14/N$9*100,0) -> 0
A15: Resto urbano | B15: =[1]MercLab!Q117 -> 368057.38 | C15: =IF(ISNUMBER(B15/B$9*100),B15/B$9*100,0) -> 30.533908 | D15: =F15+H15+J15 -> 176006.3 | E15: =IF(ISNUMBER(D15/D$9*100),D15/D$9*100,0) -> 35.452014 | F15: =[1]MercLab!R117 -> 46175.091 | G15: =IF(ISNUMBER(F15/F$9*100),F15/F$9*100,0) -> 42.70377 | H15: =[1]MercLab!S117 -> 95334.142 | I15: =IF(ISNUMBER(H15/H$9*100),H15/H$9*100,0) -> 31.959919 | J15: =[1]MercLab!T117 -> 34497.066 | K15: =IF(ISNUMBER(J15/J$9*100),J15/J$9*100,0) -> 38.31227 | L15: =[1]MercLab!U117 -> 154786.89 | M15: =IF(ISNUMBER(L15/L$9*100),L15/L$9*100,0) -> 27.384171 | N15: =[1]MercLab!V117 -> 37264.194 | O15: =IF(ISNUMBER(N15/N$9*100),N15/N$9*100,0) -> 0
A16: Rural | B16: =[1]MercLab!Q118 -> 515385.16 | C16: =IF(ISNUMBER(B16/B$9*100),B16/B$9*100,0) -> 42.756168 | D16: =F16+H16+J16 -> 131008.78 | E16: =IF(ISNUMBER(D16/D$9*100),D16/D$9*100,0) -> 26.388403 | F16: =[1]MercLab!R118 -> 23650.562 | G16: =IF(ISNUMBER(F16/F$9*100),F16/F$9*100,0) -> 21.872575 | H16: =[1]MercLab!S118 -> 78342.486 | I16: =IF(ISNUMBER(H16/H$9*100),H16/H$9*100,0) -> 26.263619 | J16: =[1]MercLab!T118 -> 29015.736 | K16: =IF(ISNUMBER(J16/J$9*100),J16/J$9*100,0) -> 32.224731 | L16: =[1]MercLab!U118 -> 304692.6 | M16: =IF(ISNUMBER(L16/L$9*100),L16/L$9*100,0) -> 53.904784 | N16: =[1]MercLab!V118 -> 79683.779 | O16: =IF(ISNUMBER(N16/N$9*100),N16/N$9*100,0) -> 0
D17: =F17+H17+J17 -> 0
A18: Nivel Educativo
A19: Sin Nivel | B19: =[1]MercLab!Q120 -> 130807.29 | C19: =IF(ISNUMBER(B19/B$9*100),B19/B$9*100,0) -> 10.851726 | D19: =F19+H19+J19 -> 21716.003 | E19: =IF(ISNUMBER(D19/D$9*100),D19/D$9*100,0) -> 4.3741392 | F19: =[1]MercLab!R120 -> 234.58346 | G19: =IF(ISNUMBER(F19/F$9*100),F19/F$9*100,0) -> 0.2169481 | H19: =[1]MercLab!S120 -> 12676.314 | I19: =IF(ISNUMBER(H19/H$9*100),H19/H$9*100,0) -> 4.249621 | J19: =[1]MercLab!T120 -> 8805.1061 | K19: =IF(ISNUMBER(J19/J$9*100),J19/J$9*100,0) -> 9.778907 | L19: =[1]MercLab!U120 -> 101867.5 | M19: =IF(ISNUMBER(L19/L$9*100),L19/L$9*100,0) -> 18.02192 | N19: =[1]MercLab!V120 -> 7223.7866 | O19: =IF(ISNUMBER(N19/N$9*100),N19/N$9*100,0) -> 0
A20: Primaria | B20: =[1]MercLab!Q121 -> 590333.3 | C20: =IF(ISNUMBER(B20/B$9*100),B20/B$9*100,0) -> 48.973838 | D20: =F20+H20+J20 -> 171450.15 | E20: =IF(ISNUMBER(D20/D$9*100),D20/D$9*100,0) -> 34.534293 | F20: =[1]MercLab!R121 -> 11027.103 | G20: =IF(ISNUMBER(F20/F$9*100),F20/F$9*100,0) -> 10.198114 | H20: =[1]MercLab!S121 -> 100698.73 | I20: =IF(ISNUMBER(H20/H$9*100),H20/H$9*100,0) -> 33.75835 | J20: =[1]MercLab!T121 -> 59724.314 | K20: =IF(ISNUMBER(J20/J$9*100),J20/J$9*100,0) -> 66.329525 | L20: =[1]MercLab!U121 -> 338784.38 | M20: =IF(ISNUMBER(L20/L$9*100),L20/L$9*100,0) -> 59.936142 | N20: =[1]MercLab!V121 -> 80098.774 | O20: =IF(ISNUMBER(N20/N$9*100),N20/N$9*100,0) -> 0
A21: Secundaria | B21: =[1]MercLab!Q122 -> 357630.05 | C21: =IF(ISNUMBER(B21/B$9*100),B21/B$9*100,0) -> 29.668861 | D21: =F21+H21+J21 -> 197133.34 | E21: =IF(ISNUMBER(D21/D$9*100),D21/D$9*100,0) -> 39.707521 | F21: =[1]MercLab!R122 -> 46880.725 | G21: =IF(ISNUMBER(F21/F$9*100),F21/F$9*100,0) -> 43.356356 | H21: =[1]MercLab!S122 -> 129652.54 | I21: =IF(ISNUMBER(H21/H$9*100),H21/H$9*100,0) -> 43.464857 | J21: =[1]MercLab!T122 -> 20600.068 | K21: =IF(ISNUMBER(J21/J$9*100),J21/J$9*100,0) -> 22.878333 | L21: =[1]MercLab!U122 -> 109677.42 | M21: =IF(ISNUMBER(L21/L$9*100),L21/L$9*100,0) -> 19.403614 | N21: =[1]MercLab!V122 -> 50819.296 | O21: =IF(ISNUMBER(N21/N$9*100),N21/N$9*100,0) -> 0
A22: Superior | B22: =[1]MercLab!Q123 -> 123071.49 | C22: =IF(ISNUMBER(B22/B$9*100),B22/B$9*100,0) -> 10.209967 | D22: =F22+H22+J22 -> 104036.37 | E22: =IF(ISNUMBER(D22/D$9*100),D22/D$9*100,0) -> 20.955494 | F22: =[1]MercLab!R123 -> 49536.389 | G22: =IF(ISNUMBER(F22/F$9*100),F22/F$9*100,0) -> 45.812375 | H22: =[1]MercLab!S123 -> 54499.984 | I22: =IF(ISNUMBER(H22/H$9*100),H22/H$9*100,0) -> 18.270633 | J22: =[1]MercLab!T123 -> 0 | K22: =IF(ISNUMBER(J22/J$9*100),J22/J$9*100,0) -> 0 | L22: =[1]MercLab!U123 -> 13477.243 | M22: =IF(ISNUMBER(L22/L$9*100),L22/L$9*100,0) -> 2.3843306 | N22: =[1]MercLab!V123 -> 5557.8736 | O22: =IF(ISNUMBER(N22/N$9*100),N22/N$9*100,0) -> 0
A23: No sabe, no responde | B23: =[1]MercLab!Q124 -> 3563.2847 | C23: =IF(ISNUMBER(B23/B$9*100),B23/B$9*100,0) -> 0.29560882 | D23: =F23+H23+J23 -> 2127.6104 | E23: =IF(ISNUMBER(D23/D$9*100),D23/D$9*100,0) -> 0.42855326 | F23: =[1]MercLab!R124 -> 450.03921 | G23: =IF(ISNUMBER(F23/F$9*100),F23/F$9*100,0) -> 0.41620646 | H23: =[1]MercLab!S124 -> 765.23612 | I23: =IF(ISNUMBER(H23/H$9*100),H23/H$9*100,0) -> 0.25653858 | J23: =[1]MercLab!T124 -> 912.33508 | K23: =IF(ISNUMBER(J23/J$9*100),J23/J$9*100,0) -> 1.0132348 | L23: =[1]MercLab!U124 -> 1435.6743 | M23: =IF(ISNUMBER(L23/L$9*100),L23/L$9*100,0) -> 0.25399276 | N23: =[1]MercLab!V124 -> 0 | O23: =IF(ISNUMBER(N23/N$9*100),N23/N$9*100,0) -> 0
D24: =F24+H24+J24 -> 0
A25: Rango de Edad
A26: De 10 a 11 años | B26: =[1]MercLab!Q126 -> 7994.6027 | C26: =IF(ISNUMBER(B26/B$9*100),B26/B$9*100,0) -> 0.66322937 | D26: =F26+H26+J26 -> 0 | E26: =IF(ISNUMBER(D26/D$9*100),D26/D$9*100,0) -> 0 | F26: =[1]MercLab!R126 -> 0 | G26: =IF(ISNUMBER(F26/F$9*100),F26/F$9*100,0) -> 0 | H26: =[1]MercLab!S126 -> 0 | I26: =IF(ISNUMBER(H26/H$9*100),H26/H$9*100,0) -> 0 | J26: =[1]MercLab!T126 -> 0 | K26: =IF(ISNUMBER(J26/J$9*100),J26/J$9*100,0) -> 0 | L26: =[1]MercLab!U126 -> 569.80255 | M26: =IF(ISNUMBER(L26/L$9*100),L26/L$9*100,0) -> 0.10080679 | N26: =[1]MercLab!V126 -> 7424.8002 | O26: =IF(ISNUMBER(N26/N$9*100),N26/N$9*100,0) -> 0
A27: De 12 a 14 años | B27: =[1]MercLab!Q127 -> 31187.448 | C27: =IF(ISNUMBER(B27/B$9*100),B27/B$9*100,0) -> 2.5872995 | D27: =F27+H27+J27 -> 4524.0376 | E27: =IF(ISNUMBER(D27/D$9*100),D27/D$9*100,0) -> 0.91125285 | F27: =[1]MercLab!R127 -> 0 | G27: =IF(ISNUMBER(F27/F$9*100),F27/F$9*100,0) -> 0 | H27: =[1]MercLab!S127 -> 2918.9285 | I27: =IF(ISNUMBER(H27/H$9*100),H27/H$9*100,0) -> 0.97854469 | J27: =[1]MercLab!T127 -> 1605.1091 | K27: =IF(ISNUMBER(J27/J$9*100),J27/J$9*100,0) -> 1.7826262 | L27: =[1]MercLab!U127 -> 1055.7835 | M27: =IF(ISNUMBER(L27/L$9*100),L27/L$9*100,0) -> 0.18678427 | N27: =[1]MercLab!V127 -> 25607.627 | O27: =IF(ISNUMBER(N27/N$9*100),N27/N$9*100,0) -> 0
A28: De 15 a 18 años | B28: =[1]MercLab!Q128 -> 79644.197 | C28: =IF(ISNUMBER(B28/B$9*100),B28/B$9*100,0) -> 6.607254 | D28: =F28+H28+J28 -> 35413.983 | E28: =IF(ISNUMBER(D28/D$9*100),D28/D$9*100,0) -> 7.1332505 | F28: =[1]MercLab!R128 -> 234.58346 | G28: =IF(ISNUMBER(F28/F$9*100),F28/F$9*100,0) -> 0.2169481 | H28: =[1]MercLab!S128 -> 17044.184 | I28: =IF(ISNUMBER(H28/H$9*100),H28/H$9*100,0) -> 5.7139106 | J28: =[1]MercLab!T128 -> 18135.215 | K28: =IF(ISNUMBER(J28/J$9*100),J28/J$9*100,0) -> 20.14088 | L28: =[1]MercLab!U128 -> 11451.144 | M28: =IF(ISNUMBER(L28/L$9*100),L28/L$9*100,0) -> 2.0258827 | N28: =[1]MercLab!V128 -> 32779.07 | O28: =IF(ISNUMBER(N28/N$9*100),N28/N$9*100,0) -> 0
A29: De 19 a 24 años | B29: =[1]MercLab!Q129 -> 171341.34 | C29: =IF(ISNUMBER(B29/B$9*100),B29/B$9*100,0) -> 14.214416 | D29: =F29+H29+J29 -> 110709.51 | E29: =IF(ISNUMBER(D29/D$9*100),D29/D$9*100,0) -> 22.299629 | F29: =[1]MercLab!R129 -> 11876.191 | G29: =IF(ISNUMBER(F29/F$9*100),F29/F$9*100,0) -> 10.98337 | H29: =[1]MercLab!S129 -> 77160.679 | I29: =IF(ISNUMBER(H29/H$9*100),H29/H$9*100,0) -> 25.867428 | J29: =[1]MercLab!T129 -> 21672.641 | K29: =IF(ISNUMBER(J29/J$9*100),J29/J$9*100,0) -> 24.069527 | L29: =[1]MercLab!U129 -> 36073.474 | M29: =IF(ISNUMBER(L29/L$9*100),L29/L$9*100,0) -> 6.3819497 | N29: =[1]MercLab!V129 -> 24558.359 | O29: =IF(ISNUMBER(N29/N$9*100),N29/N$9*100,0) -> 0
A30: De 25 a 29 años | B30: =[1]MercLab!Q130 -> 141176.84 | C30: =IF(ISNUMBER(B30/B$9*100),B30/B$9*100,0) -> 11.71198 | D30: =F30+H30+J30 -> 84312.417 | E30: =IF(ISNUMBER(D30/D$9*100),D30/D$9*100,0) -> 16.982602 | F30: =[1]MercLab!R130 -> 14226.304 | G30: =IF(ISNUMBER(F30/F$9*100),F30/F$9*100,0) -> 13.156808 | H30: =[1]MercLab!S130 -> 56224.282 | I30: =IF(ISNUMBER(H30/H$9*100),H30/H$9*100,0) -> 18.848688 | J30: =[1]MercLab!T130 -> 13861.83 | K30: =IF(ISNUMBER(J30/J$9*100),J30/J$9*100,0) -> 15.39488 | L30: =[1]MercLab!U130 -> 43800.548 | M30: =IF(ISNUMBER(L30/L$9*100),L30/L$9*100,0) -> 7.7489874 | N30: =[1]MercLab!V130 -> 13063.876 | O30: =IF(ISNUMBER(N30/N$9*100),N30/N$9*100,0) -> 0
A31: De 30 a 35 años | B31: =[1]MercLab!Q131 -> 187357.82 | C31: =IF(ISNUMBER(B31/B$9*100),B31/B$9*100,0) -> 15.543137 | D31: =F31+H31+J31 -> 91280.294 | E31: =IF(ISNUMBER(D31/D$9*100),D31/D$9*100,0) -> 18.386105 | F31: =[1]MercLab!R131 -> 19409.345 | G31: =IF(ISNUMBER(F31/F$9*100),F31/F$9*100,0) -> 17.950202 | H31: =[1]MercLab!S131 -> 60618.634 | I31: =IF(ISNUMBER(H31/H$9*100),H31/H$9*100,0) -> 20.321855 | J31: =[1]MercLab!T131 -> 11252.315 | K31: =IF(ISNUMBER(J31/J$9*100),J31/J$9*100,0) -> 12.496765 | L31: =[1]MercLab!U131 -> 85497.024 | M31: =IF(ISNUMBER(L31/L$9*100),L31/L$9*100,0) -> 15.125732 | N31: =[1]MercLab!V131 -> 10580.501 | O31: =IF(ISNUMBER(N31/N$9*100),N31/N$9*100,0) -> 0
A32: De 36 a 44 años | B32: =[1]MercLab!Q132 -> 209811.12 | C32: =IF(ISNUMBER(B32/B$9*100),B32/B$9*100,0) -> 17.405855 | D32: =F32+H32+J32 -> 83240.494 | E32: =IF(ISNUMBER(D32/D$9*100),D32/D$9*100,0) -> 16.766691 | F32: =[1]MercLab!R132 -> 25087.804 | G32: =IF(ISNUMBER(F32/F$9*100),F32/F$9*100,0) -> 23.201769 | H32: =[1]MercLab!S132 -> 47974.453 | I32: =IF(ISNUMBER(H32/H$9*100),H32/H$9*100,0) -> 16.083007 | J32: =[1]MercLab!T132 -> 10178.237 | K32: =IF(ISNUMBER(J32/J$9*100),J32/J$9*100,0) -> 11.303899 | L32: =[1]MercLab!U132 -> 114686.47 | M32: =IF(ISNUMBER(L32/L$9*100),L32/L$9*100,0) -> 20.289792 | N32: =[1]MercLab!V132 -> 11884.154 | O32: =IF(ISNUMBER(N32/N$9*100),N32/N$9*100,0) -> 0
A33: De 45 a 59 años | B33: =[1]MercLab!Q133 -> 269726.71 | C33: =IF(ISNUMBER(B33/B$9*100),B33/B$9*100,0) -> 22.376431 | D33: =F33+H33+J33 -> 76067.235 | E33: =IF(ISNUMBER(D33/D$9*100),D33/D$9*100,0) -> 15.321819 | F33: =[1]MercLab!R133 -> 34317.729 | G33: =IF(ISNUMBER(F33/F$9*100),F33/F$9*100,0) -> 31.737813 | H33: =[1]MercLab!S133 -> 30964.974 | I33: =IF(ISNUMBER(H33/H$9*100),H33/H$9*100,0) -> 10.380731 | J33: =[1]MercLab!T133 -> 10784.532 | K33: =IF(ISNUMBER(J33/J$9*100),J33/J$9*100,0) -> 11.977247 | L33: =[1]MercLab!U133 -> 181181.3 | M33: =IF(ISNUMBER(L33/L$9*100),L33/L$9*100,0) -> 32.053745 | N33: =[1]MercLab!V133 -> 12478.179 | O33: =IF(ISNUMBER(N33/N$9*100),N33/N$9*100,0) -> 0
A34: De 60 años y más | B34: =[1]MercLab!Q134 -> 107165.34 | C34: =IF(ISNUMBER(B34/B$9*100),B34/B$9*100,0) -> 8.8903977 | D34: =F34+H34+J34 -> 10915.501 | E34: =IF(ISNUMBER(D34/D$9*100),D34/D$9*100,0) -> 2.1986513 | F34: =[1]MercLab!R134 -> 2976.8826 | G34: =IF(ISNUMBER(F34/F$9*100),F34/F$9*100,0) -> 2.7530885 | H34: =[1]MercLab!S134 -> 5386.6747 | I34: =IF(ISNUMBER(H34/H$9*100),H34/H$9*100,0) -> 1.8058346 | J34: =[1]MercLab!T134 -> 2551.9433 | K34: =IF(ISNUMBER(J34/J$9*100),J34/J$9*100,0) -> 2.8341755 | L34: =[1]MercLab!U134 -> 90926.671 | M34: =IF(ISNUMBER(L34/L$9*100),L34/L$9*100,0) -> 16.08632 | N34: =[1]MercLab!V134 -> 5323.1639 | O34: =IF(ISNUMBER(N34/N$9*100),N34/N$9*100,0) -> 0
D35: =F35+H35+J35 -> 0
A36: No. de Salarios Mínimos 3/
A37: Menos de un salario | B37: =SUM(B38:B40) -> 727772.75 | C37: =IF(ISNUMBER(B37/B$9*100),B37/B$9*100,0) -> 60.375766 | D37: =F37+H37+J37 -> 257337.06 | E37: =IF(ISNUMBER(D37/D$9*100),D37/D$9*100,0) -> 51.834037 | F37: =SUM(F38:F40) -> 13330.707 | G37: =IF(ISNUMBER(F37/F$9*100),F37/F$9*100,0) -> 12.32854 | H37: =SUM(H38:H40) -> 159881.85 | I37: =IF(ISNUMBER(H37/H$9*100),H37/H$9*100,0) -> 53.598962 | J37: =SUM(J38:J40) -> 84124.501 | K37: =IF(ISNUMBER(J37/J$9*100),J37/J$9*100,0) -> 93.428251 | L37: =SUM(L38:L40) -> 470435.69 | M37: =IF(ISNUMBER(L37/L$9*100),L37/L$9*100,0) -> 83.227275 | N37: =SUM(N38:N40) -> 0 | O37: =IF(ISNUMBER(N37/N$9*100),N37/N$9*100,0) -> 0
A38: Menos de 1 salario y trab <36 horas | B38: =[1]MercLab!Q139 -> 434702.4 | C38: =IF(ISNUMBER(B38/B$9*100),B38/B$9*100,0) -> 36.062755 | D38: =F38+H38+J38 -> 77927.099 | E38: =IF(ISNUMBER(D38/D$9*100),D38/D$9*100,0) -> 15.696442 | F38: =[1]MercLab!R139 -> 7761.492 | G38: =IF(ISNUMBER(F38/F$9*100),F38/F$9*100,0) -> 7.1780036 | H38: =[1]MercLab!S139 -> 48859.875 | I38: =IF(ISNUMBER(H38/H$9*100),H38/H$9*100,0) -> 16.379837 | J38: =[1]MercLab!T139 -> 21305.731 | K38: =IF(ISNUMBER(J38/J$9*100),J38/J$9*100,0) -> 23.662039 | L38: =[1]MercLab!U139 -> 356775.3 | M38: =IF(ISNUMBER(L38/L$9*100),L38/L$9*100,0) -> 63.119012 | N38: =[1]MercLab!V139 -> 0 | O38: =IF(ISNUMBER(N38/N$9*100),N38/N$9*100,0) -> 0
A39: Menos de 1 salario y trab >=36 horas | B39: =[1]MercLab!Q140 -> 292835.77 | C39: =IF(ISNUMBER(B39/B$9*100),B39/B$9*100,0) -> 24.29355 | D39: =F39+H39+J39 -> 179409.96 | E39: =IF(ISNUMBER(D39/D$9*100),D39/D$9*100,0) -> 36.137595 | F39: =[1]MercLab!R140 -> 5569.2151 | G39: =IF(ISNUMBER(F39/F$9*100),F39/F$9*100,0) -> 5.1505363 | H39: =[1]MercLab!S140 -> 111021.97 | I39: =IF(ISNUMBER(H39/H$9*100),H39/H$9*100,0) -> 37.219125 | J39: =[1]MercLab!T140 -> 62818.77 | K39: =IF(ISNUMBER(J39/J$9*100),J39/J$9*100,0) -> 69.766212 | L39: =[1]MercLab!U140 -> 113425.81 | M39: =IF(ISNUMBER(L39/L$9*100),L39/L$9*100,0) -> 20.066762 | N39: =[1]MercLab!V140 -> 0 | O39: =IF(ISNUMBER(N39/N$9*100),N39/N$9*100,0) -> 0
A40: Menos de 1 salario y no decl. horas | B40: =[1]MercLab!Q141 -> 234.58346 | C40: =IF(ISNUMBER(B40/B$9*100),B40/B$9*100,0) -> 0.01946096 | D40: =F40+H40+J40 -> 0 | E40: =IF(ISNUMBER(D40/D$9*100),D40/D$9*100,0) -> 0 | F40: =[1]MercLab!R141 -> 0 | G40: =IF(ISNUMBER(F40/F$9*100),F40/F$9*100,0) -> 0 | H40: =[1]MercLab!S141 -> 0 | I40: =IF(ISNUMBER(H40/H$9*100),H40/H$9*100,0) -> 0 | J40: =[1]MercLab!T141 -> 0 | K40: =IF(ISNUMBER(J40/J$9*100),J40/J$9*100,0) -> 0 | L40: =[1]MercLab!U141 -> 234.58346 | M40: =IF(ISNUMBER(L40/L$9*100),L40/L$9*100,0) -> 0.041501405 | N40: =[1]MercLab!V141 -> 0 | O40: =IF(ISNUMBER(N40/N$9*100),N40/N$9*100,0) -> 0
A41: De 1 a 2 salarios | B41: =[1]MercLab!Q142 -> 227682.79 | C41: =IF(ISNUMBER(B41/B$9*100),B41/B$9*100,0) -> 18.888483 | D41: =F41+H41+J41 -> 167807.24 | E41: =IF(ISNUMBER(D41/D$9*100),D41/D$9*100,0) -> 33.800522 | F41: =[1]MercLab!R142 -> 52676.84 | G41: =IF(ISNUMBER(F41/F$9*100),F41/F$9*100,0) -> 48.716735 | H41: =[1]MercLab!S142 -> 109213.08 | I41: =IF(ISNUMBER(H41/H$9*100),H41/H$9*100,0) -> 36.61271 | J41: =[1]MercLab!T142 -> 5917.3227 | K41: =IF(ISNUMBER(J41/J$9*100),J41/J$9*100,0) -> 6.5717491 | L41: =[1]MercLab!U142 -> 59875.549 | M41: =IF(ISNUMBER(L41/L$9*100),L41/L$9*100,0) -> 10.592901 | N41: =[1]MercLab!V142 -> 0 | O41: =IF(ISNUMBER(N41/N$9*100),N41/N$9*100,0) -> 0
A42: De 2 a 3 salarios | B42: =[1]MercLab!Q143 -> 47792.42 | C42: =IF(ISNUMBER(B42/B$9*100),B42/B$9*100,0) -> 3.964842 | D42: =F42+H42+J42 -> 35759.205 | E42: =IF(ISNUMBER(D42/D$9*100),D42/D$9*100,0) -> 7.2027867 | F42: =[1]MercLab!R143 -> 22255.994 | G42: =IF(ISNUMBER(F42/F$9*100),F42/F$9*100,0) -> 20.582848 | H42: =[1]MercLab!S143 -> 13503.21 | I42: =IF(ISNUMBER(H42/H$9*100),H42/H$9*100,0) -> 4.5268306 | J42: =[1]MercLab!T143 -> 0 | K42: =IF(ISNUMBER(J42/J$9*100),J42/J$9*100,0) -> 0 | L42: =[1]MercLab!U143 -> 12033.215 | M42: =IF(ISNUMBER(L42/L$9*100),L42/L$9*100,0) -> 2.12886 | N42: =[1]MercLab!V143 -> 0 | O42: =IF(ISNUMBER(N42/N$9*100),N42/N$9*100,0) -> 0
A43: De 3 a 4 salarios | B43: =[1]MercLab!Q144 -> 20148.513 | C43: =IF(ISNUMBER(B43/B$9*100),B43/B$9*100,0) -> 1.6715134 | D43: =F43+H43+J43 -> 16624.243 | E43: =IF(ISNUMBER(D43/D$9*100),D43/D$9*100,0) -> 3.348533 | F43: =[1]MercLab!R144 -> 10793.169 | G43: =IF(ISNUMBER(F43/F$9*100),F43/F$9*100,0) -> 9.9817669 | H43: =[1]MercLab!S144 -> 5831.0743 | I43: =IF(ISNUMBER(H43/H$9*100),H43/H$9*100,0) -> 1.9548156 | J43: =[1]MercLab!T144 -> 0 | K43: =IF(ISNUMBER(J43/J$9*100),J43/J$9*100,0) -> 0 | L43: =[1]MercLab!U144 -> 3524.2703 | M43: =IF(ISNUMBER(L43/L$9*100),L43/L$9*100,0) -> 0.62349736 | N43: =[1]MercLab!V144 -> 0 | O43: =IF(ISNUMBER(N43/N$9*100),N43/N$9*100,0) -> 0
A44: De 4 salarios y más | B44: =[1]MercLab!Q145 -> 14845.811 | C44: =IF(ISNUMBER(B44/B$9*100),B44/B$9*100,0) -> 1.2316032 | D44: =F44+H44+J44 -> 12569.753 | E44: =IF(ISNUMBER(D44/D$9*100),D44/D$9*100,0) -> 2.5318585 | F44: =[1]MercLab!R145 -> 7132.1857 | G44: =IF(ISNUMBER(F44/F$9*100),F44/F$9*100,0) -> 6.5960069 | H44: =[1]MercLab!S145 -> 5437.5671 | I44: =IF(ISNUMBER(H44/H$9*100),H44/H$9*100,0) -> 1.8228958 | J44: =[1]MercLab!T145 -> 0 | K44: =IF(ISNUMBER(J44/J$9*100),J44/J$9*100,0) -> 0 | L44: =[1]MercLab!U145 -> 2276.0586 | M44: =IF(ISNUMBER(L44/L$9*100),L44/L$9*100,0) -> 0.40266961 | N44: =[1]MercLab!V145 -> 0 | O44: =IF(ISNUMBER(N44/N$9*100),N44/N$9*100,0) -> 0
D45: =F45+H45+J45 -> 0
A46: Rama de Actividad
A47: Primaria | B47: =[1]MercLab!Q147 -> 144053.01 | C47: =IF(ISNUMBER(B47/B$9*100),B47/B$9*100,0) -> 11.950586 | D47: =F47+H47+J47 -> 21392.938 | E47: =IF(ISNUMBER(D47/D$9*100),D47/D$9*100,0) -> 4.3090659 | F47: =[1]MercLab!R147 -> 0 | G47: =IF(ISNUMBER(F47/F$9*100),F47/F$9*100,0) -> 0 | H47: =[1]MercLab!S147 -> 21392.938 | I47: =IF(ISNUMBER(H47/H$9*100),H47/H$9*100,0) -> 7.1717914 | J47: =[1]MercLab!T147 -> 0 | K47: =IF(ISNUMBER(J47/J$9*100),J47/J$9*100,0) -> 0 | L47: =[1]MercLab!U147 -> 103325.51 | M47: =IF(ISNUMBER(L47/L$9*100),L47/L$9*100,0) -> 18.279864 | N47: =[1]MercLab!V147 -> 19334.565 | O47: =IF(ISNUMBER(N47/N$9*100),N47/N$9*100,0) -> 0
A48: Secundaria | B48: =[1]MercLab!Q148 -> 250608.09 | C48: =IF(ISNUMBER(B48/B$9*100),B48/B$9*100,0) -> 20.790357 | D48: =F48+H48+J48 -> 81830.803 | E48: =IF(ISNUMBER(D48/D$9*100),D48/D$9*100,0) -> 16.482744 | F48: =[1]MercLab!R148 -> 0 | G48: =IF(ISNUMBER(F48/F$9*100),F48/F$9*100,0) -> 0 | H48: =[1]MercLab!S148 -> 81830.803 | I48: =IF(ISNUMBER(H48/H$9*100),H48/H$9*100,0) -> 27.433046 | J48: =[1]MercLab!T148 -> 0 | K48: =IF(ISNUMBER(J48/J$9*100),J48/J$9*100,0) -> 0 | L48: =[1]MercLab!U148 -> 132653.26 | M48: =IF(ISNUMBER(L48/L$9*100),L48/L$9*100,0) -> 23.468392 | N48: =[1]MercLab!V148 -> 36124.022 | O48: =IF(ISNUMBER(N48/N$9*100),N48/N$9*100,0) -> 0
A49: Terciaria | B49: =[1]MercLab!Q149 -> 808543.95 | C49: =IF(ISNUMBER(B49/B$9*100),B49/B$9*100,0) -> 67.076515 | D49: =F49+H49+J49 -> 392577.46 | E49: =IF(ISNUMBER(D49/D$9*100),D49/D$9*100,0) -> 79.074792 | F49: =[1]MercLab!R149 -> 107620.54 | G49: =IF(ISNUMBER(F49/F$9*100),F49/F$9*100,0) -> 99.529909 | H49: =[1]MercLab!S149 -> 194915.1 | I49: =IF(ISNUMBER(H49/H$9*100),H49/H$9*100,0) -> 65.343546 | J49: =[1]MercLab!T149 -> 90041.823 | K49: =IF(ISNUMBER(J49/J$9*100),J49/J$9*100,0) -> 100 | L49: =[1]MercLab!U149 -> 328272.81 | M49: =IF(ISNUMBER(L49/L$9*100),L49/L$9*100,0) -> 58.076486 | N49: =[1]MercLab!V149 -> 87693.677 | O49: =IF(ISNUMBER(N49/N$9*100),N49/N$9*100,0) -> 0
A50: No sabe, no responde | B50: =[1]MercLab!Q150 -> 2200.376 | C50: =IF(ISNUMBER(B50/B$9*100),B50/B$9*100,0) -> 0.1825424 | D50: =F50+H50+J50 -> 662.27441 | E50: =IF(ISNUMBER(D50/D$9*100),D50/D$9*100,0) -> 0.13339842 | F50: =[1]MercLab!R150 -> 508.3044 | G50: =IF(ISNUMBER(F50/F$9*100),F50/F$9*100,0) -> 0.47009142 | H50: =[1]MercLab!S150 -> 153.97001 | I50: =IF(ISNUMBER(H50/H$9*100),H50/H$9*100,0) -> 0.051617071 | J50: =[1]MercLab!T150 -> 0 | K50: =IF(ISNUMBER(J50/J$9*100),J50/J$9*100,0) -> 0 | L50: =[1]MercLab!U150 -> 990.63486 | M50: =IF(ISNUMBER(L50/L$9*100),L50/L$9*100,0) -> 0.17525847 | N50: =[1]MercLab!V150 -> 547.46671 | O50: =IF(ISNUMBER(N50/N$9*100),N50/N$9*100,0) -> 0
A51: Busca trabajo por primera vez | B51: =[1]MercLab!Q151 -> 0 | C51: =IF(ISNUMBER(B51/B$9*100),B51/B$9*100,0) -> 0 | D51: =F51+H51+J51 -> 0 | E51: =IF(ISNUMBER(D51/D$9*100),D51/D$9*100,0) -> 0 | F51: =[1]MercLab!R151 -> 0 | G51: =IF(ISNUMBER(F51/F$9*100),F51/F$9*100,0) -> 0 | H51: =[1]MercLab!S151 -> 0 | I51: =IF(ISNUMBER(H51/H$9*100),H51/H$9*100,0) -> 0 | J51: =[1]MercLab!T151 -> 0 | K51: =IF(ISNUMBER(J51/J$9*100),J51/J$9*100,0) -> 0 | L51: =[1]MercLab!U151 -> 0 | M51: =IF(ISNUMBER(L51/L$9*100),L51/L$9*100,0) -> 0 | N51: =[1]MercLab!V151 -> 0 | O51: =IF(ISNUMBER(N51/N$9*100),N51/N$9*100,0) -> 0
A53: ='C05'!A42 -> Fuente: Instituto Nacional de Estadística (INE). XL Encuesta Permanente de Hogares de Propósitos Múltiples, Septiembre 2010.
A54: ='C05'!A43 -> El salario mínimo en el área urbana es Lps. 5,500 y en la área rural es Lps. 4,055 (Promedio de salarios mínimos por rama)
A55: 1/ Porcentaje por columnas
A56: 2/ Porcentaje por filas
A57: 3/ No. de salarios mínimos (personas que declaran ingresos) y trabajan 36 Hrs. o mas
A59: Cuadro No. 3. Personas ocupadas por categoría ocupacional, según dominio, nivel educativo, rango de edad, sexo,
A60: número de salarios mínimos, rama de actividad y ocupación
A61: Ocupación Principal
A62: Mujeres
A63: ....... Continuación
A64: Categorías | B64: Total Ocupados | D64: Asalariados | L64: Cuenta propia | N64: Trab. fam. no remu.
D65: Total Asalariados | F65: Público | H65: Privado | J65: Doméstico
B66: No. | C66: % 1/ | D66: No. | E66: % 1/ | F66: No. | G66: % 1/ | H66: No. | I66: % 1/ | J66: No. | K66: % 1/ | L66: No. | M66: % 1/ | N66: No. | O66: % 1/
A68: Total Nacional 2/ | B68: =B9 -> 1205405.4 | C68: =C9 -> 88.078722 | D68: =D9 -> 496463.47 | E68: =E9 -> 41.186431 | F68: =F9 -> 108128.84 | G68: =G9 -> 8.9703297 | H68: =H9 -> 298292.81 | I68: =I9 -> 24.746264 | ... O68: =O9 -> 0
D69: =F69+H69+J69 -> 0
A70: Rama de Actividad (1 dig.)
A71: Agricultura, Silvicultura, Caza y Pesca | B71: =[1]MercLab!Q153 -> 143528.29 | C71: =IF(ISNUMBER(B71/B$68*100),B71/B$68*100,0) -> 11.907055 | D71: =F71+H71+J71 -> 20868.22 | E71: =IF(ISNUMBER(D71/D$68*100),D71/D$68*100,0) -> 4.2033748 | F71: =[1]MercLab!R153 -> 0 | G71: =IF(ISNUMBER(F71/F$68*100),F71/F$68*100,0) -> 0 | H71: =[1]MercLab!S153 -> 20868.22 | I71: =IF(ISNUMBER(H71/H$68*100),H71/H$68*100,0) -> 6.9958845 | J71: =[1]MercLab!T153 -> 0 | K71: =IF(ISNUMBER(J71/J$68*100),J71/J$68*100,0) -> 0 | L71: =[1]MercLab!U153 -> 103325.51 | M71: =IF(ISNUMBER(L71/L$68*100),L71/L$68*100,0) -> 18.279864 | N71: =[1]MercLab!V153 -> 19334.565 | O71: =IF(ISNUMBER(N71/N$68*100),N71/N$68*100,0) -> 0
A72: Explotación de minas y canteras | B72: =[1]MercLab!Q154 -> 524.71784 | C72: =IF(ISNUMBER(B72/B$68*100),B72/B$68*100,0) -> 0.043530404 | D72: =F72+H72+J72 -> 524.71784 | E72: =IF(ISNUMBER(D72/D$68*100),D72/D$68*100,0) -> 0.10569113 | F72: =[1]MercLab!R154 -> 0 | G72: =IF(ISNUMBER(F72/F$68*100),F72/F$68*100,0) -> 0 | H72: =[1]MercLab!S154 -> 524.71784 | I72: =IF(ISNUMBER(H72/H$68*100),H72/H$68*100,0) -> 0.17590697 | J72: =[1]MercLab!T154 -> 0 | K72: =IF(ISNUMBER(J72/J$68*100),J72/J$68*100,0) -> 0 | L72: =[1]MercLab!U154 -> 0 | M72: =IF(ISNUMBER(L72/L$68*100),L72/L$68*100,0) -> 0 | N72: =[1]MercLab!V154 -> 0 | O72: =IF(ISNUMBER(N72/N$68*100),N72/N$68*100,0) -> 0
A73: Industria manufacturera | B73: =[1]MercLab!Q155 -> 250608.09 | C73: =IF(ISNUMBER(B73/B$68*100),B73/B$68*100,0) -> 20.790357 | D73: =F73+H73+J73 -> 81830.803 | E73: =IF(ISNUMBER(D73/D$68*100),D73/D$68*100,0) -> 16.482744 | F73: =[1]MercLab!R155 -> 0 | G73: =IF(ISNUMBER(F73/F$68*100),F73/F$68*100,0) -> 0 | H73: =[1]MercLab!S155 -> 81830.803 | I73: =IF(ISNUMBER(H73/H$68*100),H73/H$68*100,0) -> 27.433046 | J73: =[1]MercLab!T155 -> 0 | K73: =IF(ISNUMBER(J73/J$68*100),J73/J$68*100,0) -> 0 | L73: =[1]MercLab!U155 -> 132653.26 | M73: =IF(ISNUMBER(L73/L$68*100),L73/L$68*100,0) -> 23.468392 | N73: =[1]MercLab!V155 -> 36124.022 | O73: =IF(ISNUMBER(N73/N$68*100),N73/N$68*100,0) -> 0
A74: Electricidad, gas y agua | B74: =[1]MercLab!Q156 -> 1813.7628 | C74: =IF(ISNUMBER(B74/B$68*100),B74/B$68*100,0) -> 0.15046911 | D74: =F74+H74+J74 -> 1813.7628 | E74: =IF(ISNUMBER(D74/D$68*100),D74/D$68*100,0) -> 0.3653366 | F74: =[1]MercLab!R156 -> 1117.2693 | G74: =IF(ISNUMBER(F74/F$68*100),F74/F$68*100,0) -> 1.0332759 | H74: =[1]MercLab!S156 -> 696.4935 | I74: =IF(ISNUMBER(H74/H$68*100),H74/H$68*100,0) -> 0.23349322 | J74: =[1]MercLab!T156 -> 0 | K74: =IF(ISNUMBER(J74/J$68*100),J74/J$68*100,0) -> 0 | L74: =[1]MercLab!U156 -> 0 | M74: =IF(ISNUMBER(L74/L$68*100),L74/L$68*100,0) -> 0 | N74: =[1]MercLab!V156 -> 0 | O74: =IF(ISNUMBER(N74/N$68*100),N74/N$68*100,0) -> 0
A75: Construcción | B75: =[1]MercLab!Q157 -> 2263.3485 | C75: =IF(ISNUMBER(B75/B$68*100),B75/B$68*100,0) -> 0.18776657 | D75: =F75+H75+J75 -> 2109.3784 | E75: =IF(ISNUMBER(D75/D$68*100),D75/D$68*100,0) -> 0.4248809 | F75: =[1]MercLab!R157 -> 281.50015 | G75: =IF(ISNUMBER(F75/F$68*100),F75/F$68*100,0) -> 0.26033772 | H75: =[1]MercLab!S157 -> 1827.8783 | I75: =IF(ISNUMBER(H75/H$68*100),H75/H$68*100,0) -> 0.61277987 | J75: =[1]MercLab!T157 -> 0 | K75: =IF(ISNUMBER(J75/J$68*100),J75/J$68*100,0) -> 0 | L75: =[1]MercLab!U157 -> 153.97001 | M75: =IF(ISNUMBER(L75/L$68*100),L75/L$68*100,0) -> 0.027239652 | N75: =[1]MercLab!V157 -> 0 | O75: =IF(ISNUMBER(N75/N$68*100),N75/N$68*100,0) -> 0
A76: Comercio por Mayor / menor, Hoteles / restaurantes | B76: =[1]MercLab!Q158 -> 408218.56 | C76: =IF(ISNUMBER(B76/B$68*100),B76/B$68*100,0) -> 33.865665 | D76: =F76+H76+J76 -> 83704.009 | E76: =IF(ISNUMBER(D76/D$68*100),D76/D$68*100,0) -> 16.860054 | F76: =[1]MercLab!R158 -> 0 | G76: =IF(ISNUMBER(F76/F$68*100),F76/F$68*100,0) -> 0 | H76: =[1]MercLab!S158 -> 83704.009 | I76: =IF(ISNUMBER(H76/H$68*100),H76/H$68*100,0) -> 28.061021 | J76: =[1]MercLab!T158 -> 0 | K76: =IF(ISNUMBER(J76/J$68*100),J76/J$68*100,0) -> 0 | L76: =[1]MercLab!U158 -> 245001.98 | M76: =IF(ISNUMBER(L76/L$68*100),L76/L$68*100,0) -> 43.3446 | N76: =[1]MercLab!V158 -> 79512.579 | O76: =IF(ISNUMBER(N76/N$68*100),N76/N$68*100,0) -> 0
A77: Transp. almac. y comunicaciones | B77: =[1]MercLab!Q159 -> 9169.1404 | C77: =IF(ISNUMBER(B77/B$68*100),B77/B$68*100,0) -> 0.76066859 | D77: =F77+H77+J77 -> 7244.6615 | E77: =IF(ISNUMBER(D77/D$68*100),D77/D$68*100,0) -> 1.4592537 | F77: =[1]MercLab!R159 -> 765.23612 | G77: =IF(ISNUMBER(F77/F$68*100),F77/F$68*100,0) -> 0.7077077 | H77: =[1]MercLab!S159 -> 6479.4254 | I77: =IF(ISNUMBER(H77/H$68*100),H77/H$68*100,0) -> 2.1721695 | J77: =[1]MercLab!T159 -> 0 | K77: =IF(ISNUMBER(J77/J$68*100),J77/J$68*100,0) -> 0 | L77: =[1]MercLab!U159 -> 1178.3704 | M77: =IF(ISNUMBER(L77/L$68*100),L77/L$68*100,0) -> 0.20847177 | N77: =[1]MercLab!V159 -> 746.10841 | O77: =IF(ISNUMBER(N77/N$68*100),N77/N$68*100,0) -> 0
A78: Estab. finac. seguros, Bienes inmuebles y servicios | B78: =[1]MercLab!Q160 -> 35153.129 | C78: =IF(ISNUMBER(B78/B$68*100),B78/B$68*100,0) -> 2.9162909 | D78: =F78+H78+J78 -> 29169.033 | E78: =IF(ISNUMBER(D78/D$68*100),D78/D$68*100,0) -> 5.8753634 | F78: =[1]MercLab!R160 -> 920.10188 | G78: =IF(ISNUMBER(F78/F$68*100),F78/F$68*100,0) -> 0.85093106 | H78: =[1]MercLab!S160 -> 28248.931 | I78: =IF(ISNUMBER(H78/H$68*100),H78/H$68*100,0) -> 9.4702018 | J78: =[1]MercLab!T160 -> 0 | K78: =IF(ISNUMBER(J78/J$68*100),J78/J$68*100,0) -> 0 | L78: =[1]MercLab!U160 -> 5210.9716 | M78: =IF(ISNUMBER(L78/L$68*100),L78/L$68*100,0) -> 0.92190065 | N78: =[1]MercLab!V160 -> 773.12432 | O78: =IF(ISNUMBER(N78/N$68*100),N78/N$68*100,0) -> 0
A79: Servicios Comunales, Sociales y Personales | B79: =[1]MercLab!Q161 -> 351926 | C79: =IF(ISNUMBER(B79/B$68*100),B79/B$68*100,0) -> 29.195655 | D79: =F79+H79+J79 -> 268536.61 | E79: =IF(ISNUMBER(D79/D$68*100),D79/D$68*100,0) -> 54.089903 | F79: =[1]MercLab!R161 -> 104536.43 | G79: =IF(ISNUMBER(F79/F$68*100),F79/F$68*100,0) -> 96.677656 | H79: =[1]MercLab!S161 -> 73958.36 | I79: =IF(ISNUMBER(H79/H$68*100),H79/H$68*100,0) -> 24.79388 | J79: =[1]MercLab!T161 -> 90041.823 | K79: =IF(ISNUMBER(J79/J$68*100),J79/J$68*100,0) -> 100 | L79: =[1]MercLab!U161 -> 76727.525 | M79: =IF(ISNUMBER(L79/L$68*100),L79/L$68*100,0) -> 13.574274 | N79: =[1]MercLab!V161 -> 6661.865 | O79: =IF(ISNUMBER(N79/N$68*100),N79/N$68*100,0) -> 0
A80: No sabe, No responde | B80: =[1]MercLab!Q162 -> 2200.376 | C80: =IF(ISNUMBER(B80/B$68*100),B80/B$68*100,0) -> 0.1825424 | D80: =F80+H80+J80 -> 662.27441 | E80: =IF(ISNUMBER(D80/D$68*100),D80/D$68*100,0) -> 0.13339842 | F80: =[1]MercLab!R162 -> 508.3044 | G80: =IF(ISNUMBER(F80/F$68*100),F80/F$68*100,0) -> 0.47009142 | H80: =[1]MercLab!S162 -> 153.97001 | I80: =IF(ISNUMBER(H80/H$68*100),H80/H$68*100,0) -> 0.051617071 | J80: =[1]MercLab!T162 -> 0 | K80: =IF(ISNUMBER(J80/J$68*100),J80/J$68*100,0) -> 0 | L80: =[1]MercLab!U162 -> 990.63486 | M80: =IF(ISNUMBER(L80/L$68*100),L80/L$68*100,0) -> 0.17525847 | N80: =[1]MercLab!V162 -> 547.46671 | O80: =IF(ISNUMBER(N80/N$68*100),N80/N$68*100,0) -> 0
A81: Busca trabajo por primera vez | B81: =[1]MercLab!Q163 -> 0 | C81: =IF(ISNUMBER(B81/B$68*100),B81/B$68*100,0) -> 0 | D81: =F81+H81+J81 -> 0 | E81: =IF(ISNUMBER(D81/D$68*100),D81/D$68*100,0) -> 0 | F81: =[1]MercLab!R163 -> 0 | G81: =IF(ISNUMBER(F81/F$68*100),F81/F$68*100,0) -> 0 | H81: =[1]MercLab!S163 -> 0 | I81: =IF(ISNUMBER(H81/H$68*100),H81/H$68*100,0) -> 0 | J81: =[1]MercLab!T163 -> 0 | K81: =IF(ISNUMBER(J81/J$68*100),J81/J$68*100,0) -> 0 | L81: =[1]MercLab!U163 -> 0 | M81: =IF(ISNUMBER(L81/L$68*100),L81/L$68*100,0) -> 0 | N81: =[1]MercLab!V163 -> 0 | O81: =IF(ISNUMBER(N81/N$68*100),N81/N$68*100,0) -> 0
D82: =F82+H82+J82 -> 0
A83: Ocupación (1 Dig.)
A84: Profesionales, Técnicos y PEOA | B84: =[1]MercLab!Q165 -> 144405.13 | C84: =IF(ISNUMBER(B84/B$68*100),B84/B$68*100,0) -> 11.979797 | D84: =F84+H84+J84 -> 130146.3 | E84: =IF(ISNUMBER(D84/D$68*100),D84/D$68*100,0) -> 26.214677 | F84: =[1]MercLab!R165 -> 73456.753 | G84: =IF(ISNUMBER(F84/F$68*100),F84/F$68*100,0) -> 67.934469 | H84: =[1]MercLab!S165 -> 55973.482 | I84: =IF(ISNUMBER(H84/H$68*100),H84/H$68*100,0) -> 18.76461 | J84: =[1]MercLab!T165 -> 716.06224 | K84: =IF(ISNUMBER(J84/J$68*100),J84/J$68*100,0) -> 0.79525515 | L84: =[1]MercLab!U165 -> 11438.03 | M84: =IF(ISNUMBER(L84/L$68*100),L84/L$68*100,0) -> 2.0235626 | N84: =[1]MercLab!V165 -> 2820.798 | O84: =IF(ISNUMBER(N84/N$68*100),N84/N$68*100,0) -> 0
A85: Directores Gerentes y Administ. Grales. | B85: =[1]MercLab!Q166 -> 39292.139 | C85: =IF(ISNUMBER(B85/B$68*100),B85/B$68*100,0) -> 3.2596617 | D85: =F85+H85+J85 -> 19008.601 | E85: =IF(ISNUMBER(D85/D$68*100),D85/D$68*100,0) -> 3.8288016 | F85: =[1]MercLab!R166 -> 8155.1145 | G85: =IF(ISNUMBER(F85/F$68*100),F85/F$68*100,0) -> 7.5420346 | H85: =[1]MercLab!S166 -> 10853.487 | I85: =IF(ISNUMBER(H85/H$68*100),H85/H$68*100,0) -> 3.6385345 | J85: =[1]MercLab!T166 -> 0 | K85: =IF(ISNUMBER(J85/J$68*100),J85/J$68*100,0) -> 0 | L85: =[1]MercLab!U166 -> 19201.258 | M85: =IF(ISNUMBER(L85/L$68*100),L85/L$68*100,0) -> 3.3969964 | N85: =[1]MercLab!V166 -> 1082.2798 | O85: =IF(ISNUMBER(N85/N$68*100),N85/N$68*100,0) -> 0
A86: Empleados de Oficina | B86: =[1]MercLab!Q167 -> 47986.609 | C86: =IF(ISNUMBER(B86/B$68*100),B86/B$68*100,0) -> 3.9809518 | D86: =F86+H86+J86 -> 45811.641 | E86: =IF(ISNUMBER(D86/D$68*100),D86/D$68*100,0) -> 9.2275954 | F86: =[1]MercLab!R167 -> 11913.921 | G86: =IF(ISNUMBER(F86/F$68*100),F86/F$68*100,0) -> 11.018264 | H86: =[1]MercLab!S167 -> 33897.72 | I86: =IF(ISNUMBER(H86/H$68*100),H86/H$68*100,0) -> 11.363908 | J86: =[1]MercLab!T167 -> 0 | K86: =IF(ISNUMBER(J86/J$68*100),J86/J$68*100,0) -> 0 | L86: =[1]MercLab!U167 -> 838.59269 | M86: =IF(ISNUMBER(L86/L$68*100),L86/L$68*100,0) -> 0.14835988 | N86: =[1]MercLab!V167 -> 1336.3755 | O86: =IF(ISNUMBER(N86/N$68*100),N86/N$68*100,0) -> 0
A87: Comerciantes y Vendedores | B87: =[1]MercLab!Q168 -> 320154.56 | C87: =IF(ISNUMBER(B87/B$68*100),B87/B$68*100,0) -> 26.559907 | D87: =F87+H87+J87 -> 45924.965 | E87: =IF(ISNUMBER(D87/D$68*100),D87/D$68*100,0) -> 9.2504217 | F87: =[1]MercLab!R168 -> 281.50015 | G87: =IF(ISNUMBER(F87/F$68*100),F87/F$68*100,0) -> 0.26033772 | H87: =[1]MercLab!S168 -> 45643.464 | I87: =IF(ISNUMBER(H87/H$68*100),H87/H$68*100,0) -> 15.301564 | J87: =[1]MercLab!T168 -> 0 | K87: =IF(ISNUMBER(J87/J$68*100),J87/J$68*100,0) -> 0 | L87: =[1]MercLab!U168 -> 198098.38 | M87: =IF(ISNUMBER(L87/L$68*100),L87/L$68*100,0) -> 35.046635 | N87: =[1]MercLab!V168 -> 76131.217 | O87: =IF(ISNUMBER(N87/N$68*100),N87/N$68*100,0) -> 0
A88: Agricultores, Ganaderos y Trab. Agrop. | B88: =[1]MercLab!Q169 -> 136268.44 | C88: =IF(ISNUMBER(B88/B$68*100),B88/B$68*100,0) -> 11.304781 | D88: =F88+H88+J88 -> 16497.715 | E88: =IF(ISNUMBER(D88/D$68*100),D88/D$68*100,0) -> 3.323047 | F88: =[1]MercLab!R169 -> 0 | G88: =IF(ISNUMBER(F88/F$68*100),F88/F$68*100,0) -> 0 | H88: =[1]MercLab!S169 -> 16497.715 | I88: =IF(ISNUMBER(H88/H$68*100),H88/H$68*100,0) -> 5.5307115 | J88: =[1]MercLab!T169 -> 0 | K88: =IF(ISNUMBER(J88/J$68*100),J88/J$68*100,0) -> 0 | L88: =[1]MercLab!U169 -> 102215.43 | M88: =IF(ISNUMBER(L88/L$68*100),L88/L$68*100,0) -> 18.083474 | N88: =[1]MercLab!V169 -> 17555.298 | O88: =IF(ISNUMBER(N88/N$68*100),N88/N$68*100,0) -> 0
A89: Conductores de Transporte | B89: =[1]MercLab!Q170 -> 281.50015 | C89: =IF(ISNUMBER(B89/B$68*100),B89/B$68*100,0) -> 0.023353152 | D89: =F89+H89+J89 -> 0 | E89: =IF(ISNUMBER(D89/D$68*100),D89/D$68*100,0) -> 0 | F89: =[1]MercLab!R170 -> 0 | G89: =IF(ISNUMBER(F89/F$68*100),F89/F$68*100,0) -> 0 | H89: =[1]MercLab!S170 -> 0 | I89: =IF(ISNUMBER(H89/H$68*100),H89/H$68*100,0) -> 0 | J89: =[1]MercLab!T170 -> 0 | K89: =IF(ISNUMBER(J89/J$68*100),J89/J$68*100,0) -> 0 | L89: =[1]MercLab!U170 -> 281.50015 | M89: =IF(ISNUMBER(L89/L$68*100),L89/L$68*100,0) -> 0.049801686 | N89: =[1]MercLab!V170 -> 0 | O89: =IF(ISNUMBER(N89/N$68*100),N89/N$68*100,0) -> 0
A90: Trab. Ind. Textil, Albañilería, Mecánica, etc. | B90: =[1]MercLab!Q171 -> 75398.452 | C90: =IF(ISNUMBER(B90/B$68*100),B90/B$68*100,0) -> 6.2550285 | D90: =F90+H90+J90 -> 41256.142 | E90: =IF(ISNUMBER(D90/D$68*100),D90/D$68*100,0) -> 8.3100055 | F90: =[1]MercLab!R171 -> 854.05747 | G90: =IF(ISNUMBER(F90/F$68*100),F90/F$68*100,0) -> 0.7898517 | H90: =[1]MercLab!S171 -> 40402.085 | I90: =IF(ISNUMBER(H90/H$68*100),H90/H$68*100,0) -> 13.544438 | J90: =[1]MercLab!T171 -> 0 | K90: =IF(ISNUMBER(J90/J$68*100),J90/J$68*100,0) -> 0 | L90: =[1]MercLab!U171 -> 31414.036 | M90: =IF(ISNUMBER(L90/L$68*100),L90/L$68*100,0) -> 5.5576238 | N90: =[1]MercLab!V171 -> 2728.2739 | O90: =IF(ISNUMBER(N90/N$68*100),N90/N$68*100,0) -> 0
A91: Trab. Area Grafica, Quim., Alimentos, etc. | B91: =[1]MercLab!Q172 -> 137596.19 | C91: =IF(ISNUMBER(B91/B$68*100),B91/B$68*100,0) -> 11.41493 | D91: =F91+H91+J91 -> 18337.268 | E91: =IF(ISNUMBER(D91/D$68*100),D91/D$68*100,0) -> 3.6935784 | F91: =[1]MercLab!R172 -> 296.0692 | G91: =IF(ISNUMBER(F91/F$68*100),F91/F$68*100,0) -> 0.2738115 | H91: =[1]MercLab!S172 -> 18041.199 | I91: =IF(ISNUMBER(H91/H$68*100),H91/H$68*100,0) -> 6.0481507 | J91: =[1]MercLab!T172 -> 0 | K91: =IF(ISNUMBER(J91/J$68*100),J91/J$68*100,0) -> 0 | L91: =[1]MercLab!U172 -> 84661.232 | M91: =IF(ISNUMBER(L91/L$68*100),L91/L$68*100,0) -> 14.977868 | N91: =[1]MercLab!V172 -> 34597.689 | O91: =IF(ISNUMBER(N91/N$68*100),N91/N$68*100,0) -> 0
A92: Operador de Carga y Almacenaje | B92: =[1]MercLab!Q173 -> 19907.286 | C92: =IF(ISNUMBER(B92/B$68*100),B92/B$68*100,0) -> 1.6515013 | D92: =F92+H92+J92 -> 10981.384 | E92: =IF(ISNUMBER(D92/D$68*100),D92/D$68*100,0) -> 2.2119219 | F92: =[1]MercLab!R173 -> 1008.9232 | G92: =IF(ISNUMBER(F92/F$68*100),F92/F$68*100,0) -> 0.93307505 | H92: =[1]MercLab!S173 -> 9972.4611 | I92: =IF(ISNUMBER(H92/H$68*100),H92/H$68*100,0) -> 3.3431785 | J92: =[1]MercLab!T173 -> 0 | K92: =IF(ISNUMBER(J92/J$68*100),J92/J$68*100,0) -> 0 | L92: =[1]MercLab!U173 -> 7738.8971 | M92: =IF(ISNUMBER(L92/L$68*100),L92/L$68*100,0) -> 1.3691294 | N92: =[1]MercLab!V173 -> 1187.0047 | O92: =IF(ISNUMBER(N92/N$68*100),N92/N$68*100,0) -> 0
A93: Ocupación de los Servicios | B93: =[1]MercLab!Q174 -> 278605.1 | C93: =IF(ISNUMBER(B93/B$68*100),B93/B$68*100,0) -> 23.112979 | D93: =F93+H93+J93 -> 165639.87 | E93: =IF(ISNUMBER(D93/D$68*100),D93/D$68*100,0) -> 33.363959 | F93: =[1]MercLab!R174 -> 9907.8142 | G93: =IF(ISNUMBER(F93/F$68*100),F93/F$68*100,0) -> 9.162971 | H93: =[1]MercLab!S174 -> 66406.292 | I93: =IF(ISNUMBER(H93/H$68*100),H93/H$68*100,0) -> 22.262116 | J93: =[1]MercLab!T174 -> 89325.761 | K93: =IF(ISNUMBER(J93/J$68*100),J93/J$68*100,0) -> 99.204745 | L93: =[1]MercLab!U174 -> 108033.95 | M93: =IF(ISNUMBER(L93/L$68*100),L93/L$68*100,0) -> 19.11286 | N93: =[1]MercLab!V174 -> 4931.2776 | O93: =IF(ISNUMBER(N93/N$68*100),N93/N$68*100,0) -> 0
A94: No sabe, No responde | B94: =[1]MercLab!Q175 -> 5510.0198 | C94: =IF(ISNUMBER(B94/B$68*100),B94/B$68*100,0) -> 0.45710926 | D94: =F94+H94+J94 -> 2859.5922 | E94: =IF(ISNUMBER(D94/D$68*100),D94/D$68*100,0) -> 0.57599246 | F94: =[1]MercLab!R175 -> 2254.6872 | G94: =IF(ISNUMBER(F94/F$68*100),F94/F$68*100,0) -> 2.0851858 | H94: =[1]MercLab!S175 -> 604.90497 | I94: =IF(ISNUMBER(H94/H$68*100),H94/H$68*100,0) -> 0.20278899 | J94: =[1]MercLab!T175 -> 0 | K94: =IF(ISNUMBER(J94/J$68*100),J94/J$68*100,0) -> 0 | L94: =[1]MercLab!U175 -> 1320.9107 | M94: =IF(ISNUMBER(L94/L$68*100),L94/L$68*100,0) -> 0.23368933 | N94: =[1]MercLab!V175 -> 1329.5169 | O94: =IF(ISNUMBER(N94/N$68*100),N94/N$68*100,0) -> 0
A95: Busca trabajo por primera vez | B95: =[1]MercLab!Q176 -> 0 | C95: =IF(ISNUMBER(B95/B$68*100),B95/B$68*100,0) -> 0 | D95: =F95+H95+J95 -> 0 | E95: =IF(ISNUMBER(D95/D$68*100),D95/D$68*100,0) -> 0 | G95: =IF(ISNUMBER(F95/F$68*100),F95/F$68*100,0) -> 0 | I95: =IF(ISNUMBER(H95/H$68*100),H95/H$68*100,0) -> 0 | K95: =IF(ISNUMBER(J95/J$68*100),J95/J$68*100,0) -> 0 | M95: =IF(ISNUMBER(L95/L$68*100),L95/L$68*100,0) -> 0 | O95: =IF(ISNUMBER(N95/N$68*100),N95/N$68*100,0) -> 0
A97: ='C05'!A42 -> Fuente: Instituto Nacional de Estadística (INE). XL Encuesta Permanente de Hogares de Propósitos Múltiples, Septiembre 2010.
A98: ='C05'!A43 -> El salario mínimo en el área urbana es Lps. 5,500 y en la área rural es Lps. 4,055 (Promedio de salarios mínimos por rama)
A99: 1/ Porcentaje por columnas
A100: 2/ Porcentaje por filas

Sheet C07
A1: Cuadro No. 5. Ingreso promedio de las personas ocupadas por categoría ocupacional, según dominio,
A2: nivel educativo, rango de edad, sexo, número de salarios mínimos, rama de actividad y ocupación
A3: Ocupación Principal, Lps/Mes/Persona
A4: Mujeres
A5: Categorías | B5: Ingreso Promedio
B6: Ingreso Promedio | C6: Asalariados | G6: Cuenta propia
C7: Total | D7: Público | E7: Privado | F7: Doméstico
A9: Total Nacional | B9: =[1]MercLab!Q260 -> 4141.0583 | C9: =AVERAGE(D9:G9) -> 5228.0639 | D9: =[1]MercLab!R260 -> 10279.889 | E9: =[1]MercLab!S260 -> 5727.8282 | F9: =[1]MercLab!T260 -> 2540.4857 | G9: =[1]MercLab!U260 -> 2364.053
A11: Dominio
A12: Urbano | B12: =AVERAGE(B13:B15) -> 5761.4015 | C12: =AVERAGE(D12:G12) -> 6255.5297 | D12: =AVERAGE(D13:D15) -> 11767.432 | E12: =AVERAGE(E13:E15) -> 6754.2245 | F12: =AVERAGE(F13:F15) -> 2967.7359 | G12: =AVERAGE(G13:G15) -> 3532.7262
A13: Distrito Central | B13: =[1]MercLab!Q262 -> 7270.7677 | C13: =AVERAGE(D13:G13) -> 7307.7391 | D13: =[1]MercLab!R262 -> 13277.531 | E13: =[1]MercLab!S262 -> 8769.0348 | F13: =[1]MercLab!T262 -> 3602.0637 | G13: =[1]MercLab!U262 -> 3582.3269
A14: San Pedro Sula | B14: =[1]MercLab!Q263 -> 5820.3925 | C14: =AVERAGE(D14:G14) -> 6628.2979 | D14: =[1]MercLab!R263 -> 12316.012 | E14: =[1]MercLab!S263 -> 6810.1675 | F14: =[1]MercLab!T263 -> 3068.5009 | G14: =[1]MercLab!U263 -> 4318.511
A15: Resto urbano | B15: =[1]MercLab!Q264 -> 4193.0444 | C15: =AVERAGE(D15:G15) -> 4830.5522 | D15: =[1]MercLab!R264 -> 9708.7538 | E15: =[1]MercLab!S264 -> 4683.4712 | F15: =[1]MercLab!T264 -> 2232.6432 | G15: =[1]MercLab!U264 -> 2697.3408
A16: Rural | B16: =[1]MercLab!Q265 -> 2304.7846 | C16: =AVERAGE(D16:G16) -> 3505.6131 | D16: =[1]MercLab!R265 -> 6803.3724 | E16: =[1]MercLab!S265 -> 3483.5468 | F16: =[1]MercLab!T265 -> 2085.0943 | G16: =[1]MercLab!U265 -> 1650.439
A18: Nivel Educativo
A19: Sin Nivel | B19: =[1]MercLab!Q267 -> 1414.1737 | C19: =AVERAGE(D19:G19) -> 2042.2029 | D19: =[1]MercLab!R267 -> 2250 | E19: =[1]MercLab!S267 -> 2256.196 | F19: =[1]MercLab!T267 -> 2450.2318 | G19: =[1]MercLab!U267 -> 1212.3839
A20: Primaria | B20: =[1]MercLab!Q268 -> 2582.385 | C20: =AVERAGE(D20:G20) -> 3578.0749 | D20: =[1]MercLab!R268 -> 6005.2575 | E20: =[1]MercLab!S268 -> 3615.1257 | F20: =[1]MercLab!T268 -> 2528.0315 | G20: =[1]MercLab!U268 -> 2163.885
A21: Secundaria | B21: =[1]MercLab!Q269 -> 4616.8915 | C21: =AVERAGE(D21:G21) -> 4646.3649 | D21: =[1]MercLab!R269 -> 7788.4886 | E21: =[1]MercLab!S269 -> 5031.6354 | F21: =[1]MercLab!T269 -> 2624.3546 | G21: =[1]MercLab!U269 -> 3140.9809
A22: Superior | B22: =[1]MercLab!Q270 -> 12619.074 | C22: =AVERAGE(D22:G22) -> 9001.8592 | D22: =[1]MercLab!R270 -> 13718.357 | E22: =[1]MercLab!S270 -> 12215.887 | F22: =[1]MercLab!T270 -> 0 | G22: =[1]MercLab!U270 -> 10073.193
A23: No sabe, no responde | B23: =[1]MercLab!Q271 -> 4111.5252 | C23: =AVERAGE(D23:G23) -> 5088.0334 | D23: =[1]MercLab!R271 -> 9342.1258 | E23: =[1]MercLab!S271 -> 6174.4109 | F23: =[1]MercLab!T271 -> 2333.1186 | G23: =[1]MercLab!U271 -> 2502.4782
A25: Rango de Edad
A26: De 10 a 11 años | B26: =[1]MercLab!Q273 -> 251.95996 | C26: =AVERAGE(D26:G26) -> 62.989991 | D26: =[1]MercLab!R273 -> 0 | E26: =[1]MercLab!S273 -> 0 | F26: =[1]MercLab!T273 -> 0 | G26: =[1]MercLab!U273 -> 251.95996
A27: De 12 a 14 años | B27: =[1]MercLab!Q274 -> 808.38193 | C27: =AVERAGE(D27:G27) -> 622.48081 | D27: =[1]MercLab!R274 -> 0 | E27: =[1]MercLab!S274 -> 700.80492 | F27: =[1]MercLab!T274 -> 1048.7505 | G27: =[1]MercLab!U274 -> 740.36782
A28: De 15 a 18 años | B28: =[1]MercLab!Q275 -> 1937.6399 | C28: =AVERAGE(D28:G28) -> 3336.2856 | D28: =[1]MercLab!R275 -> 8000 | E28: =[1]MercLab!S275 -> 2144.7174 | F28: =[1]MercLab!T275 -> 2310.104 | G28: =[1]MercLab!U275 -> 890.32097
A29: De 19 a 24 años | B29: =[1]MercLab!Q276 -> 3544.8462 | C29: =AVERAGE(D29:G29) -> 3460.1147 | D29: =[1]MercLab!R276 -> 5276.5074 | E29: =[1]MercLab!S276 -> 4497.4048 | F29: =[1]MercLab!T276 -> 2510.7822 | G29: =[1]MercLab!U276 -> 1555.7642
A30: De 25 a 29 años | B30: =[1]MercLab!Q277 -> 4384.229 | C30: =AVERAGE(D30:G30) -> 4323.8868 | D30: =[1]MercLab!R277 -> 6667.6821 | E30: =[1]MercLab!S277 -> 5807.9609 | F30: =[1]MercLab!T277 -> 2460.4948 | G30: =[1]MercLab!U277 -> 2359.4095
A31: De 30 a 35 años | B31: =[1]MercLab!Q278 -> 4655.0522 | C31: =AVERAGE(D31:G31) -> 5486.8339 | D31: =[1]MercLab!R278 -> 10842.013 | E31: =[1]MercLab!S278 -> 6014.17 | F31: =[1]MercLab!T278 -> 2578.4682 | G31: =[1]MercLab!U278 -> 2512.6848
A32: De 36 a 44 años | B32: =[1]MercLab!Q279 -> 4520.9957 | C32: =AVERAGE(D32:G32) -> 5808.0014 | D32: =[1]MercLab!R279 -> 11671.693 | E32: =[1]MercLab!S279 -> 5999.6308 | F32: =[1]MercLab!T279 -> 3108.1723 | G32: =[1]MercLab!U279 -> 2452.5099
A33: De 45 a 59 años | B33: =[1]MercLab!Q280 -> 4947.0147 | C33: =AVERAGE(D33:G33) -> 7049.7882 | D33: =[1]MercLab!R280 -> 12082.282 | E33: =[1]MercLab!S280 -> 10468.186 | F33: =[1]MercLab!T280 -> 2859.9002 | G33: =[1]MercLab!U280 -> 2788.7849
A34: De 60 años y más | B34: =[1]MercLab!Q281 -> 2246.5318 | C34: =AVERAGE(D34:G34) -> 4963.0731 | D34: =[1]MercLab!R281 -> 11586.694 | E34: =[1]MercLab!S281 -> 4447.6037 | F34: =[1]MercLab!T281 -> 2021.2032 | G34: =[1]MercLab!U281 -> 1796.7914
A36: Sexo
A37: Hombre | B37: =[1]MercLab!Q283 -> 0 | C37: =AVERAGE(D37:G37) -> 0 | D37: =[1]MercLab!R283 -> 0 | E37: =[1]MercLab!S283 -> 0 | F37: =[1]MercLab!T283 -> 0 | G37: =[1]MercLab!U283 -> 0
A38: Mujer | B38: =[1]MercLab!Q284 -> 4141.0583 | C38: =AVERAGE(D38:G38) -> 5228.0639 | D38: =[1]MercLab!R284 -> 10279.889 | E38: =[1]MercLab!S284 -> 5727.8282 | F38: =[1]MercLab!T284 -> 2540.4857 | G38: =[1]MercLab!U284 -> 2364.053
A40: No. de Salarios Mínimos 1/
A41: Menos de un salario | B41: =SUM(B42:B44) -> 4194.1686 | C41: =AVERAGE(D41:G41) -> 4480.8916 | D41: =SUM(D42:D44) -> 5074.6437 | E41: =SUM(E42:E44) -> 5164.6735 | F41: =SUM(F42:F44) -> 4199.4707 | G41: =SUM(G42:G44) -> 3484.7783
A42: Menos de 1 salario y trab <36 horas | B42: =[1]MercLab!Q286 -> 1175.0432 | C42: =AVERAGE(D42:G42) -> 1603.3355 | D42: =[1]MercLab!R286 -> 1852.6797 | E42: =[1]MercLab!S286 -> 1910.7492 | F42: =[1]MercLab!T286 -> 1616.7427 | G42: =[1]MercLab!U286 -> 1033.1705
A43: Menos de 1 salario y trab >=36 horas | B43: =[1]MercLab!Q287 -> 2659.1254 | C43: =AVERAGE(D43:G43) -> 2787.5561 | D43: =[1]MercLab!R287 -> 3221.964 | E43: =[1]MercLab!S287 -> 3253.9244 | F43: =[1]MercLab!T287 -> 2582.7281 | G43: =[1]MercLab!U287 -> 2091.6079
A44: Menos de 1 salario y no decl. horas | B44: =[1]MercLab!Q288 -> 360 | C44: =AVERAGE(D44:G44) -> 90 | D44: =[1]MercLab!R288 -> 0 | E44: =[1]MercLab!S288 -> 0 | F44: =[1]MercLab!T288 -> 0 | G44: =[1]MercLab!U288 -> 360
A45: De 1 a 2 salarios | B45: =[1]MercLab!Q289 -> 6667.5003 | C45: =AVERAGE(D45:G45) -> 6453.6113 | D45: =[1]MercLab!R289 -> 7384.4938 | E45: =[1]MercLab!S289 -> 6443.9296 | F45: =[1]MercLab!T289 -> 5418.0386 | G45: =[1]MercLab!U289 -> 6567.9834
A46: De 2 a 3 salarios | B46: =[1]MercLab!Q290 -> 12502.32 | C46: =AVERAGE(D46:G46) -> 9321.8193 | D46: =[1]MercLab!R290 -> 12716.865 | E46: =[1]MercLab!S290 -> 12808.608 | F46: =[1]MercLab!T290 -> 0 | G46: =[1]MercLab!U290 -> 11761.804
A47: De 3 a 4 salarios | B47: =[1]MercLab!Q291 -> 18299.237 | C47: =AVERAGE(D47:G47) -> 13826.242 | D47: =[1]MercLab!R291 -> 17772.003 | E47: =[1]MercLab!S291 -> 19338.388 | F47: =[1]MercLab!T291 -> 0 | G47: =[1]MercLab!U291 -> 18194.578
A48: De 4 salarios y más | B48: =[1]MercLab!Q292 -> 35401.405 | C48: =AVERAGE(D48:G48) -> 27839.24 | D48: =[1]MercLab!R292 -> 27404.245 | E48: =[1]MercLab!S292 -> 43975.563 | F48: =[1]MercLab!T292 -> 0 | G48: =[1]MercLab!U292 -> 39977.151
A50: Rama de Actividad
A51: Primaria | B51: =[1]MercLab!Q294 -> 1522.0852 | C51: =AVERAGE(D51:G51) -> 926.96369 | D51: =[1]MercLab!R294 -> 0 | E51: =[1]MercLab!S294 -> 2382.3579 | F51: =[1]MercLab!T294 -> 0 | G51: =[1]MercLab!U294 -> 1325.4969
A52: Secundaria | B52: =[1]MercLab!Q295 -> 3060.0737 | C52: =AVERAGE(D52:G52) -> 1726.5962 | D52: =[1]MercLab!R295 -> 0 | E52: =[1]MercLab!S295 -> 5134.4327 | F52: =[1]MercLab!T295 -> 0 | G52: =[1]MercLab!U295 -> 1771.9523
A53: Terciaria | B53: =[1]MercLab!Q296 -> 4879.0518 | C53: =AVERAGE(D53:G53) -> 5522.0227 | D53: =[1]MercLab!R296 -> 10303.945 | E53: =[1]MercLab!S296 -> 6343.662 | F53: =[1]MercLab!T296 -> 2540.4857 | G53: =[1]MercLab!U296 -> 2899.9978
A54: No sabe, no responde | B54: =[1]MercLab!Q297 -> 2333.0597 | C54: =AVERAGE(D54:G54) -> 2776.9802 | D54: =[1]MercLab!R297 -> 5278.3333 | E54: =[1]MercLab!S297 -> 5500 | F54: =[1]MercLab!T297 -> 0 | G54: =[1]MercLab!U297 -> 329.58749
A56: ='C05'!A42 -> Fuente: Instituto Nacional de Estadística (INE). XL Encuesta Permanente de Hogares de Propósitos Múltiples, Septiembre 2010.
A57: ='C05'!A43 -> El salario mínimo en el área urbana es Lps. 5,500 y en la área rural es Lps. 4,055 (Promedio de salarios mínimos por rama)
A58: 1/ No. de salarios mínimos (personas que declaran ingresos) y trabajan 36 Hrs. o mas
A60: Cuadro No. 5. Ingreso promedio de las personas ocupadas por categoría ocupacional, según dominio,
A61: nivel educativo, rango de edad, sexo, número de salarios mínimos, rama de actividad y ocupación
A62: Ocupación Principal, Lps/Mes/Persona
A63: Mujeres
A64: Categorías | B64: Ingreso Promedio
B65: Ingreso Promedio | C65: Asalariados | G65: Cuenta propia
C66: Total | D66: Público | E66: Privado | F66: Doméstico
A68: Total Nacional | B68: =B9 -> 4141.0583 | C68: =C9 -> 5228.0639 | D68: =D9 -> 10279.889 | E68: =E9 -> 5727.8282 | F68: =F9 -> 2540.4857 | G68: =G9 -> 2364.053
A70: Rama de Actividad (1 Dig.)
A71: Agricultura, Silvicultura, Caza y Pesca | B71: =[1]MercLab!Q300 -> 1516.911 | C71: =AVERAGE(D71:G71) -> 925.42282 | D71: =[1]MercLab!R300 -> 0 | E71: =[1]MercLab!S300 -> 2376.1944 | F71: =[1]MercLab!T300 -> 0 | G71: =[1]MercLab!U300 -> 1325.4969
A72: Explotación de minas y canteras | B72: =[1]MercLab!Q301 -> 2620.7886 | C72: =AVERAGE(D72:G72) -> 655.19715 | D72: =[1]MercLab!R301 -> 0 | E72: =[1]MercLab!S301 -> 2620.7886 | F72: =[1]MercLab!T301 -> 0 | G72: =[1]MercLab!U301 -> 0
A73: Industria manufacturera | B73: =[1]MercLab!Q302 -> 3060.0737 | C73: =AVERAGE(D73:G73) -> 1726.5962 | D73: =[1]MercLab!R302 -> 0 | E73: =[1]MercLab!S302 -> 5134.4327 | F73: =[1]MercLab!T302 -> 0 | G73: =[1]MercLab!U302 -> 1771.9523
A74: Electricidad, gas y agua | B74: =[1]MercLab!Q303 -> 6762.9144 | C74: =AVERAGE(D74:G74) -> 3308.6457 | D74: =[1]MercLab!R303 -> 7245.0021 | E74: =[1]MercLab!S303 -> 5989.5808 | F74: =[1]MercLab!T303 -> 0 | G74: =[1]MercLab!U303 -> 0
A75: Construcción | B75: =[1]MercLab!Q304 -> 6168.2781 | C75: =AVERAGE(D75:G75) -> 3660.2092 | D75: =[1]MercLab!R304 -> 5500 | E75: =[1]MercLab!S304 -> 6640.8367 | F75: =[1]MercLab!T304 -> 0 | G75: =[1]MercLab!U304 -> 2500
A76: Comercio por Mayor / menor, Hoteles / restaurantes | B76: =[1]MercLab!Q305 -> 3694.3376 | C76: =AVERAGE(D76:G76) -> 2090.6877 | D76: =[1]MercLab!R305 -> 0 | E76: =[1]MercLab!S305 -> 5173.2213 | F76: =[1]MercLab!T305 -> 0 | G76: =[1]MercLab!U305 -> 3189.5295
A77: Transp. almac. y comunicaciones | B77: =[1]MercLab!Q306 -> 8320.7223 | C77: =AVERAGE(D77:G77) -> 7004.3156 | D77: =[1]MercLab!R306 -> 8757.4694 | E77: =[1]MercLab!S306 -> 7639.4668 | F77: =[1]MercLab!T306 -> 0 | G77: =[1]MercLab!U306 -> 11620.326
A78: Estab. finac. seguros, Bienes inmuebles y servicios | B78: =[1]MercLab!Q307 -> 8123.3336 | C78: =AVERAGE(D78:G78) -> 7394.2271 | D78: =[1]MercLab!R307 -> 12730.78 | E78: =[1]MercLab!S307 -> 7832.8465 | F78: =[1]MercLab!T307 -> 0 | G78: =[1]MercLab!U307 -> 9013.2816
A79: Servicios Comunales, Sociales y Personales | B79: =[1]MercLab!Q308 -> 5592.3056 | C79: =AVERAGE(D79:G79) -> 5344.7712 | D79: =[1]MercLab!R308 -> 10340.208 | E79: =[1]MercLab!S308 -> 6994.4929 | F79: =[1]MercLab!T308 -> 2540.4857 | G79: =[1]MercLab!U308 -> 1503.8978
A80: No sabe, No responde | B80: =[1]MercLab!Q309 -> 2333.0597 | C80: =AVERAGE(D80:G80) -> 2776.9802 | D80: =[1]MercLab!R309 -> 5278.3333 | E80: =[1]MercLab!S309 -> 5500 | F80: =[1]MercLab!T309 -> 0 | G80: =[1]MercLab!U309 -> 329.58749
A81: Busca trabajo por primera vez | B81: =[1]MercLab!Q310 -> 0 | C81: =AVERAGE(D81:G81) -> 0 | D81: =[1]MercLab!R310 -> 0 | E81: =[1]MercLab!S310 -> 0 | F81: =[1]MercLab!T310 -> 0 | G81: =[1]MercLab!U310 -> 0
A83: Ocupación (1 Dig.)
A84: Profesionales, Técnicos y PEOA | B84: =[1]MercLab!Q312 -> 9828.2964 | C84: =AVERAGE(D84:G84) -> 6926.3291 | D84: =[1]MercLab!R312 -> 10737.164 | E84: =[1]MercLab!S312 -> 9438.2516 | F84: =[1]MercLab!T312 -> 1322.5348 | G84: =[1]MercLab!U312 -> 6207.3658
A85: Directores Gerentes y Administ. Grales. | B85: =[1]MercLab!Q313 -> 9537.5183 | C85: =AVERAGE(D85:G85) -> 7850.2249 | D85: =[1]MercLab!R313 -> 13139.972 | E85: =[1]MercLab!S313 -> 11055.023 | F85: =[1]MercLab!T313 -> 0 | G85: =[1]MercLab!U313 -> 7205.9051
A86: Empleados de Oficina | B86: =[1]MercLab!Q314 -> 7706.0036 | C86: =AVERAGE(D86:G86) -> 5718.2003 | D86: =[1]MercLab!R314 -> 8834.2505 | E86: =[1]MercLab!S314 -> 7320.7661 | F86: =[1]MercLab!T314 -> 0 | G86: =[1]MercLab!U314 -> 6717.7848
A87: Comerciantes y Vendedores | B87: =[1]MercLab!Q315 -> 3583.6525 | C87: =AVERAGE(D87:G87) -> 3674.6 | D87: =[1]MercLab!R315 -> 6000 | E87: =[1]MercLab!S315 -> 5577.8097 | F87: =[1]MercLab!T315 -> 0 | G87: =[1]MercLab!U315 -> 3120.5904
A88: Agricultores, Ganaderos y Trab. Agrop. | B88: =[1]MercLab!Q316 -> 1400.3524 | C88: =AVERAGE(D88:G88) -> 800.57437 | D88: =[1]MercLab!R316 -> 0 | E88: =[1]MercLab!S316 -> 1889.9178 | F88: =[1]MercLab!T316 -> 0 | G88: =[1]MercLab!U316 -> 1312.3797
A89: Conductores de Transporte | B89: =[1]MercLab!Q317 -> 12000 | C89: =AVERAGE(D89:G89) -> 3000 | D89: =[1]MercLab!R317 -> 0 | E89: =[1]MercLab!S317 -> 0 | F89: =[1]MercLab!T317 -> 0 | G89: =[1]MercLab!U317 -> 12000
A90: Trab. Ind. Textil, Albañilería, Mecánica, etc. | B90: =[1]MercLab!Q318 -> 3060.2629 | C90: =AVERAGE(D90:G90) -> 4082.925 | D90: =[1]MercLab!R318 -> 10770.719 | E90: =[1]MercLab!S318 -> 4199.3127 | F90: =[1]MercLab!T318 -> 0 | G90: =[1]MercLab!U318 -> 1361.6686
A91: Trab. Area Grafica, Quim., Alimentos, etc. | B91: =[1]MercLab!Q319 -> 1780.2758 | C91: =AVERAGE(D91:G91) -> 2619.0414 | D91: =[1]MercLab!R319 -> 6020 | E91: =[1]MercLab!S319 -> 2938.3493 | F91: =[1]MercLab!T319 -> 0 | G91: =[1]MercLab!U319 -> 1517.8164
A92: Operador de Carga y Almacenaje | B92: =[1]MercLab!Q320 -> 3270.8499 | C92: =AVERAGE(D92:G92) -> 2258.9055 | D92: =[1]MercLab!R320 -> 2748.8199 | E92: =[1]MercLab!S320 -> 4094.1194 | F92: =[1]MercLab!T320 -> 0 | G92: =[1]MercLab!U320 -> 2192.6829
A93: Ocupación de los Servicios | B93: =[1]MercLab!Q321 -> 2649.9902 | C93: =AVERAGE(D93:G93) -> 3652.6464 | D93: =[1]MercLab!R321 -> 6504.8224 | E93: =[1]MercLab!S321 -> 4004.402 | F93: =[1]MercLab!T321 -> 2550.2492 | G93: =[1]MercLab!U321 -> 1551.1119
A94: No sabe, No responde | B94: =[1]MercLab!Q322 -> 9047.236 | C94: =AVERAGE(D94:G94) -> 5488.587 | D94: =[1]MercLab!R322 -> 14186.164 | E94: =[1]MercLab!S322 -> 6179.3401 | F94: =[1]MercLab!T322 -> 0 | G94: =[1]MercLab!U322 -> 1588.8445
A96: ='C05'!A42 -> Fuente: Instituto Nacional de Estadística (INE). XL Encuesta Permanente de Hogares de Propósitos Múltiples, Septiembre 2010.
A97: ='C05'!A43 -> El salario mínimo en el área urbana es Lps. 5,500 y en la área rural es Lps. 4,055 (Promedio de salarios mínimos por rama)

Sheet C08
A1: Cuadro No. 6. Años de estudio promedio de las personas ocupadas por categoría ocupacional, según dominio, nivel educativo,
A2: rangos de edad, sexo, número de salarios mínimos devengados, rama de actividad y ocupación
A3: Ocupación Principal
A4: Mujeres
A5: Categorías | B5: Declaran Ingresos | C5: Asalariados | G5: Cuenta Propia | H5: Trab. Fam. no Remu. | I5: No Declaran.
C6: Total | D6: Público | E6: Privado | F6: Doméstico
A8: Total Nacional | B8: =[1]MercLab!Q335 -> 7.8381237 | C8: =AVERAGE(D8:H8) -> 6.8333528 | D8: =[1]MercLab!R335 -> 12.723315 | E8: =[1]MercLab!S335 -> 9.3822114 | F8: =[1]MercLab!T335 -> 6.0114985 | G8: =[1]MercLab!U335 -> 6.0497392 | H8: =[1]MercLab!V335 -> 0 | I8: =[1]MercLab!W335 -> 0
A10: Dominios | H10: =[1]MercLab!V336 -> 0 | I10: =[1]MercLab!W336 -> 0
A11: Urbano | B11: =AVERAGE(B12:B14) -> 9.1049499 | C11: =AVERAGE(C12:C14) -> 7.2747525 | D11: =AVERAGE(D12:D14) -> 12.808536 | E11: =AVERAGE(E12:E14) -> 10.081418 | F11: =AVERAGE(F12:F14) -> 6.133283 | G11: =AVERAGE(G12:G14) -> 7.3505256 | H11: =AVERAGE(H12:H14) -> 0 | I11: =AVERAGE(I12:I14) -> 0
A12: Distrito Central | B12: =[1]MercLab!Q337 -> 9.7135836 | C12: =AVERAGE(D12:H12) -> 7.5369863 | D12: =[1]MercLab!R337 -> 13.492999 | E12: =[1]MercLab!S337 -> 10.71327 | F12: =[1]MercLab!T337 -> 6.2088889 | G12: =[1]MercLab!U337 -> 7.2697734 | H12: =[1]MercLab!V337 -> 0 | I12: =[1]MercLab!W337 -> 0
A13: San Pedro Sula | B13: =[1]MercLab!Q338 -> 9.3142195 | C13: =AVERAGE(D13:H13) -> 7.3120596 | D13: =[1]MercLab!R338 -> 12.074766 | E13: =[1]MercLab!S338 -> 10.501248 | F13: =[1]MercLab!T338 -> 5.8816568 | G13: =[1]MercLab!U338 -> 8.1026273 | H13: =[1]MercLab!V338 -> 0 | I13: =[1]MercLab!W338 -> 0
A14: Resto urbano | B14: =[1]MercLab!Q339 -> 8.2870467 | C14: =AVERAGE(D14:H14) -> 6.9752116 | D14: =[1]MercLab!R339 -> 12.857842 | E14: =[1]MercLab!S339 -> 9.0297369 | F14: =[1]MercLab!T339 -> 6.3093034 | G14: =[1]MercLab!U339 -> 6.6791761 | H14: =[1]MercLab!V339 -> 0 | I14: =[1]MercLab!W339 -> 0
A15: Rural | B15: =[1]MercLab!Q340 -> 6.0746603 | C15: =AVERAGE(D15:H15) -> 5.9811686 | D15: =[1]MercLab!R340 -> 11.552693 | E15: =[1]MercLab!S340 -> 7.7464078 | F15: =[1]MercLab!T340 -> 5.5789474 | G15: =[1]MercLab!U340 -> 5.0277949 | H15: =[1]MercLab!V340 -> 0 | I15: =[1]MercLab!W340 -> 0
A17: Nivel Educativo
A18: Sin Nivel | B18: =[1]MercLab!Q342 -> 0 | C18: =AVERAGE(D18:H18) -> 0 | D18: =[1]MercLab!R342 -> 0 | E18: =[1]MercLab!S342 -> 0 | F18: =[1]MercLab!T342 -> 0 | G18: =[1]MercLab!U342 -> 0 | H18: =[1]MercLab!V342 -> 0 | I18: =[1]MercLab!W342 -> 0
A19: Primaria | B19: =[1]MercLab!Q343 -> 4.6180169 | C19: =AVERAGE(D19:H19) -> 3.946645 | D19: =[1]MercLab!R343 -> 5.3237458 | E19: =[1]MercLab!S343 -> 5.1262433 | F19: =[1]MercLab!T343 -> 4.893321 | G19: =[1]MercLab!U343 -> 4.389915 | H19: =[1]MercLab!V343 -> 0 | I19: =[1]MercLab!W343 -> 0
A20: Secundaria | B20: =[1]MercLab!Q344 -> 10.328119 | C20: =AVERAGE(D20:H20) -> 8.1879464 | D20: =[1]MercLab!R344 -> 11.232905 | E20: =[1]MercLab!S344 -> 10.428033 | F20: =[1]MercLab!T344 -> 9.2533509 | G20: =[1]MercLab!U344 -> 10.025443 | H20: =[1]MercLab!V344 -> 0 | I20: =[1]MercLab!W344 -> 0
A21: Superior | B21: =[1]MercLab!Q345 -> 15.31534 | C21: =AVERAGE(D21:H21) -> 9.1829418 | D21: =[1]MercLab!R345 -> 15.878686 | E21: =[1]MercLab!S345 -> 14.83138 | F21: =[1]MercLab!T345 -> 0 | G21: =[1]MercLab!U345 -> 15.204644 | H21: =[1]MercLab!V345 -> 0 | I21: =[1]MercLab!W345 -> 0
