Workbook

Sheet Portada

Sheet C01
A1: Cuadro No. 1. Tasa de Desempleo Abierto (TDA) de la Población en Edad de Trabajar (PET) y Población Económicamente Activa (PEA), | S1: Cuadro No. 2. Tasa de Desempleo Abierto (TDA) de la Población en Edad de Trabajar (PET) y Población Económicamente Activa (PEA),
A2: según dominio, nivel educativo, rango de edad, sexo, rama de actividad y ocupación | S2: según dominio, nivel educativo, rango de edad, sexo, rama de actividad y ocupación
A3: Hombres | S3: Hombres
A4: Categorías | B4: Población Total | E4: Población en Edad de Trabajar (PET) | H4: Población Económicamente Activa (PEA) | Q4: TDA | R4: MBT | S4: Categorías | T4: Población Económicamente Activa (PEA) | AC4: TDA | AD4: MBT
H5: Total | K5: Ocupados | N5: Desocupados | T5: Total | W5: Ocupados | Z5: Desocupados
B6: No. | C6: % 1/ | D6: AEP | E6: No. | F6: % 1/ | G6: AEP | H6: No. | I6: % 1/ | J6: AEP | K6: No. | L6: % 1/ | M6: AEP | N6: No. | O6: % 1/ | P6: AEP | T6: No. | U6: % 1/ | V6: AEP | W6: No. | X6: % 1/ | Y6: AEP | Z6: No. | AA6: % 1/ | AB6: AEP
A8: Total Nacional | B8: =[1]MercLab!N48 -> 3939101.1 | C8: =SUM(C11,C15) -> 100 | D8: =[1]MercLab!O48 -> 5.8880173 | E8: =[1]MercLab!P48 -> 3073237.8 | F8: =SUM(F11,F15) -> 100 | G8: =[1]MercLab!Q48 -> 6.4239498 | H8: =[1]MercLab!R48 -> 2191748.7 | I8: =SUM(I11,I15) -> 100 | J8: =[1]MercLab!S48 -> 6.6415627 | K8: =[1]MercLab!T48 -> 2102297.2 | L8: =SUM(L11,L15) -> 100 | M8: =[1]MercLab!U48 -> 6.5721496 | N8: =[1]MercLab!V48 -> 89451.528 | O8: =SUM(O11,O15) -> 100 | P8: =[1]MercLab!W48 -> 8.1395651 | Q8: =IF(ISNUMBER(N8/H8*100),N8/H8*100,0) -> 4.0812858 | R8: =[1]MercLab!X48 -> 3.5453236 | S8: Total Nacional | T8: =H8 -> 2191748.7 | U8: =I8 -> 100 | V8: =J8 -> 6.6415627 | W8: =K8 -> 2102297.2 | X8: =L8 -> 100 | Y8: =M8 -> 6.5721496 | Z8: =N8 -> 89451.528 | AA8: =O8 -> 100 | ... AD8: =R8 -> 3.5453236
A10: Dominio | S10: Rama de Actividad (1 Dig.)
A11: Urbano | B11: =SUM(B12:B14) -> 1694076.9 | C11: =IF(ISNUMBER(B11/B$8*100),B11/B$8*100,0) -> 43.006689 | D11: =AVERAGE(D12:D14) -> 7.508326 | E11: =SUM(E12:E14) -> 1340834.1 | F11: =IF(ISNUMBER(E11/E$8*100),E11/E$8*100,0) -> 43.629365 | G11: =AVERAGE(G12:G14) -> 8.1270676 | H11: =SUM(H12:H14) -> 888723.17 | I11: =IF(ISNUMBER(H11/H$8*100),H11/H$8*100,0) -> 40.548589 | J11: =AVERAGE(J12:J14) -> 8.6658166 | K11: =SUM(K12:K14) -> 824838.33 | L11: =IF(ISNUMBER(K11/K$8*100),K11/K$8*100,0) -> 39.235097 | M11: =AVERAGE(M12:M14) -> 8.6614338 | N11: =SUM(N12:N14) -> 63884.832 | O11: =IF(ISNUMBER(N11/N$8*100),N11/N$8*100,0) -> 71.418381 | P11: =AVERAGE(P12:P14) -> 8.6200033 | Q11: =IF(ISNUMBER(N11/H11*100),N11/H11*100,0) -> 7.1883838 | R11: =AVERAGE(R12:R14) -> 3.5798012 | S11: Agricultura, Silvicultura, Caza y Pesca | T11: =[1]MercLab!R79 -> 1058333.8 | U11: =IF(ISNUMBER(T11/T$8*100),T11/T$8*100,0) -> 48.287186 | V11: =[1]MercLab!S79 -> 4.9050659 | W11: =[1]MercLab!T79 -> 1048033.7 | X11: =IF(ISNUMBER(W11/W$8*100),W11/W$8*100,0) -> 49.851834 | Y11: =[1]MercLab!U79 -> 4.8899668 | Z11: =[1]MercLab!V79 -> 10300.069 | AA11: =IF(ISNUMBER(Z11/Z$8*100),Z11/Z$8*100,0) -> 11.514694 | AB11: =[1]MercLab!W79 -> 6.5406747 | AC11: =IF(ISNUMBER(Z11/T11*100),Z11/T11*100,0) -> 0.97323451 | AD11: =[1]MercLab!X79 -> 1.5325828
A12: Distrito Central | B12: =[1]MercLab!N49 -> 455537.62 | C12: =IF(ISNUMBER(B12/B$8*100),B12/B$8*100,0) -> 11.564507 | D12: =[1]MercLab!O49 -> 8.2248786 | E12: =[1]MercLab!P49 -> 371627.12 | F12: =IF(ISNUMBER(E12/E$8*100),E12/E$8*100,0) -> 12.092365 | G12: =[1]MercLab!Q49 -> 8.8445486 | H12: =[1]MercLab!R49 -> 245397.76 | I12: =IF(ISNUMBER(H12/H$8*100),H12/H$8*100,0) -> 11.196437 | J12: =[1]MercLab!S49 -> 9.3425165 | K12: =[1]MercLab!T49 -> 220907.25 | L12: =IF(ISNUMBER(K12/K$8*100),K12/K$8*100,0) -> 10.507898 | M12: =[1]MercLab!U49 -> 9.2864931 | N12: =[1]MercLab!V49 -> 24490.513 | O12: =IF(ISNUMBER(N12/N$8*100),N12/N$8*100,0) -> 27.37853 | P12: =[1]MercLab!W49 -> 9.8490946 | Q12: =IF(ISNUMBER(N12/H12*100),N12/H12*100,0) -> 9.9799254 | R12: =[1]MercLab!X49 -> 4.2663338 | S12: Explotación de minas y canteras | T12: =[1]MercLab!R80 -> 7967.4787 | U12: =IF(ISNUMBER(T12/T$8*100),T12/T$8*100,0) -> 0.36352155 | V12: =[1]MercLab!S80 -> 5.6366751 | W12: =[1]MercLab!T80 -> 7967.4787 | X12: =IF(ISNUMBER(W12/W$8*100),W12/W$8*100,0) -> 0.37898918 | Y12: =[1]MercLab!U80 -> 5.6366751 | Z12: =[1]MercLab!V80 -> 0 | AA12: =IF(ISNUMBER(Z12/Z$8*100),Z12/Z$8*100,0) -> 0 | AB12: =[1]MercLab!W80 -> 0 | AC12: =IF(ISNUMBER(Z12/T12*100),Z12/T12*100,0) -> 0 | AD12: =[1]MercLab!X80 -> 1
A13: San Pedro Sula | B13: =[1]MercLab!N50 -> 274975.04 | C13: =IF(ISNUMBER(B13/B$8*100),B13/B$8*100,0) -> 6.9806547 | D13: =[1]MercLab!O50 -> 7.7269365 | E13: =[1]MercLab!P50 -> 217390.26 | F13: =IF(ISNUMBER(E13/E$8*100),E13/E$8*100,0) -> 7.0736557 | G13: =[1]MercLab!Q50 -> 8.3576476 | H13: =[1]MercLab!R50 -> 149782.03 | I13: =IF(ISNUMBER(H13/H$8*100),H13/H$8*100,0) -> 6.8339052 | J13: =[1]MercLab!S50 -> 9.0506437 | K13: =[1]MercLab!T50 -> 140081.92 | L13: =IF(ISNUMBER(K13/K$8*100),K13/K$8*100,0) -> 6.6632786 | M13: =[1]MercLab!U50 -> 9.0980592 | N13: =[1]MercLab!V50 -> 9700.1107 | O13: =IF(ISNUMBER(N13/N$8*100),N13/N$8*100,0) -> 10.843986 | P13: =[1]MercLab!W50 -> 8.3401361 | Q13: =IF(ISNUMBER(N13/H13*100),N13/H13*100,0) -> 6.4761513 | R13: =[1]MercLab!X50 -> 2.7239249 | S13: Industria manufacturera | T13: =[1]MercLab!R81 -> 220365.73 | U13: =IF(ISNUMBER(T13/T$8*100),T13/T$8*100,0) -> 10.054334 | V13: =[1]MercLab!S81 -> 7.6413081 | W13: =[1]MercLab!T81 -> 207193.24 | X13: =IF(ISNUMBER(W13/W$8*100),W13/W$8*100,0) -> 9.855564 | Y13: =[1]MercLab!U81 -> 7.6296941 | Z13: =[1]MercLab!V81 -> 13172.488 | AA13: =IF(ISNUMBER(Z13/Z$8*100),Z13/Z$8*100,0) -> 14.725839 | AB13: =[1]MercLab!W81 -> 7.8193756 | AC13: =IF(ISNUMBER(Z13/T13*100),Z13/T13*100,0) -> 5.9775575 | AD13: =[1]MercLab!X81 -> 3.1158898
A14: Resto urbano | B14: =[1]MercLab!N51 -> 963564.28 | C14: =IF(ISNUMBER(B14/B$8*100),B14/B$8*100,0) -> 24.461527 | D14: =[1]MercLab!O51 -> 6.5731628 | E14: =[1]MercLab!P51 -> 751816.74 | F14: =IF(ISNUMBER(E14/E$8*100),E14/E$8*100,0) -> 24.463344 | G14: =[1]MercLab!Q51 -> 7.1790066 | H14: =[1]MercLab!R51 -> 493543.38 | I14: =IF(ISNUMBER(H14/H$8*100),H14/H$8*100,0) -> 22.518247 | J14: =[1]MercLab!S51 -> 7.6042896 | K14: =[1]MercLab!T51 -> 463849.17 | L14: =IF(ISNUMBER(K14/K$8*100),K14/K$8*100,0) -> 22.063921 | M14: =[1]MercLab!U51 -> 7.599749 | N14: =[1]MercLab!V51 -> 29694.208 | O14: =IF(ISNUMBER(N14/N$8*100),N14/N$8*100,0) -> 33.195865 | P14: =[1]MercLab!W51 -> 7.6707793 | Q14: =IF(ISNUMBER(N14/H14*100),N14/H14*100,0) -> 6.0165346 | R14: =[1]MercLab!X51 -> 3.749145 | S14: Electricidad, gas y agua | T14: =[1]MercLab!R82 -> 9896.6926 | U14: =IF(ISNUMBER(T14/T$8*100),T14/T$8*100,0) -> 0.45154322 | V14: =[1]MercLab!S82 -> 8.9056092 | W14: =[1]MercLab!T82 -> 9212.0699 | X14: =IF(ISNUMBER(W14/W$8*100),W14/W$8*100,0) -> 0.43819067 | Y14: =[1]MercLab!U82 -> 8.7249943 | Z14: =[1]MercLab!V82 -> 684.62267 | AA14: =IF(ISNUMBER(Z14/Z$8*100),Z14/Z$8*100,0) -> 0.76535605 | AB14: =[1]MercLab!W82 -> 11.335907 | AC14: =IF(ISNUMBER(Z14/T14*100),Z14/T14*100,0) -> 6.9176916 | AD14: =[1]MercLab!X82 -> 6.2913756
A15: Rural | B15: =[1]MercLab!N52 -> 2245024.1 | C15: =IF(ISNUMBER(B15/B$8*100),B15/B$8*100,0) -> 56.993311 | D15: =[1]MercLab!O52 -> 4.7464746 | E15: =[1]MercLab!P52 -> 1732403.6 | F15: =IF(ISNUMBER(E15/E$8*100),E15/E$8*100,0) -> 56.370635 | G15: =[1]MercLab!Q52 -> 5.1923091 | H15: =[1]MercLab!R52 -> 1303025.5 | I15: =IF(ISNUMBER(H15/H$8*100),H15/H$8*100,0) -> 59.451411 | J15: =[1]MercLab!S52 -> 5.3088736 | K15: =[1]MercLab!T52 -> 1277458.8 | L15: =IF(ISNUMBER(K15/K$8*100),K15/K$8*100,0) -> 60.764903 | M15: =[1]MercLab!U52 -> 5.2745517 | N15: =[1]MercLab!V52 -> 25566.695 | O15: =IF(ISNUMBER(N15/N$8*100),N15/N$8*100,0) -> 28.581619 | P15: =[1]MercLab!W52 -> 6.8883495 | Q15: =IF(ISNUMBER(N15/H15*100),N15/H15*100,0) -> 1.9621024 | R15: =[1]MercLab!X52 -> 2.9529909 | S15: Construcción | T15: =[1]MercLab!R83 -> 187728.88 | U15: =IF(ISNUMBER(T15/T$8*100),T15/T$8*100,0) -> 8.5652559 | V15: =[1]MercLab!S83 -> 6.2469399 | W15: =[1]MercLab!T83 -> 166553.59 | X15: =IF(ISNUMBER(W15/W$8*100),W15/W$8*100,0) -> 7.9224572 | Y15: =[1]MercLab!U83 -> 6.2507487 | Z15: =[1]MercLab!V83 -> 21175.29 | AA15: =IF(ISNUMBER(Z15/Z$8*100),Z15/Z$8*100,0) -> 23.672363 | AB15: =[1]MercLab!W83 -> 6.2180604 | AC15: =IF(ISNUMBER(Z15/T15*100),Z15/T15*100,0) -> 11.279719 | AD15: =[1]MercLab!X83 -> 2.5847915
S16: Comercio por Mayor/Menor, Hoteles / restaurantes | T16: =[1]MercLab!R84 -> 349143.97 | U16: =IF(ISNUMBER(T16/T$8*100),T16/T$8*100,0) -> 15.929927 | V16: =[1]MercLab!S84 -> 7.7044891 | W16: =[1]MercLab!T84 -> 335238.5 | X16: =IF(ISNUMBER(W16/W$8*100),W16/W$8*100,0) -> 15.946295 | Y16: =[1]MercLab!U84 -> 7.660344 | Z16: =[1]MercLab!V84 -> 13905.467 | AA16: =IF(ISNUMBER(Z16/Z$8*100),Z16/Z$8*100,0) -> 15.545254 | AB16: =[1]MercLab!W84 -> 8.7260485 | AC16: =IF(ISNUMBER(Z16/T16*100),Z16/T16*100,0) -> 3.9827315 | AD16: =[1]MercLab!X84 -> 3.0726297
A17: Nivel educativo | S17: Transp. almac. y comunicaciones | T17: =[1]MercLab!R85 -> 112833.85 | U17: =IF(ISNUMBER(T17/T$8*100),T17/T$8*100,0) -> 5.1481198 | V17: =[1]MercLab!S85 -> 7.5186986 | W17: =[1]MercLab!T85 -> 108446.42 | X17: =IF(ISNUMBER(W17/W$8*100),W17/W$8*100,0) -> 5.1584724 | Y17: =[1]MercLab!U85 -> 7.5079981 | Z17: =[1]MercLab!V85 -> 4387.4298 | AA17: =IF(ISNUMBER(Z17/Z$8*100),Z17/Z$8*100,0) -> 4.9048126 | AB17: =[1]MercLab!W85 -> 7.7699276 | AC17: =IF(ISNUMBER(Z17/T17*100),Z17/T17*100,0) -> 3.8883986 | AD17: =[1]MercLab!X85 -> 4.3313096
A18: Sin Nivel | B18: =[1]MercLab!N54 -> 926716.57 | C18: =IF(ISNUMBER(B18/B$8*100),B18/B$8*100,0) -> 23.526093 | D18: =[1]MercLab!O54 -> 0 | E18: =[1]MercLab!P54 -> 359962.42 | F18: =IF(ISNUMBER(E18/E$8*100),E18/E$8*100,0) -> 11.712807 | G18: =[1]MercLab!Q54 -> 0 | H18: =[1]MercLab!R54 -> 291297.62 | I18: =IF(ISNUMBER(H18/H$8*100),H18/H$8*100,0) -> 13.290649 | J18: =[1]MercLab!S54 -> 0 | K18: =[1]MercLab!T54 -> 285711.32 | L18: =IF(ISNUMBER(K18/K$8*100),K18/K$8*100,0) -> 13.590435 | M18: =[1]MercLab!U54 -> 0 | N18: =[1]MercLab!V54 -> 5586.2966 | O18: =IF(ISNUMBER(N18/N$8*100),N18/N$8*100,0) -> 6.2450545 | P18: =[1]MercLab!W54 -> 0 | Q18: =IF(ISNUMBER(N18/H18*100),N18/H18*100,0) -> 1.9177282 | R18: =[1]MercLab!X54 -> 2.6003331 | S18: Estab. finac. seguros, Bienes inmuebles y servicios | T18: =[1]MercLab!R86 -> 70876.596 | U18: =IF(ISNUMBER(T18/T$8*100),T18/T$8*100,0) -> 3.2337921 | V18: =[1]MercLab!S86 -> 10.536424 | W18: =[1]MercLab!T86 -> 66618.982 | X18: =IF(ISNUMBER(W18/W$8*100),W18/W$8*100,0) -> 3.1688661 | Y18: =[1]MercLab!U86 -> 10.491272 | Z18: =[1]MercLab!V86 -> 4257.6134 | AA18: =IF(ISNUMBER(Z18/Z$8*100),Z18/Z$8*100,0) -> 4.7596878 | AB18: =[1]MercLab!W86 -> 11.311722 | AC18: =IF(ISNUMBER(Z18/T18*100),Z18/T18*100,0) -> 6.0070794 | AD18: =[1]MercLab!X86 -> 6.0371712
A19: Primaria | B19: =[1]MercLab!N55 -> 2087766.9 | C19: =IF(ISNUMBER(B19/B$8*100),B19/B$8*100,0) -> 53.0011 | D19: =[1]MercLab!O55 -> 3.8931175 | E19: =[1]MercLab!P55 -> 1788657.8 | F19: =IF(ISNUMBER(E19/E$8*100),E19/E$8*100,0) -> 58.201086 | G19: =[1]MercLab!Q55 -> 4.3684658 | H19: =[1]MercLab!R55 -> 1289997.6 | I19: =IF(ISNUMBER(H19/H$8*100),H19/H$8*100,0) -> 58.857006 | J19: =[1]MercLab!S55 -> 4.5634274 | K19: =[1]MercLab!T55 -> 1248443.5 | L19: =IF(ISNUMBER(K19/K$8*100),K19/K$8*100,0) -> 59.384728 | M19: =[1]MercLab!U55 -> 4.5534946 | N19: =[1]MercLab!V55 -> 41554.19 | O19: =IF(ISNUMBER(N19/N$8*100),N19/N$8*100,0) -> 46.454422 | P19: =[1]MercLab!W55 -> 4.8617657 | Q19: =IF(ISNUMBER(N19/H19*100),N19/H19*100,0) -> 3.2212609 | R19: =[1]MercLab!X55 -> 2.7914805 | S19: Servicios Comunales, Sociales y Personales | T19: =[1]MercLab!R87 -> 158934.69 | U19: =IF(ISNUMBER(T19/T$8*100),T19/T$8*100,0) -> 7.2515016 | V19: =[1]MercLab!S87 -> 10.197736 | W19: =[1]MercLab!T87 -> 147821.73 | X19: =IF(ISNUMBER(W19/W$8*100),W19/W$8*100,0) -> 7.0314387 | Y19: =[1]MercLab!U87 -> 10.288042 | Z19: =[1]MercLab!V87 -> 11112.956 | AA19: =IF(ISNUMBER(Z19/Z$8*100),Z19/Z$8*100,0) -> 12.423439 | AB19: =[1]MercLab!W87 -> 9.0119259 | AC19: =IF(ISNUMBER(Z19/T19*100),Z19/T19*100,0) -> 6.9921523 | AD19: =[1]MercLab!X87 -> 4.5989083
A20: Secundaria | B20: =[1]MercLab!N56 -> 731304.94 | C20: =IF(ISNUMBER(B20/B$8*100),B20/B$8*100,0) -> 18.565275 | D20: =[1]MercLab!O56 -> 9.3572622 | E20: =[1]MercLab!P56 -> 731304.94 | F20: =IF(ISNUMBER(E20/E$8*100),E20/E$8*100,0) -> 23.795912 | G20: =[1]MercLab!Q56 -> 9.3572622 | H20: =[1]MercLab!R56 -> 462542.71 | I20: =IF(ISNUMBER(H20/H$8*100),H20/H$8*100,0) -> 21.103821 | J20: =[1]MercLab!S56 -> 9.8554 | K20: =[1]MercLab!T56 -> 429272.04 | L20: =IF(ISNUMBER(K20/K$8*100),K20/K$8*100,0) -> 20.41919 | M20: =[1]MercLab!U56 -> 9.8205074 | N20: =[1]MercLab!V56 -> 33270.67 | O20: =IF(ISNUMBER(N20/N$8*100),N20/N$8*100,0) -> 37.194077 | P20: =[1]MercLab!W56 -> 10.305288 | Q20: =IF(ISNUMBER(N20/H20*100),N20/H20*100,0) -> 7.1929941 | R20: =[1]MercLab!X56 -> 4.4351769 | S20: No sabe, No responde | T20: =[1]MercLab!R88 -> 5661.4821 | U20: =IF(ISNUMBER(T20/T$8*100),T20/T$8*100,0) -> 0.25830891 | V20: =[1]MercLab!S88 -> 7.2349629 | W20: =[1]MercLab!T88 -> 5211.4429 | X20: =IF(ISNUMBER(W20/W$8*100),W20/W$8*100,0) -> 0.24789278 | Y20: =[1]MercLab!U88 -> 7.3669655 | Z20: =[1]MercLab!V88 -> 450.03921 | AA20: =IF(ISNUMBER(Z20/Z$8*100),Z20/Z$8*100,0) -> 0.50310959 | AB20: =[1]MercLab!W88 -> 5.9472454 | AC20: =IF(ISNUMBER(Z20/T20*100),Z20/T20*100,0) -> 7.9491413 | AD20: =[1]MercLab!X88 -> 1.3947613
A21: Superior | B21: =[1]MercLab!N57 -> 180034.08 | C21: =IF(ISNUMBER(B21/B$8*100),B21/B$8*100,0) -> 4.5704358 | D21: =[1]MercLab!O57 -> 14.923183 | E21: =[1]MercLab!P57 -> 180034.08 | F21: =IF(ISNUMBER(E21/E$8*100),E21/E$8*100,0) -> 5.8581242 | G21: =[1]MercLab!Q57 -> 14.923183 | H21: =[1]MercLab!R57 -> 136376.19 | I21: =IF(ISNUMBER(H21/H$8*100),H21/H$8*100,0) -> 6.2222551 | J21: =[1]MercLab!S57 -> 15.390196 | K21: =[1]MercLab!T57 -> 127570.41 | L21: =IF(ISNUMBER(K21/K$8*100),K21/K$8*100,0) -> 6.0681434 | M21: =[1]MercLab!U57 -> 15.387815 | N21: =[1]MercLab!V57 -> 8805.7876 | O21: =IF(ISNUMBER(N21/N$8*100),N21/N$8*100,0) -> 9.8442004 | P21: =[1]MercLab!W57 -> 15.424689 | Q21: =IF(ISNUMBER(N21/H21*100),N21/H21*100,0) -> 6.456983 | R21: =[1]MercLab!X57 -> 4.64098 | S21: Busca trabajo por primera vez | T21: =[1]MercLab!R89 -> 10005.552 | U21: =IF(ISNUMBER(T21/T$8*100),T21/T$8*100,0) -> 0.45651003 | V21: =[1]MercLab!S89 -> 10.743679 | W21: =[1]MercLab!T89 -> 0 | X21: =IF(ISNUMBER(W21/W$8*100),W21/W$8*100,0) -> 0 | Y21: =[1]MercLab!U89 -> 0 | Z21: =[1]MercLab!V89 -> 10005.552 | AA21: =IF(ISNUMBER(Z21/Z$8*100),Z21/Z$8*100,0) -> 11.185446 | AB21: =[1]MercLab!W89 -> 10.743679 | AC21: =IF(ISNUMBER(Z21/T21*100),Z21/T21*100,0) -> 100 | AD21: =[1]MercLab!X89 -> 6.0797198
A22: No sabe, no responde | B22: =[1]MercLab!N58 -> 13278.569 | C22: =IF(ISNUMBER(B22/B$8*100),B22/B$8*100,0) -> 0.33709643 | D22: =[1]MercLab!O58 -> 15 | E22: =[1]MercLab!P58 -> 13278.569 | F22: =IF(ISNUMBER(E22/E$8*100),E22/E$8*100,0) -> 0.43207099 | G22: =[1]MercLab!Q58 -> 15 | H22: =[1]MercLab!R58 -> 11534.512 | I22: =IF(ISNUMBER(H22/H$8*100),H22/H$8*100,0) -> 0.52626984 | J22: =[1]MercLab!S58 -> 15 | K22: =[1]MercLab!T58 -> 11299.929 | L22: =IF(ISNUMBER(K22/K$8*100),K22/K$8*100,0) -> 0.53750388 | M22: =[1]MercLab!U58 -> 15 | N22: =[1]MercLab!V58 -> 234.58346 | O22: =IF(ISNUMBER(N22/N$8*100),N22/N$8*100,0) -> 0.26224646 | P22: =[1]MercLab!W58 -> 0 | Q22: =IF(ISNUMBER(N22/H22*100),N22/H22*100,0) -> 2.0337528 | R22: =[1]MercLab!X58 -> 3.5
S23: Ocupación (1 Dig.)
A24: Rango de Edad | S24: Profesionales, Técnicos y PEOA | T24: =[1]MercLab!R91 -> 117019.57 | U24: =IF(ISNUMBER(T24/T$8*100),T24/T$8*100,0) -> 5.3390963 | V24: =[1]MercLab!S91 -> 12.667774 | W24: =[1]MercLab!T91 -> 111503.05 | X24: =IF(ISNUMBER(W24/W$8*100),W24/W$8*100,0) -> 5.3038671 | Y24: =[1]MercLab!U91 -> 12.723378 | Z24: =[1]MercLab!V91 -> 5516.5259 | AA24: =IF(ISNUMBER(Z24/Z$8*100),Z24/Z$8*100,0) -> 6.1670561 | AB24: =[1]MercLab!W91 -> 11.553699 | AC24: =IF(ISNUMBER(Z24/T24*100),Z24/T24*100,0) -> 4.7141908 | AD24: =[1]MercLab!X91 -> 4.9021253
A25: De 10 a 11 años | B25: =[1]MercLab!N60 -> 231692.39 | C25: =IF(ISNUMBER(B25/B$8*100),B25/B$8*100,0) -> 5.8818595 | D25: =[1]MercLab!O60 -> 3.0105631 | E25: =[1]MercLab!P60 -> 231692.39 | F25: =IF(ISNUMBER(E25/E$8*100),E25/E$8*100,0) -> 7.5390324 | G25: =[1]MercLab!Q60 -> 3.0105631 | H25: =[1]MercLab!R60 -> 22112.243 | I25: =IF(ISNUMBER(H25/H$8*100),H25/H$8*100,0) -> 1.0088859 | J25: =[1]MercLab!S60 -> 2.9373207 | K25: =[1]MercLab!T60 -> 22112.243 | L25: =IF(ISNUMBER(K25/K$8*100),K25/K$8*100,0) -> 1.0518134 | M25: =[1]MercLab!U60 -> 2.9373207 | N25: =[1]MercLab!V60 -> 0 | O25: =IF(ISNUMBER(N25/N$8*100),N25/N$8*100,0) -> 0 | P25: =[1]MercLab!W60 -> 0 | Q25: =IF(ISNUMBER(N25/H25*100),N25/H25*100,0) -> 0 | R25: =[1]MercLab!X60 -> 0 | S25: Directores Gerentes y Administ. Grales. | T25: =[1]MercLab!R92 -> 65479.954 | U25: =IF(ISNUMBER(T25/T$8*100),T25/T$8*100,0) -> 2.9875667 | V25: =[1]MercLab!S92 -> 10.591521 | W25: =[1]MercLab!T92 -> 61678.423 | X25: =IF(ISNUMBER(W25/W$8*100),W25/W$8*100,0) -> 2.9338585 | Y25: =[1]MercLab!U92 -> 10.428498 | Z25: =[1]MercLab!V92 -> 3801.5311 | AA25: =IF(ISNUMBER(Z25/Z$8*100),Z25/Z$8*100,0) -> 4.2498225 | AB25: =[1]MercLab!W92 -> 13.059024 | AC25: =IF(ISNUMBER(Z25/T25*100),Z25/T25*100,0) -> 5.8056411 | AD25: =[1]MercLab!X92 -> 7.4419704
A26: De 12 a 14 años | B26: =[1]MercLab!N61 -> 336403.51 | C26: =IF(ISNUMBER(B26/B$8*100),B26/B$8*100,0) -> 8.5401087 | D26: =[1]MercLab!O61 -> 5.0181416 | E26: =[1]MercLab!P61 -> 336403.51 | F26: =IF(ISNUMBER(E26/E$8*100),E26/E$8*100,0) -> 10.946225 | G26: =[1]MercLab!Q61 -> 5.0181416 | H26: =[1]MercLab!R61 -> 107210.19 | I26: =IF(ISNUMBER(H26/H$8*100),H26/H$8*100,0) -> 4.8915365 | J26: =[1]MercLab!S61 -> 4.8454175 | K26: =[1]MercLab!T61 -> 106618.05 | L26: =IF(ISNUMBER(K26/K$8*100),K26/K$8*100,0) -> 5.0715023 | M26: =[1]MercLab!U61 -> 4.8445191 | N26: =[1]MercLab!V61 -> 592.1384 | O26: =IF(ISNUMBER(N26/N$8*100),N26/N$8*100,0) -> 0.66196567 | P26: =[1]MercLab!W61 -> 5 | Q26: =IF(ISNUMBER(N26/H26*100),N26/H26*100,0) -> 0.55231543 | R26: =[1]MercLab!X61 -> 2.6158785 | S26: Empleados de Oficina | T26: =[1]MercLab!R93 -> 34073.007 | U26: =IF(ISNUMBER(T26/T$8*100),T26/T$8*100,0) -> 1.5546038 | V26: =[1]MercLab!S93 -> 10.377005 | W26: =[1]MercLab!T93 -> 32147.995 | X26: =IF(ISNUMBER(W26/W$8*100),W26/W$8*100,0) -> 1.5291842 | Y26: =[1]MercLab!U93 -> 10.336835 | Z26: =[1]MercLab!V93 -> 1925.0123 | AA26: =IF(ISNUMBER(Z26/Z$8*100),Z26/Z$8*100,0) -> 2.1520172 | AB26: =[1]MercLab!W93 -> 11.036423 | AC26: =IF(ISNUMBER(Z26/T26*100),Z26/T26*100,0) -> 5.6496694 | AD26: =[1]MercLab!X93 -> 3.9771162
A27: De 15 a 18 años | B27: =[1]MercLab!N62 -> 438481.66 | C27: =IF(ISNUMBER(B27/B$8*100),B27/B$8*100,0) -> 11.131516 | D27: =[1]MercLab!O62 -> 7.0297243 | E27: =[1]MercLab!P62 -> 438481.66 | F27: =IF(ISNUMBER(E27/E$8*100),E27/E$8*100,0) -> 14.267743 | G27: =[1]MercLab!Q62 -> 7.0297243 | H27: =[1]MercLab!R62 -> 247167.5 | I27: =IF(ISNUMBER(H27/H$8*100),H27/H$8*100,0) -> 11.277182 | J27: =[1]MercLab!S62 -> 6.1449392 | K27: =[1]MercLab!T62 -> 236019.56 | L27: =IF(ISNUMBER(K27/K$8*100),K27/K$8*100,0) -> 11.226746 | M27: =[1]MercLab!U62 -> 6.118026 | N27: =[1]MercLab!V62 -> 11147.942 | O27: =IF(ISNUMBER(N27/N$8*100),N27/N$8*100,0) -> 12.462551 | P27: =[1]MercLab!W62 -> 6.7650797 | Q27: =IF(ISNUMBER(N27/H27*100),N27/H27*100,0) -> 4.5102785 | R27: =[1]MercLab!X62 -> 2.3257801 | S27: Comerciantes y Vendedores | T27: =[1]MercLab!R94 -> 217733.83 | U27: =IF(ISNUMBER(T27/T$8*100),T27/T$8*100,0) -> 9.9342515 | V27: =[1]MercLab!S94 -> 7.7440984 | W27: =[1]MercLab!T94 -> 208419.25 | X27: =IF(ISNUMBER(W27/W$8*100),W27/W$8*100,0) -> 9.9138818 | Y27: =[1]MercLab!U94 -> 7.6654659 | Z27: =[1]MercLab!V94 -> 9314.5723 | AA27: =IF(ISNUMBER(Z27/Z$8*100),Z27/Z$8*100,0) -> 10.412983 | AB27: =[1]MercLab!W94 -> 9.3789103 | AC27: =IF(ISNUMBER(Z27/T27*100),Z27/T27*100,0) -> 4.2779629 | AD27: =[1]MercLab!X94 -> 4.1191358
A28: De 19 a 24 años | B28: =[1]MercLab!N63 -> 494369.48 | C28: =IF(ISNUMBER(B28/B$8*100),B28/B$8*100,0) -> 12.550312 | D28: =[1]MercLab!O63 -> 7.9584358 | E28: =[1]MercLab!P63 -> 494369.48 | F28: =IF(ISNUMBER(E28/E$8*100),E28/E$8*100,0) -> 16.086275 | G28: =[1]MercLab!Q63 -> 7.9584358 | H28: =[1]MercLab!R63 -> 403491.53 | I28: =IF(ISNUMBER(H28/H$8*100),H28/H$8*100,0) -> 18.409571 | J28: =[1]MercLab!S63 -> 7.4663889 | K28: =[1]MercLab!T63 -> 376030.05 | L28: =IF(ISNUMBER(K28/K$8*100),K28/K$8*100,0) -> 17.886627 | M28: =[1]MercLab!U63 -> 7.3842098 | N28: =[1]MercLab!V63 -> 27461.48 | O28: =IF(ISNUMBER(N28/N$8*100),N28/N$8*100,0) -> 30.699844 | P28: =[1]MercLab!W63 -> 8.5323828 | Q28: =IF(ISNUMBER(N28/H28*100),N28/H28*100,0) -> 6.8059619 | R28: =[1]MercLab!X63 -> 3.1201584 | S28: Agricultores, Ganaderos y Trab. Agrop. | T28: =[1]MercLab!R95 -> 1016833.3 | U28: =IF(ISNUMBER(T28/T$8*100),T28/T$8*100,0) -> 46.393699 | V28: =[1]MercLab!S95 -> 4.8618689 | W28: =[1]MercLab!T95 -> 1011938.4 | X28: =IF(ISNUMBER(W28/W$8*100),W28/W$8*100,0) -> 48.134888 | Y28: =[1]MercLab!U95 -> 4.8559883 | Z28: =[1]MercLab!V95 -> 4894.9091 | AA28: =IF(ISNUMBER(Z28/Z$8*100),Z28/Z$8*100,0) -> 5.4721359 | AB28: =[1]MercLab!W95 -> 6.356927 | AC28: =IF(ISNUMBER(Z28/T28*100),Z28/T28*100,0) -> 0.48138758 | AD28: =[1]MercLab!X95 -> 1.0178306
A29: De 25 a 29 años | B29: =[1]MercLab!N64 -> 273263.86 | C29: =IF(ISNUMBER(B29/B$8*100),B29/B$8*100,0) -> 6.9372138 | D29: =[1]MercLab!O64 -> 7.7950729 | E29: =[1]MercLab!P64 -> 273263.86 | F29: =IF(ISNUMBER(E29/E$8*100),E29/E$8*100,0) -> 8.8917254 | G29: =[1]MercLab!Q64 -> 7.7950729 | H29: =[1]MercLab!R64 -> 249163.81 | I29: =IF(ISNUMBER(H29/H$8*100),H29/H$8*100,0) -> 11.368266 | J29: =[1]MercLab!S64 -> 7.7130591 | K29: =[1]MercLab!T64 -> 234407.31 | L29: =IF(ISNUMBER(K29/K$8*100),K29/K$8*100,0) -> 11.150056 | M29: =[1]MercLab!U64 -> 7.5599366 | N29: =[1]MercLab!V64 -> 14756.509 | O29: =IF(ISNUMBER(N29/N$8*100),N29/N$8*100,0) -> 16.496654 | P29: =[1]MercLab!W64 -> 9.9901785 | Q29: =IF(ISNUMBER(N29/H29*100),N29/H29*100,0) -> 5.9224126 | R29: =[1]MercLab!X64 -> 3.4784446 | S29: Conductores de Transporte | T29: =[1]MercLab!R96 -> 86734.658 | U29: =IF(ISNUMBER(T29/T$8*100),T29/T$8*100,0) -> 3.9573268 | V29: =[1]MercLab!S96 -> 6.8581363 | W29: =[1]MercLab!T96 -> 84098.573 | X29: =IF(ISNUMBER(W29/W$8*100),W29/W$8*100,0) -> 4.0003181 | Y29: =[1]MercLab!U96 -> 6.8878848 | Z29: =[1]MercLab!V96 -> 2636.0852 | AA29: =IF(ISNUMBER(Z29/Z$8*100),Z29/Z$8*100,0) -> 2.9469426 | AB29: =[1]MercLab!W96 -> 5.9447578 | AC29: =IF(ISNUMBER(Z29/T29*100),Z29/T29*100,0) -> 3.0392524 | AD29: =[1]MercLab!X96 -> 4.1198577
A30: De 30 a 35 años | B30: =[1]MercLab!N65 -> 250947.15 | C30: =IF(ISNUMBER(B30/B$8*100),B30/B$8*100,0) -> 6.3706705 | D30: =[1]MercLab!O65 -> 7.4098386 | E30: =[1]MercLab!P65 -> 250947.15 | F30: =IF(ISNUMBER(E30/E$8*100),E30/E$8*100,0) -> 8.1655625 | G30: =[1]MercLab!Q65 -> 7.4098386 | H30: =[1]MercLab!R65 -> 243036.68 | I30: =IF(ISNUMBER(H30/H$8*100),H30/H$8*100,0) -> 11.088711 | J30: =[1]MercLab!S65 -> 7.4294166 | K30: =[1]MercLab!T65 -> 235391.18 | L30: =IF(ISNUMBER(K30/K$8*100),K30/K$8*100,0) -> 11.196856 | M30: =[1]MercLab!U65 -> 7.3886397 | N30: =[1]MercLab!V65 -> 7645.5013 | O30: =IF(ISNUMBER(N30/N$8*100),N30/N$8*100,0) -> 8.5470885 | P30: =[1]MercLab!W65 -> 8.6486098 | Q30: =IF(ISNUMBER(N30/H30*100),N30/H30*100,0) -> 3.1458219 | R30: =[1]MercLab!X65 -> 4.5789623 | S30: Trab. Ind. Textil, Albañilería, Mecánica, etc. | T30: =[1]MercLab!R97 -> 374801.95 | U30: =IF(ISNUMBER(T30/T$8*100),T30/T$8*100,0) -> 17.10059 | V30: =[1]MercLab!S97 -> 6.8199285 | W30: =[1]MercLab!T97 -> 346099.94 | X30: =IF(ISNUMBER(W30/W$8*100),W30/W$8*100,0) -> 16.462941 | Y30: =[1]MercLab!U97 -> 6.8882486 | Z30: =[1]MercLab!V97 -> 28702.008 | AA30: =IF(ISNUMBER(Z30/Z$8*100),Z30/Z$8*100,0) -> 32.086661 | AB30: =[1]MercLab!W97 -> 5.9957102 | AC30: =IF(ISNUMBER(Z30/T30*100),Z30/T30*100,0) -> 7.6579133 | AD30: =[1]MercLab!X97 -> 2.2470216
A31: De 36 a 44 años | B31: =[1]MercLab!N66 -> 305271.5 | C31: =IF(ISNUMBER(B31/B$8*100),B31/B$8*100,0) -> 7.7497757 | D31: =[1]MercLab!O66 -> 6.712516 | E31: =[1]MercLab!P66 -> 305271.5 | F31: =IF(ISNUMBER(E31/E$8*100),E31/E$8*100,0) -> 9.9332209 | G31: =[1]MercLab!Q66 -> 6.712516 | H31: =[1]MercLab!R66 -> 297515.53 | I31: =IF(ISNUMBER(H31/H$8*100),H31/H$8*100,0) -> 13.574345 | J31: =[1]MercLab!S66 -> 6.7148181 | K31: =[1]MercLab!T66 -> 286410.26 | L31: =IF(ISNUMBER(K31/K$8*100),K31/K$8*100,0) -> 13.623681 | M31: =[1]MercLab!U66 -> 6.6772221 | N31: =[1]MercLab!V66 -> 11105.279 | O31: =IF(ISNUMBER(N31/N$8*100),N31/N$8*100,0) -> 12.414856 | P31: =[1]MercLab!W66 -> 7.6446003 | Q31: =IF(ISNUMBER(N31/H31*100),N31/H31*100,0) -> 3.7326719 | R31: =[1]MercLab!X66 -> 4.3229723 | S31: Trab. Area Grafica, Quim., Alimentos, etc. | T31: =[1]MercLab!R98 -> 46534.642 | U31: =IF(ISNUMBER(T31/T$8*100),T31/T$8*100,0) -> 2.1231742 | V31: =[1]MercLab!S98 -> 6.3493978 | W31: =[1]MercLab!T98 -> 43738.078 | X31: =IF(ISNUMBER(W31/W$8*100),W31/W$8*100,0) -> 2.0804898 | Y31: =[1]MercLab!U98 -> 6.2768454 | Z31: =[1]MercLab!V98 -> 2796.5638 | AA31: =IF(ISNUMBER(Z31/Z$8*100),Z31/Z$8*100,0) -> 3.1263455 | AB31: =[1]MercLab!W98 -> 7.4332184 | AC31: =IF(ISNUMBER(Z31/T31*100),Z31/T31*100,0) -> 6.0096385 | AD31: =[1]MercLab!X98 -> 2.3557982
A32: De 45 a 59 años | B32: =[1]MercLab!N67 -> 415179.57 | C32: =IF(ISNUMBER(B32/B$8*100),B32/B$8*100,0) -> 10.539957 | D32: =[1]MercLab!O67 -> 6.2638254 | E32: =[1]MercLab!P67 -> 415179.57 | F32: =IF(ISNUMBER(E32/E$8*100),E32/E$8*100,0) -> 13.509517 | G32: =[1]MercLab!Q67 -> 6.2638254 | H32: =[1]MercLab!R67 -> 395557.41 | I32: =IF(ISNUMBER(H32/H$8*100),H32/H$8*100,0) -> 18.047572 | J32: =[1]MercLab!S67 -> 6.2807274 | K32: =[1]MercLab!T67 -> 382074.03 | L32: =IF(ISNUMBER(K32/K$8*100),K32/K$8*100,0) -> 18.174121 | M32: =[1]MercLab!U67 -> 6.2401294 | N32: =[1]MercLab!V67 -> 13483.387 | O32: =IF(ISNUMBER(N32/N$8*100),N32/N$8*100,0) -> 15.073401 | P32: =[1]MercLab!W67 -> 7.2630912 | Q32: =IF(ISNUMBER(N32/H32*100),N32/H32*100,0) -> 3.4087055 | R32: =[1]MercLab!X67 -> 4.7321171 | S32: Operador de Carga y Almacenaje | T32: =[1]MercLab!R99 -> 60260.569 | U32: =IF(ISNUMBER(T32/T$8*100),T32/T$8*100,0) -> 2.7494288 | V32: =[1]MercLab!S99 -> 7.0046932 | W32: =[1]MercLab!T99 -> 50927.185 | X32: =IF(ISNUMBER(W32/W$8*100),W32/W$8*100,0) -> 2.4224542 | Y32: =[1]MercLab!U99 -> 6.9675319 | Z32: =[1]MercLab!V99 -> 9333.3835 | AA32: =IF(ISNUMBER(Z32/Z$8*100),Z32/Z$8*100,0) -> 10.434012 | AB32: =[1]MercLab!W99 -> 7.2129413 | AC32: =IF(ISNUMBER(Z32/T32*100),Z32/T32*100,0) -> 15.488376 | AD32: =[1]MercLab!X99 -> 2.7051838
A33: De 60 años y más | B33: =[1]MercLab!N68 -> 327628.65 | C33: =IF(ISNUMBER(B33/B$8*100),B33/B$8*100,0) -> 8.3173456 | D33: =[1]MercLab!O68 -> 4.8629599 | E33: =[1]MercLab!P68 -> 327628.65 | F33: =IF(ISNUMBER(E33/E$8*100),E33/E$8*100,0) -> 10.6607 | G33: =[1]MercLab!Q68 -> 4.8629599 | H33: =[1]MercLab!R68 -> 226493.78 | I33: =IF(ISNUMBER(H33/H$8*100),H33/H$8*100,0) -> 10.33393 | J33: =[1]MercLab!S68 -> 4.7695257 | K33: =[1]MercLab!T68 -> 223234.49 | L33: =IF(ISNUMBER(K33/K$8*100),K33/K$8*100,0) -> 10.618598 | M33: =[1]MercLab!U68 -> 4.7841295 | N33: =[1]MercLab!V68 -> 3259.2909 | O33: =IF(ISNUMBER(N33/N$8*100),N33/N$8*100,0) -> 3.6436392 | P33: =[1]MercLab!W68 -> 3.9422476 | Q33: =IF(ISNUMBER(N33/H33*100),N33/H33*100,0) -> 1.4390201 | R33: =[1]MercLab!X68 -> 2.9974746 | S33: Ocupación de los Servicios | T33: =[1]MercLab!R100 -> 128279.33 | U33: =IF(ISNUMBER(T33/T$8*100),T33/T$8*100,0) -> 5.8528301 | V33: =[1]MercLab!S100 -> 6.4041298 | W33: =[1]MercLab!T100 -> 119131.65 | X33: =IF(ISNUMBER(W33/W$8*100),W33/W$8*100,0) -> 5.6667368 | Y33: =[1]MercLab!U100 -> 6.2776799 | Z33: =[1]MercLab!V100 -> 9147.6801 | AA33: =IF(ISNUMBER(Z33/Z$8*100),Z33/Z$8*100,0) -> 10.22641 | AB33: =[1]MercLab!W100 -> 7.9463259 | AC33: =IF(ISNUMBER(Z33/T33*100),Z33/T33*100,0) -> 7.1310633 | AD33: =[1]MercLab!X100 -> 4.2866955
S34: No sabe, No responde | T34: =[1]MercLab!R101 -> 33992.334 | U34: =IF(ISNUMBER(T34/T$8*100),T34/T$8*100,0) -> 1.550923 | V34: =[1]MercLab!S101 -> 7.1552992 | W34: =[1]MercLab!T101 -> 32614.63 | X34: =IF(ISNUMBER(W34/W$8*100),W34/W$8*100,0) -> 1.5513806 | Y34: =[1]MercLab!U101 -> 7.1381702 | Z34: =[1]MercLab!V101 -> 1377.7035 | AA34: =IF(ISNUMBER(Z34/Z$8*100),Z34/Z$8*100,0) -> 1.5401677 | AB34: =[1]MercLab!W101 -> 7.5627662 | AC34: =IF(ISNUMBER(Z34/T34*100),Z34/T34*100,0) -> 4.052983 | AD34: =[1]MercLab!X101 -> 2.9551616
A35: Rama de Actividad | S35: Busca trabajo por primera vez | T35: =[1]MercLab!R102 -> 10005.552 | U35: =IF(ISNUMBER(T35/T$8*100),T35/T$8*100,0) -> 0.45651003 | V35: =[1]MercLab!S102 -> 10.743679 | W35: =[1]MercLab!T102 -> 0 | X35: =IF(ISNUMBER(W35/W$8*100),W35/W$8*100,0) -> 0 | Y35: =[1]MercLab!U102 -> 0 | Z35: =[1]MercLab!V102 -> 10005.552 | AA35: =IF(ISNUMBER(Z35/Z$8*100),Z35/Z$8*100,0) -> 11.185446 | AB35: =[1]MercLab!W102 -> 10.743679 | AC35: =IF(ISNUMBER(Z35/T35*100),Z35/T35*100,0) -> 100 | AD35: =[1]MercLab!X102 -> 6.0797198
A36: Primaria | B36: =[1]MercLab!N73 -> 1104304 | C36: =IF(ISNUMBER(B36/B$8*100),B36/B$8*100,0) -> 28.034416 | D36: =[1]MercLab!O73 -> 4.8902134 | E36: =[1]MercLab!P73 -> 1094827.6 | F36: =IF(ISNUMBER(E36/E$8*100),E36/E$8*100,0) -> 35.624565 | G36: =[1]MercLab!Q73 -> 4.9237602 | H36: =[1]MercLab!R73 -> 1066301.2 | I36: =IF(ISNUMBER(H36/H$8*100),H36/H$8*100,0) -> 48.650707 | J36: =[1]MercLab!S73 -> 4.9115166 | K36: =[1]MercLab!T73 -> 1056001.2 | L36: =IF(ISNUMBER(K36/K$8*100),K36/K$8*100,0) -> 50.230823 | M36: =[1]MercLab!U73 -> 4.8966109 | N36: =[1]MercLab!V73 -> 10300.069 | O36: =IF(ISNUMBER(N36/N$8*100),N36/N$8*100,0) -> 11.514694 | P36: =[1]MercLab!W73 -> 6.5406747 | Q36: =IF(ISNUMBER(N36/H36*100),N36/H36*100,0) -> 0.96596244 | R36: =[1]MercLab!X73 -> 1.5254672
A37: Secundaria | B37: =[1]MercLab!N74 -> 230446.84 | C37: =IF(ISNUMBER(B37/B$8*100),B37/B$8*100,0) -> 5.8502394 | D37: =[1]MercLab!O74 -> 7.6040956 | E37: =[1]MercLab!P74 -> 230212.26 | F37: =IF(ISNUMBER(E37/E$8*100),E37/E$8*100,0) -> 7.4908704 | G37: =[1]MercLab!Q74 -> 7.6100932 | H37: =[1]MercLab!R74 -> 220365.73 | I37: =IF(ISNUMBER(H37/H$8*100),H37/H$8*100,0) -> 10.054334 | J37: =[1]MercLab!S74 -> 7.6413081 | K37: =[1]MercLab!T74 -> 207193.24 | L37: =IF(ISNUMBER(K37/K$8*100),K37/K$8*100,0) -> 9.855564 | M37: =[1]MercLab!U74 -> 7.6296941 | N37: =[1]MercLab!V74 -> 13172.488 | O37: =IF(ISNUMBER(N37/N$8*100),N37/N$8*100,0) -> 14.725839 | P37: =[1]MercLab!W74 -> 7.8193756 | Q37: =IF(ISNUMBER(N37/H37*100),N37/H37*100,0) -> 5.9775575 | R37: =[1]MercLab!X74 -> 3.1158898 | S37: =A42 -> Fuente: Instituto Nacional de Estadística (INE). XL Encuesta Permanente de Hogares de Propósitos Múltiples, Septiembre 2010.
A38: Terciaria | B38: =[1]MercLab!N75 -> 937447.36 | C38: =IF(ISNUMBER(B38/B$8*100),B38/B$8*100,0) -> 23.79851 | D38: =[1]MercLab!O75 -> 8.0359763 | E38: =[1]MercLab!P75 -> 935622.69 | F38: =IF(ISNUMBER(E38/E$8*100),E38/E$8*100,0) -> 30.444201 | G38: =[1]MercLab!Q75 -> 8.0496842 | H38: =[1]MercLab!R75 -> 889414.68 | I38: =IF(ISNUMBER(H38/H$8*100),H38/H$8*100,0) -> 40.58014 | J38: =[1]MercLab!S75 -> 8.0752568 | K38: =[1]MercLab!T75 -> 833891.3 | L38: =IF(ISNUMBER(K38/K$8*100),K38/K$8*100,0) -> 39.66572 | M38: =[1]MercLab!U75 -> 8.0822977 | N38: =[1]MercLab!V75 -> 55523.378 | O38: =IF(ISNUMBER(N38/N$8*100),N38/N$8*100,0) -> 62.070911 | P38: =[1]MercLab!W75 -> 7.9715912 | Q38: =IF(ISNUMBER(N38/H38*100),N38/H38*100,0) -> 6.2426874 | R38: =[1]MercLab!X75 -> 3.5898661 | S38: =A43 -> El salario mínimo en el área urbana es Lps. 5,500 y en la área rural es Lps. 4,055 (Promedio de salarios mínimos por rama)
A39: No sabe, no responde | B39: =[1]MercLab!N76 -> 6612.9671 | C39: =IF(ISNUMBER(B39/B$8*100),B39/B$8*100,0) -> 0.16788011 | D39: =[1]MercLab!O76 -> 6.737259 | E39: =[1]MercLab!P76 -> 6612.9671 | F39: =IF(ISNUMBER(E39/E$8*100),E39/E$8*100,0) -> 0.21517915 | G39: =[1]MercLab!Q76 -> 6.737259 | H39: =[1]MercLab!R76 -> 5661.4821 | I39: =IF(ISNUMBER(H39/H$8*100),H39/H$8*100,0) -> 0.25830891 | J39: =[1]MercLab!S76 -> 7.2349629 | K39: =[1]MercLab!T76 -> 5211.4429 | L39: =IF(ISNUMBER(K39/K$8*100),K39/K$8*100,0) -> 0.24789278 | M39: =[1]MercLab!U76 -> 7.3669655 | N39: =[1]MercLab!V76 -> 450.03921 | O39: =IF(ISNUMBER(N39/N$8*100),N39/N$8*100,0) -> 0.50310959 | P39: =[1]MercLab!W76 -> 5.9472454 | Q39: =IF(ISNUMBER(N39/H39*100),N39/H39*100,0) -> 7.9491413 | R39: =[1]MercLab!X76 -> 1.3947613 | S39: AEP= Años de Estudio Promedio
A40: Busca trabajo por primera vez | B40: =[1]MercLab!N77 -> 41109.617 | C40: =IF(ISNUMBER(B40/B$8*100),B40/B$8*100,0) -> 1.0436294 | D40: =[1]MercLab!O77 -> 8.4729062 | E40: =[1]MercLab!P77 -> 41109.617 | F40: =IF(ISNUMBER(E40/E$8*100),E40/E$8*100,0) -> 1.3376647 | G40: =[1]MercLab!Q77 -> 8.4729062 | H40: =[1]MercLab!R77 -> 10005.552 | I40: =IF(ISNUMBER(H40/H$8*100),H40/H$8*100,0) -> 0.45651003 | J40: =[1]MercLab!S77 -> 10.743679 | K40: =[1]MercLab!T77 -> 0 | L40: =IF(ISNUMBER(K40/K$8*100),K40/K$8*100,0) -> 0 | M40: =[1]MercLab!U77 -> 0 | N40: =[1]MercLab!V77 -> 10005.552 | O40: =IF(ISNUMBER(N40/N$8*100),N40/N$8*100,0) -> 11.185446 | P40: =[1]MercLab!W77 -> 10.743679 | Q40: =IF(ISNUMBER(N40/H40*100),N40/H40*100,0) -> 100 | R40: =[1]MercLab!X77 -> 6.0797198 | S40: TDA= Tasa de Desempleo Abierto
S41: MBT= Meses promedio en Busca de Trabajo
A42: Fuente: Instituto Nacional de Estadística (INE). XL Encuesta Permanente de Hogares de Propósitos Múltiples, Septiembre 2010. | S42: 1/ Porcentaje por columna
...

Sheet C02
A1: Cuadro No. 3. Personas ocupadas por categoría ocupacional, según dominio, nivel educativo, rango de edad, sexo.
A2: número de salarios mínimos, rama de actividad y ocupación
A3: Ocupación Principal
A4: Hombres
A5: Categorías | B5: Total Ocupados | D5: Asalariados | L5: Cuenta propia | N5: Trab. fam. no remu.
D6: Total Asalariados | F6: Público | H6: Privado | J6: Doméstico
B7: No. | C7: % 1/ | D7: No. | E7: % 1/ | F7: No. | G7: % 1/ | H7: No. | I7: % 1/ | J7: No. | K7: % 1/ | L7: No. | M7: % 1/ | N7: No. | O7: % 1/
A9: Total Nacional 2/ | B9: =[1]MercLab!J114 -> 2102297.2 | C9: =SUM(E9,M9,O9) -> 100 | D9: =F9+H9+J9 -> 965130.33 | E9: =IF(ISNUMBER(D9/$B$9*100),D9/$B$9*100,0) -> 45.908369 | F9: =[1]MercLab!K114 -> 83411.102 | G9: =IF(ISNUMBER(F9/$B$9*100),F9/$B$9*100,0) -> 3.9676171 | H9: =[1]MercLab!L114 -> 875805.25 | I9: =IF(ISNUMBER(H9/$B$9*100),H9/$B$9*100,0) -> 41.659441 | J9: =[1]MercLab!M114 -> 5913.9802 | K9: =IF(ISNUMBER(J9/$B$9*100),J9/$B$9*100,0) -> 0.28131039 | L9: =[1]MercLab!N114 -> 857194.35 | M9: =IF(ISNUMBER(L9/$B$9*100),L9/$B$9*100,0) -> 40.774176 | N9: =[1]MercLab!O114 -> 279972.47 | O9: =IF(ISNUMBER(N9/$B$9*100),N9/$B$9*100,0) -> 13.317455
A11: Dominio
A12: Urbano | B12: =SUM(B13:B15) -> 824838.33 | C12: =IF(ISNUMBER(B12/B$9*100),B12/B$9*100,0) -> 39.235097 | D12: =SUM(D13:D15) -> 473833.71 | E12: =IF(ISNUMBER(D12/D$9*100),D12/D$9*100,0) -> 49.095308 | F12: =SUM(F13:F15) -> 65727.928 | G12: =IF(ISNUMBER(F12/F$9*100),F12/F$9*100,0) -> 78.799975 | H12: =SUM(H13:H15) -> 404655.4 | I12: =IF(ISNUMBER(H12/H$9*100),H12/H$9*100,0) -> 46.203811 | J12: =SUM(J13:J15) -> 3450.38 | K12: =IF(ISNUMBER(J12/J$9*100),J12/J$9*100,0) -> 58.342773 | L12: =SUM(L13:L15) -> 297491.76 | M12: =IF(ISNUMBER(L12/L$9*100),L12/L$9*100,0) -> 34.705287 | N12: =SUM(N13:N15) -> 53512.869 | O12: =IF(ISNUMBER(N12/N$9*100),N12/N$9*100,0) -> 19.113618
A13: Distrito Central | B13: =[1]MercLab!J115 -> 220907.25 | C13: =IF(ISNUMBER(B13/B$9*100),B13/B$9*100,0) -> 10.507898 | D13: =F13+H13+J13 -> 139905.58 | E13: =IF(ISNUMBER(D13/D$9*100),D13/D$9*100,0) -> 14.496029 | F13: =[1]MercLab!K115 -> 28384.599 | G13: =IF(ISNUMBER(F13/F$9*100),F13/F$9*100,0) -> 34.029761 | H13: =[1]MercLab!L115 -> 110817.23 | I13: =IF(ISNUMBER(H13/H$9*100),H13/H$9*100,0) -> 12.653181 | J13: =[1]MercLab!M115 -> 703.75039 | K13: =IF(ISNUMBER(J13/J$9*100),J13/J$9*100,0) -> 11.899776 | L13: =[1]MercLab!N115 -> 72017.123 | M13: =IF(ISNUMBER(L13/L$9*100),L13/L$9*100,0) -> 8.401493 | N13: =[1]MercLab!O115 -> 8984.5466 | O13: =IF(ISNUMBER(N13/N$9*100),N13/N$9*100,0) -> 3.2090821
A14: San Pedro Sula | B14: =[1]MercLab!J116 -> 140081.92 | C14: =IF(ISNUMBER(B14/B$9*100),B14/B$9*100,0) -> 6.6632786 | D14: =F14+H14+J14 -> 88332.596 | E14: =IF(ISNUMBER(D14/D$9*100),D14/D$9*100,0) -> 9.1524008 | F14: =[1]MercLab!K116 -> 5897.0514 | G14: =IF(ISNUMBER(F14/F$9*100),F14/F$9*100,0) -> 7.0698639 | H14: =[1]MercLab!L116 -> 81973.634 | I14: =IF(ISNUMBER(H14/H$9*100),H14/H$9*100,0) -> 9.3598017 | J14: =[1]MercLab!M116 -> 461.91003 | K14: =IF(ISNUMBER(J14/J$9*100),J14/J$9*100,0) -> 7.8104765 | L14: =[1]MercLab!N116 -> 46729.899 | M14: =IF(ISNUMBER(L14/L$9*100),L14/L$9*100,0) -> 5.451494 | N14: =[1]MercLab!O116 -> 5019.4224 | O14: =IF(ISNUMBER(N14/N$9*100),N14/N$9*100,0) -> 1.7928271
A15: Resto urbano | B15: =[1]MercLab!J117 -> 463849.17 | C15: =IF(ISNUMBER(B15/B$9*100),B15/B$9*100,0) -> 22.063921 | D15: =F15+H15+J15 -> 245595.53 | E15: =IF(ISNUMBER(D15/D$9*100),D15/D$9*100,0) -> 25.446878 | F15: =[1]MercLab!K117 -> 31446.277 | G15: =IF(ISNUMBER(F15/F$9*100),F15/F$9*100,0) -> 37.70035 | H15: =[1]MercLab!L117 -> 211864.54 | I15: =IF(ISNUMBER(H15/H$9*100),H15/H$9*100,0) -> 24.190828 | J15: =[1]MercLab!M117 -> 2284.7196 | K15: =IF(ISNUMBER(J15/J$9*100),J15/J$9*100,0) -> 38.63252 | L15: =[1]MercLab!N117 -> 178744.74 | M15: =IF(ISNUMBER(L15/L$9*100),L15/L$9*100,0) -> 20.8523 | N15: =[1]MercLab!O117 -> 39508.9 | O15: =IF(ISNUMBER(N15/N$9*100),N15/N$9*100,0) -> 14.111709
A16: Rural | B16: =[1]MercLab!J118 -> 1277458.8 | C16: =IF(ISNUMBER(B16/B$9*100),B16/B$9*100,0) -> 60.764903 | D16: =F16+H16+J16 -> 491296.62 | E16: =IF(ISNUMBER(D16/D$9*100),D16/D$9*100,0) -> 50.904692 | F16: =[1]MercLab!K118 -> 17683.175 | G16: =IF(ISNUMBER(F16/F$9*100),F16/F$9*100,0) -> 21.200025 | H16: =[1]MercLab!L118 -> 471149.85 | I16: =IF(ISNUMBER(H16/H$9*100),H16/H$9*100,0) -> 53.796189 | J16: =[1]MercLab!M118 -> 2463.6002 | K16: =IF(ISNUMBER(J16/J$9*100),J16/J$9*100,0) -> 41.657227 | L16: =[1]MercLab!N118 -> 559702.59 | M16: =IF(ISNUMBER(L16/L$9*100),L16/L$9*100,0) -> 65.294713 | N16: =[1]MercLab!O118 -> 226459.6 | O16: =IF(ISNUMBER(N16/N$9*100),N16/N$9*100,0) -> 80.886382
D17: =F17+H17+J17 -> 0
A18: Nivel Educativo
A19: Sin Nivel | B19: =[1]MercLab!J120 -> 285711.32 | C19: =IF(ISNUMBER(B19/B$9*100),B19/B$9*100,0) -> 13.590435 | D19: =F19+H19+J19 -> 103354.59 | E19: =IF(ISNUMBER(D19/D$9*100),D19/D$9*100,0) -> 10.708874 | F19: =[1]MercLab!K120 -> 2992.0643 | G19: =IF(ISNUMBER(F19/F$9*100),F19/F$9*100,0) -> 3.5871296 | H19: =[1]MercLab!L120 -> 99496.654 | I19: =IF(ISNUMBER(H19/H$9*100),H19/H$9*100,0) -> 11.360591 | J19: =[1]MercLab!M120 -> 865.87176 | K19: =IF(ISNUMBER(J19/J$9*100),J19/J$9*100,0) -> 14.6411 | L19: =[1]MercLab!N120 -> 164662.14 | M19: =IF(ISNUMBER(L19/L$9*100),L19/L$9*100,0) -> 19.209429 | N19: =[1]MercLab!O120 -> 17694.586 | O19: =IF(ISNUMBER(N19/N$9*100),N19/N$9*100,0) -> 6.3201162
A20: Primaria | B20: =[1]MercLab!J121 -> 1248443.5 | C20: =IF(ISNUMBER(B20/B$9*100),B20/B$9*100,0) -> 59.384728 | D20: =F20+H20+J20 -> 526601.12 | E20: =IF(ISNUMBER(D20/D$9*100),D20/D$9*100,0) -> 54.562696 | F20: =[1]MercLab!K121 -> 18084.826 | G20: =IF(ISNUMBER(F20/F$9*100),F20/F$9*100,0) -> 21.681557 | H20: =[1]MercLab!L121 -> 504758.56 | I20: =IF(ISNUMBER(H20/H$9*100),H20/H$9*100,0) -> 57.633653 | J20: =[1]MercLab!M121 -> 3757.7415 | K20: =IF(ISNUMBER(J20/J$9*100),J20/J$9*100,0) -> 63.539974 | L20: =[1]MercLab!N121 -> 527432.72 | M20: =IF(ISNUMBER(L20/L$9*100),L20/L$9*100,0) -> 61.530121 | N20: =[1]MercLab!O121 -> 194409.61 | O20: =IF(ISNUMBER(N20/N$9*100),N20/N$9*100,0) -> 69.43883
A21: Secundaria | B21: =[1]MercLab!J122 -> 429272.04 | C21: =IF(ISNUMBER(B21/B$9*100),B21/B$9*100,0) -> 20.41919 | D21: =F21+H21+J21 -> 236826.95 | E21: =IF(ISNUMBER(D21/D$9*100),D21/D$9*100,0) -> 24.538338 | F21: =[1]MercLab!K122 -> 27854.749 | G21: =IF(ISNUMBER(F21/F$9*100),F21/F$9*100,0) -> 33.394534 | H21: =[1]MercLab!L122 -> 207681.83 | I21: =IF(ISNUMBER(H21/H$9*100),H21/H$9*100,0) -> 23.713243 | J21: =[1]MercLab!M122 -> 1290.367 | K21: =IF(ISNUMBER(J21/J$9*100),J21/J$9*100,0) -> 21.818926 | L21: =[1]MercLab!N122 -> 130529.39 | M21: =IF(ISNUMBER(L21/L$9*100),L21/L$9*100,0) -> 15.227514 | N21: =[1]MercLab!O122 -> 61915.706 | O21: =IF(ISNUMBER(N21/N$9*100),N21/N$9*100,0) -> 22.114926
A22: Superior | B22: =[1]MercLab!J123 -> 127570.41 | C22: =IF(ISNUMBER(B22/B$9*100),B22/B$9*100,0) -> 6.0681434 | D22: =F22+H22+J22 -> 93950.297 | E22: =IF(ISNUMBER(D22/D$9*100),D22/D$9*100,0) -> 9.7344674 | F22: =[1]MercLab!K123 -> 33209.573 | G22: =IF(ISNUMBER(F22/F$9*100),F22/F$9*100,0) -> 39.814332 | H22: =[1]MercLab!L123 -> 60740.724 | I22: =IF(ISNUMBER(H22/H$9*100),H22/H$9*100,0) -> 6.9354145 | J22: =[1]MercLab!M123 -> 0 | K22: =IF(ISNUMBER(J22/J$9*100),J22/J$9*100,0) -> 0 | L22: =[1]MercLab!N123 -> 28511.072 | M22: =IF(ISNUMBER(L22/L$9*100),L22/L$9*100,0) -> 3.3260919 | N22: =[1]MercLab!O123 -> 5109.0368 | O22: =IF(ISNUMBER(N22/N$9*100),N22/N$9*100,0) -> 1.8248354
A23: No sabe, no responde | B23: =[1]MercLab!J124 -> 11299.929 | C23: =IF(ISNUMBER(B23/B$9*100),B23/B$9*100,0) -> 0.53750388 | D23: =F23+H23+J23 -> 4397.3727 | E23: =IF(ISNUMBER(D23/D$9*100),D23/D$9*100,0) -> 0.45562476 | F23: =[1]MercLab!K124 -> 1269.89 | G23: =IF(ISNUMBER(F23/F$9*100),F23/F$9*100,0) -> 1.5224472 | H23: =[1]MercLab!L124 -> 3127.4827 | I23: =IF(ISNUMBER(H23/H$9*100),H23/H$9*100,0) -> 0.35709797 | J23: =[1]MercLab!M124 -> 0 | K23: =IF(ISNUMBER(J23/J$9*100),J23/J$9*100,0) -> 0 | L23: =[1]MercLab!N124 -> 6059.0202 | M23: =IF(ISNUMBER(L23/L$9*100),L23/L$9*100,0) -> 0.70684322 | N23: =[1]MercLab!O124 -> 843.53591 | O23: =IF(ISNUMBER(N23/N$9*100),N23/N$9*100,0) -> 0.30129245
D24: =F24+H24+J24 -> 0
A25: Rango de Edad
A26: De 10 a 11 años | B26: =[1]MercLab!J126 -> 22112.243 | C26: =IF(ISNUMBER(B26/B$9*100),B26/B$9*100,0) -> 1.0518134 | D26: =F26+H26+J26 -> 1298.5749 | E26: =IF(ISNUMBER(D26/D$9*100),D26/D$9*100,0) -> 0.13454917 | F26: =[1]MercLab!K126 -> 0 | G26: =IF(ISNUMBER(F26/F$9*100),F26/F$9*100,0) -> 0 | H26: =[1]MercLab!L126 -> 1298.5749 | I26: =IF(ISNUMBER(H26/H$9*100),H26/H$9*100,0) -> 0.14827211 | J26: =[1]MercLab!M126 -> 0 | K26: =IF(ISNUMBER(J26/J$9*100),J26/J$9*100,0) -> 0 | L26: =[1]MercLab!N126 -> 1055.7835 | M26: =IF(ISNUMBER(L26/L$9*100),L26/L$9*100,0) -> 0.12316735 | N26: =[1]MercLab!O126 -> 19757.885 | O26: =IF(ISNUMBER(N26/N$9*100),N26/N$9*100,0) -> 7.0570812
A27: De 12 a 14 años | B27: =[1]MercLab!J127 -> 106618.05 | C27: =IF(ISNUMBER(B27/B$9*100),B27/B$9*100,0) -> 5.0715023 | D27: =F27+H27+J27 -> 25769.712 | E27: =IF(ISNUMBER(D27/D$9*100),D27/D$9*100,0) -> 2.6700759 | F27: =[1]MercLab!K127 -> 0 | G27: =IF(ISNUMBER(F27/F$9*100),F27/F$9*100,0) -> 0 | H27: =[1]MercLab!L127 -> 25769.712 | I27: =IF(ISNUMBER(H27/H$9*100),H27/H$9*100,0) -> 2.9424021 | J27: =[1]MercLab!M127 -> 0 | K27: =IF(ISNUMBER(J27/J$9*100),J27/J$9*100,0) -> 0 | L27: =[1]MercLab!N127 -> 8020.4802 | M27: =IF(ISNUMBER(L27/L$9*100),L27/L$9*100,0) -> 0.93566649 | N27: =[1]MercLab!O127 -> 72827.855 | O27: =IF(ISNUMBER(N27/N$9*100),N27/N$9*100,0) -> 26.012506
A28: De 15 a 18 años | B28: =[1]MercLab!J128 -> 236019.56 | C28: =IF(ISNUMBER(B28/B$9*100),B28/B$9*100,0) -> 11.226746 | D28: =F28+H28+J28 -> 114970.82 | E28: =IF(ISNUMBER(D28/D$9*100),D28/D$9*100,0) -> 11.912466 | F28: =[1]MercLab!K128 -> 0 | G28: =IF(ISNUMBER(F28/F$9*100),F28/F$9*100,0) -> 0 | H28: =[1]MercLab!L128 -> 114247.05 | I28: =IF(ISNUMBER(H28/H$9*100),H28/H$9*100,0) -> 13.0448 | J28: =[1]MercLab!M128 -> 723.77257 | K28: =IF(ISNUMBER(J28/J$9*100),J28/J$9*100,0) -> 12.238333 | L28: =[1]MercLab!N128 -> 27746.373 | M28: =IF(ISNUMBER(L28/L$9*100),L28/L$9*100,0) -> 3.2368824 | N28: =[1]MercLab!O128 -> 93302.364 | O28: =IF(ISNUMBER(N28/N$9*100),N28/N$9*100,0) -> 33.325549
A29: De 19 a 24 años | B29: =[1]MercLab!J129 -> 376030.05 | C29: =IF(ISNUMBER(B29/B$9*100),B29/B$9*100,0) -> 17.886627 | D29: =F29+H29+J29 -> 233078.84 | E29: =IF(ISNUMBER(D29/D$9*100),D29/D$9*100,0) -> 24.149986 | F29: =[1]MercLab!K129 -> 7781.4384 | G29: =IF(ISNUMBER(F29/F$9*100),F29/F$9*100,0) -> 9.3290199 | H29: =[1]MercLab!L129 -> 225062.82 | I29: =IF(ISNUMBER(H29/H$9*100),H29/H$9*100,0) -> 25.697816 | J29: =[1]MercLab!M129 -> 234.58346 | K29: =IF(ISNUMBER(J29/J$9*100),J29/J$9*100,0) -> 3.9665919 | L29: =[1]MercLab!N129 -> 87406.523 | M29: =IF(ISNUMBER(L29/L$9*100),L29/L$9*100,0) -> 10.196815 | N29: =[1]MercLab!O129 -> 55544.687 | O29: =IF(ISNUMBER(N29/N$9*100),N29/N$9*100,0) -> 19.839339
A30: De 25 a 29 años | B30: =[1]MercLab!J130 -> 234407.31 | C30: =IF(ISNUMBER(B30/B$9*100),B30/B$9*100,0) -> 11.150056 | D30: =F30+H30+J30 -> 135284.59 | E30: =IF(ISNUMBER(D30/D$9*100),D30/D$9*100,0) -> 14.017235 | F30: =[1]MercLab!K130 -> 8070.7438 | G30: =IF(ISNUMBER(F30/F$9*100),F30/F$9*100,0) -> 9.6758628 | H30: =[1]MercLab!L130 -> 126644.04 | I30: =IF(ISNUMBER(H30/H$9*100),H30/H$9*100,0) -> 14.460297 | J30: =[1]MercLab!M130 -> 569.80255 | K30: =IF(ISNUMBER(J30/J$9*100),J30/J$9*100,0) -> 9.6348404 | L30: =[1]MercLab!N130 -> 83106.872 | M30: =IF(ISNUMBER(L30/L$9*100),L30/L$9*100,0) -> 9.6952193 | N30: =[1]MercLab!O130 -> 16015.843 | O30: =IF(ISNUMBER(N30/N$9*100),N30/N$9*100,0) -> 5.7205064
A31: De 30 a 35 años | B31: =[1]MercLab!J131 -> 235391.18 | C31: =IF(ISNUMBER(B31/B$9*100),B31/B$9*100,0) -> 11.196856 | D31: =F31+H31+J31 -> 128543.25 | E31: =IF(ISNUMBER(D31/D$9*100),D31/D$9*100,0) -> 13.318745 | F31: =[1]MercLab!K131 -> 10429.054 | G31: =IF(ISNUMBER(F31/F$9*100),F31/F$9*100,0) -> 12.503196 | H31: =[1]MercLab!L131 -> 117671.03 | I31: =IF(ISNUMBER(H31/H$9*100),H31/H$9*100,0) -> 13.435753 | J31: =[1]MercLab!M131 -> 443.16815 | K31: =IF(ISNUMBER(J31/J$9*100),J31/J$9*100,0) -> 7.4935684 | L31: =[1]MercLab!N131 -> 98268.253 | M31: =IF(ISNUMBER(L31/L$9*100),L31/L$9*100,0) -> 11.463941 | N31: =[1]MercLab!O131 -> 8579.6801 | O31: =IF(ISNUMBER(N31/N$9*100),N31/N$9*100,0) -> 3.0644728
A32: De 36 a 44 años | B32: =[1]MercLab!J132 -> 286410.26 | C32: =IF(ISNUMBER(B32/B$9*100),B32/B$9*100,0) -> 13.623681 | D32: =F32+H32+J32 -> 138531.41 | E32: =IF(ISNUMBER(D32/D$9*100),D32/D$9*100,0) -> 14.353648 | F32: =[1]MercLab!K132 -> 19218.226 | G32: =IF(ISNUMBER(F32/F$9*100),F32/F$9*100,0) -> 23.04037 | H32: =[1]MercLab!L132 -> 118804.87 | I32: =IF(ISNUMBER(H32/H$9*100),H32/H$9*100,0) -> 13.565215 | J32: =[1]MercLab!M132 -> 508.31682 | K32: =IF(ISNUMBER(J32/J$9*100),J32/J$9*100,0) -> 8.5951728 | L32: =[1]MercLab!N132 -> 143288.24 | M32: =IF(ISNUMBER(L32/L$9*100),L32/L$9*100,0) -> 16.715957 | N32: =[1]MercLab!O132 -> 4590.6036 | O32: =IF(ISNUMBER(N32/N$9*100),N32/N$9*100,0) -> 1.6396625
A33: De 45 a 59 años | B33: =[1]MercLab!J133 -> 382074.03 | C33: =IF(ISNUMBER(B33/B$9*100),B33/B$9*100,0) -> 18.174121 | D33: =F33+H33+J33 -> 142194.61 | E33: =IF(ISNUMBER(D33/D$9*100),D33/D$9*100,0) -> 14.733202 | F33: =[1]MercLab!K133 -> 30198.725 | G33: =IF(ISNUMBER(F33/F$9*100),F33/F$9*100,0) -> 36.204683 | H33: =[1]MercLab!L133 -> 110370.29 | I33: =IF(ISNUMBER(H33/H$9*100),H33/H$9*100,0) -> 12.60215 | J33: =[1]MercLab!M133 -> 1625.5861 | K33: =IF(ISNUMBER(J33/J$9*100),J33/J$9*100,0) -> 27.487175 | L33: =[1]MercLab!N133 -> 233898.72 | M33: =IF(ISNUMBER(L33/L$9*100),L33/L$9*100,0) -> 27.286544 | N33: =[1]MercLab!O133 -> 5980.7036 | O33: =IF(ISNUMBER(N33/N$9*100),N33/N$9*100,0) -> 2.1361756
A34: De 60 años y más | B34: =[1]MercLab!J134 -> 223234.49 | C34: =IF(ISNUMBER(B34/B$9*100),B34/B$9*100,0) -> 10.618598 | D34: =F34+H34+J34 -> 45458.529 | E34: =IF(ISNUMBER(D34/D$9*100),D34/D$9*100,0) -> 4.7100923 | F34: =[1]MercLab!K134 -> 7712.9145 | G34: =IF(ISNUMBER(F34/F$9*100),F34/F$9*100,0) -> 9.246868 | H34: =[1]MercLab!L134 -> 35936.864 | I34: =IF(ISNUMBER(H34/H$9*100),H34/H$9*100,0) -> 4.103294 | J34: =[1]MercLab!M134 -> 1808.7506 | K34: =IF(ISNUMBER(J34/J$9*100),J34/J$9*100,0) -> 30.584319 | L34: =[1]MercLab!N134 -> 174403.11 | M34: =IF(ISNUMBER(L34/L$9*100),L34/L$9*100,0) -> 20.345807 | N34: =[1]MercLab!O134 -> 3372.8509 | O34: =IF(ISNUMBER(N34/N$9*100),N34/N$9*100,0) -> 1.2047081
D35: =F35+H35+J35 -> 0
A36: No. de Salarios Mínimos 3/ | B36: =[1]MercLab!J138 -> 1769346.2 | C36: =IF(ISNUMBER(B36/B$9*100),B36/B$9*100,0) -> 84.162515 | D36: =F36+H36+J36 -> 956166.1 | E36: =IF(ISNUMBER(D36/D$9*100),D36/D$9*100,0) -> 99.071189 | F36: =[1]MercLab!K138 -> 80660.503 | G36: =IF(ISNUMBER(F36/F$9*100),F36/F$9*100,0) -> 96.702358 | H36: =[1]MercLab!L138 -> 869591.61 | I36: =IF(ISNUMBER(H36/H$9*100),H36/H$9*100,0) -> 99.290523 | J36: =[1]MercLab!M138 -> 5913.9802 | K36: =IF(ISNUMBER(J36/J$9*100),J36/J$9*100,0) -> 100 | L36: =[1]MercLab!N138 -> 813180.05 | M36: =IF(ISNUMBER(L36/L$9*100),L36/L$9*100,0) -> 94.865307 | N36: =[1]MercLab!O138 -> 0 | O36: =IF(ISNUMBER(N36/N$9*100),N36/N$9*100,0) -> 0
A37: Menos de un salario | B37: =SUM(B38:B40) -> 1203424.1 | C37: =IF(ISNUMBER(B37/B$9*100),B37/B$9*100,0) -> 57.243292 | D37: =F37+H37+J37 -> 581459.07 | E37: =IF(ISNUMBER(D37/D$9*100),D37/D$9*100,0) -> 60.246689 | F37: =SUM(F38:F40) -> 8106.8632 | G37: =IF(ISNUMBER(F37/F$9*100),F37/F$9*100,0) -> 9.7191657 | H37: =SUM(H38:H40) -> 570102.78 | I37: =IF(ISNUMBER(H37/H$9*100),H37/H$9*100,0) -> 65.094698 | J37: =SUM(J38:J40) -> 3249.4247 | K37: =IF(ISNUMBER(J37/J$9*100),J37/J$9*100,0) -> 54.944801 | L37: =SUM(L38:L40) -> 621965.03 | M37: =IF(ISNUMBER(L37/L$9*100),L37/L$9*100,0) -> 72.558228 | N37: =SUM(N38:N40) -> 0 | O37: =IF(ISNUMBER(N37/N$9*100),N37/N$9*100,0) -> 0
A38: Menos de 1 salario y trab <36 horas | B38: =[1]MercLab!J139 -> 557818.21 | C38: =IF(ISNUMBER(B38/B$9*100),B38/B$9*100,0) -> 26.533747 | D38: =F38+H38+J38 -> 214497.38 | E38: =IF(ISNUMBER(D38/D$9*100),D38/D$9*100,0) -> 22.224706 | F38: =[1]MercLab!K139 -> 1217.5079 | G38: =IF(ISNUMBER(F38/F$9*100),F38/F$9*100,0) -> 1.4596473 | H38: =[1]MercLab!L139 -> 212540.63 | I38: =IF(ISNUMBER(H38/H$9*100),H38/H$9*100,0) -> 24.268024 | J38: =[1]MercLab!M139 -> 739.23736 | K38: =IF(ISNUMBER(J38/J$9*100),J38/J$9*100,0) -> 12.499828 | L38: =[1]MercLab!N139 -> 343320.83 | M38: =IF(ISNUMBER(L38/L$9*100),L38/L$9*100,0) -> 40.051691 | N38: =[1]MercLab!O139 -> 0 | O38: =IF(ISNUMBER(N38/N$9*100),N38/N$9*100,0) -> 0
A39: Menos de 1 salario y trab >=36 horas | B39: =[1]MercLab!J140 -> 645436.46 | C39: =IF(ISNUMBER(B39/B$9*100),B39/B$9*100,0) -> 30.701486 | D39: =F39+H39+J39 -> 366792.26 | E39: =IF(ISNUMBER(D39/D$9*100),D39/D$9*100,0) -> 38.004428 | F39: =[1]MercLab!K140 -> 6889.3553 | G39: =IF(ISNUMBER(F39/F$9*100),F39/F$9*100,0) -> 8.2595183 | H39: =[1]MercLab!L140 -> 357392.71 | I39: =IF(ISNUMBER(H39/H$9*100),H39/H$9*100,0) -> 40.807327 | J39: =[1]MercLab!M140 -> 2510.1873 | K39: =IF(ISNUMBER(J39/J$9*100),J39/J$9*100,0) -> 42.444973 | L39: =[1]MercLab!N140 -> 278644.2 | M39: =IF(ISNUMBER(L39/L$9*100),L39/L$9*100,0) -> 32.506537 | N39: =[1]MercLab!O140 -> 0 | O39: =IF(ISNUMBER(N39/N$9*100),N39/N$9*100,0) -> 0
A40: Menos de 1 salario y no decl. horas | B40: =[1]MercLab!J141 -> 169.4348 | C40: =IF(ISNUMBER(B40/B$9*100),B40/B$9*100,0) -> 0.0080595077 | D40: =F40+H40+J40 -> 169.4348 | E40: =IF(ISNUMBER(D40/D$9*100),D40/D$9*100,0) -> 0.017555639 | F40: =[1]MercLab!K141 -> 0 | G40: =IF(ISNUMBER(F40/F$9*100),F40/F$9*100,0) -> 0 | H40: =[1]MercLab!L141 -> 169.4348 | I40: =IF(ISNUMBER(H40/H$9*100),H40/H$9*100,0) -> 0.019346173 | J40: =[1]MercLab!M141 -> 0 | K40: =IF(ISNUMBER(J40/J$9*100),J40/J$9*100,0) -> 0 | L40: =[1]MercLab!N141 -> 0 | M40: =IF(ISNUMBER(L40/L$9*100),L40/L$9*100,0) -> 0 | N40: =[1]MercLab!O141 -> 0 | O40: =IF(ISNUMBER(N40/N$9*100),N40/N$9*100,0) -> 0
A41: De 1 a 2 salarios | B41: =[1]MercLab!J142 -> 416370.21 | C41: =IF(ISNUMBER(B41/B$9*100),B41/B$9*100,0) -> 19.805488 | D41: =F41+H41+J41 -> 283324.48 | E41: =IF(ISNUMBER(D41/D$9*100),D41/D$9*100,0) -> 29.356085 | F41: =[1]MercLab!K142 -> 40451.763 | G41: =IF(ISNUMBER(F41/F$9*100),F41/F$9*100,0) -> 48.496857 | H41: =[1]MercLab!L142 -> 240208.16 | I41: =IF(ISNUMBER(H41/H$9*100),H41/H$9*100,0) -> 27.427121 | J41: =[1]MercLab!M142 -> 2664.5556 | K41: =IF(ISNUMBER(J41/J$9*100),J41/J$9*100,0) -> 45.055199 | L41: =[1]MercLab!N142 -> 133045.73 | M41: =IF(ISNUMBER(L41/L$9*100),L41/L$9*100,0) -> 15.521069 | N41: =[1]MercLab!O142 -> 0 | O41: =IF(ISNUMBER(N41/N$9*100),N41/N$9*100,0) -> 0
A42: De 2 a 3 salarios | B42: =[1]MercLab!J143 -> 78575.275 | C42: =IF(ISNUMBER(B42/B$9*100),B42/B$9*100,0) -> 3.7375913 | D42: =F42+H42+J42 -> 50204.769 | E42: =IF(ISNUMBER(D42/D$9*100),D42/D$9*100,0) -> 5.2018642 | F42: =[1]MercLab!K143 -> 14619.96 | G42: =IF(ISNUMBER(F42/F$9*100),F42/F$9*100,0) -> 17.527595 | H42: =[1]MercLab!L143 -> 35584.809 | I42: =IF(ISNUMBER(H42/H$9*100),H42/H$9*100,0) -> 4.0630961 | J42: =[1]MercLab!M143 -> 0 | K42: =IF(ISNUMBER(J42/J$9*100),J42/J$9*100,0) -> 0 | L42: =[1]MercLab!N143 -> 28370.506 | M42: =IF(ISNUMBER(L42/L$9*100),L42/L$9*100,0) -> 3.3096935 | N42: =[1]MercLab!O143 -> 0 | O42: =IF(ISNUMBER(N42/N$9*100),N42/N$9*100,0) -> 0
...

Sheet C03
A1: Cuadro No. 5. Ingreso promedio de las personas ocupadas por categoría ocupacional, según dominio,
A2: nivel educativo, rango de edad, sexo, número de salarios mínimos, rama de actividad y ocupación
A3: Ocupación Principal, Lps/Mes/Persona
A4: Hombres
A5: Categorías | B5: Ingreso Promedio
B6: Ingreso Promedio | C6: Asalariados | G6: Cuenta propia
C7: Total | D7: Público | E7: Privado | F7: Doméstico
A9: Total Nacional | B9: =[1]MercLab!J260 -> 4375.048 | C9: =AVERAGE(D9:G9) -> 5922.7199 | D9: =[1]MercLab!K260 -> 11804.725 | E9: =[1]MercLab!L260 -> 4322.3936 | F9: =[1]MercLab!M260 -> 3865.6616 | G9: =[1]MercLab!N260 -> 3698.0993
A11: Dominio
A12: Urbano | B12: =AVERAGE(B13:B15) -> 7248.8229 | C12: =AVERAGE(D12:G12) -> 7888.2433 | D12: =AVERAGE(D13:D15) -> 13951.544 | E12: =AVERAGE(E13:E15) -> 6518.5691 | F12: =AVERAGE(F13:F15) -> 4127.589 | G12: =AVERAGE(G13:G15) -> 6955.2708
A13: Distrito Central | B13: =[1]MercLab!J262 -> 7710.3269 | C13: =AVERAGE(D13:G13) -> 8340.6081 | D13: =[1]MercLab!K262 -> 14576.259 | E13: =[1]MercLab!L262 -> 7145.0399 | F13: =[1]MercLab!M262 -> 5700 | G13: =[1]MercLab!N262 -> 5941.134
A14: San Pedro Sula | B14: =[1]MercLab!J263 -> 8615.2798 | C14: =AVERAGE(D14:G14) -> 9383.2922 | D14: =[1]MercLab!K263 -> 17015.66 | E14: =[1]MercLab!L263 -> 7490.404 | F14: =[1]MercLab!M263 -> 3300 | G14: =[1]MercLab!N263 -> 9727.1048
A15: Resto urbano | B15: =[1]MercLab!J264 -> 5420.862 | C15: =AVERAGE(D15:G15) -> 5940.8297 | D15: =[1]MercLab!K264 -> 10262.715 | E15: =[1]MercLab!L264 -> 4920.2633 | F15: =[1]MercLab!M264 -> 3382.7671 | G15: =[1]MercLab!N264 -> 5197.5734
A16: Rural | B16: =[1]MercLab!J265 -> 2719.3755 | C16: =AVERAGE(D16:G16) -> 4449.2796 | D16: =[1]MercLab!K265 -> 8653.5604 | E16: =[1]MercLab!L265 -> 2852.5924 | F16: =[1]MercLab!M265 -> 3895.5556 | G16: =[1]MercLab!N265 -> 2395.41
A18: Nivel Educativo
A19: Sin Nivel | B19: =[1]MercLab!J267 -> 1868.4676 | C19: =AVERAGE(D19:G19) -> 2766.6365 | D19: =[1]MercLab!K267 -> 5157.534 | E19: =[1]MercLab!L267 -> 2287.8745 | F19: =[1]MercLab!M267 -> 2083.9956 | G19: =[1]MercLab!N267 -> 1537.1421
A20: Primaria | B20: =[1]MercLab!J268 -> 3341.1546 | C20: =AVERAGE(D20:G20) -> 4507.9838 | D20: =[1]MercLab!K268 -> 7386.8134 | E20: =[1]MercLab!L268 -> 3299.6274 | F20: =[1]MercLab!M268 -> 4114.6004 | G20: =[1]MercLab!N268 -> 3230.894
A21: Secundaria | B21: =[1]MercLab!J269 -> 5902.2772 | C21: =AVERAGE(D21:G21) -> 6241.902 | D21: =[1]MercLab!K269 -> 9299.1935 | E21: =[1]MercLab!L269 -> 5527.2402 | F21: =[1]MercLab!M269 -> 4336.2613 | G21: =[1]MercLab!N269 -> 5804.9131
A22: Superior | B22: =[1]MercLab!J270 -> 14445.71 | C22: =AVERAGE(D22:G22) -> 11352.281 | D22: =[1]MercLab!K270 -> 17210.9 | E22: =[1]MercLab!L270 -> 12314.569 | F22: =[1]MercLab!M270 -> 0 | G22: =[1]MercLab!N270 -> 15883.654
A23: No sabe, no responde | B23: =[1]MercLab!J271 -> 3731.7774 | C23: =AVERAGE(D23:G23) -> 3873.0503 | D23: =[1]MercLab!K271 -> 8768.1148 | E23: =[1]MercLab!L271 -> 4140.2643 | F23: =[1]MercLab!M271 -> 0 | G23: =[1]MercLab!N271 -> 2583.8223
A25: Rango de Edad
A26: De 10 a 11 años | B26: =[1]MercLab!J273 -> 404.39319 | C26: =AVERAGE(D26:G26) -> 190.06523 | D26: =[1]MercLab!K273 -> 0 | E26: =[1]MercLab!L273 -> 615.40715 | F26: =[1]MercLab!M273 -> 0 | G26: =[1]MercLab!N273 -> 144.85377
A27: De 12 a 14 años | B27: =[1]MercLab!J274 -> 899.07663 | C27: =AVERAGE(D27:G27) -> 387.65802 | D27: =[1]MercLab!K274 -> 0 | E27: =[1]MercLab!L274 -> 1000.173 | F27: =[1]MercLab!M274 -> 0 | G27: =[1]MercLab!N274 -> 550.45913
A28: De 15 a 18 años | B28: =[1]MercLab!J275 -> 1837.9259 | C28: =AVERAGE(D28:G28) -> 1332.3745 | D28: =[1]MercLab!K275 -> 0 | E28: =[1]MercLab!L275 -> 1959.1617 | F28: =[1]MercLab!M275 -> 2114.5185 | G28: =[1]MercLab!N275 -> 1255.8177
A29: De 19 a 24 años | B29: =[1]MercLab!J276 -> 3660.3853 | C29: =AVERAGE(D29:G29) -> 4837.6837 | D29: =[1]MercLab!K276 -> 6445.3136 | E29: =[1]MercLab!L276 -> 3733.0345 | F29: =[1]MercLab!M276 -> 6000 | G29: =[1]MercLab!N276 -> 3172.3866
A30: De 25 a 29 años | B30: =[1]MercLab!J277 -> 4769.2155 | C30: =AVERAGE(D30:G30) -> 5912.993 | D30: =[1]MercLab!K277 -> 9194.102 | E30: =[1]MercLab!L277 -> 5014.5654 | F30: =[1]MercLab!M277 -> 5519.5996 | G30: =[1]MercLab!N277 -> 3923.7048
A31: De 30 a 35 años | B31: =[1]MercLab!J278 -> 5508.3261 | C31: =AVERAGE(D31:G31) -> 6207.7685 | D31: =[1]MercLab!K278 -> 10320.556 | E31: =[1]MercLab!L278 -> 5684.7648 | F31: =[1]MercLab!M278 -> 4044.1845 | G31: =[1]MercLab!N278 -> 4781.5683
A32: De 36 a 44 años | B32: =[1]MercLab!J279 -> 5281.007 | C32: =AVERAGE(D32:G32) -> 6905.8649 | D32: =[1]MercLab!K279 -> 12416.216 | E32: =[1]MercLab!L279 -> 5605.8834 | F32: =[1]MercLab!M279 -> 5546.1491 | G32: =[1]MercLab!N279 -> 4055.2113
A33: De 45 a 59 años | B33: =[1]MercLab!J280 -> 5227.8378 | C33: =AVERAGE(D33:G33) -> 6589.9214 | D33: =[1]MercLab!K280 -> 12200.523 | E33: =[1]MercLab!L280 -> 5514.8322 | F33: =[1]MercLab!M280 -> 4439.2739 | G33: =[1]MercLab!N280 -> 4205.0562
A34: De 60 años y más | B34: =[1]MercLab!J281 -> 3447.7535 | C34: =AVERAGE(D34:G34) -> 6948.4446 | D34: =[1]MercLab!K281 -> 18966.083 | E34: =[1]MercLab!L281 -> 3335.6222 | F34: =[1]MercLab!M281 -> 2737.0033 | G34: =[1]MercLab!N281 -> 2755.0701
A36: No. de Salarios Mínimos 1/
A37: Menos de un salario | B37: =SUM(B38:B40) -> 6643.7913 | C37: =AVERAGE(D37:G37) -> 5301.8032 | D37: =SUM(D38:D40) -> 7153.0766 | E37: =SUM(E38:E40) -> 7144.9895 | F37: =SUM(F38:F40) -> 4084.2873 | G37: =SUM(G38:G40) -> 2824.8596
A38: Menos de 1 salario y trab <36 horas | B38: =[1]MercLab!J286 -> 1206.466 | C38: =AVERAGE(D38:G38) -> 1854.6905 | D38: =[1]MercLab!K286 -> 3806.6732 | E38: =[1]MercLab!L286 -> 1306.7969 | F38: =[1]MercLab!M286 -> 1170.081 | G38: =[1]MercLab!N286 -> 1135.2111
A39: Menos de 1 salario y trab >=36 horas | B39: =[1]MercLab!J287 -> 2237.3254 | C39: =AVERAGE(D39:G39) -> 2647.1127 | D39: =[1]MercLab!K287 -> 3346.4034 | E39: =[1]MercLab!L287 -> 2638.1927 | F39: =[1]MercLab!M287 -> 2914.2063 | G39: =[1]MercLab!N287 -> 1689.6485
A40: Menos de 1 salario y no decl. horas | B40: =[1]MercLab!J288 -> 3200 | C40: =AVERAGE(D40:G40) -> 800 | D40: =[1]MercLab!K288 -> 0 | E40: =[1]MercLab!L288 -> 3200 | F40: =[1]MercLab!M288 -> 0 | G40: =[1]MercLab!N288 -> 0
A41: De 1 a 2 salarios | B41: =[1]MercLab!J289 -> 6633.2359 | C41: =AVERAGE(D41:G41) -> 6517.5068 | D41: =[1]MercLab!K289 -> 7287.5914 | E41: =[1]MercLab!L289 -> 6406.5588 | F41: =[1]MercLab!M289 -> 5509.84 | G41: =[1]MercLab!N289 -> 6866.0371
A42: De 2 a 3 salarios | B42: =[1]MercLab!J290 -> 12055.362 | C42: =AVERAGE(D42:G42) -> 9054.9004 | D42: =[1]MercLab!K290 -> 12303.211 | E42: =[1]MercLab!L290 -> 12317.316 | F42: =[1]MercLab!M290 -> 0 | G42: =[1]MercLab!N290 -> 11599.074
A43: De 3 a 4 salarios | B43: =[1]MercLab!J291 -> 17769.746 | C43: =AVERAGE(D43:G43) -> 13352.83 | D43: =[1]MercLab!K291 -> 18198.695 | E43: =[1]MercLab!L291 -> 17737.851 | F43: =[1]MercLab!M291 -> 0 | G43: =[1]MercLab!N291 -> 17474.775
A44: De 4 salarios y más | B44: =[1]MercLab!J292 -> 34753.533 | C44: =AVERAGE(D44:G44) -> 25411.755 | D44: =[1]MercLab!K292 -> 33132.568 | E44: =[1]MercLab!L292 -> 30387.4 | F44: =[1]MercLab!M292 -> 0 | G44: =[1]MercLab!N292 -> 38127.052
A46: Rama de Actividad
...

Sheet C04
