Workbook

Sheet Portada

Sheet C01
A1: Cuadro No. 1. Población en Edad de Trabajar (PET), Población Económicamente Activa (PEA) y Tasa de Participación (TP)
A2: según dominio, quintil del ingreso de hogar, nivel educativo y rango de edad
A4: Categorías | B4: Población en Edad de Trabajar (PET) | H4: Población Económicamente Activa (PEA) | N4: Tasa de Participación (TP)
B5: Total | C5: % 1/ | D5: Hombre | E5: % 1/ | F5: Mujer | G5: % 1/ | H5: Total | I5: % 1/ | J5: Hombre | K5: % 1/ | L5: Mujer | M5: % 1/ | N5: Total | O5: Hombre | P5: Mujer
A7: Total Nacional 2/ | B7: =[1]MercLab!C7 -> 6401785.5 | C7: =SUM(E7,G7) -> 100 | D7: =[1]MercLab!D7 -> 3073237.8 | E7: =IF(ISNUMBER(D7/$B$7*100),D7/$B$7*100,0) -> 48.005947 | F7: =[1]MercLab!E7 -> 3328547.7 | G7: =IF(ISNUMBER(F7/$B$7*100),F7/$B$7*100,0) -> 51.994053 | H7: =[1]MercLab!F7 -> 3466515.2 | I7: =SUM(K7,M7) -> 100 | J7: =[1]MercLab!G7 -> 2191748.7 | K7: =IF(ISNUMBER(J7/$H$7*100),J7/$H$7*100,0) -> 63.226283 | L7: =[1]MercLab!H7 -> 1274766.5 | M7: =IF(ISNUMBER(L7/$H$7*100),L7/$H$7*100,0) -> 36.773717 | N7: =IF(ISNUMBER(H7/B7*100),H7/B7*100,0) -> 54.149193 | O7: =IF(ISNUMBER(J7/D7*100),J7/D7*100,0) -> 71.31725 | P7: =IF(ISNUMBER(L7/F7*100),L7/F7*100,0) -> 38.297978
A9: Dominio
A10: Urbano | B10: =SUM(B11:B13) -> 2982335.8 | C10: =IF(ISNUMBER(B10/B$7*100),B10/B$7*100,0) -> 46.586 | D10: =SUM(D11:D13) -> 1340834.1 | E10: =IF(ISNUMBER(D10/D$7*100),D10/D$7*100,0) -> 43.629365 | F10: =SUM(F11:F13) -> 1641501.7 | G10: =IF(ISNUMBER(F10/F$7*100),F10/F$7*100,0) -> 49.315853 | H10: =SUM(H11:H13) -> 1627163.9 | I10: =IF(ISNUMBER(H10/H$7*100),H10/H$7*100,0) -> 46.939471 | J10: =SUM(J11:J13) -> 888723.17 | K10: =IF(ISNUMBER(J10/J$7*100),J10/J$7*100,0) -> 40.548589 | L10: =SUM(L11:L13) -> 738440.72 | M10: =IF(ISNUMBER(L10/L$7*100),L10/L$7*100,0) -> 57.927529 | N10: =IF(ISNUMBER(H10/B10*100),H10/B10*100,0) -> 54.560049 | O10: =IF(ISNUMBER(J10/D10*100),J10/D10*100,0) -> 66.281366 | P10: =IF(ISNUMBER(L10/F10*100),L10/F10*100,0) -> 44.985681
A11: Distrito Central | B11: =[1]MercLab!C8 -> 837744.46 | C11: =IF(ISNUMBER(B11/B$7*100),B11/B$7*100,0) -> 13.086106 | D11: =[1]MercLab!D8 -> 371627.12 | E11: =IF(ISNUMBER(D11/D$7*100),D11/D$7*100,0) -> 12.092365 | F11: =[1]MercLab!E8 -> 466117.34 | G11: =IF(ISNUMBER(F11/F$7*100),F11/F$7*100,0) -> 14.003625 | H11: =[1]MercLab!F8 -> 469237.3 | I11: =IF(ISNUMBER(H11/H$7*100),H11/H$7*100,0) -> 13.536283 | J11: =[1]MercLab!G8 -> 245397.76 | K11: =IF(ISNUMBER(J11/J$7*100),J11/J$7*100,0) -> 11.196437 | L11: =[1]MercLab!H8 -> 223839.54 | M11: =IF(ISNUMBER(L11/L$7*100),L11/L$7*100,0) -> 17.559258 | N11: =IF(ISNUMBER(H11/B11*100),H11/B11*100,0) -> 56.011985 | O11: =IF(ISNUMBER(J11/D11*100),J11/D11*100,0) -> 66.033329 | P11: =IF(ISNUMBER(L11/F11*100),L11/F11*100,0) -> 48.022144
A12: San Pedro Sula | B12: =[1]MercLab!C9 -> 481202.48 | C12: =IF(ISNUMBER(B12/B$7*100),B12/B$7*100,0) -> 7.5166917 | D12: =[1]MercLab!D9 -> 217390.26 | E12: =IF(ISNUMBER(D12/D$7*100),D12/D$7*100,0) -> 7.0736557 | F12: =[1]MercLab!E9 -> 263812.22 | G12: =IF(ISNUMBER(F12/F$7*100),F12/F$7*100,0) -> 7.9257454 | H12: =[1]MercLab!F9 -> 271541.51 | I12: =IF(ISNUMBER(H12/H$7*100),H12/H$7*100,0) -> 7.8332706 | J12: =[1]MercLab!G9 -> 149782.03 | K12: =IF(ISNUMBER(J12/J$7*100),J12/J$7*100,0) -> 6.8339052 | L12: =[1]MercLab!H9 -> 121759.49 | M12: =IF(ISNUMBER(L12/L$7*100),L12/L$7*100,0) -> 9.5515129 | N12: =IF(ISNUMBER(H12/B12*100),H12/B12*100,0) -> 56.429783 | O12: =IF(ISNUMBER(J12/D12*100),J12/D12*100,0) -> 68.900064 | P12: =IF(ISNUMBER(L12/F12*100),L12/F12*100,0) -> 46.153846
A13: Resto urbano | B13: =[1]MercLab!C10 -> 1663388.9 | C13: =IF(ISNUMBER(B13/B$7*100),B13/B$7*100,0) -> 25.983202 | D13: =[1]MercLab!D10 -> 751816.74 | E13: =IF(ISNUMBER(D13/D$7*100),D13/D$7*100,0) -> 24.463344 | F13: =[1]MercLab!E10 -> 911572.14 | G13: =IF(ISNUMBER(F13/F$7*100),F13/F$7*100,0) -> 27.386482 | H13: =[1]MercLab!F10 -> 886385.07 | I13: =IF(ISNUMBER(H13/H$7*100),H13/H$7*100,0) -> 25.569918 | J13: =[1]MercLab!G10 -> 493543.38 | K13: =IF(ISNUMBER(J13/J$7*100),J13/J$7*100,0) -> 22.518247 | L13: =[1]MercLab!H10 -> 392841.69 | M13: =IF(ISNUMBER(L13/L$7*100),L13/L$7*100,0) -> 30.816757 | N13: =IF(ISNUMBER(H13/B13*100),H13/B13*100,0) -> 53.287904 | O13: =IF(ISNUMBER(J13/D13*100),J13/D13*100,0) -> 65.646767 | P13: =IF(ISNUMBER(L13/F13*100),L13/F13*100,0) -> 43.094965
A14: Rural | B14: =[1]MercLab!C11 -> 3419449.7 | C14: =IF(ISNUMBER(B14/B$7*100),B14/B$7*100,0) -> 53.414 | D14: =[1]MercLab!D11 -> 1732403.6 | E14: =IF(ISNUMBER(D14/D$7*100),D14/D$7*100,0) -> 56.370635 | F14: =[1]MercLab!E11 -> 1687046 | G14: =IF(ISNUMBER(F14/F$7*100),F14/F$7*100,0) -> 50.684147 | H14: =[1]MercLab!F11 -> 1839351.3 | I14: =IF(ISNUMBER(H14/H$7*100),H14/H$7*100,0) -> 53.060529 | J14: =[1]MercLab!G11 -> 1303025.5 | K14: =IF(ISNUMBER(J14/J$7*100),J14/J$7*100,0) -> 59.451411 | L14: =[1]MercLab!H11 -> 536325.76 | M14: =IF(ISNUMBER(L14/L$7*100),L14/L$7*100,0) -> 42.072471 | N14: =IF(ISNUMBER(H14/B14*100),H14/B14*100,0) -> 53.790856 | O14: =IF(ISNUMBER(J14/D14*100),J14/D14*100,0) -> 75.214891 | P14: =IF(ISNUMBER(L14/F14*100),L14/F14*100,0) -> 31.79082
A16: Quintil de Ingreso
A17: 1 | B17: =[1]MercLab!C13 -> 1390252.3 | C17: =IF(ISNUMBER(B17/B$7*100),B17/B$7*100,0) -> 21.716634 | D17: =[1]MercLab!D13 -> 691729.66 | E17: =IF(ISNUMBER(D17/D$7*100),D17/D$7*100,0) -> 22.508172 | F17: =[1]MercLab!E13 -> 698522.65 | G17: =IF(ISNUMBER(F17/F$7*100),F17/F$7*100,0) -> 20.985809 | H17: =[1]MercLab!F13 -> 669834.45 | I17: =IF(ISNUMBER(H17/H$7*100),H17/H$7*100,0) -> 19.322992 | J17: =[1]MercLab!G13 -> 496602.99 | K17: =IF(ISNUMBER(J17/J$7*100),J17/J$7*100,0) -> 22.657844 | L17: =[1]MercLab!H13 -> 173231.46 | M17: =IF(ISNUMBER(L17/L$7*100),L17/L$7*100,0) -> 13.58927 | N17: =IF(ISNUMBER(H17/B17*100),H17/B17*100,0) -> 48.180783 | O17: =IF(ISNUMBER(J17/D17*100),J17/D17*100,0) -> 71.791485 | P17: =IF(ISNUMBER(L17/F17*100),L17/F17*100,0) -> 24.799691
A18: 2 | B18: =[1]MercLab!C14 -> 1369145.6 | C18: =IF(ISNUMBER(B18/B$7*100),B18/B$7*100,0) -> 21.386934 | D18: =[1]MercLab!D14 -> 658594.93 | E18: =IF(ISNUMBER(D18/D$7*100),D18/D$7*100,0) -> 21.430002 | F18: =[1]MercLab!E14 -> 710550.69 | G18: =IF(ISNUMBER(F18/F$7*100),F18/F$7*100,0) -> 21.347168 | H18: =[1]MercLab!F14 -> 676790.39 | I18: =IF(ISNUMBER(H18/H$7*100),H18/H$7*100,0) -> 19.523653 | J18: =[1]MercLab!G14 -> 454988.96 | K18: =IF(ISNUMBER(J18/J$7*100),J18/J$7*100,0) -> 20.759176 | L18: =[1]MercLab!H14 -> 221801.43 | M18: =IF(ISNUMBER(L18/L$7*100),L18/L$7*100,0) -> 17.399377 | N18: =IF(ISNUMBER(H18/B18*100),H18/B18*100,0) -> 49.431586 | O18: =IF(ISNUMBER(J18/D18*100),J18/D18*100,0) -> 69.084796 | P18: =IF(ISNUMBER(L18/F18*100),L18/F18*100,0) -> 31.215427
A19: 3 | B19: =[1]MercLab!C15 -> 1309854.5 | C19: =IF(ISNUMBER(B19/B$7*100),B19/B$7*100,0) -> 20.460768 | D19: =[1]MercLab!D15 -> 618625.71 | E19: =IF(ISNUMBER(D19/D$7*100),D19/D$7*100,0) -> 20.129445 | F19: =[1]MercLab!E15 -> 691228.79 | G19: =IF(ISNUMBER(F19/F$7*100),F19/F$7*100,0) -> 20.766678 | H19: =[1]MercLab!F15 -> 700412.58 | I19: =IF(ISNUMBER(H19/H$7*100),H19/H$7*100,0) -> 20.205092 | J19: =[1]MercLab!G15 -> 435129.25 | K19: =IF(ISNUMBER(J19/J$7*100),J19/J$7*100,0) -> 19.853063 | L19: =[1]MercLab!H15 -> 265283.32 | M19: =IF(ISNUMBER(L19/L$7*100),L19/L$7*100,0) -> 20.810347 | N19: =IF(ISNUMBER(H19/B19*100),H19/B19*100,0) -> 53.472548 | O19: =IF(ISNUMBER(J19/D19*100),J19/D19*100,0) -> 70.338049 | P19: =IF(ISNUMBER(L19/F19*100),L19/F19*100,0) -> 38.378512
A20: 4 | B20: =[1]MercLab!C16 -> 1222539 | C20: =IF(ISNUMBER(B20/B$7*100),B20/B$7*100,0) -> 19.096845 | D20: =[1]MercLab!D16 -> 581885.03 | E20: =IF(ISNUMBER(D20/D$7*100),D20/D$7*100,0) -> 18.933941 | F20: =[1]MercLab!E16 -> 640654 | G20: =IF(ISNUMBER(F20/F$7*100),F20/F$7*100,0) -> 19.247253 | H20: =[1]MercLab!F16 -> 704809.93 | I20: =IF(ISNUMBER(H20/H$7*100),H20/H$7*100,0) -> 20.331944 | J20: =[1]MercLab!G16 -> 413742.24 | K20: =IF(ISNUMBER(J20/J$7*100),J20/J$7*100,0) -> 18.877266 | L20: =[1]MercLab!H16 -> 291067.69 | M20: =IF(ISNUMBER(L20/L$7*100),L20/L$7*100,0) -> 22.83302 | N20: =IF(ISNUMBER(H20/B20*100),H20/B20*100,0) -> 57.651323 | O20: =IF(ISNUMBER(J20/D20*100),J20/D20*100,0) -> 71.103777 | P20: =IF(ISNUMBER(L20/F20*100),L20/F20*100,0) -> 45.4329
A21: 5 | B21: =[1]MercLab!C17 -> 1092980.1 | C21: =IF(ISNUMBER(B21/B$7*100),B21/B$7*100,0) -> 17.073052 | D21: =[1]MercLab!D17 -> 514084.65 | E21: =IF(ISNUMBER(D21/D$7*100),D21/D$7*100,0) -> 16.727787 | F21: =[1]MercLab!E17 -> 578895.49 | G21: =IF(ISNUMBER(F21/F$7*100),F21/F$7*100,0) -> 17.391834 | H21: =[1]MercLab!F17 -> 708514.77 | I21: =IF(ISNUMBER(H21/H$7*100),H21/H$7*100,0) -> 20.438819 | J21: =[1]MercLab!G17 -> 386763.3 | K21: =IF(ISNUMBER(J21/J$7*100),J21/J$7*100,0) -> 17.646334 | L21: =[1]MercLab!H17 -> 321751.47 | M21: =IF(ISNUMBER(L21/L$7*100),L21/L$7*100,0) -> 25.240032 | N21: =IF(ISNUMBER(H21/B21*100),H21/B21*100,0) -> 64.82412 | O21: =IF(ISNUMBER(J21/D21*100),J21/D21*100,0) -> 75.233387 | P21: =IF(ISNUMBER(L21/F21*100),L21/F21*100,0) -> 55.580234
A22: No declaran ingresos | B22: =[1]MercLab!C18 -> 17013.892 | C22: =IF(ISNUMBER(B22/B$7*100),B22/B$7*100,0) -> 0.26576791 | D22: =[1]MercLab!D18 -> 8317.789 | E22: =IF(ISNUMBER(D22/D$7*100),D22/D$7*100,0) -> 0.27065231 | F22: =[1]MercLab!E18 -> 8696.1026 | G22: =IF(ISNUMBER(F22/F$7*100),F22/F$7*100,0) -> 0.26125816 | H22: =[1]MercLab!F18 -> 6153.0455 | I22: =IF(ISNUMBER(H22/H$7*100),H22/H$7*100,0) -> 0.17749945 | J22: =[1]MercLab!G18 -> 4521.9376 | K22: =IF(ISNUMBER(J22/J$7*100),J22/J$7*100,0) -> 0.20631643 | L22: =[1]MercLab!H18 -> 1631.1079 | M22: =IF(ISNUMBER(L22/L$7*100),L22/L$7*100,0) -> 0.12795347 | N22: =IF(ISNUMBER(H22/B22*100),H22/B22*100,0) -> 36.164833 | O22: =IF(ISNUMBER(J22/D22*100),J22/D22*100,0) -> 54.364659 | P22: =IF(ISNUMBER(L22/F22*100),L22/F22*100,0) -> 18.756769
A24: Nivel Educativo
A25: Sin Nivel | B25: =[1]MercLab!C20 -> 762715.18 | C25: =IF(ISNUMBER(B25/B$7*100),B25/B$7*100,0) -> 11.914101 | D25: =[1]MercLab!D20 -> 359962.42 | E25: =IF(ISNUMBER(D25/D$7*100),D25/D$7*100,0) -> 11.712807 | F25: =[1]MercLab!E20 -> 402752.76 | G25: =IF(ISNUMBER(F25/F$7*100),F25/F$7*100,0) -> 12.099954 | H25: =[1]MercLab!F20 -> 424685.19 | I25: =IF(ISNUMBER(H25/H$7*100),H25/H$7*100,0) -> 12.25107 | J25: =[1]MercLab!G20 -> 291297.62 | K25: =IF(ISNUMBER(J25/J$7*100),J25/J$7*100,0) -> 13.290649 | L25: =[1]MercLab!H20 -> 133387.57 | M25: =IF(ISNUMBER(L25/L$7*100),L25/L$7*100,0) -> 10.463687 | N25: =IF(ISNUMBER(H25/B25*100),H25/B25*100,0) -> 55.680705 | O25: =IF(ISNUMBER(J25/D25*100),J25/D25*100,0) -> 80.924452 | P25: =IF(ISNUMBER(L25/F25*100),L25/F25*100,0) -> 33.118971
A26: Primaria | B26: =[1]MercLab!C21 -> 3560849.2 | C26: =IF(ISNUMBER(B26/B$7*100),B26/B$7*100,0) -> 55.622751 | D26: =[1]MercLab!D21 -> 1788657.8 | E26: =IF(ISNUMBER(D26/D$7*100),D26/D$7*100,0) -> 58.201086 | F26: =[1]MercLab!E21 -> 1772191.4 | G26: =IF(ISNUMBER(F26/F$7*100),F26/F$7*100,0) -> 53.242182 | H26: =[1]MercLab!F21 -> 1898797.6 | I26: =IF(ISNUMBER(H26/H$7*100),H26/H$7*100,0) -> 54.775401 | J26: =[1]MercLab!G21 -> 1289997.6 | K26: =IF(ISNUMBER(J26/J$7*100),J26/J$7*100,0) -> 58.857006 | L26: =[1]MercLab!H21 -> 608799.93 | M26: =IF(ISNUMBER(L26/L$7*100),L26/L$7*100,0) -> 47.757761 | N26: =IF(ISNUMBER(H26/B26*100),H26/B26*100,0) -> 53.324291 | O26: =IF(ISNUMBER(J26/D26*100),J26/D26*100,0) -> 72.120988 | P26: =IF(ISNUMBER(L26/F26*100),L26/F26*100,0) -> 34.352944
A27: Secundaria | B27: =[1]MercLab!C22 -> 1663947.9 | C27: =IF(ISNUMBER(B27/B$7*100),B27/B$7*100,0) -> 25.991935 | D27: =[1]MercLab!D22 -> 731304.94 | E27: =IF(ISNUMBER(D27/D$7*100),D27/D$7*100,0) -> 23.795912 | F27: =[1]MercLab!E22 -> 932643 | G27: =IF(ISNUMBER(F27/F$7*100),F27/F$7*100,0) -> 28.019517 | H27: =[1]MercLab!F22 -> 856732.45 | I27: =IF(ISNUMBER(H27/H$7*100),H27/H$7*100,0) -> 24.714516 | J27: =[1]MercLab!G22 -> 462542.71 | K27: =IF(ISNUMBER(J27/J$7*100),J27/J$7*100,0) -> 21.103821 | L27: =[1]MercLab!H22 -> 394189.74 | M27: =IF(ISNUMBER(L27/L$7*100),L27/L$7*100,0) -> 30.922506 | N27: =IF(ISNUMBER(H27/B27*100),H27/B27*100,0) -> 51.487936 | O27: =IF(ISNUMBER(J27/D27*100),J27/D27*100,0) -> 63.248952 | P27: =IF(ISNUMBER(L27/F27*100),L27/F27*100,0) -> 42.265877
A28: Superior | B28: =[1]MercLab!C23 -> 394483.34 | C28: =IF(ISNUMBER(B28/B$7*100),B28/B$7*100,0) -> 6.162083 | D28: =[1]MercLab!D23 -> 180034.08 | E28: =IF(ISNUMBER(D28/D$7*100),D28/D$7*100,0) -> 5.8581242 | F28: =[1]MercLab!E23 -> 214449.25 | G28: =IF(ISNUMBER(F28/F$7*100),F28/F$7*100,0) -> 6.4427273 | H28: =[1]MercLab!F23 -> 270817.22 | I28: =IF(ISNUMBER(H28/H$7*100),H28/H$7*100,0) -> 7.8123768 | J28: =[1]MercLab!G23 -> 136376.19 | K28: =IF(ISNUMBER(J28/J$7*100),J28/J$7*100,0) -> 6.2222551 | L28: =[1]MercLab!H23 -> 134441.03 | M28: =IF(ISNUMBER(L28/L$7*100),L28/L$7*100,0) -> 10.546326 | N28: =IF(ISNUMBER(H28/B28*100),H28/B28*100,0) -> 68.651119 | O28: =IF(ISNUMBER(J28/D28*100),J28/D28*100,0) -> 75.750208 | P28: =IF(ISNUMBER(L28/F28*100),L28/F28*100,0) -> 62.691303
A29: No sabe, no responde | B29: =[1]MercLab!C24 -> 19789.854 | C29: =IF(ISNUMBER(B29/B$7*100),B29/B$7*100,0) -> 0.30913022 | D29: =[1]MercLab!D24 -> 13278.569 | E29: =IF(ISNUMBER(D29/D$7*100),D29/D$7*100,0) -> 0.43207099 | F29: =[1]MercLab!E24 -> 6511.2848 | G29: =IF(ISNUMBER(F29/F$7*100),F29/F$7*100,0) -> 0.19561939 | H29: =[1]MercLab!F24 -> 15482.722 | I29: =IF(ISNUMBER(H29/H$7*100),H29/H$7*100,0) -> 0.4466365 | J29: =[1]MercLab!G24 -> 11534.512 | K29: =IF(ISNUMBER(J29/J$7*100),J29/J$7*100,0) -> 0.52626984 | L29: =[1]MercLab!H24 -> 3948.2098 | M29: =IF(ISNUMBER(L29/L$7*100),L29/L$7*100,0) -> 0.30972024 | N29: =IF(ISNUMBER(H29/B29*100),H29/B29*100,0) -> 78.235656 | O29: =IF(ISNUMBER(J29/D29*100),J29/D29*100,0) -> 86.865628 | P29: =IF(ISNUMBER(L29/F29*100),L29/F29*100,0) -> 60.636416
A31: Rango de edad
A32: De 10 a 11 años | B32: =[1]MercLab!C26 -> 451276.51 | C32: =IF(ISNUMBER(B32/B$7*100),B32/B$7*100,0) -> 7.0492289 | D32: =[1]MercLab!D26 -> 231692.39 | E32: =IF(ISNUMBER(D32/D$7*100),D32/D$7*100,0) -> 7.5390324 | F32: =[1]MercLab!E26 -> 219584.12 | G32: =IF(ISNUMBER(F32/F$7*100),F32/F$7*100,0) -> 6.5969949 | H32: =[1]MercLab!F26 -> 30106.846 | I32: =IF(ISNUMBER(H32/H$7*100),H32/H$7*100,0) -> 0.86850467 | J32: =[1]MercLab!G26 -> 22112.243 | K32: =IF(ISNUMBER(J32/J$7*100),J32/J$7*100,0) -> 1.0088859 | L32: =[1]MercLab!H26 -> 7994.6027 | M32: =IF(ISNUMBER(L32/L$7*100),L32/L$7*100,0) -> 0.62714253 | N32: =IF(ISNUMBER(H32/B32*100),H32/B32*100,0) -> 6.6714852 | O32: =IF(ISNUMBER(J32/D32*100),J32/D32*100,0) -> 9.5437935 | P32: =IF(ISNUMBER(L32/F32*100),L32/F32*100,0) -> 3.6407927
A33: De 12 a 14 años | B33: =[1]MercLab!C27 -> 650981.02 | C33: =IF(ISNUMBER(B33/B$7*100),B33/B$7*100,0) -> 10.168742 | D33: =[1]MercLab!D27 -> 336403.51 | E33: =IF(ISNUMBER(D33/D$7*100),D33/D$7*100,0) -> 10.946225 | F33: =[1]MercLab!E27 -> 314577.51 | G33: =IF(ISNUMBER(F33/F$7*100),F33/F$7*100,0) -> 9.4508938 | H33: =[1]MercLab!F27 -> 138397.63 | I33: =IF(ISNUMBER(H33/H$7*100),H33/H$7*100,0) -> 3.9924139 | J33: =[1]MercLab!G27 -> 107210.19 | K33: =IF(ISNUMBER(J33/J$7*100),J33/J$7*100,0) -> 4.8915365 | L33: =[1]MercLab!H27 -> 31187.448 | M33: =IF(ISNUMBER(L33/L$7*100),L33/L$7*100,0) -> 2.4465225 | N33: =IF(ISNUMBER(H33/B33*100),H33/B33*100,0) -> 21.259857 | O33: =IF(ISNUMBER(J33/D33*100),J33/D33*100,0) -> 31.86952 | P33: =IF(ISNUMBER(L33/F33*100),L33/F33*100,0) -> 9.9140743
A34: De 15 a 18 años | B34: =[1]MercLab!C28 -> 850235.22 | C34: =IF(ISNUMBER(B34/B$7*100),B34/B$7*100,0) -> 13.28122 | D34: =[1]MercLab!D28 -> 438481.66 | E34: =IF(ISNUMBER(D34/D$7*100),D34/D$7*100,0) -> 14.267743 | F34: =[1]MercLab!E28 -> 411753.56 | G34: =IF(ISNUMBER(F34/F$7*100),F34/F$7*100,0) -> 12.370367 | H34: =[1]MercLab!F28 -> 330477.26 | I34: =IF(ISNUMBER(H34/H$7*100),H34/H$7*100,0) -> 9.5334145 | J34: =[1]MercLab!G28 -> 247167.5 | K34: =IF(ISNUMBER(J34/J$7*100),J34/J$7*100,0) -> 11.277182 | L34: =[1]MercLab!H28 -> 83309.761 | M34: =IF(ISNUMBER(L34/L$7*100),L34/L$7*100,0) -> 6.5352959 | N34: =IF(ISNUMBER(H34/B34*100),H34/B34*100,0) -> 38.868921 | O34: =IF(ISNUMBER(J34/D34*100),J34/D34*100,0) -> 56.368947 | P34: =IF(ISNUMBER(L34/F34*100),L34/F34*100,0) -> 20.232918
A35: De 19 a 24 años | B35: =[1]MercLab!C29 -> 974293.71 | C35: =IF(ISNUMBER(B35/B$7*100),B35/B$7*100,0) -> 15.219093 | D35: =[1]MercLab!D29 -> 494369.48 | E35: =IF(ISNUMBER(D35/D$7*100),D35/D$7*100,0) -> 16.086275 | F35: =[1]MercLab!E29 -> 479924.23 | G35: =IF(ISNUMBER(F35/F$7*100),F35/F$7*100,0) -> 14.418427 | H35: =[1]MercLab!F29 -> 601516.54 | I35: =IF(ISNUMBER(H35/H$7*100),H35/H$7*100,0) -> 17.352197 | J35: =[1]MercLab!G29 -> 403491.53 | K35: =IF(ISNUMBER(J35/J$7*100),J35/J$7*100,0) -> 18.409571 | L35: =[1]MercLab!H29 -> 198025.01 | M35: =IF(ISNUMBER(L35/L$7*100),L35/L$7*100,0) -> 15.534219 | N35: =IF(ISNUMBER(H35/B35*100),H35/B35*100,0) -> 61.738728 | O35: =IF(ISNUMBER(J35/D35*100),J35/D35*100,0) -> 81.617403 | P35: =IF(ISNUMBER(L35/F35*100),L35/F35*100,0) -> 41.261724
A36: De 25 a 29 años | B36: =[1]MercLab!C30 -> 572606.99 | C36: =IF(ISNUMBER(B36/B$7*100),B36/B$7*100,0) -> 8.9444888 | D36: =[1]MercLab!D30 -> 273263.86 | E36: =IF(ISNUMBER(D36/D$7*100),D36/D$7*100,0) -> 8.8917254 | F36: =[1]MercLab!E30 -> 299343.12 | G36: =IF(ISNUMBER(F36/F$7*100),F36/F$7*100,0) -> 8.9932051 | H36: =[1]MercLab!F30 -> 406981.08 | I36: =IF(ISNUMBER(H36/H$7*100),H36/H$7*100,0) -> 11.740352 | J36: =[1]MercLab!G30 -> 249163.81 | K36: =IF(ISNUMBER(J36/J$7*100),J36/J$7*100,0) -> 11.368266 | L36: =[1]MercLab!H30 -> 157817.26 | M36: =IF(ISNUMBER(L36/L$7*100),L36/L$7*100,0) -> 12.380092 | N36: =IF(ISNUMBER(H36/B36*100),H36/B36*100,0) -> 71.075116 | O36: =IF(ISNUMBER(J36/D36*100),J36/D36*100,0) -> 91.180667 | P36: =IF(ISNUMBER(L36/F36*100),L36/F36*100,0) -> 52.721193
A37: De 30 a 34 años | B37: =[1]MercLab!C31 -> 484430.95 | C37: =IF(ISNUMBER(B37/B$7*100),B37/B$7*100,0) -> 7.5671225 | D37: =[1]MercLab!D31 -> 211496.58 | E37: =IF(ISNUMBER(D37/D$7*100),D37/D$7*100,0) -> 6.8818814 | F37: =[1]MercLab!E31 -> 272934.37 | G37: =IF(ISNUMBER(F37/F$7*100),F37/F$7*100,0) -> 8.1998035 | H37: =[1]MercLab!F31 -> 365505.95 | I37: =IF(ISNUMBER(H37/H$7*100),H37/H$7*100,0) -> 10.543902 | J37: =[1]MercLab!G31 -> 204613.26 | K37: =IF(ISNUMBER(J37/J$7*100),J37/J$7*100,0) -> 9.3356171 | L37: =[1]MercLab!H31 -> 160892.69 | M37: =IF(ISNUMBER(L37/L$7*100),L37/L$7*100,0) -> 12.621346 | N37: =IF(ISNUMBER(H37/B37*100),H37/B37*100,0) -> 75.450577 | O37: =IF(ISNUMBER(J37/D37*100),J37/D37*100,0) -> 96.745426 | P37: =IF(ISNUMBER(L37/F37*100),L37/F37*100,0) -> 58.94922
A38: De 35 a 39 años | B38: =[1]MercLab!C32 -> 425265.75 | C38: =IF(ISNUMBER(B38/B$7*100),B38/B$7*100,0) -> 6.6429241 | D38: =[1]MercLab!D32 -> 185499.26 | E38: =IF(ISNUMBER(D38/D$7*100),D38/D$7*100,0) -> 6.0359554 | F38: =[1]MercLab!E32 -> 239766.49 | G38: =IF(ISNUMBER(F38/F$7*100),F38/F$7*100,0) -> 7.2033364 | H38: =[1]MercLab!F32 -> 322218.4 | I38: =IF(ISNUMBER(H38/H$7*100),H38/H$7*100,0) -> 9.2951678 | J38: =[1]MercLab!G32 -> 181532.19 | K38: =IF(ISNUMBER(J38/J$7*100),J38/J$7*100,0) -> 8.2825277 | L38: =[1]MercLab!H32 -> 140686.21 | M38: =IF(ISNUMBER(L38/L$7*100),L38/L$7*100,0) -> 11.036234 | N38: =IF(ISNUMBER(H38/B38*100),H38/B38*100,0) -> 75.768716 | O38: =IF(ISNUMBER(J38/D38*100),J38/D38*100,0) -> 97.861409 | P38: =IF(ISNUMBER(L38/F38*100),L38/F38*100,0) -> 58.676343
A39: De 40 a 44 años | B39: =[1]MercLab!C33 -> 358661.71 | C39: =IF(ISNUMBER(B39/B$7*100),B39/B$7*100,0) -> 5.6025262 | D39: =[1]MercLab!D33 -> 159222.81 | E39: =IF(ISNUMBER(D39/D$7*100),D39/D$7*100,0) -> 5.1809466 | F39: =[1]MercLab!E33 -> 199438.9 | G39: =IF(ISNUMBER(F39/F$7*100),F39/F$7*100,0) -> 5.9917694 | H39: =[1]MercLab!F33 -> 269530.08 | I39: =IF(ISNUMBER(H39/H$7*100),H39/H$7*100,0) -> 7.7752459 | J39: =[1]MercLab!G33 -> 154406.76 | K39: =IF(ISNUMBER(J39/J$7*100),J39/J$7*100,0) -> 7.0449117 | L39: =[1]MercLab!H33 -> 115123.32 | M39: =IF(ISNUMBER(L39/L$7*100),L39/L$7*100,0) -> 9.0309339 | N39: =IF(ISNUMBER(H39/B39*100),H39/B39*100,0) -> 75.148829 | O39: =IF(ISNUMBER(J39/D39*100),J39/D39*100,0) -> 96.975277 | P39: =IF(ISNUMBER(L39/F39*100),L39/F39*100,0) -> 57.723601
A40: De 45 a 49 años | B40: =[1]MercLab!C34 -> 343796.4 | C40: =IF(ISNUMBER(B40/B$7*100),B40/B$7*100,0) -> 5.3703205 | D40: =[1]MercLab!D34 -> 148987.71 | E40: =IF(ISNUMBER(D40/D$7*100),D40/D$7*100,0) -> 4.8479069 | F40: =[1]MercLab!E34 -> 194808.69 | G40: =IF(ISNUMBER(F40/F$7*100),F40/F$7*100,0) -> 5.8526633 | H40: =[1]MercLab!F34 -> 249311.37 | I40: =IF(ISNUMBER(H40/H$7*100),H40/H$7*100,0) -> 7.1919884 | J40: =[1]MercLab!G34 -> 143398.4 | K40: =IF(ISNUMBER(J40/J$7*100),J40/J$7*100,0) -> 6.5426481 | L40: =[1]MercLab!H34 -> 105912.97 | M40: =IF(ISNUMBER(L40/L$7*100),L40/L$7*100,0) -> 8.3084209 | N40: =IF(ISNUMBER(H40/B40*100),H40/B40*100,0) -> 72.517155 | O40: =IF(ISNUMBER(J40/D40*100),J40/D40*100,0) -> 96.248479 | P40: =IF(ISNUMBER(L40/F40*100),L40/F40*100,0) -> 54.367679
A41: De 50 a 54 años | B41: =[1]MercLab!C35 -> 337182.25 | C41: =IF(ISNUMBER(B41/B$7*100),B41/B$7*100,0) -> 5.2670033 | D41: =[1]MercLab!D35 -> 152967.37 | E41: =IF(ISNUMBER(D41/D$7*100),D41/D$7*100,0) -> 4.977401 | F41: =[1]MercLab!E35 -> 184214.89 | G41: =IF(ISNUMBER(F41/F$7*100),F41/F$7*100,0) -> 5.5343922 | H41: =[1]MercLab!F35 -> 247541.73 | I41: =IF(ISNUMBER(H41/H$7*100),H41/H$7*100,0) -> 7.1409388 | J41: =[1]MercLab!G35 -> 148042.97 | K41: =IF(ISNUMBER(J41/J$7*100),J41/J$7*100,0) -> 6.7545595 | L41: =[1]MercLab!H35 -> 99498.758 | M41: =IF(ISNUMBER(L41/L$7*100),L41/L$7*100,0) -> 7.8052537 | N41: =IF(ISNUMBER(H41/B41*100),H41/B41*100,0) -> 73.414814 | O41: =IF(ISNUMBER(J41/D41*100),J41/D41*100,0) -> 96.780751 | P41: =IF(ISNUMBER(L41/F41*100),L41/F41*100,0) -> 54.012333
A42: De 55 a 59 años | B42: =[1]MercLab!C36 -> 251064.02 | C42: =IF(ISNUMBER(B42/B$7*100),B42/B$7*100,0) -> 3.9217811 | D42: =[1]MercLab!D36 -> 113224.49 | E42: =IF(ISNUMBER(D42/D$7*100),D42/D$7*100,0) -> 3.6842087 | F42: =[1]MercLab!E36 -> 137839.52 | G42: =IF(ISNUMBER(F42/F$7*100),F42/F$7*100,0) -> 4.1411311 | H42: =[1]MercLab!F36 -> 171038.2 | I42: =IF(ISNUMBER(H42/H$7*100),H42/H$7*100,0) -> 4.93401 | J42: =[1]MercLab!G36 -> 104116.04 | K42: =IF(ISNUMBER(J42/J$7*100),J42/J$7*100,0) -> 4.7503641 | L42: =[1]MercLab!H36 -> 66922.16 | M42: =IF(ISNUMBER(L42/L$7*100),L42/L$7*100,0) -> 5.2497584 | N42: =IF(ISNUMBER(H42/B42*100),H42/B42*100,0) -> 68.125335 | O42: =IF(ISNUMBER(J42/D42*100),J42/D42*100,0) -> 91.955407 | P42: =IF(ISNUMBER(L42/F42*100),L42/F42*100,0) -> 48.550777
A43: De 60 a 64 años | B43: =[1]MercLab!C37 -> 206047.01 | C43: =IF(ISNUMBER(B43/B$7*100),B43/B$7*100,0) -> 3.2185866 | D43: =[1]MercLab!D37 -> 98527.741 | E43: =IF(ISNUMBER(D43/D$7*100),D43/D$7*100,0) -> 3.2059915 | F43: =[1]MercLab!E37 -> 107519.27 | G43: =IF(ISNUMBER(F43/F$7*100),F43/F$7*100,0) -> 3.2302157 | H43: =[1]MercLab!F37 -> 121979.48 | I43: =IF(ISNUMBER(H43/H$7*100),H43/H$7*100,0) -> 3.5187925 | J43: =[1]MercLab!G37 -> 80860.917 | K43: =IF(ISNUMBER(J43/J$7*100),J43/J$7*100,0) -> 3.6893334 | L43: =[1]MercLab!H37 -> 41118.559 | M43: =IF(ISNUMBER(L43/L$7*100),L43/L$7*100,0) -> 3.2255758 | N43: =IF(ISNUMBER(H43/B43*100),H43/B43*100,0) -> 59.199828 | O43: =IF(ISNUMBER(J43/D43*100),J43/D43*100,0) -> 82.069188 | P43: =IF(ISNUMBER(L43/F43*100),L43/F43*100,0) -> 38.242967
A44: De 65 años y más | B44: =[1]MercLab!C38 -> 495943.94 | C44: =IF(ISNUMBER(B44/B$7*100),B44/B$7*100,0) -> 7.7469628 | D44: =[1]MercLab!D38 -> 229100.91 | E44: =IF(ISNUMBER(D44/D$7*100),D44/D$7*100,0) -> 7.4547081 | F44: =[1]MercLab!E38 -> 266843.04 | G44: =IF(ISNUMBER(F44/F$7*100),F44/F$7*100,0) -> 8.0168007 | H44: =[1]MercLab!F38 -> 211910.59 | I44: =IF(ISNUMBER(H44/H$7*100),H44/H$7*100,0) -> 6.1130727 | J44: =[1]MercLab!G38 -> 145632.86 | K44: =IF(ISNUMBER(J44/J$7*100),J44/J$7*100,0) -> 6.6445967 | L44: =[1]MercLab!H38 -> 66277.731 | M44: =IF(ISNUMBER(L44/L$7*100),L44/L$7*100,0) -> 5.1992057 | N44: =IF(ISNUMBER(H44/B44*100),H44/B44*100,0) -> 42.728739 | O44: =IF(ISNUMBER(J44/D44*100),J44/D44*100,0) -> 63.567126 | P44: =IF(ISNUMBER(L44/F44*100),L44/F44*100,0) -> 24.837722
A46: Fuente: Instituto Nacional de Estadística (INE). XL Encuesta Permanente de Hogares de Propósitos Múltiples, Septiembre 2010.
A47: 1/ Porcentaje por columnas
A48: 2/ Porcentaje por filas

Sheet C02
A1: Cuadro No. 2. Tasa de Desempleo Abierto (TDA), Población en Edad de Trabajar (PET) y Población Económicamente Activa (PEA), | S1: =A1 -> Cuadro No. 2. Tasa de Desempleo Abierto (TDA), Población en Edad de Trabajar (PET) y Población Económicamente Activa (PEA),
A2: según dominio, nivel educativo, rango de edad, sexo, rama de actividad y ocupación | S2: =A2 -> según dominio, nivel educativo, rango de edad, sexo, rama de actividad y ocupación
A3: Categorías | B3: Población Total | E3: Población en Edad de Trabajar (PET) | H3: Población Económicamente Activa (PEA) | Q3: TDA | R3: MBT | S3: Categorías | T3: Población Económicamente Activa (PEA) | AC3: TDA | AD3: MBT
H4: Total | K4: Ocupados | N4: Desocupados | T4: Total | W4: Ocupados | Z4: Desocupados
B5: No. | C5: % 1/ | D5: AEP | E5: No. | F5: % 1/ | G5: AEP | H5: No. | I5: % 1/ | J5: AEP | K5: No. | L5: % 1/ | M5: AEP | N5: No. | O5: % 1/ | P5: AEP | T5: No. | U5: % 1/ | V5: AEP | W5: No. | X5: % 1/ | Y5: AEP | Z5: No. | AA5: % 1/ | AB5: AEP
A7: Total Nacional | B7: =[1]MercLab!C48 -> 8093877 | C7: =SUM(C10,C14) -> 100 | D7: =[1]MercLab!D48 -> 6.1033944 | E7: =[1]MercLab!E48 -> 6401785.5 | F7: =SUM(F10,F14) -> 100 | G7: =[1]MercLab!F48 -> 6.633981 | H7: =[1]MercLab!G48 -> 3466515.2 | I7: =SUM(I10,I14) -> 100 | J7: =[1]MercLab!H48 -> 7.0901828 | K7: =[1]MercLab!I48 -> 3307702.6 | L7: =SUM(L10,L14) -> 100 | M7: =[1]MercLab!J48 -> 6.9962608 | N7: =[1]MercLab!K48 -> 158812.59 | O7: =SUM(O10,O14) -> 100 | P7: =[1]MercLab!L48 -> 8.8904318 | Q7: =IF(ISNUMBER(N7/H7*100),N7/H7*100,0) -> 4.5813326 | R7: =[1]MercLab!M48 -> 4.122669 | S7: Total Nacional | T7: =H7 -> 3466515.2 | U7: =I7 -> 100 | V7: =J7 -> 7.0901828 | W7: =K7 -> 3307702.6 | X7: =L7 -> 100 | Y7: =M7 -> 6.9962608 | Z7: =N7 -> 158812.59 | AA7: =O7 -> 100 | ... AD7: =R7 -> 4.122669
A9: Dominio | S9: Rama de Actividad (1 Dig.)
A10: Urbano | B10: =SUM(B11:B13) -> 3680611 | C10: =IF(ISNUMBER(B10/B$7*100),B10/B$7*100,0) -> 45.474017 | D10: =AVERAGE(D11:D13) -> 7.6626722 | E10: =SUM(E11:E13) -> 2982335.8 | F10: =IF(ISNUMBER(E10/E$7*100),E10/E$7*100,0) -> 46.586 | G10: =AVERAGE(G11:G13) -> 8.2199193 | H10: =SUM(H11:H13) -> 1627163.9 | I10: =IF(ISNUMBER(H10/H$7*100),H10/H$7*100,0) -> 46.939471 | J10: =AVERAGE(J11:J13) -> 8.8664982 | K10: =SUM(K11:K13) -> 1514858.6 | L10: =IF(ISNUMBER(K10/K$7*100),K10/K$7*100,0) -> 45.797908 | M10: =AVERAGE(M11:M13) -> 8.8245325 | N10: =SUM(N11:N13) -> 112305.29 | O10: =IF(ISNUMBER(N10/N$7*100),N10/N$7*100,0) -> 70.715611 | P10: =AVERAGE(P11:P13) -> 9.3569952 | Q10: =IF(ISNUMBER(N10/H10*100),N10/H10*100,0) -> 6.9019042 | R10: =AVERAGE(R11:R13) -> 3.8875735 | S10: Agricultura, Silvicultura, Caza y Pesca | T10: =[1]MercLab!G79 -> 1204567.1 | U10: =IF(ISNUMBER(T10/T$7*100),T10/T$7*100,0) -> 34.748646 | V10: =[1]MercLab!H79 -> 4.8938438 | W10: =[1]MercLab!I79 -> 1191562 | X10: =IF(ISNUMBER(W10/W$7*100),W10/W$7*100,0) -> 36.023855 | Y10: =[1]MercLab!J79 -> 4.8812462 | Z10: =[1]MercLab!K79 -> 13005.112 | AA10: =IF(ISNUMBER(Z10/Z$7*100),Z10/Z$7*100,0) -> 8.1889677 | AB10: =[1]MercLab!L79 -> 6.1542534 | AC10: =IF(ISNUMBER(Z10/T10*100),Z10/T10*100,0) -> 1.0796503 | AD10: =[1]MercLab!M79 -> 1.6500833
A11: Distrito Central | B11: =[1]MercLab!C49 -> 1011172 | C11: =IF(ISNUMBER(B11/B$7*100),B11/B$7*100,0) -> 12.493049 | D11: =[1]MercLab!D49 -> 8.3743791 | E11: =[1]MercLab!E49 -> 837744.46 | F11: =IF(ISNUMBER(E11/E$7*100),E11/E$7*100,0) -> 13.086106 | G11: =[1]MercLab!F49 -> 8.9148339 | H11: =[1]MercLab!G49 -> 469237.3 | I11: =IF(ISNUMBER(H11/H$7*100),H11/H$7*100,0) -> 13.536283 | J11: =[1]MercLab!H49 -> 9.4931825 | K11: =[1]MercLab!I49 -> 428208.65 | L11: =IF(ISNUMBER(K11/K$7*100),K11/K$7*100,0) -> 12.945803 | M11: =[1]MercLab!J49 -> 9.4096267 | N11: =[1]MercLab!K49 -> 41028.648 | O11: =IF(ISNUMBER(N11/N$7*100),N11/N$7*100,0) -> 25.834632 | P11: =[1]MercLab!L49 -> 10.3402 | Q11: =IF(ISNUMBER(N11/H11*100),N11/H11*100,0) -> 8.7436884 | R11: =[1]MercLab!M49 -> 4.1644451 | S11: Explotación de minas y canteras | T11: =[1]MercLab!G80 -> 8492.1965 | U11: =IF(ISNUMBER(T11/T$7*100),T11/T$7*100,0) -> 0.24497791 | V11: =[1]MercLab!H80 -> 5.7447985 | W11: =[1]MercLab!I80 -> 8492.1965 | X11: =IF(ISNUMBER(W11/W$7*100),W11/W$7*100,0) -> 0.25674003 | Y11: =[1]MercLab!J80 -> 5.7447985 | Z11: =[1]MercLab!K80 -> 0 | AA11: =IF(ISNUMBER(Z11/Z$7*100),Z11/Z$7*100,0) -> 0 | AB11: =[1]MercLab!L80 -> 0 | AC11: =IF(ISNUMBER(Z11/T11*100),Z11/T11*100,0) -> 0 | AD11: =[1]MercLab!M80 -> 1
A12: San Pedro Sula | B12: =[1]MercLab!C50 -> 599728.59 | C12: =IF(ISNUMBER(B12/B$7*100),B12/B$7*100,0) -> 7.4096578 | D12: =[1]MercLab!D50 -> 7.8130257 | E12: =[1]MercLab!E50 -> 481202.48 | F12: =IF(ISNUMBER(E12/E$7*100),E12/E$7*100,0) -> 7.5166917 | G12: =[1]MercLab!F50 -> 8.4136978 | H12: =[1]MercLab!G50 -> 271541.51 | I12: =IF(ISNUMBER(H12/H$7*100),H12/H$7*100,0) -> 7.8332706 | J12: =[1]MercLab!H50 -> 9.1731837 | K12: =[1]MercLab!I50 -> 254743.38 | L12: =IF(ISNUMBER(K12/K$7*100),K12/K$7*100,0) -> 7.7015203 | M12: =[1]MercLab!J50 -> 9.1647399 | N12: =[1]MercLab!K50 -> 16798.128 | O12: =IF(ISNUMBER(N12/N$7*100),N12/N$7*100,0) -> 10.577328 | P12: =[1]MercLab!L50 -> 9.3057199 | Q12: =IF(ISNUMBER(N12/H12*100),N12/H12*100,0) -> 6.18621 | R12: =[1]MercLab!M50 -> 3.2549587 | S12: Industria manufacturera | T12: =[1]MercLab!G81 -> 481929.4 | U12: =IF(ISNUMBER(T12/T$7*100),T12/T$7*100,0) -> 13.902417 | V12: =[1]MercLab!H81 -> 7.2238249 | W12: =[1]MercLab!I81 -> 457801.33 | X12: =IF(ISNUMBER(W12/W$7*100),W12/W$7*100,0) -> 13.840462 | Y12: =[1]MercLab!J81 -> 7.173426 | Z12: =[1]MercLab!K81 -> 24128.069 | AA12: =IF(ISNUMBER(Z12/Z$7*100),Z12/Z$7*100,0) -> 15.192794 | AB12: =[1]MercLab!L81 -> 8.1177262 | AC12: =IF(ISNUMBER(Z12/T12*100),Z12/T12*100,0) -> 5.0065568 | AD12: =[1]MercLab!M81 -> 4.1558904
A13: Resto urbano | B13: =[1]MercLab!C51 -> 2069710.4 | C13: =IF(ISNUMBER(B13/B$7*100),B13/B$7*100,0) -> 25.57131 | D13: =[1]MercLab!D51 -> 6.8006117 | E13: =[1]MercLab!E51 -> 1663388.9 | F13: =IF(ISNUMBER(E13/E$7*100),E13/E$7*100,0) -> 25.983202 | G13: =[1]MercLab!F51 -> 7.3312262 | H13: =[1]MercLab!G51 -> 886385.07 | I13: =IF(ISNUMBER(H13/H$7*100),H13/H$7*100,0) -> 25.569918 | J13: =[1]MercLab!H51 -> 7.9331285 | K13: =[1]MercLab!I51 -> 831906.56 | L13: =IF(ISNUMBER(K13/K$7*100),K13/K$7*100,0) -> 25.150585 | M13: =[1]MercLab!J51 -> 7.899231 | N13: =[1]MercLab!K51 -> 54478.518 | O13: =IF(ISNUMBER(N13/N$7*100),N13/N$7*100,0) -> 34.303652 | P13: =[1]MercLab!L51 -> 8.4250657 | Q13: =IF(ISNUMBER(N13/H13*100),N13/H13*100,0) -> 6.1461456 | R13: =[1]MercLab!M51 -> 4.2433168 | S13: Electricidad, gas y agua | T13: =[1]MercLab!G82 -> 11710.455 | U13: =IF(ISNUMBER(T13/T$7*100),T13/T$7*100,0) -> 0.33781636 | V13: =[1]MercLab!H82 -> 9.5952571 | W13: =[1]MercLab!I82 -> 11025.833 | X13: =IF(ISNUMBER(W13/W$7*100),W13/W$7*100,0) -> 0.33333809 | Y13: =[1]MercLab!J82 -> 9.4871756 | Z13: =[1]MercLab!K82 -> 684.62267 | AA13: =IF(ISNUMBER(Z13/Z$7*100),Z13/Z$7*100,0) -> 0.43108841 | AB13: =[1]MercLab!L82 -> 11.335907 | AC13: =IF(ISNUMBER(Z13/T13*100),Z13/T13*100,0) -> 5.8462515 | AD13: =[1]MercLab!M82 -> 5.1962069
A14: Rural | B14: =[1]MercLab!C52 -> 4413266 | C14: =IF(ISNUMBER(B14/B$7*100),B14/B$7*100,0) -> 54.525983 | D14: =[1]MercLab!D52 -> 4.8666604 | E14: =[1]MercLab!E52 -> 3419449.7 | F14: =IF(ISNUMBER(E14/E$7*100),E14/E$7*100,0) -> 53.414 | G14: =[1]MercLab!F52 -> 5.3403194 | H14: =[1]MercLab!G52 -> 1839351.3 | I14: =IF(ISNUMBER(H14/H$7*100),H14/H$7*100,0) -> 53.060529 | J14: =[1]MercLab!H52 -> 5.5679351 | K14: =[1]MercLab!I52 -> 1792844 | L14: =IF(ISNUMBER(K14/K$7*100),K14/K$7*100,0) -> 54.202092 | M14: =[1]MercLab!J52 -> 5.4996358 | N14: =[1]MercLab!K52 -> 46507.297 | O14: =IF(ISNUMBER(N14/N$7*100),N14/N$7*100,0) -> 29.284389 | P14: =[1]MercLab!L52 -> 7.9441196 | Q14: =IF(ISNUMBER(N14/H14*100),N14/H14*100,0) -> 2.5284619 | R14: =[1]MercLab!M52 -> 4.2335895 | S14: Construcción | T14: =[1]MercLab!G83 -> 190496.92 | U14: =IF(ISNUMBER(T14/T$7*100),T14/T$7*100,0) -> 5.4953436 | V14: =[1]MercLab!H83 -> 6.304048 | W14: =[1]MercLab!I83 -> 168816.94 | X14: =IF(ISNUMBER(W14/W$7*100),W14/W$7*100,0) -> 5.1037521 | Y14: =[1]MercLab!J83 -> 6.3157859 | Z14: =[1]MercLab!K83 -> 21679.979 | AA14: =IF(ISNUMBER(Z14/Z$7*100),Z14/Z$7*100,0) -> 13.651297 | AB14: =[1]MercLab!L83 -> 6.2151108 | AC14: =IF(ISNUMBER(Z14/T14*100),Z14/T14*100,0) -> 11.38075 | AD14: =[1]MercLab!M83 -> 2.6467793
S15: Comercio por Mayor/Menor, Hoteles / restaurantes | T15: =[1]MercLab!G84 -> 777109.94 | U15: =IF(ISNUMBER(T15/T$7*100),T15/T$7*100,0) -> 22.417613 | V15: =[1]MercLab!H84 -> 7.5687472 | W15: =[1]MercLab!I84 -> 743457.07 | X15: =IF(ISNUMBER(W15/W$7*100),W15/W$7*100,0) -> 22.476539 | Y15: =[1]MercLab!J84 -> 7.4916831 | Z15: =[1]MercLab!K84 -> 33652.874 | AA15: =IF(ISNUMBER(Z15/Z$7*100),Z15/Z$7*100,0) -> 21.190306 | AB15: =[1]MercLab!L84 -> 9.1635977 | AC15: =IF(ISNUMBER(Z15/T15*100),Z15/T15*100,0) -> 4.3305165 | AD15: =[1]MercLab!M84 -> 3.6987716
A16: Nivel educativo 2/ | S16: Transp. almac. y comunicaciones | T16: =[1]MercLab!G85 -> 122946.78 | U16: =IF(ISNUMBER(T16/T$7*100),T16/T$7*100,0) -> 3.5466966 | V16: =[1]MercLab!H85 -> 7.9213002 | W16: =[1]MercLab!I85 -> 117615.56 | X16: =IF(ISNUMBER(W16/W$7*100),W16/W$7*100,0) -> 3.5558082 | Y16: =[1]MercLab!J85 -> 7.8887434 | Z16: =[1]MercLab!K85 -> 5331.2167 | AA16: =IF(ISNUMBER(Z16/Z$7*100),Z16/Z$7*100,0) -> 3.3569232 | AB16: =[1]MercLab!L85 -> 8.6063484 | AC16: =IF(ISNUMBER(Z16/T16*100),Z16/T16*100,0) -> 4.3361989 | AD16: =[1]MercLab!M85 -> 4.2166207
A17: Sin Nivel | B17: =[1]MercLab!C54 -> 1860247.7 | C17: =IF(ISNUMBER(B17/B$7*100),B17/B$7*100,0) -> 22.983395 | D17: =[1]MercLab!D54 -> 0 | E17: =[1]MercLab!E54 -> 762715.18 | F17: =IF(ISNUMBER(E17/E$7*100),E17/E$7*100,0) -> 11.914101 | G17: =[1]MercLab!F54 -> 0 | H17: =[1]MercLab!G54 -> 424685.19 | I17: =IF(ISNUMBER(H17/H$7*100),H17/H$7*100,0) -> 12.25107 | J17: =[1]MercLab!H54 -> 0 | K17: =[1]MercLab!I54 -> 416518.61 | L17: =IF(ISNUMBER(K17/K$7*100),K17/K$7*100,0) -> 12.592384 | M17: =[1]MercLab!J54 -> 0 | N17: =[1]MercLab!K54 -> 8166.5758 | O17: =IF(ISNUMBER(N17/N$7*100),N17/N$7*100,0) -> 5.1422723 | P17: =[1]MercLab!L54 -> 0 | Q17: =IF(ISNUMBER(N17/H17*100),N17/H17*100,0) -> 1.9229717 | R17: =[1]MercLab!M54 -> 2.5466526 | S17: Estab. finac. seguros, Bienes inmuebles y servicios | T17: =[1]MercLab!G86 -> 107550.17 | U17: =IF(ISNUMBER(T17/T$7*100),T17/T$7*100,0) -> 3.1025444 | V17: =[1]MercLab!H86 -> 10.929697 | W17: =[1]MercLab!I86 -> 101772.11 | X17: =IF(ISNUMBER(W17/W$7*100),W17/W$7*100,0) -> 3.0768217 | Y17: =[1]MercLab!J86 -> 10.882182 | Z17: =[1]MercLab!K86 -> 5778.0617 | AA17: =IF(ISNUMBER(Z17/Z$7*100),Z17/Z$7*100,0) -> 3.6382894 | AB17: =[1]MercLab!L86 -> 11.820439 | AC17: =IF(ISNUMBER(Z17/T17*100),Z17/T17*100,0) -> 5.3724336 | AD17: =[1]MercLab!M86 -> 5.5241554
A18: Primaria | B18: =[1]MercLab!C55 -> 4155173.6 | C18: =IF(ISNUMBER(B18/B$7*100),B18/B$7*100,0) -> 51.337247 | D18: =[1]MercLab!D55 -> 3.9307986 | E18: =[1]MercLab!E55 -> 3560849.2 | F18: =IF(ISNUMBER(E18/E$7*100),E18/E$7*100,0) -> 55.622751 | G18: =[1]MercLab!F55 -> 4.4055514 | H18: =[1]MercLab!G55 -> 1898797.6 | I18: =IF(ISNUMBER(H18/H$7*100),H18/H$7*100,0) -> 54.775401 | J18: =[1]MercLab!H55 -> 4.5979557 | K18: =[1]MercLab!I55 -> 1838776.8 | L18: =IF(ISNUMBER(K18/K$7*100),K18/K$7*100,0) -> 55.590753 | M18: =[1]MercLab!J55 -> 4.5848912 | N18: =[1]MercLab!K55 -> 60020.819 | O18: =IF(ISNUMBER(N18/N$7*100),N18/N$7*100,0) -> 37.793489 | P18: =[1]MercLab!L55 -> 4.9981221 | Q18: =IF(ISNUMBER(N18/H18*100),N18/H18*100,0) -> 3.1609909 | R18: =[1]MercLab!M55 -> 2.9611918 | S18: Servicios Comunales, Sociales y Personales | T18: =[1]MercLab!G87 -> 527088.33 | U18: =IF(ISNUMBER(T18/T$7*100),T18/T$7*100,0) -> 15.205136 | V18: =[1]MercLab!H87 -> 9.4975784 | W18: =[1]MercLab!I87 -> 499747.74 | X18: =IF(ISNUMBER(W18/W$7*100),W18/W$7*100,0) -> 15.108606 | Y18: =[1]MercLab!J87 -> 9.5181742 | Z18: =[1]MercLab!K87 -> 27340.592 | AA18: =IF(ISNUMBER(Z18/Z$7*100),Z18/Z$7*100,0) -> 17.215633 | AB18: =[1]MercLab!L87 -> 9.1313954 | AC18: =IF(ISNUMBER(Z18/T18*100),Z18/T18*100,0) -> 5.1870987 | AD18: =[1]MercLab!M87 -> 4.6017474
A19: Secundaria | B19: =[1]MercLab!C56 -> 1664182.5 | C19: =IF(ISNUMBER(B19/B$7*100),B19/B$7*100,0) -> 20.561006 | D19: =[1]MercLab!D56 -> 9.4642938 | E19: =[1]MercLab!E56 -> 1663947.9 | F19: =IF(ISNUMBER(E19/E$7*100),E19/E$7*100,0) -> 25.991935 | G19: =[1]MercLab!F56 -> 9.4645003 | H19: =[1]MercLab!G56 -> 856732.45 | I19: =IF(ISNUMBER(H19/H$7*100),H19/H$7*100,0) -> 24.714516 | J19: =[1]MercLab!H56 -> 10.019533 | K19: =[1]MercLab!I56 -> 786902.09 | L19: =IF(ISNUMBER(K19/K$7*100),K19/K$7*100,0) -> 23.78999 | M19: =[1]MercLab!J56 -> 9.9822604 | N19: =[1]MercLab!K56 -> 69830.359 | O19: =IF(ISNUMBER(N19/N$7*100),N19/N$7*100,0) -> 43.970291 | P19: =[1]MercLab!L56 -> 10.439385 | Q19: =IF(ISNUMBER(N19/H19*100),N19/H19*100,0) -> 8.1507778 | R19: =[1]MercLab!M56 -> 5.1675977 | S19: No sabe, No responde | T19: =[1]MercLab!G88 -> 8289.5614 | U19: =IF(ISNUMBER(T19/T$7*100),T19/T$7*100,0) -> 0.23913242 | V19: =[1]MercLab!H88 -> 7.5925443 | W19: =[1]MercLab!I88 -> 7411.8189 | X19: =IF(ISNUMBER(W19/W$7*100),W19/W$7*100,0) -> 0.22407755 | Y19: =[1]MercLab!J88 -> 7.4063476 | Z19: =[1]MercLab!K88 -> 877.74258 | AA19: =IF(ISNUMBER(Z19/Z$7*100),Z19/Z$7*100,0) -> 0.5526908 | AB19: =[1]MercLab!L88 -> 8.8966107 | AC19: =IF(ISNUMBER(Z19/T19*100),Z19/T19*100,0) -> 10.588529 | AD19: =[1]MercLab!M88 -> 1.3793599
A20: Superior | B20: =[1]MercLab!C57 -> 394483.34 | C20: =IF(ISNUMBER(B20/B$7*100),B20/B$7*100,0) -> 4.8738489 | D20: =[1]MercLab!D57 -> 14.811441 | E20: =[1]MercLab!E57 -> 394483.34 | F20: =IF(ISNUMBER(E20/E$7*100),E20/E$7*100,0) -> 6.162083 | G20: =[1]MercLab!F57 -> 14.811441 | H20: =[1]MercLab!G57 -> 270817.22 | I20: =IF(ISNUMBER(H20/H$7*100),H20/H$7*100,0) -> 7.8123768 | J20: =[1]MercLab!H57 -> 15.299409 | K20: =[1]MercLab!I57 -> 250641.9 | L20: =IF(ISNUMBER(K20/K$7*100),K20/K$7*100,0) -> 7.5775222 | M20: =[1]MercLab!J57 -> 15.314775 | N20: =[1]MercLab!K57 -> 20175.329 | O20: =IF(ISNUMBER(N20/N$7*100),N20/N$7*100,0) -> 12.70386 | P20: =[1]MercLab!L57 -> 15.108702 | Q20: =IF(ISNUMBER(N20/H20*100),N20/H20*100,0) -> 7.4497952 | R20: =[1]MercLab!M57 -> 4.9239603 | S20: Busca trabajo por primera vez | T20: =[1]MercLab!G89 -> 26334.321 | U20: =IF(ISNUMBER(T20/T$7*100),T20/T$7*100,0) -> 0.75967708 | V20: =[1]MercLab!H89 -> 11.458105 | W20: =[1]MercLab!I89 -> 0 | X20: =IF(ISNUMBER(W20/W$7*100),W20/W$7*100,0) -> 0 | Y20: =[1]MercLab!J89 -> 0 | Z20: =[1]MercLab!K89 -> 26334.321 | AA20: =IF(ISNUMBER(Z20/Z$7*100),Z20/Z$7*100,0) -> 16.582011 | AB20: =[1]MercLab!L89 -> 11.458105 | AC20: =IF(ISNUMBER(Z20/T20*100),Z20/T20*100,0) -> 100 | AD20: =[1]MercLab!M89 -> 6.13365
A21: No sabe, no responde | B21: =[1]MercLab!C58 -> 19789.854 | C21: =IF(ISNUMBER(B21/B$7*100),B21/B$7*100,0) -> 0.24450401 | D21: =[1]MercLab!D58 -> 15 | E21: =[1]MercLab!E58 -> 19789.854 | F21: =IF(ISNUMBER(E21/E$7*100),E21/E$7*100,0) -> 0.30913022 | G21: =[1]MercLab!F58 -> 15 | H21: =[1]MercLab!G58 -> 15482.722 | I21: =IF(ISNUMBER(H21/H$7*100),H21/H$7*100,0) -> 0.4466365 | J21: =[1]MercLab!H58 -> 15 | K21: =[1]MercLab!I58 -> 14863.214 | L21: =IF(ISNUMBER(K21/K$7*100),K21/K$7*100,0) -> 0.44935157 | M21: =[1]MercLab!J58 -> 15 | N21: =[1]MercLab!K58 -> 619.50849 | O21: =IF(ISNUMBER(N21/N$7*100),N21/N$7*100,0) -> 0.39008777 | P21: =[1]MercLab!L58 -> 0 | Q21: =IF(ISNUMBER(N21/H21*100),N21/H21*100,0) -> 4.0012892 | R21: =[1]MercLab!M58 -> 2.7578747
S22: Ocupación (1 Dig.)
A23: Rango de Edad | S23: Profesionales, Técnicos y PEOA | T23: =[1]MercLab!G91 -> 268424.33 | U23: =IF(ISNUMBER(T23/T$7*100),T23/T$7*100,0) -> 7.7433479 | V23: =[1]MercLab!H91 -> 12.722404 | W23: =[1]MercLab!I91 -> 255908.17 | X23: =IF(ISNUMBER(W23/W$7*100),W23/W$7*100,0) -> 7.7367347 | Y23: =[1]MercLab!J91 -> 12.752411 | Z23: =[1]MercLab!K91 -> 12516.155 | AA23: =IF(ISNUMBER(Z23/Z$7*100),Z23/Z$7*100,0) -> 7.881085 | AB23: =[1]MercLab!L91 -> 12.117358 | AC23: =IF(ISNUMBER(Z23/T23*100),Z23/T23*100,0) -> 4.6628245 | AD23: =[1]MercLab!M91 -> 5.3468581
A24: De 10 a 11 años | B24: =[1]MercLab!C60 -> 451276.51 | C24: =IF(ISNUMBER(B24/B$7*100),B24/B$7*100,0) -> 5.5755297 | D24: =[1]MercLab!D60 -> 3.174203 | E24: =[1]MercLab!E60 -> 451276.51 | F24: =IF(ISNUMBER(E24/E$7*100),E24/E$7*100,0) -> 7.0492289 | G24: =[1]MercLab!F60 -> 3.174203 | H24: =[1]MercLab!G60 -> 30106.846 | I24: =IF(ISNUMBER(H24/H$7*100),H24/H$7*100,0) -> 0.86850467 | J24: =[1]MercLab!H60 -> 3.1357838 | K24: =[1]MercLab!I60 -> 30106.846 | L24: =IF(ISNUMBER(K24/K$7*100),K24/K$7*100,0) -> 0.91020415 | M24: =[1]MercLab!J60 -> 3.1357838 | N24: =[1]MercLab!K60 -> 0 | O24: =IF(ISNUMBER(N24/N$7*100),N24/N$7*100,0) -> 0 | P24: =[1]MercLab!L60 -> 0 | Q24: =IF(ISNUMBER(N24/H24*100),N24/H24*100,0) -> 0 | R24: =[1]MercLab!M60 -> 0 | S24: Directores Gerentes y Administ. Grales. | T24: =[1]MercLab!G92 -> 106733.19 | U24: =IF(ISNUMBER(T24/T$7*100),T24/T$7*100,0) -> 3.0789765 | V24: =[1]MercLab!H92 -> 10.814989 | W24: =[1]MercLab!I92 -> 100970.56 | X24: =IF(ISNUMBER(W24/W$7*100),W24/W$7*100,0) -> 3.0525889 | Y24: =[1]MercLab!J92 -> 10.702232 | Z24: =[1]MercLab!K92 -> 5762.6256 | AA24: =IF(ISNUMBER(Z24/Z$7*100),Z24/Z$7*100,0) -> 3.6285697 | AB24: =[1]MercLab!L92 -> 12.686997 | AC24: =IF(ISNUMBER(Z24/T24*100),Z24/T24*100,0) -> 5.3990944 | AD24: =[1]MercLab!M92 -> 6.35363
A25: De 12 a 14 años | B25: =[1]MercLab!C61 -> 650981.02 | C25: =IF(ISNUMBER(B25/B$7*100),B25/B$7*100,0) -> 8.0428826 | D25: =[1]MercLab!D61 -> 5.1612034 | E25: =[1]MercLab!E61 -> 650981.02 | F25: =IF(ISNUMBER(E25/E$7*100),E25/E$7*100,0) -> 10.168742 | G25: =[1]MercLab!F61 -> 5.1612034 | H25: =[1]MercLab!G61 -> 138397.63 | I25: =IF(ISNUMBER(H25/H$7*100),H25/H$7*100,0) -> 3.9924139 | J25: =[1]MercLab!H61 -> 5.0222767 | K25: =[1]MercLab!I61 -> 137805.5 | L25: =IF(ISNUMBER(K25/K$7*100),K25/K$7*100,0) -> 4.1661998 | M25: =[1]MercLab!J61 -> 5.0223763 | N25: =[1]MercLab!K61 -> 592.1384 | O25: =IF(ISNUMBER(N25/N$7*100),N25/N$7*100,0) -> 0.37285356 | P25: =[1]MercLab!L61 -> 5 | Q25: =IF(ISNUMBER(N25/H25*100),N25/H25*100,0) -> 0.42785298 | R25: =[1]MercLab!M61 -> 2.6158785 | S25: Empleados de Oficina | T25: =[1]MercLab!G93 -> 85899.91 | U25: =IF(ISNUMBER(T25/T$7*100),T25/T$7*100,0) -> 2.4779903 | V25: =[1]MercLab!H93 -> 11.247595 | W25: =[1]MercLab!I93 -> 80134.604 | X25: =IF(ISNUMBER(W25/W$7*100),W25/W$7*100,0) -> 2.4226666 | Y25: =[1]MercLab!J93 -> 11.253198 | Z25: =[1]MercLab!K93 -> 5765.3063 | AA25: =IF(ISNUMBER(Z25/Z$7*100),Z25/Z$7*100,0) -> 3.6302577 | AB25: =[1]MercLab!L93 -> 11.170667 | AC25: =IF(ISNUMBER(Z25/T25*100),Z25/T25*100,0) -> 6.7116558 | AD25: =[1]MercLab!M93 -> 5.3602358
A26: De 15 a 18 años | B26: =[1]MercLab!C62 -> 850235.22 | C26: =IF(ISNUMBER(B26/B$7*100),B26/B$7*100,0) -> 10.504672 | D26: =[1]MercLab!D62 -> 7.2563708 | E26: =[1]MercLab!E62 -> 850235.22 | F26: =IF(ISNUMBER(E26/E$7*100),E26/E$7*100,0) -> 13.28122 | G26: =[1]MercLab!F62 -> 7.2563708 | H26: =[1]MercLab!G62 -> 330477.26 | I26: =IF(ISNUMBER(H26/H$7*100),H26/H$7*100,0) -> 9.5334145 | J26: =[1]MercLab!H62 -> 6.3581233 | K26: =[1]MercLab!I62 -> 315663.75 | L26: =IF(ISNUMBER(K26/K$7*100),K26/K$7*100,0) -> 9.5432932 | M26: =[1]MercLab!J62 -> 6.3225362 | N26: =[1]MercLab!K62 -> 14813.506 | O26: =IF(ISNUMBER(N26/N$7*100),N26/N$7*100,0) -> 9.327665 | P26: =[1]MercLab!L62 -> 7.1603561 | Q26: =IF(ISNUMBER(N26/H26*100),N26/H26*100,0) -> 4.4824586 | R26: =[1]MercLab!M62 -> 2.8570039 | S26: Comerciantes y Vendedores | T26: =[1]MercLab!G94 -> 550316.09 | U26: =IF(ISNUMBER(T26/T$7*100),T26/T$7*100,0) -> 15.875196 | V26: =[1]MercLab!H94 -> 7.5038212 | W26: =[1]MercLab!I94 -> 528573.81 | X26: =IF(ISNUMBER(W26/W$7*100),W26/W$7*100,0) -> 15.980089 | Y26: =[1]MercLab!J94 -> 7.408169 | Z26: =[1]MercLab!K94 -> 21742.273 | AA26: =IF(ISNUMBER(Z26/Z$7*100),Z26/Z$7*100,0) -> 13.690522 | AB26: =[1]MercLab!L94 -> 9.6517434 | AC26: =IF(ISNUMBER(Z26/T26*100),Z26/T26*100,0) -> 3.95087 | AD26: =[1]MercLab!M94 -> 3.8561583
A27: De 19 a 24 años | B27: =[1]MercLab!C63 -> 974293.71 | C27: =IF(ISNUMBER(B27/B$7*100),B27/B$7*100,0) -> 12.037417 | D27: =[1]MercLab!D63 -> 8.4040781 | E27: =[1]MercLab!E63 -> 974293.71 | F27: =IF(ISNUMBER(E27/E$7*100),E27/E$7*100,0) -> 15.219093 | G27: =[1]MercLab!F63 -> 8.4040781 | H27: =[1]MercLab!G63 -> 601516.54 | I27: =IF(ISNUMBER(H27/H$7*100),H27/H$7*100,0) -> 17.352197 | J27: =[1]MercLab!H63 -> 8.0642598 | K27: =[1]MercLab!I63 -> 547371.39 | L27: =IF(ISNUMBER(K27/K$7*100),K27/K$7*100,0) -> 16.548386 | M27: =[1]MercLab!J63 -> 7.930615 | N27: =[1]MercLab!K63 -> 54145.151 | O27: =IF(ISNUMBER(N27/N$7*100),N27/N$7*100,0) -> 34.09374 | P27: =[1]MercLab!L63 -> 9.3598743 | Q27: =IF(ISNUMBER(N27/H27*100),N27/H27*100,0) -> 9.0014401 | R27: =[1]MercLab!M63 -> 3.9241209 | S27: Agricultores, Ganaderos y Trab. Agrop. | T27: =[1]MercLab!G95 -> 1155209.6 | U27: =IF(ISNUMBER(T27/T$7*100),T27/T$7*100,0) -> 33.324811 | V27: =[1]MercLab!H95 -> 4.8473971 | W27: =[1]MercLab!I95 -> 1148206.8 | X27: =IF(ISNUMBER(W27/W$7*100),W27/W$7*100,0) -> 34.713122 | Y27: =[1]MercLab!J95 -> 4.8413764 | Z27: =[1]MercLab!K95 -> 7002.8132 | AA27: =IF(ISNUMBER(Z27/Z$7*100),Z27/Z$7*100,0) -> 4.4094824 | AB27: =[1]MercLab!L95 -> 6.0742428 | AC27: =IF(ISNUMBER(Z27/T27*100),Z27/T27*100,0) -> 0.60619415 | AD27: =[1]MercLab!M95 -> 1.7596539
A28: De 25 a 29 años | B28: =[1]MercLab!C64 -> 572606.99 | C28: =IF(ISNUMBER(B28/B$7*100),B28/B$7*100,0) -> 7.0745699 | D28: =[1]MercLab!D64 -> 7.9982236 | E28: =[1]MercLab!E64 -> 572606.99 | F28: =IF(ISNUMBER(E28/E$7*100),E28/E$7*100,0) -> 8.9444888 | G28: =[1]MercLab!F64 -> 7.9982236 | H28: =[1]MercLab!G64 -> 406981.08 | I28: =IF(ISNUMBER(H28/H$7*100),H28/H$7*100,0) -> 11.740352 | J28: =[1]MercLab!H64 -> 8.2673122 | K28: =[1]MercLab!I64 -> 375584.15 | L28: =IF(ISNUMBER(K28/K$7*100),K28/K$7*100,0) -> 11.354834 | M28: =[1]MercLab!J64 -> 8.11791 | N28: =[1]MercLab!K64 -> 31396.933 | O28: =IF(ISNUMBER(N28/N$7*100),N28/N$7*100,0) -> 19.769801 | P28: =[1]MercLab!L64 -> 9.9624561 | Q28: =IF(ISNUMBER(N28/H28*100),N28/H28*100,0) -> 7.7145928 | R28: =[1]MercLab!M64 -> 4.084059 | S28: Conductores de Transporte | T28: =[1]MercLab!G96 -> 87016.158 | U28: =IF(ISNUMBER(T28/T$7*100),T28/T$7*100,0) -> 2.5101912 | V28: =[1]MercLab!H96 -> 6.8753976 | W28: =[1]MercLab!I96 -> 84380.073 | X28: =IF(ISNUMBER(W28/W$7*100),W28/W$7*100,0) -> 2.5510175 | Y28: =[1]MercLab!J96 -> 6.9056033 | Z28: =[1]MercLab!K96 -> 2636.0852 | AA28: =IF(ISNUMBER(Z28/Z$7*100),Z28/Z$7*100,0) -> 1.6598717 | AB28: =[1]MercLab!L96 -> 5.9447578 | AC28: =IF(ISNUMBER(Z28/T28*100),Z28/T28*100,0) -> 3.0294203 | AD28: =[1]MercLab!M96 -> 4.1151794
A29: De 30 a 35 años | B29: =[1]MercLab!C65 -> 582075.88 | C29: =IF(ISNUMBER(B29/B$7*100),B29/B$7*100,0) -> 7.1915583 | D29: =[1]MercLab!D65 -> 7.5053904 | E29: =[1]MercLab!E65 -> 582075.88 | F29: =IF(ISNUMBER(E29/E$7*100),E29/E$7*100,0) -> 9.092399 | G29: =[1]MercLab!F65 -> 7.5053904 | H29: =[1]MercLab!G65 -> 439316.23 | I29: =IF(ISNUMBER(H29/H$7*100),H29/H$7*100,0) -> 12.673138 | J29: =[1]MercLab!H65 -> 7.8619472 | K29: =[1]MercLab!I65 -> 422749 | L29: =IF(ISNUMBER(K29/K$7*100),K29/K$7*100,0) -> 12.780744 | M29: =[1]MercLab!J65 -> 7.7934914 | N29: =[1]MercLab!K65 -> 16567.233 | O29: =IF(ISNUMBER(N29/N$7*100),N29/N$7*100,0) -> 10.431939 | P29: =[1]MercLab!L65 -> 9.5689136 | Q29: =IF(ISNUMBER(N29/H29*100),N29/H29*100,0) -> 3.7711407 | R29: =[1]MercLab!M65 -> 5.16383 | S29: Trab. Ind. Textil, Albañilería, Mecánica, etc. | T29: =[1]MercLab!G97 -> 455892.99 | U29: =IF(ISNUMBER(T29/T$7*100),T29/T$7*100,0) -> 13.151334 | V29: =[1]MercLab!H97 -> 6.8620947 | W29: =[1]MercLab!I97 -> 421498.39 | X29: =IF(ISNUMBER(W29/W$7*100),W29/W$7*100,0) -> 12.742935 | Y29: =[1]MercLab!J97 -> 6.9046604 | Z29: =[1]MercLab!K97 -> 34394.603 | AA29: =IF(ISNUMBER(Z29/Z$7*100),Z29/Z$7*100,0) -> 21.657353 | AB29: =[1]MercLab!L97 -> 6.3387451 | AC29: =IF(ISNUMBER(Z29/T29*100),Z29/T29*100,0) -> 7.5444465 | AD29: =[1]MercLab!M97 -> 3.0684004
A30: De 36 a 44 años | B30: =[1]MercLab!C66 -> 686282.53 | C30: =IF(ISNUMBER(B30/B$7*100),B30/B$7*100,0) -> 8.4790334 | D30: =[1]MercLab!D66 -> 6.8688119 | E30: =[1]MercLab!E66 -> 686282.53 | F30: =IF(ISNUMBER(E30/E$7*100),E30/E$7*100,0) -> 10.720174 | G30: =[1]MercLab!F66 -> 6.8688119 | H30: =[1]MercLab!G66 -> 517938.2 | I30: =IF(ISNUMBER(H30/H$7*100),H30/H$7*100,0) -> 14.941178 | J30: =[1]MercLab!H66 -> 7.1364684 | K30: =[1]MercLab!I66 -> 496221.37 | L30: =IF(ISNUMBER(K30/K$7*100),K30/K$7*100,0) -> 15.001995 | M30: =[1]MercLab!J66 -> 7.0791744 | N30: =[1]MercLab!K66 -> 21716.821 | O30: =IF(ISNUMBER(N30/N$7*100),N30/N$7*100,0) -> 13.674496 | P30: =[1]MercLab!L66 -> 8.4214107 | Q30: =IF(ISNUMBER(N30/H30*100),N30/H30*100,0) -> 4.1929368 | R30: =[1]MercLab!M66 -> 4.8252442 | S30: Trab. Area Grafica, Quim., Alimentos, etc. | T30: =[1]MercLab!G98 -> 185428.06 | U30: =IF(ISNUMBER(T30/T$7*100),T30/T$7*100,0) -> 5.34912 | V30: =[1]MercLab!H98 -> 6.0105476 | W30: =[1]MercLab!I98 -> 181334.27 | X30: =IF(ISNUMBER(W30/W$7*100),W30/W$7*100,0) -> 5.4821818 | Y30: =[1]MercLab!J98 -> 5.9882405 | Z30: =[1]MercLab!K98 -> 4093.7894 | AA30: =IF(ISNUMBER(Z30/Z$7*100),Z30/Z$7*100,0) -> 2.5777487 | AB30: =[1]MercLab!L98 -> 6.8875671 | AC30: =IF(ISNUMBER(Z30/T30*100),Z30/T30*100,0) -> 2.2077508 | AD30: =[1]MercLab!M98 -> 2.6668252
A31: De 45 a 59 años | B31: =[1]MercLab!C67 -> 932042.67 | C31: =IF(ISNUMBER(B31/B$7*100),B31/B$7*100,0) -> 11.515404 | D31: =[1]MercLab!D67 -> 6.2655999 | E31: =[1]MercLab!E67 -> 932042.67 | F31: =IF(ISNUMBER(E31/E$7*100),E31/E$7*100,0) -> 14.559105 | G31: =[1]MercLab!F67 -> 6.2655999 | H31: =[1]MercLab!G67 -> 667891.3 | I31: =IF(ISNUMBER(H31/H$7*100),H31/H$7*100,0) -> 19.266937 | J31: =[1]MercLab!H67 -> 6.59674 | K31: =[1]MercLab!I67 -> 651800.74 | L31: =IF(ISNUMBER(K31/K$7*100),K31/K$7*100,0) -> 19.705543 | M31: =[1]MercLab!J67 -> 6.5753905 | N31: =[1]MercLab!K67 -> 16090.561 | O31: =IF(ISNUMBER(N31/N$7*100),N31/N$7*100,0) -> 10.131792 | P31: =[1]MercLab!L67 -> 7.3597395 | Q31: =IF(ISNUMBER(N31/H31*100),N31/H31*100,0) -> 2.4091587 | R31: =[1]MercLab!M67 -> 4.6116876 | S31: Operador de Carga y Almacenaje | T31: =[1]MercLab!G99 -> 82839.269 | U31: =IF(ISNUMBER(T31/T$7*100),T31/T$7*100,0) -> 2.3896987 | V31: =[1]MercLab!H99 -> 7.0527489 | W31: =[1]MercLab!I99 -> 70834.471 | X31: =IF(ISNUMBER(W31/W$7*100),W31/W$7*100,0) -> 2.1415006 | Y31: =[1]MercLab!J99 -> 7.0499837 | Z31: =[1]MercLab!K99 -> 12004.798 | AA31: =IF(ISNUMBER(Z31/Z$7*100),Z31/Z$7*100,0) -> 7.559097 | AB31: =[1]MercLab!L99 -> 7.0692114 | AC31: =IF(ISNUMBER(Z31/T31*100),Z31/T31*100,0) -> 14.491675 | AD31: =[1]MercLab!M99 -> 2.94969
A32: De 60 años y más | B32: =[1]MercLab!C68 -> 701990.95 | C32: =IF(ISNUMBER(B32/B$7*100),B32/B$7*100,0) -> 8.6731112 | D32: =[1]MercLab!D68 -> 4.8840717 | E32: =[1]MercLab!E68 -> 701990.95 | F32: =IF(ISNUMBER(E32/E$7*100),E32/E$7*100,0) -> 10.965549 | G32: =[1]MercLab!F68 -> 4.8840717 | H32: =[1]MercLab!G68 -> 333890.07 | I32: =IF(ISNUMBER(H32/H$7*100),H32/H$7*100,0) -> 9.6318653 | J32: =[1]MercLab!H68 -> 4.8553682 | K32: =[1]MercLab!I68 -> 330399.82 | L32: =IF(ISNUMBER(K32/K$7*100),K32/K$7*100,0) -> 9.9888009 | M32: =[1]MercLab!J68 -> 4.8661397 | N32: =[1]MercLab!K68 -> 3490.2459 | O32: =IF(ISNUMBER(N32/N$7*100),N32/N$7*100,0) -> 2.1977136 | P32: =[1]MercLab!L68 -> 3.9422476 | Q32: =IF(ISNUMBER(N32/H32*100),N32/H32*100,0) -> 1.0453279 | R32: =[1]MercLab!M68 -> 2.8748457 | S32: Ocupación de los Servicios | T32: =[1]MercLab!G100 -> 422102.6 | U32: =IF(ISNUMBER(T32/T$7*100),T32/T$7*100,0) -> 12.176569 | V32: =[1]MercLab!H100 -> 6.3273355 | W32: =[1]MercLab!I100 -> 397736.74 | X32: =IF(ISNUMBER(W32/W$7*100),W32/W$7*100,0) -> 12.024562 | Y32: =[1]MercLab!J100 -> 6.2474591 | Z32: =[1]MercLab!K100 -> 24365.86 | AA32: =IF(ISNUMBER(Z32/Z$7*100),Z32/Z$7*100,0) -> 15.342524 | AB32: =[1]MercLab!L100 -> 7.5396353 | AC32: =IF(ISNUMBER(Z32/T32*100),Z32/T32*100,0) -> 5.7724969 | AD32: =[1]MercLab!M100 -> 3.7575138
S33: No sabe, No responde | T33: =[1]MercLab!G101 -> 40318.61 | U33: =IF(ISNUMBER(T33/T$7*100),T33/T$7*100,0) -> 1.1630877 | V33: =[1]MercLab!H101 -> 7.8021284 | W33: =[1]MercLab!I101 -> 38124.65 | X33: =IF(ISNUMBER(W33/W$7*100),W33/W$7*100,0) -> 1.1526021 | Y33: =[1]MercLab!J101 -> 7.7159316 | Z33: =[1]MercLab!K101 -> 2193.9603 | AA33: =IF(ISNUMBER(Z33/Z$7*100),Z33/Z$7*100,0) -> 1.3814776 | AB33: =[1]MercLab!L101 -> 9.2486836 | AC33: =IF(ISNUMBER(Z33/T33*100),Z33/T33*100,0) -> 5.4415574 | AD33: =[1]MercLab!M101 -> 2.7878397
A34: Sexo | S34: Busca trabajo por primera vez | T34: =[1]MercLab!G102 -> 26334.321 | U34: =IF(ISNUMBER(T34/T$7*100),T34/T$7*100,0) -> 0.75967708 | V34: =[1]MercLab!H102 -> 11.458105 | W34: =[1]MercLab!I102 -> 0 | X34: =IF(ISNUMBER(W34/W$7*100),W34/W$7*100,0) -> 0 | Y34: =[1]MercLab!J102 -> 0 | Z34: =[1]MercLab!K102 -> 26334.321 | AA34: =IF(ISNUMBER(Z34/Z$7*100),Z34/Z$7*100,0) -> 16.582011 | AB34: =[1]MercLab!L102 -> 11.458105 | AC34: =IF(ISNUMBER(Z34/T34*100),Z34/T34*100,0) -> 100 | AD34: =[1]MercLab!M102 -> 6.13365
A35: Hombre | B35: =[1]MercLab!C70 -> 3939101.1 | C35: =IF(ISNUMBER(B35/B$7*100),B35/B$7*100,0) -> 48.667666 | D35: =[1]MercLab!D70 -> 5.8880173 | E35: =[1]MercLab!E70 -> 3073237.8 | F35: =IF(ISNUMBER(E35/E$7*100),E35/E$7*100,0) -> 48.005947 | G35: =[1]MercLab!F70 -> 6.4239498 | H35: =[1]MercLab!G70 -> 2191748.7 | I35: =IF(ISNUMBER(H35/H$7*100),H35/H$7*100,0) -> 63.226283 | J35: =[1]MercLab!H70 -> 6.6415627 | K35: =[1]MercLab!I70 -> 2102297.2 | L35: =IF(ISNUMBER(K35/K$7*100),K35/K$7*100,0) -> 63.557624 | M35: =[1]MercLab!J70 -> 6.5721496 | N35: =[1]MercLab!K70 -> 89451.528 | O35: =IF(ISNUMBER(N35/N$7*100),N35/N$7*100,0) -> 56.325212 | P35: =[1]MercLab!L70 -> 8.1395651 | Q35: =IF(ISNUMBER(N35/H35*100),N35/H35*100,0) -> 4.0812858 | R35: =[1]MercLab!M70 -> 3.5453236
A36: Mujer | B36: =[1]MercLab!C71 -> 4154775.9 | C36: =IF(ISNUMBER(B36/B$7*100),B36/B$7*100,0) -> 51.332334 | D36: =[1]MercLab!D71 -> 6.3043092 | E36: =[1]MercLab!E71 -> 3328547.7 | F36: =IF(ISNUMBER(E36/E$7*100),E36/E$7*100,0) -> 51.994053 | G36: =[1]MercLab!F71 -> 6.8282182 | H36: =[1]MercLab!G71 -> 1274766.5 | I36: =IF(ISNUMBER(H36/H$7*100),H36/H$7*100,0) -> 36.773717 | J36: =[1]MercLab!H71 -> 7.8351746 | K36: =[1]MercLab!I71 -> 1205405.4 | L36: =IF(ISNUMBER(K36/K$7*100),K36/K$7*100,0) -> 36.442376 | M36: =[1]MercLab!J71 -> 7.711099 | N36: =[1]MercLab!K71 -> 69361.062 | O36: =IF(ISNUMBER(N36/N$7*100),N36/N$7*100,0) -> 43.674788 | P36: =[1]MercLab!L71 -> 9.8362058 | Q36: =IF(ISNUMBER(N36/H36*100),N36/H36*100,0) -> 5.4410799 | R36: =[1]MercLab!M71 -> 4.8246127 | S36: ='C01'!A46 -> Fuente: Instituto Nacional de Estadística (INE). XL Encuesta Permanente de Hogares de Propósitos Múltiples, Septiembre 2010.
S37: =A46 -> El salario mínimo en el área urbana es Lps. 5,500 y en la área rural es Lps. 4,055 (Promedio de salarios mínimos por rama)
A38: Rama de Actividad | S38: AEP= Años de Estudio Promedio
A39: Primaria | B39: =[1]MercLab!C73 -> 1302767.3 | C39: =IF(ISNUMBER(B39/B$7*100),B39/B$7*100,0) -> 16.095714 | D39: =[1]MercLab!D73 -> 4.8644845 | E39: =[1]MercLab!E73 -> 1290110.4 | F39: =IF(ISNUMBER(E39/E$7*100),E39/E$7*100,0) -> 20.152353 | G39: =[1]MercLab!F73 -> 4.9038116 | H39: =[1]MercLab!G73 -> 1213059.3 | I39: =IF(ISNUMBER(H39/H$7*100),H39/H$7*100,0) -> 34.993624 | J39: =[1]MercLab!H73 -> 4.9009419 | K39: =[1]MercLab!I73 -> 1200054.2 | L39: =IF(ISNUMBER(K39/K$7*100),K39/K$7*100,0) -> 36.280595 | M39: =[1]MercLab!J73 -> 4.8885207 | N39: =[1]MercLab!K73 -> 13005.112 | O39: =IF(ISNUMBER(N39/N$7*100),N39/N$7*100,0) -> 8.1889677 | P39: =[1]MercLab!L73 -> 6.1542534 | Q39: =IF(ISNUMBER(N39/H39*100),N39/H39*100,0) -> 1.072092 | R39: =[1]MercLab!M73 -> 1.6431804 | S39: TDA= Tasa de Desempleo Abierto
A40: Secundaria | B40: =[1]MercLab!C74 -> 509518.35 | C40: =IF(ISNUMBER(B40/B$7*100),B40/B$7*100,0) -> 6.2951086 | D40: =[1]MercLab!D74 -> 7.1913889 | E40: =[1]MercLab!E74 -> 508293.13 | F40: =IF(ISNUMBER(E40/E$7*100),E40/E$7*100,0) -> 7.9398651 | G40: =[1]MercLab!F74 -> 7.2048023 | H40: =[1]MercLab!G74 -> 481929.4 | I40: =IF(ISNUMBER(H40/H$7*100),H40/H$7*100,0) -> 13.902417 | J40: =[1]MercLab!H74 -> 7.2238249 | K40: =[1]MercLab!I74 -> 457801.33 | L40: =IF(ISNUMBER(K40/K$7*100),K40/K$7*100,0) -> 13.840462 | M40: =[1]MercLab!J74 -> 7.173426 | N40: =[1]MercLab!K74 -> 24128.069 | O40: =IF(ISNUMBER(N40/N$7*100),N40/N$7*100,0) -> 15.192794 | P40: =[1]MercLab!L74 -> 8.1177262 | Q40: =IF(ISNUMBER(N40/H40*100),N40/H40*100,0) -> 5.0065568 | R40: =[1]MercLab!M74 -> 4.1558904 | S40: MBT= Meses promedio en Busca de Trabajo
A41: Terciaria | B41: =[1]MercLab!C75 -> 1833490.1 | C41: =IF(ISNUMBER(B41/B$7*100),B41/B$7*100,0) -> 22.652804 | D41: =[1]MercLab!D75 -> 8.232572 | E41: =[1]MercLab!E75 -> 1828913.9 | F41: =IF(ISNUMBER(E41/E$7*100),E41/E$7*100,0) -> 28.56881 | G41: =[1]MercLab!F75 -> 8.2480702 | H41: =[1]MercLab!G75 -> 1736902.6 | I41: =IF(ISNUMBER(H41/H$7*100),H41/H$7*100,0) -> 50.105149 | J41: =[1]MercLab!H75 -> 8.2673787 | K41: =[1]MercLab!I75 -> 1642435.2 | L41: =IF(ISNUMBER(K41/K$7*100),K41/K$7*100,0) -> 49.654865 | M41: =[1]MercLab!J75 -> 8.2457002 | N41: =[1]MercLab!K75 -> 94467.346 | O41: =IF(ISNUMBER(N41/N$7*100),N41/N$7*100,0) -> 59.483537 | P41: =[1]MercLab!L75 -> 8.6315585 | Q41: =IF(ISNUMBER(N41/H41*100),N41/H41*100,0) -> 5.4388396 | R41: =[1]MercLab!M75 -> 3.9013506 | S41: 1/ Porcentaje por columna
A42: No sabe, no responde | B42: =[1]MercLab!C76 -> 9788.5131 | C42: =IF(ISNUMBER(B42/B$7*100),B42/B$7*100,0) -> 0.12093726 | D42: =[1]MercLab!D76 -> 7.0479559 | E42: =[1]MercLab!E76 -> 9788.5131 | F42: =IF(ISNUMBER(E42/E$7*100),E42/E$7*100,0) -> 0.15290286 | G42: =[1]MercLab!F76 -> 7.0479559 | H42: =[1]MercLab!G76 -> 8289.5614 | I42: =IF(ISNUMBER(H42/H$7*100),H42/H$7*100,0) -> 0.23913242 | J42: =[1]MercLab!H76 -> 7.5925443 | K42: =[1]MercLab!I76 -> 7411.8189 | L42: =IF(ISNUMBER(K42/K$7*100),K42/K$7*100,0) -> 0.22407755 | M42: =[1]MercLab!J76 -> 7.4063476 | N42: =[1]MercLab!K76 -> 877.74258 | O42: =IF(ISNUMBER(N42/N$7*100),N42/N$7*100,0) -> 0.5526908 | P42: =[1]MercLab!L76 -> 8.8966107 | Q42: =IF(ISNUMBER(N42/H42*100),N42/H42*100,0) -> 10.588529 | R42: =[1]MercLab!M76 -> 1.3793599
A43: Busca trabajo por primera vez | B43: =[1]MercLab!C77 -> 91073.939 | C43: =IF(ISNUMBER(B43/B$7*100),B43/B$7*100,0) -> 1.1252202 | D43: =[1]MercLab!D77 -> 8.7428104 | E43: =[1]MercLab!E77 -> 90018.155 | F43: =IF(ISNUMBER(E43/E$7*100),E43/E$7*100,0) -> 1.4061414 | G43: =[1]MercLab!F77 -> 8.8068657 | H43: =[1]MercLab!G77 -> 26334.321 | I43: =IF(ISNUMBER(H43/H$7*100),H43/H$7*100,0) -> 0.75967708 | J43: =[1]MercLab!H77 -> 11.458105 | K43: =[1]MercLab!I77 -> 0 | L43: =IF(ISNUMBER(K43/K$7*100),K43/K$7*100,0) -> 0 | M43: =[1]MercLab!J77 -> 0 | N43: =[1]MercLab!K77 -> 26334.321 | O43: =IF(ISNUMBER(N43/N$7*100),N43/N$7*100,0) -> 16.582011 | P43: =[1]MercLab!L77 -> 11.458105 | Q43: =IF(ISNUMBER(N43/H43*100),N43/H43*100,0) -> 100 | R43: =[1]MercLab!M77 -> 6.13365
A45: ='C01'!A46 -> Fuente: Instituto Nacional de Estadística (INE). XL Encuesta Permanente de Hogares de Propósitos Múltiples, Septiembre 2010.
A46: El salario mínimo en el área urbana es Lps. 5,500 y en la área rural es Lps. 4,055 (Promedio de salarios mínimos por rama)
A47: AEP= Años de Estudio Promedio
A48: TDA= Tasa de Desempleo Abierto
A49: MBT= Meses promedio en Busca de Trabajo
A50: 1/ Porcentaje por columna
A51: 2/ El nivel educativo incluye la población menor de cinco años

Sheet C03
A1: Cuadro No. 3. Personas ocupadas por categoría ocupacional, según dominio, nivel educativo, rango de edad, sexo.
A2: número de salarios mínimos, rama de actividad y ocupación
A3: Ocupación Principal
A4: Categorías | B4: Total Ocupados | D4: Asalariados | L4: Cuenta propia | N4: Trab. fam. no remu.
D5: Total Asalariados | F5: Público | H5: Privado | J5: Doméstico
B6: No. | C6: % 1/ | D6: No. | E6: % 1/ | F6: No. | G6: % 1/ | H6: No. | I6: % 1/ | J6: No. | K6: % 1/ | L6: No. | M6: % 1/ | N6: No. | O6: % 1/
A8: Total Nacional 2/ | B8: =[1]MercLab!C114 -> 3307702.6 | C8: =SUM(E8,M8,O8) -> 100 | D8: =F8+H8+J8 -> 1461593.8 | E8: =IF(ISNUMBER(D8/$B$8*100),D8/$B$8*100,0) -> 44.187583 | F8: =[1]MercLab!D114 -> 191539.94 | G8: =IF(ISNUMBER(F8/$B$8*100),F8/$B$8*100,0) -> 5.7907245 | H8: =[1]MercLab!E114 -> 1174098.1 | I8: =IF(ISNUMBER(H8/$B$8*100),H8/$B$8*100,0) -> 35.495878 | J8: =[1]MercLab!F114 -> 95955.804 | K8: =IF(ISNUMBER(J8/$B$8*100),J8/$B$8*100,0) -> 2.9009804 | L8: =[1]MercLab!G114 -> 1422436.6 | M8: =IF(ISNUMBER(L8/$B$8*100),L8/$B$8*100,0) -> 43.003763 | N8: =[1]MercLab!H114 -> 423672.2 | O8: =IF(ISNUMBER(N8/$B$8*100),N8/$B$8*100,0) -> 12.808655
D9: =F9+H9+J9 -> 0
A10: Dominio
A11: Urbano | B11: =SUM(B12:B14) -> 1514858.6 | C11: =IF(ISNUMBER(B11/B$8*100),B11/B$8*100,0) -> 45.797908 | D11: =SUM(D12:D14) -> 839288.4 | E11: =IF(ISNUMBER(D11/D$8*100),D11/D$8*100,0) -> 57.422821 | F11: =SUM(F12:F14) -> 150206.21 | G11: =IF(ISNUMBER(F11/F$8*100),F11/F$8*100,0) -> 78.420304 | H11: =SUM(H12:H14) -> 624605.72 | I11: =IF(ISNUMBER(H11/H$8*100),H11/H$8*100,0) -> 53.19877 | J11: =SUM(J12:J14) -> 64476.468 | K11: =IF(ISNUMBER(J11/J$8*100),J11/J$8*100,0) -> 67.193922 | L11: =SUM(L12:L14) -> 558041.38 | M11: =IF(ISNUMBER(L11/L$8*100),L11/L$8*100,0) -> 39.231372 | N11: =SUM(N12:N14) -> 117528.82 | O11: =IF(ISNUMBER(N11/N$8*100),N11/N$8*100,0) -> 27.740508
A12: Distrito Central | B12: =[1]MercLab!C115 -> 428208.65 | C12: =IF(ISNUMBER(B12/B$8*100),B12/B$8*100,0) -> 12.945803 | D12: =F12+H12+J12 -> 263577.98 | E12: =IF(ISNUMBER(D12/D$8*100),D12/D$8*100,0) -> 18.0336 | F12: =[1]MercLab!D115 -> 61437.409 | G12: =IF(ISNUMBER(F12/F$8*100),F12/F$8*100,0) -> 32.075508 | H12: =[1]MercLab!E115 -> 183022.02 | I12: =IF(ISNUMBER(H12/H$8*100),H12/H$8*100,0) -> 15.588308 | J12: =[1]MercLab!F115 -> 19118.552 | K12: =IF(ISNUMBER(J12/J$8*100),J12/J$8*100,0) -> 19.924331 | L12: =[1]MercLab!G115 -> 136269.53 | M12: =IF(ISNUMBER(L12/L$8*100),L12/L$8*100,0) -> 9.5800078 | N12: =[1]MercLab!H115 -> 28361.141 | O12: =IF(ISNUMBER(N12/N$8*100),N12/N$8*100,0) -> 6.6941235
A13: San Pedro Sula | B13: =[1]MercLab!C116 -> 254743.38 | C13: =IF(ISNUMBER(B13/B$8*100),B13/B$8*100,0) -> 7.7015203 | D13: =F13+H13+J13 -> 154108.58 | E13: =IF(ISNUMBER(D13/D$8*100),D13/D$8*100,0) -> 10.543872 | F13: =[1]MercLab!D116 -> 11147.429 | G13: =IF(ISNUMBER(F13/F$8*100),F13/F$8*100,0) -> 5.8198978 | H13: =[1]MercLab!E116 -> 134385.03 | I13: =IF(ISNUMBER(H13/H$8*100),H13/H$8*100,0) -> 11.445809 | J13: =[1]MercLab!F116 -> 8576.1296 | K13: =IF(ISNUMBER(J13/J$8*100),J13/J$8*100,0) -> 8.9375831 | L13: =[1]MercLab!G116 -> 88240.214 | M13: =IF(ISNUMBER(L13/L$8*100),L13/L$8*100,0) -> 6.2034551 | N13: =[1]MercLab!H116 -> 12394.586 | O13: =IF(ISNUMBER(N13/N$8*100),N13/N$8*100,0) -> 2.9255131
A14: Resto urbano | B14: =[1]MercLab!C117 -> 831906.56 | C14: =IF(ISNUMBER(B14/B$8*100),B14/B$8*100,0) -> 25.150585 | D14: =F14+H14+J14 -> 421601.83 | E14: =IF(ISNUMBER(D14/D$8*100),D14/D$8*100,0) -> 28.845349 | F14: =[1]MercLab!D117 -> 77621.368 | G14: =IF(ISNUMBER(F14/F$8*100),F14/F$8*100,0) -> 40.524899 | H14: =[1]MercLab!E117 -> 307198.68 | I14: =IF(ISNUMBER(H14/H$8*100),H14/H$8*100,0) -> 26.164653 | J14: =[1]MercLab!F117 -> 36781.786 | K14: =IF(ISNUMBER(J14/J$8*100),J14/J$8*100,0) -> 38.332008 | L14: =[1]MercLab!G117 -> 333531.63 | M14: =IF(ISNUMBER(L14/L$8*100),L14/L$8*100,0) -> 23.447909 | N14: =[1]MercLab!H117 -> 76773.094 | O14: =IF(ISNUMBER(N14/N$8*100),N14/N$8*100,0) -> 18.120871
A15: Rural | B15: =[1]MercLab!C118 -> 1792844 | C15: =IF(ISNUMBER(B15/B$8*100),B15/B$8*100,0) -> 54.202092 | D15: =F15+H15+J15 -> 622305.41 | E15: =IF(ISNUMBER(D15/D$8*100),D15/D$8*100,0) -> 42.577179 | F15: =[1]MercLab!D118 -> 41333.736 | G15: =IF(ISNUMBER(F15/F$8*100),F15/F$8*100,0) -> 21.579696 | H15: =[1]MercLab!E118 -> 549492.33 | I15: =IF(ISNUMBER(H15/H$8*100),H15/H$8*100,0) -> 46.80123 | J15: =[1]MercLab!F118 -> 31479.336 | K15: =IF(ISNUMBER(J15/J$8*100),J15/J$8*100,0) -> 32.806078 | L15: =[1]MercLab!G118 -> 864395.18 | M15: =IF(ISNUMBER(L15/L$8*100),L15/L$8*100,0) -> 60.768628 | N15: =[1]MercLab!H118 -> 306143.38 | O15: =IF(ISNUMBER(N15/N$8*100),N15/N$8*100,0) -> 72.259492
D16: =F16+H16+J16 -> 0
A17: Nivel Educativo
A18: Sin Nivel | B18: =[1]MercLab!C120 -> 416518.61 | C18: =IF(ISNUMBER(B18/B$8*100),B18/B$8*100,0) -> 12.592384 | D18: =F18+H18+J18 -> 125070.59 | E18: =IF(ISNUMBER(D18/D$8*100),D18/D$8*100,0) -> 8.5571376 | F18: =[1]MercLab!D120 -> 3226.6478 | G18: =IF(ISNUMBER(F18/F$8*100),F18/F$8*100,0) -> 1.6845822 | H18: =[1]MercLab!E120 -> 112172.97 | I18: =IF(ISNUMBER(H18/H$8*100),H18/H$8*100,0) -> 9.5539693 | J18: =[1]MercLab!F120 -> 9670.9779 | K18: =IF(ISNUMBER(J18/J$8*100),J18/J$8*100,0) -> 10.078575 | L18: =[1]MercLab!G120 -> 266529.64 | M18: =IF(ISNUMBER(L18/L$8*100),L18/L$8*100,0) -> 18.737542 | N18: =[1]MercLab!H120 -> 24918.372 | O18: =IF(ISNUMBER(N18/N$8*100),N18/N$8*100,0) -> 5.8815216
A19: Primaria | B19: =[1]MercLab!C121 -> 1838776.8 | C19: =IF(ISNUMBER(B19/B$8*100),B19/B$8*100,0) -> 55.590753 | D19: =F19+H19+J19 -> 698051.27 | E19: =IF(ISNUMBER(D19/D$8*100),D19/D$8*100,0) -> 47.759594 | F19: =[1]MercLab!D121 -> 29111.928 | G19: =IF(ISNUMBER(F19/F$8*100),F19/F$8*100,0) -> 15.198881 | H19: =[1]MercLab!E121 -> 605457.29 | I19: =IF(ISNUMBER(H19/H$8*100),H19/H$8*100,0) -> 51.567864 | J19: =[1]MercLab!F121 -> 63482.055 | K19: =IF(ISNUMBER(J19/J$8*100),J19/J$8*100,0) -> 66.157598 | L19: =[1]MercLab!G121 -> 866217.1 | M19: =IF(ISNUMBER(L19/L$8*100),L19/L$8*100,0) -> 60.896712 | N19: =[1]MercLab!H121 -> 274508.38 | O19: =IF(ISNUMBER(N19/N$8*100),N19/N$8*100,0) -> 64.792635
A20: Secundaria | B20: =[1]MercLab!C122 -> 786902.09 | C20: =IF(ISNUMBER(B20/B$8*100),B20/B$8*100,0) -> 23.78999 | D20: =F20+H20+J20 -> 433960.28 | E20: =IF(ISNUMBER(D20/D$8*100),D20/D$8*100,0) -> 29.690895 | F20: =[1]MercLab!D122 -> 74735.473 | G20: =IF(ISNUMBER(F20/F$8*100),F20/F$8*100,0) -> 39.018219 | H20: =[1]MercLab!E122 -> 337334.37 | I20: =IF(ISNUMBER(H20/H$8*100),H20/H$8*100,0) -> 28.731363 | J20: =[1]MercLab!F122 -> 21890.435 | K20: =IF(ISNUMBER(J20/J$8*100),J20/J$8*100,0) -> 22.81304 | L20: =[1]MercLab!G122 -> 240206.81 | M20: =IF(ISNUMBER(L20/L$8*100),L20/L$8*100,0) -> 16.886996 | N20: =[1]MercLab!H122 -> 112735 | O20: =IF(ISNUMBER(N20/N$8*100),N20/N$8*100,0) -> 26.609016
A21: Superior | B21: =[1]MercLab!C123 -> 250641.9 | C21: =IF(ISNUMBER(B21/B$8*100),B21/B$8*100,0) -> 7.5775222 | D21: =F21+H21+J21 -> 197986.67 | E21: =IF(ISNUMBER(D21/D$8*100),D21/D$8*100,0) -> 13.545944 | F21: =[1]MercLab!D123 -> 82745.963 | G21: =IF(ISNUMBER(F21/F$8*100),F21/F$8*100,0) -> 43.20037 | H21: =[1]MercLab!E123 -> 115240.71 | I21: =IF(ISNUMBER(H21/H$8*100),H21/H$8*100,0) -> 9.8152541 | J21: =[1]MercLab!F123 -> 0 | K21: =IF(ISNUMBER(J21/J$8*100),J21/J$8*100,0) -> 0 | L21: =[1]MercLab!G123 -> 41988.315 | M21: =IF(ISNUMBER(L21/L$8*100),L21/L$8*100,0) -> 2.9518585 | N21: =[1]MercLab!H123 -> 10666.91 | O21: =IF(ISNUMBER(N21/N$8*100),N21/N$8*100,0) -> 2.5177272
A22: No sabe, no responde | B22: =[1]MercLab!C124 -> 14863.214 | C22: =IF(ISNUMBER(B22/B$8*100),B22/B$8*100,0) -> 0.44935157 | D22: =F22+H22+J22 -> 6524.9832 | E22: =IF(ISNUMBER(D22/D$8*100),D22/D$8*100,0) -> 0.44642931 | F22: =[1]MercLab!D124 -> 1719.9292 | G22: =IF(ISNUMBER(F22/F$8*100),F22/F$8*100,0) -> 0.89794808 | H22: =[1]MercLab!E124 -> 3892.7188 | I22: =IF(ISNUMBER(H22/H$8*100),H22/H$8*100,0) -> 0.33154972 | J22: =[1]MercLab!F124 -> 912.33508 | K22: =IF(ISNUMBER(J22/J$8*100),J22/J$8*100,0) -> 0.95078676 | L22: =[1]MercLab!G124 -> 7494.6945 | M22: =IF(ISNUMBER(L22/L$8*100),L22/L$8*100,0) -> 0.5268913 | N22: =[1]MercLab!H124 -> 843.53591 | O22: =IF(ISNUMBER(N22/N$8*100),N22/N$8*100,0) -> 0.19910107
D23: =F23+H23+J23 -> 0
A24: Rango de Edad
A25: De 10 a 11 años | B25: =[1]MercLab!C126 -> 30106.846 | C25: =IF(ISNUMBER(B25/B$8*100),B25/B$8*100,0) -> 0.91020415 | D25: =F25+H25+J25 -> 1298.5749 | E25: =IF(ISNUMBER(D25/D$8*100),D25/D$8*100,0) -> 0.088846496 | F25: =[1]MercLab!D126 -> 0 | G25: =IF(ISNUMBER(F25/F$8*100),F25/F$8*100,0) -> 0 | H25: =[1]MercLab!E126 -> 1298.5749 | I25: =IF(ISNUMBER(H25/H$8*100),H25/H$8*100,0) -> 0.11060191 | J25: =[1]MercLab!F126 -> 0 | K25: =IF(ISNUMBER(J25/J$8*100),J25/J$8*100,0) -> 0 | L25: =[1]MercLab!G126 -> 1625.5861 | M25: =IF(ISNUMBER(L25/L$8*100),L25/L$8*100,0) -> 0.1142818 | N25: =[1]MercLab!H126 -> 27182.685 | O25: =IF(ISNUMBER(N25/N$8*100),N25/N$8*100,0) -> 6.4159708
A26: De 12 a 14 años | B26: =[1]MercLab!C127 -> 137805.5 | C26: =IF(ISNUMBER(B26/B$8*100),B26/B$8*100,0) -> 4.1661998 | D26: =F26+H26+J26 -> 30293.75 | E26: =IF(ISNUMBER(D26/D$8*100),D26/D$8*100,0) -> 2.0726518 | F26: =[1]MercLab!D127 -> 0 | G26: =IF(ISNUMBER(F26/F$8*100),F26/F$8*100,0) -> 0 | H26: =[1]MercLab!E127 -> 28688.641 | I26: =IF(ISNUMBER(H26/H$8*100),H26/H$8*100,0) -> 2.4434621 | J26: =[1]MercLab!F127 -> 1605.1091 | K26: =IF(ISNUMBER(J26/J$8*100),J26/J$8*100,0) -> 1.6727588 | L26: =[1]MercLab!G127 -> 9076.2638 | M26: =IF(ISNUMBER(L26/L$8*100),L26/L$8*100,0) -> 0.63807863 | N26: =[1]MercLab!H127 -> 98435.483 | O26: =IF(ISNUMBER(N26/N$8*100),N26/N$8*100,0) -> 23.233878
A27: De 15 a 18 años | B27: =[1]MercLab!C128 -> 315663.75 | C27: =IF(ISNUMBER(B27/B$8*100),B27/B$8*100,0) -> 9.5432932 | D27: =F27+H27+J27 -> 150384.8 | E27: =IF(ISNUMBER(D27/D$8*100),D27/D$8*100,0) -> 10.289097 | F27: =[1]MercLab!D128 -> 234.58346 | G27: =IF(ISNUMBER(F27/F$8*100),F27/F$8*100,0) -> 0.12247235 | H27: =[1]MercLab!E128 -> 131291.23 | I27: =IF(ISNUMBER(H27/H$8*100),H27/H$8*100,0) -> 11.182305 | J27: =[1]MercLab!F128 -> 18858.988 | K27: =IF(ISNUMBER(J27/J$8*100),J27/J$8*100,0) -> 19.653827 | L27: =[1]MercLab!G128 -> 39197.517 | M27: =IF(ISNUMBER(L27/L$8*100),L27/L$8*100,0) -> 2.7556601 | N27: =[1]MercLab!H128 -> 126081.43 | O27: =IF(ISNUMBER(N27/N$8*100),N27/N$8*100,0) -> 29.759194
A28: De 19 a 24 años | B28: =[1]MercLab!C129 -> 547371.39 | C28: =IF(ISNUMBER(B28/B$8*100),B28/B$8*100,0) -> 16.548386 | D28: =F28+H28+J28 -> 343788.35 | E28: =IF(ISNUMBER(D28/D$8*100),D28/D$8*100,0) -> 23.52147 | F28: =[1]MercLab!D129 -> 19657.629 | G28: =IF(ISNUMBER(F28/F$8*100),F28/F$8*100,0) -> 10.26294 | H28: =[1]MercLab!E129 -> 302223.5 | I28: =IF(ISNUMBER(H28/H$8*100),H28/H$8*100,0) -> 25.740908 | J28: =[1]MercLab!F129 -> 21907.224 | K28: =IF(ISNUMBER(J28/J$8*100),J28/J$8*100,0) -> 22.830536 | L28: =[1]MercLab!G129 -> 123480 | M28: =IF(ISNUMBER(L28/L$8*100),L28/L$8*100,0) -> 8.680879 | N28: =[1]MercLab!H129 -> 80103.046 | O28: =IF(ISNUMBER(N28/N$8*100),N28/N$8*100,0) -> 18.906845
A29: De 25 a 29 años | B29: =[1]MercLab!C130 -> 375584.15 | C29: =IF(ISNUMBER(B29/B$8*100),B29/B$8*100,0) -> 11.354834 | D29: =F29+H29+J29 -> 219597.01 | E29: =IF(ISNUMBER(D29/D$8*100),D29/D$8*100,0) -> 15.02449 | F29: =[1]MercLab!D130 -> 22297.048 | G29: =IF(ISNUMBER(F29/F$8*100),F29/F$8*100,0) -> 11.640939 | H29: =[1]MercLab!E130 -> 182868.33 | I29: =IF(ISNUMBER(H29/H$8*100),H29/H$8*100,0) -> 15.575218 | J29: =[1]MercLab!F130 -> 14431.633 | K29: =IF(ISNUMBER(J29/J$8*100),J29/J$8*100,0) -> 15.039875 | L29: =[1]MercLab!G130 -> 126907.42 | M29: =IF(ISNUMBER(L29/L$8*100),L29/L$8*100,0) -> 8.9218333 | N29: =[1]MercLab!H130 -> 29079.72 | O29: =IF(ISNUMBER(N29/N$8*100),N29/N$8*100,0) -> 6.8637308
A30: De 30 a 35 años | B30: =[1]MercLab!C131 -> 422749 | C30: =IF(ISNUMBER(B30/B$8*100),B30/B$8*100,0) -> 12.780744 | D30: =F30+H30+J30 -> 219823.54 | E30: =IF(ISNUMBER(D30/D$8*100),D30/D$8*100,0) -> 15.039989 | F30: =[1]MercLab!D131 -> 29838.399 | G30: =IF(ISNUMBER(F30/F$8*100),F30/F$8*100,0) -> 15.57816 | H30: =[1]MercLab!E131 -> 178289.66 | I30: =IF(ISNUMBER(H30/H$8*100),H30/H$8*100,0) -> 15.185244 | J30: =[1]MercLab!F131 -> 11695.483 | K30: =IF(ISNUMBER(J30/J$8*100),J30/J$8*100,0) -> 12.188407 | L30: =[1]MercLab!G131 -> 183765.28 | M30: =IF(ISNUMBER(L30/L$8*100),L30/L$8*100,0) -> 12.919049 | N30: =[1]MercLab!H131 -> 19160.181 | O30: =IF(ISNUMBER(N30/N$8*100),N30/N$8*100,0) -> 4.5224069
A31: De 36 a 44 años | B31: =[1]MercLab!C132 -> 496221.37 | C31: =IF(ISNUMBER(B31/B$8*100),B31/B$8*100,0) -> 15.001995 | D31: =F31+H31+J31 -> 221771.91 | E31: =IF(ISNUMBER(D31/D$8*100),D31/D$8*100,0) -> 15.173293 | F31: =[1]MercLab!D132 -> 44306.03 | G31: =IF(ISNUMBER(F31/F$8*100),F31/F$8*100,0) -> 23.131484 | H31: =[1]MercLab!E132 -> 166779.32 | I31: =IF(ISNUMBER(H31/H$8*100),H31/H$8*100,0) -> 14.204889 | J31: =[1]MercLab!F132 -> 10686.554 | K31: =IF(ISNUMBER(J31/J$8*100),J31/J$8*100,0) -> 11.136954 | L31: =[1]MercLab!G132 -> 257974.71 | M31: =IF(ISNUMBER(L31/L$8*100),L31/L$8*100,0) -> 18.136114 | N31: =[1]MercLab!H132 -> 16474.757 | O31: =IF(ISNUMBER(N31/N$8*100),N31/N$8*100,0) -> 3.8885623
A32: De 45 a 59 años | B32: =[1]MercLab!C133 -> 651800.74 | C32: =IF(ISNUMBER(B32/B$8*100),B32/B$8*100,0) -> 19.705543 | D32: =F32+H32+J32 -> 218261.84 | E32: =IF(ISNUMBER(D32/D$8*100),D32/D$8*100,0) -> 14.933139 | F32: =[1]MercLab!D133 -> 64516.455 | G32: =IF(ISNUMBER(F32/F$8*100),F32/F$8*100,0) -> 33.683029 | H32: =[1]MercLab!E133 -> 141335.27 | I32: =IF(ISNUMBER(H32/H$8*100),H32/H$8*100,0) -> 12.037774 | J32: =[1]MercLab!F133 -> 12410.118 | K32: =IF(ISNUMBER(J32/J$8*100),J32/J$8*100,0) -> 12.93316 | L32: =[1]MercLab!G133 -> 415080.01 | M32: =IF(ISNUMBER(L32/L$8*100),L32/L$8*100,0) -> 29.180916 | N32: =[1]MercLab!H133 -> 18458.883 | O32: =IF(ISNUMBER(N32/N$8*100),N32/N$8*100,0) -> 4.3568785
A33: De 60 años y más | B33: =[1]MercLab!C134 -> 330399.82 | C33: =IF(ISNUMBER(B33/B$8*100),B33/B$8*100,0) -> 9.9888009 | D33: =F33+H33+J33 -> 56374.03 | E33: =IF(ISNUMBER(D33/D$8*100),D33/D$8*100,0) -> 3.8570244 | F33: =[1]MercLab!D134 -> 10689.797 | G33: =IF(ISNUMBER(F33/F$8*100),F33/F$8*100,0) -> 5.5809754 | H33: =[1]MercLab!E134 -> 41323.539 | I33: =IF(ISNUMBER(H33/H$8*100),H33/H$8*100,0) -> 3.5195986 | J33: =[1]MercLab!F134 -> 4360.6939 | K33: =IF(ISNUMBER(J33/J$8*100),J33/J$8*100,0) -> 4.5444817 | L33: =[1]MercLab!G134 -> 265329.78 | M33: =IF(ISNUMBER(L33/L$8*100),L33/L$8*100,0) -> 18.653189 | N33: =[1]MercLab!H134 -> 8696.0148 | O33: =IF(ISNUMBER(N33/N$8*100),N33/N$8*100,0) -> 2.0525337
D34: =F34+H34+J34 -> 0
A35: Sexo
A36: Hombre | B36: =[1]MercLab!C136 -> 2102297.2 | C36: =IF(ISNUMBER(B36/B$8*100),B36/B$8*100,0) -> 63.557624 | D36: =F36+H36+J36 -> 965130.33 | E36: =IF(ISNUMBER(D36/D$8*100),D36/D$8*100,0) -> 66.032733 | F36: =[1]MercLab!D136 -> 83411.102 | G36: =IF(ISNUMBER(F36/F$8*100),F36/F$8*100,0) -> 43.547628 | H36: =[1]MercLab!E136 -> 875805.25 | I36: =IF(ISNUMBER(H36/H$8*100),H36/H$8*100,0) -> 74.593876 | J36: =[1]MercLab!F136 -> 5913.9802 | K36: =IF(ISNUMBER(J36/J$8*100),J36/J$8*100,0) -> 6.1632335 | L36: =[1]MercLab!G136 -> 857194.35 | M36: =IF(ISNUMBER(L36/L$8*100),L36/L$8*100,0) -> 60.262396 | N36: =[1]MercLab!H136 -> 279972.47 | O36: =IF(ISNUMBER(N36/N$8*100),N36/N$8*100,0) -> 66.082332
A37: Mujer | B37: =[1]MercLab!C137 -> 1205405.4 | C37: =IF(ISNUMBER(B37/B$8*100),B37/B$8*100,0) -> 36.442376 | D37: =F37+H37+J37 -> 496463.47 | E37: =IF(ISNUMBER(D37/D$8*100),D37/D$8*100,0) -> 33.967267 | F37: =[1]MercLab!D137 -> 108128.84 | G37: =IF(ISNUMBER(F37/F$8*100),F37/F$8*100,0) -> 56.452372 | H37: =[1]MercLab!E137 -> 298292.81 | I37: =IF(ISNUMBER(H37/H$8*100),H37/H$8*100,0) -> 25.406124 | J37: =[1]MercLab!F137 -> 90041.823 | K37: =IF(ISNUMBER(J37/J$8*100),J37/J$8*100,0) -> 93.836767 | L37: =[1]MercLab!G137 -> 565242.21 | M37: =IF(ISNUMBER(L37/L$8*100),L37/L$8*100,0) -> 39.737604 | N37: =[1]MercLab!H137 -> 143699.73 | O37: =IF(ISNUMBER(N37/N$8*100),N37/N$8*100,0) -> 33.917668
D38: =F38+H38+J38 -> 0
A39: No. de Salarios Mínimos 3/ | B39: =[1]MercLab!C138 -> 2807588.4 | C39: =IF(ISNUMBER(B39/B$8*100),B39/B$8*100,0) -> 84.880317 | D39: =F39+H39+J39 -> 1446263.6 | E39: =IF(ISNUMBER(D39/D$8*100),D39/D$8*100,0) -> 98.951131 | F39: =[1]MercLab!D138 -> 186849.4 | G39: =IF(ISNUMBER(F39/F$8*100),F39/F$8*100,0) -> 97.551141 | H39: =[1]MercLab!E138 -> 1163458.4 | I39: =IF(ISNUMBER(H39/H$8*100),H39/H$8*100,0) -> 99.093801 | J39: =[1]MercLab!F138 -> 95955.804 | K39: =IF(ISNUMBER(J39/J$8*100),J39/J$8*100,0) -> 100 | L39: =[1]MercLab!G138 -> 1361324.8 | M39: =IF(ISNUMBER(L39/L$8*100),L39/L$8*100,0) -> 95.70373 | N39: =[1]MercLab!H138 -> 0 | O39: =IF(ISNUMBER(N39/N$8*100),N39/N$8*100,0) -> 0
A40: Menos de un salario | B40: =SUM(B41:B43) -> 1931196.9 | C40: =IF(ISNUMBER(B40/B$8*100),B40/B$8*100,0) -> 58.38484 | D40: =F40+H40+J40 -> 838796.13 | E40: =IF(ISNUMBER(D40/D$8*100),D40/D$8*100,0) -> 57.389141 | F40: =SUM(F41:F43) -> 21437.57 | G40: =IF(ISNUMBER(F40/F$8*100),F40/F$8*100,0) -> 11.192219 | H40: =SUM(H41:H43) -> 729984.63 | I40: =IF(ISNUMBER(H40/H$8*100),H40/H$8*100,0) -> 62.174077 | J40: =SUM(J41:J43) -> 87373.925 | K40: =IF(ISNUMBER(J40/J$8*100),J40/J$8*100,0) -> 91.056426 | L40: =SUM(L41:L43) -> 1092400.7 | M40: =IF(ISNUMBER(L40/L$8*100),L40/L$8*100,0) -> 76.797852 | N40: =SUM(N41:N43) -> 0 | O40: =IF(ISNUMBER(N40/N$8*100),N40/N$8*100,0) -> 0
A41: Menos de 1 salario y trab <36 horas | B41: =[1]MercLab!C139 -> 992520.61 | C41: =IF(ISNUMBER(B41/B$8*100),B41/B$8*100,0) -> 30.006344 | D41: =F41+H41+J41 -> 292424.47 | E41: =IF(ISNUMBER(D41/D$8*100),D41/D$8*100,0) -> 20.007233 | F41: =[1]MercLab!D139 -> 8978.9999 | G41: =IF(ISNUMBER(F41/F$8*100),F41/F$8*100,0) -> 4.6877951 | H41: =[1]MercLab!E139 -> 261400.51 | I41: =IF(ISNUMBER(H41/H$8*100),H41/H$8*100,0) -> 22.263942 | J41: =[1]MercLab!F139 -> 22044.968 | K41: =IF(ISNUMBER(J41/J$8*100),J41/J$8*100,0) -> 22.974086 | L41: =[1]MercLab!G139 -> 700096.13 | M41: =IF(ISNUMBER(L41/L$8*100),L41/L$8*100,0) -> 49.218092 | N41: =[1]MercLab!H139 -> 0 | O41: =IF(ISNUMBER(N41/N$8*100),N41/N$8*100,0) -> 0
A42: Menos de 1 salario y trab >=36 horas | B42: =[1]MercLab!C140 -> 938272.22 | C42: =IF(ISNUMBER(B42/B$8*100),B42/B$8*100,0) -> 28.366282 | D42: =F42+H42+J42 -> 546202.22 | E42: =IF(ISNUMBER(D42/D$8*100),D42/D$8*100,0) -> 37.370316 | F42: =[1]MercLab!D140 -> 12458.57 | G42: =IF(ISNUMBER(F42/F$8*100),F42/F$8*100,0) -> 6.5044243 | H42: =[1]MercLab!E140 -> 468414.69 | I42: =IF(ISNUMBER(H42/H$8*100),H42/H$8*100,0) -> 39.895704 | J42: =[1]MercLab!F140 -> 65328.957 | K42: =IF(ISNUMBER(J42/J$8*100),J42/J$8*100,0) -> 68.08234 | L42: =[1]MercLab!G140 -> 392070.01 | M42: =IF(ISNUMBER(L42/L$8*100),L42/L$8*100,0) -> 27.563268 | N42: =[1]MercLab!H140 -> 0 | O42: =IF(ISNUMBER(N42/N$8*100),N42/N$8*100,0) -> 0
A43: Menos de 1 salario y no decl. horas | B43: =[1]MercLab!C141 -> 404.01826 | C43: =IF(ISNUMBER(B43/B$8*100),B43/B$8*100,0) -> 0.012214468 | D43: =F43+H43+J43 -> 169.4348 | E43: =IF(ISNUMBER(D43/D$8*100),D43/D$8*100,0) -> 0.011592468 | F43: =[1]MercLab!D141 -> 0 | G43: =IF(ISNUMBER(F43/F$8*100),F43/F$8*100,0) -> 0 | H43: =[1]MercLab!E141 -> 169.4348 | I43: =IF(ISNUMBER(H43/H$8*100),H43/H$8*100,0) -> 0.01443106 | J43: =[1]MercLab!F141 -> 0 | K43: =IF(ISNUMBER(J43/J$8*100),J43/J$8*100,0) -> 0 | L43: =[1]MercLab!G141 -> 234.58346 | M43: =IF(ISNUMBER(L43/L$8*100),L43/L$8*100,0) -> 0.016491664 | N43: =[1]MercLab!H141 -> 0 | O43: =IF(ISNUMBER(N43/N$8*100),N43/N$8*100,0) -> 0
A44: De 1 a 2 salarios | B44: =[1]MercLab!C142 -> 644053 | C44: =IF(ISNUMBER(B44/B$8*100),B44/B$8*100,0) -> 19.471309 | D44: =F44+H44+J44 -> 451131.72 | E44: =IF(ISNUMBER(D44/D$8*100),D44/D$8*100,0) -> 30.865739 | F44: =[1]MercLab!D142 -> 93128.603 | G44: =IF(ISNUMBER(F44/F$8*100),F44/F$8*100,0) -> 48.620983 | H44: =[1]MercLab!E142 -> 349421.24 | I44: =IF(ISNUMBER(H44/H$8*100),H44/H$8*100,0) -> 29.760823 | J44: =[1]MercLab!F142 -> 8581.8783 | K44: =IF(ISNUMBER(J44/J$8*100),J44/J$8*100,0) -> 8.943574 | L44: =[1]MercLab!G142 -> 192921.28 | M44: =IF(ISNUMBER(L44/L$8*100),L44/L$8*100,0) -> 13.562733 | N44: =[1]MercLab!H142 -> 0 | O44: =IF(ISNUMBER(N44/N$8*100),N44/N$8*100,0) -> 0
A45: De 2 a 3 salarios | B45: =[1]MercLab!C143 -> 126367.69 | C45: =IF(ISNUMBER(B45/B$8*100),B45/B$8*100,0) -> 3.8204068 | D45: =F45+H45+J45 -> 85963.974 | E45: =IF(ISNUMBER(D45/D$8*100),D45/D$8*100,0) -> 5.8815229 | F45: =[1]MercLab!D143 -> 36875.954 | G45: =IF(ISNUMBER(F45/F$8*100),F45/F$8*100,0) -> 19.252358 | H45: =[1]MercLab!E143 -> 49088.019 | I45: =IF(ISNUMBER(H45/H$8*100),H45/H$8*100,0) -> 4.1809131 | J45: =[1]MercLab!F143 -> 0 | K45: =IF(ISNUMBER(J45/J$8*100),J45/J$8*100,0) -> 0 | L45: =[1]MercLab!G143 -> 40403.721 | M45: =IF(ISNUMBER(L45/L$8*100),L45/L$8*100,0) -> 2.8404585 | N45: =[1]MercLab!H143 -> 0 | O45: =IF(ISNUMBER(N45/N$8*100),N45/N$8*100,0) -> 0
A46: De 3 a 4 salarios | B46: =[1]MercLab!C144 -> 52675.397 | C46: =IF(ISNUMBER(B46/B$8*100),B46/B$8*100,0) -> 1.5925071 | D46: =F46+H46+J46 -> 37915.546 | E46: =IF(ISNUMBER(D46/D$8*100),D46/D$8*100,0) -> 2.5941234 | F46: =[1]MercLab!D144 -> 19458.256 | G46: =IF(ISNUMBER(F46/F$8*100),F46/F$8*100,0) -> 10.15885 | H46: =[1]MercLab!E144 -> 18457.29 | I46: =IF(ISNUMBER(H46/H$8*100),H46/H$8*100,0) -> 1.5720399 | J46: =[1]MercLab!F144 -> 0 | K46: =IF(ISNUMBER(J46/J$8*100),J46/J$8*100,0) -> 0 | L46: =[1]MercLab!G144 -> 14759.851 | M46: =IF(ISNUMBER(L46/L$8*100),L46/L$8*100,0) -> 1.0376456 | N46: =[1]MercLab!H144 -> 0 | O46: =IF(ISNUMBER(N46/N$8*100),N46/N$8*100,0) -> 0
A47: De 4 salarios y más | B47: =[1]MercLab!C145 -> 53295.498 | C47: =IF(ISNUMBER(B47/B$8*100),B47/B$8*100,0) -> 1.6112542 | D47: =F47+H47+J47 -> 32456.23 | E47: =IF(ISNUMBER(D47/D$8*100),D47/D$8*100,0) -> 2.2206053 | F47: =[1]MercLab!D145 -> 15949.015 | G47: =IF(ISNUMBER(F47/F$8*100),F47/F$8*100,0) -> 8.3267307 | H47: =[1]MercLab!E145 -> 16507.214 | I47: =IF(ISNUMBER(H47/H$8*100),H47/H$8*100,0) -> 1.4059485 | J47: =[1]MercLab!F145 -> 0 | K47: =IF(ISNUMBER(J47/J$8*100),J47/J$8*100,0) -> 0 | L47: =[1]MercLab!G145 -> 20839.268 | M47: =IF(ISNUMBER(L47/L$8*100),L47/L$8*100,0) -> 1.4650403 | N47: =[1]MercLab!H145 -> 0 | O47: =IF(ISNUMBER(N47/N$8*100),N47/N$8*100,0) -> 0
D48: =F48+H48+J48 -> 0
A49: Rama de Actividad
A50: Primaria | B50: =[1]MercLab!C147 -> 1200054.2 | C50: =IF(ISNUMBER(B50/B$8*100),B50/B$8*100,0) -> 36.280595 | D50: =F50+H50+J50 -> 354699.36 | E50: =IF(ISNUMBER(D50/D$8*100),D50/D$8*100,0) -> 24.267984 | F50: =[1]MercLab!D147 -> 0 | G50: =IF(ISNUMBER(F50/F$8*100),F50/F$8*100,0) -> 0 | H50: =[1]MercLab!E147 -> 354699.36 | I50: =IF(ISNUMBER(H50/H$8*100),H50/H$8*100,0) -> 30.210369 | J50: =[1]MercLab!F147 -> 0 | K50: =IF(ISNUMBER(J50/J$8*100),J50/J$8*100,0) -> 0 | L50: =[1]MercLab!G147 -> 610502.02 | M50: =IF(ISNUMBER(L50/L$8*100),L50/L$8*100,0) -> 42.919455 | N50: =[1]MercLab!H147 -> 234852.79 | O50: =IF(ISNUMBER(N50/N$8*100),N50/N$8*100,0) -> 55.432665
A51: Secundaria | B51: =[1]MercLab!C148 -> 457801.33 | C51: =IF(ISNUMBER(B51/B$8*100),B51/B$8*100,0) -> 13.840462 | D51: =F51+H51+J51 -> 229766.47 | E51: =IF(ISNUMBER(D51/D$8*100),D51/D$8*100,0) -> 15.720268 | F51: =[1]MercLab!D148 -> 0 | G51: =IF(ISNUMBER(F51/F$8*100),F51/F$8*100,0) -> 0 | H51: =[1]MercLab!E148 -> 229766.47 | I51: =IF(ISNUMBER(H51/H$8*100),H51/H$8*100,0) -> 19.569615 | J51: =[1]MercLab!F148 -> 0 | K51: =IF(ISNUMBER(J51/J$8*100),J51/J$8*100,0) -> 0 | L51: =[1]MercLab!G148 -> 180002.39 | M51: =IF(ISNUMBER(L51/L$8*100),L51/L$8*100,0) -> 12.654511 | N51: =[1]MercLab!H148 -> 48032.475 | O51: =IF(ISNUMBER(N51/N$8*100),N51/N$8*100,0) -> 11.337179
A52: Terciaria | B52: =[1]MercLab!C149 -> 1642435.2 | C52: =IF(ISNUMBER(B52/B$8*100),B52/B$8*100,0) -> 49.654865 | D52: =F52+H52+J52 -> 874604.2 | E52: =IF(ISNUMBER(D52/D$8*100),D52/D$8*100,0) -> 59.839074 | F52: =[1]MercLab!D149 -> 190862.2 | G52: =IF(ISNUMBER(F52/F$8*100),F52/F$8*100,0) -> 99.646163 | H52: =[1]MercLab!E149 -> 587786.19 | I52: =IF(ISNUMBER(H52/H$8*100),H52/H$8*100,0) -> 50.062786 | J52: =[1]MercLab!F149 -> 95955.804 | K52: =IF(ISNUMBER(J52/J$8*100),J52/J$8*100,0) -> 100 | L52: =[1]MercLab!G149 -> 628686.51 | M52: =IF(ISNUMBER(L52/L$8*100),L52/L$8*100,0) -> 44.19786 | N52: =[1]MercLab!H149 -> 139144.53 | O52: =IF(ISNUMBER(N52/N$8*100),N52/N$8*100,0) -> 32.842498
A53: No sabe, no responde | B53: =[1]MercLab!C150 -> 7411.8189 | C53: =IF(ISNUMBER(B53/B$8*100),B53/B$8*100,0) -> 0.22407755 | D53: =F53+H53+J53 -> 2523.7808 | E53: =IF(ISNUMBER(D53/D$8*100),D53/D$8*100,0) -> 0.1726732 | F53: =[1]MercLab!D150 -> 677.7392 | G53: =IF(ISNUMBER(F53/F$8*100),F53/F$8*100,0) -> 0.35383701 | H53: =[1]MercLab!E150 -> 1846.0416 | I53: =IF(ISNUMBER(H53/H$8*100),H53/H$8*100,0) -> 0.15723061 | J53: =[1]MercLab!F150 -> 0 | K53: =IF(ISNUMBER(J53/J$8*100),J53/J$8*100,0) -> 0 | L53: =[1]MercLab!G150 -> 3245.6379 | M53: =IF(ISNUMBER(L53/L$8*100),L53/L$8*100,0) -> 0.22817453 | N53: =[1]MercLab!H150 -> 1642.4001 | O53: =IF(ISNUMBER(N53/N$8*100),N53/N$8*100,0) -> 0.38765822
A55: ='C01'!$A$46 -> Fuente: Instituto Nacional de Estadística (INE). XL Encuesta Permanente de Hogares de Propósitos Múltiples, Septiembre 2010.
A56: ='C02'!A46 -> El salario mínimo en el área urbana es Lps. 5,500 y en la área rural es Lps. 4,055 (Promedio de salarios mínimos por rama)
A57: 1/ Porcentaje por columnas
A58: 2/ Porcentaje por filas
A59: 3/ No. de salarios mínimos (personas que declaran ingresos) y trabajan 36 Hrs. o mas
A61: Cuadro No. 3. Personas ocupadas por categoría ocupacional, según dominio, nivel educativo, rango de edad, sexo,
A62: número de salarios mínimos, rama de actividad y ocupación
A63: Ocupación Principal
A64: ....... Continuación
A65: Categorías | B65: Total Ocupados | D65: Asalariados | L65: Cuenta propia | N65: Trab. fam. no remu.
D66: Total Asalariados | F66: Público | H66: Privado | J66: Doméstico
B67: No. | C67: % 1/ | D67: No. | E67: % 1/ | F67: No. | G67: % 1/ | H67: No. | I67: % 1/ | J67: No. | K67: % 1/ | L67: No. | M67: % 1/ | N67: No. | O67: % 1/
A69: Total Nacional 2/ | B69: =B8 -> 3307702.6 | C69: =C8 -> 100 | D69: =D8 -> 1461593.8 | E69: =E8 -> 44.187583 | F69: =F8 -> 191539.94 | G69: =G8 -> 5.7907245 | H69: =H8 -> 1174098.1 | I69: =I8 -> 35.495878 | ... O69: =O8 -> 12.808655
A71: Rama de Actividad (1 dig.)
A72: Agricultura, Silvicultura, Caza y Pesca | B72: =[1]MercLab!C153 -> 1191562 | C72: =IF(ISNUMBER(B72/B$69*100),B72/B$69*100,0) -> 36.023855 | D72: =F72+H72+J72 -> 349791.67 | E72: =IF(ISNUMBER(D72/D$69*100),D72/D$69*100,0) -> 23.932208 | F72: =[1]MercLab!D153 -> 0 | G72: =IF(ISNUMBER(F72/F$69*100),F72/F$69*100,0) -> 0 | H72: =[1]MercLab!E153 -> 349791.67 | I72: =IF(ISNUMBER(H72/H$69*100),H72/H$69*100,0) -> 29.792373 | J72: =[1]MercLab!F153 -> 0 | K72: =IF(ISNUMBER(J72/J$69*100),J72/J$69*100,0) -> 0 | L72: =[1]MercLab!G153 -> 607360.68 | M72: =IF(ISNUMBER(L72/L$69*100),L72/L$69*100,0) -> 42.698613 | N72: =[1]MercLab!H153 -> 234409.63 | O72: =IF(ISNUMBER(N72/N$69*100),N72/N$69*100,0) -> 55.328064
A73: Explotación de minas y canteras | B73: =[1]MercLab!C154 -> 8492.1965 | C73: =IF(ISNUMBER(B73/B$69*100),B73/B$69*100,0) -> 0.25674003 | D73: =F73+H73+J73 -> 4907.689 | E73: =IF(ISNUMBER(D73/D$69*100),D73/D$69*100,0) -> 0.33577653 | F73: =[1]MercLab!D154 -> 0 | G73: =IF(ISNUMBER(F73/F$69*100),F73/F$69*100,0) -> 0 | H73: =[1]MercLab!E154 -> 4907.689 | I73: =IF(ISNUMBER(H73/H$69*100),H73/H$69*100,0) -> 0.41799652 | J73: =[1]MercLab!F154 -> 0 | K73: =IF(ISNUMBER(J73/J$69*100),J73/J$69*100,0) -> 0 | L73: =[1]MercLab!G154 -> 3141.3394 | M73: =IF(ISNUMBER(L73/L$69*100),L73/L$69*100,0) -> 0.22084214 | N73: =[1]MercLab!H154 -> 443.16815 | O73: =IF(ISNUMBER(N73/N$69*100),N73/N$69*100,0) -> 0.10460166
A74: Industria manufacturera | B74: =[1]MercLab!C155 -> 457801.33 | C74: =IF(ISNUMBER(B74/B$69*100),B74/B$69*100,0) -> 13.840462 | D74: =F74+H74+J74 -> 229766.47 | E74: =IF(ISNUMBER(D74/D$69*100),D74/D$69*100,0) -> 15.720268 | F74: =[1]MercLab!D155 -> 0 | G74: =IF(ISNUMBER(F74/F$69*100),F74/F$69*100,0) -> 0 | H74: =[1]MercLab!E155 -> 229766.47 | I74: =IF(ISNUMBER(H74/H$69*100),H74/H$69*100,0) -> 19.569615 | J74: =[1]MercLab!F155 -> 0 | K74: =IF(ISNUMBER(J74/J$69*100),J74/J$69*100,0) -> 0 | L74: =[1]MercLab!G155 -> 180002.39 | M74: =IF(ISNUMBER(L74/L$69*100),L74/L$69*100,0) -> 12.654511 | N74: =[1]MercLab!H155 -> 48032.475 | O74: =IF(ISNUMBER(N74/N$69*100),N74/N$69*100,0) -> 11.337179
A75: Electricidad, gas y agua | B75: =[1]MercLab!C156 -> 11025.833 | C75: =IF(ISNUMBER(B75/B$69*100),B75/B$69*100,0) -> 0.33333809 | D75: =F75+H75+J75 -> 11025.833 | E75: =IF(ISNUMBER(D75/D$69*100),D75/D$69*100,0) -> 0.75437051 | F75: =[1]MercLab!D156 -> 5468.3417 | G75: =IF(ISNUMBER(F75/F$69*100),F75/F$69*100,0) -> 2.8549355 | H75: =[1]MercLab!E156 -> 5557.491 | I75: =IF(ISNUMBER(H75/H$69*100),H75/H$69*100,0) -> 0.4733413 | J75: =[1]MercLab!F156 -> 0 | K75: =IF(ISNUMBER(J75/J$69*100),J75/J$69*100,0) -> 0 | L75: =[1]MercLab!G156 -> 0 | M75: =IF(ISNUMBER(L75/L$69*100),L75/L$69*100,0) -> 0 | N75: =[1]MercLab!H156 -> 0 | O75: =IF(ISNUMBER(N75/N$69*100),N75/N$69*100,0) -> 0
A76: Construcción | B76: =[1]MercLab!C157 -> 168816.94 | C76: =IF(ISNUMBER(B76/B$69*100),B76/B$69*100,0) -> 5.1037521 | D76: =F76+H76+J76 -> 112699.15 | E76: =IF(ISNUMBER(D76/D$69*100),D76/D$69*100,0) -> 7.7107026 | F76: =[1]MercLab!D157 -> 789.81697 | G76: =IF(ISNUMBER(F76/F$69*100),F76/F$69*100,0) -> 0.41235105 | H76: =[1]MercLab!E157 -> 111909.33 | I76: =IF(ISNUMBER(H76/H$69*100),H76/H$69*100,0) -> 9.5315152 | J76: =[1]MercLab!F157 -> 0 | K76: =IF(ISNUMBER(J76/J$69*100),J76/J$69*100,0) -> 0 | L76: =[1]MercLab!G157 -> 53407.168 | M76: =IF(ISNUMBER(L76/L$69*100),L76/L$69*100,0) -> 3.7546257 | N76: =[1]MercLab!H157 -> 2710.6206 | O76: =IF(ISNUMBER(N76/N$69*100),N76/N$69*100,0) -> 0.63979195
A77: Comercio por Mayor / menor, Hoteles / restaurantes | B77: =[1]MercLab!C158 -> 743457.07 | C77: =IF(ISNUMBER(B77/B$69*100),B77/B$69*100,0) -> 22.476539 | D77: =F77+H77+J77 -> 228636.13 | E77: =IF(ISNUMBER(D77/D$69*100),D77/D$69*100,0) -> 15.642932 | F77: =[1]MercLab!D158 -> 0 | G77: =IF(ISNUMBER(F77/F$69*100),F77/F$69*100,0) -> 0 | H77: =[1]MercLab!E158 -> 228636.13 | I77: =IF(ISNUMBER(H77/H$69*100),H77/H$69*100,0) -> 19.473342 | J77: =[1]MercLab!F158 -> 0 | K77: =IF(ISNUMBER(J77/J$69*100),J77/J$69*100,0) -> 0 | L77: =[1]MercLab!G158 -> 390639.58 | M77: =IF(ISNUMBER(L77/L$69*100),L77/L$69*100,0) -> 27.462707 | N77: =[1]MercLab!H158 -> 124181.36 | O77: =IF(ISNUMBER(N77/N$69*100),N77/N$69*100,0) -> 29.310717
A78: Transp. almac. y comunicaciones | B78: =[1]MercLab!C159 -> 117615.56 | C78: =IF(ISNUMBER(B78/B$69*100),B78/B$69*100,0) -> 3.5558082 | D78: =F78+H78+J78 -> 55247.281 | E78: =IF(ISNUMBER(D78/D$69*100),D78/D$69*100,0) -> 3.779934 | F78: =[1]MercLab!D159 -> 3571.0515 | G78: =IF(ISNUMBER(F78/F$69*100),F78/F$69*100,0) -> 1.86439 | H78: =[1]MercLab!E159 -> 51676.229 | I78: =IF(ISNUMBER(H78/H$69*100),H78/H$69*100,0) -> 4.4013555 | J78: =[1]MercLab!F159 -> 0 | K78: =IF(ISNUMBER(J78/J$69*100),J78/J$69*100,0) -> 0 | L78: =[1]MercLab!G159 -> 60033.874 | M78: =IF(ISNUMBER(L78/L$69*100),L78/L$69*100,0) -> 4.2204957 | N78: =[1]MercLab!H159 -> 2334.4035 | O78: =IF(ISNUMBER(N78/N$69*100),N78/N$69*100,0) -> 0.55099283
A79: Estab. finac. seguros, Bienes inmuebles y servicios | B79: =[1]MercLab!C160 -> 101772.11 | C79: =IF(ISNUMBER(B79/B$69*100),B79/B$69*100,0) -> 3.0768217 | D79: =F79+H79+J79 -> 78294.391 | E79: =IF(ISNUMBER(D79/D$69*100),D79/D$69*100,0) -> 5.3567818 | F79: =[1]MercLab!D160 -> 3135.6392 | G79: =IF(ISNUMBER(F79/F$69*100),F79/F$69*100,0) -> 1.637068 | H79: =[1]MercLab!E160 -> 75158.752 | I79: =IF(ISNUMBER(H79/H$69*100),H79/H$69*100,0) -> 6.4014033 | J79: =[1]MercLab!F160 -> 0 | K79: =IF(ISNUMBER(J79/J$69*100),J79/J$69*100,0) -> 0 | L79: =[1]MercLab!G160 -> 22535.161 | M79: =IF(ISNUMBER(L79/L$69*100),L79/L$69*100,0) -> 1.5842647 | N79: =[1]MercLab!H160 -> 942.55912 | O79: =IF(ISNUMBER(N79/N$69*100),N79/N$69*100,0) -> 0.22247367
A80: Servicios Comunales, Sociales y Personales | B80: =[1]MercLab!C161 -> 499747.74 | C80: =IF(ISNUMBER(B80/B$69*100),B80/B$69*100,0) -> 15.108606 | D80: =F80+H80+J80 -> 388701.42 | E80: =IF(ISNUMBER(D80/D$69*100),D80/D$69*100,0) -> 26.594353 | F80: =[1]MercLab!D161 -> 177897.35 | G80: =IF(ISNUMBER(F80/F$69*100),F80/F$69*100,0) -> 92.877418 | H80: =[1]MercLab!E161 -> 114848.26 | I80: =IF(ISNUMBER(H80/H$69*100),H80/H$69*100,0) -> 9.7818286 | J80: =[1]MercLab!F161 -> 95955.804 | K80: =IF(ISNUMBER(J80/J$69*100),J80/J$69*100,0) -> 100 | L80: =[1]MercLab!G161 -> 102070.73 | M80: =IF(ISNUMBER(L80/L$69*100),L80/L$69*100,0) -> 7.1757668 | N80: =[1]MercLab!H161 -> 8975.5887 | O80: =IF(ISNUMBER(N80/N$69*100),N80/N$69*100,0) -> 2.118522
A81: No sabe, No responde | B81: =[1]MercLab!C162 -> 7411.8189 | C81: =IF(ISNUMBER(B81/B$69*100),B81/B$69*100,0) -> 0.22407755 | D81: =F81+H81+J81 -> 2523.7808 | E81: =IF(ISNUMBER(D81/D$69*100),D81/D$69*100,0) -> 0.1726732 | F81: =[1]MercLab!D162 -> 677.7392 | G81: =IF(ISNUMBER(F81/F$69*100),F81/F$69*100,0) -> 0.35383701 | H81: =[1]MercLab!E162 -> 1846.0416 | I81: =IF(ISNUMBER(H81/H$69*100),H81/H$69*100,0) -> 0.15723061 | J81: =[1]MercLab!F162 -> 0 | K81: =IF(ISNUMBER(J81/J$69*100),J81/J$69*100,0) -> 0 | L81: =[1]MercLab!G162 -> 3245.6379 | M81: =IF(ISNUMBER(L81/L$69*100),L81/L$69*100,0) -> 0.22817453 | N81: =[1]MercLab!H162 -> 1642.4001 | O81: =IF(ISNUMBER(N81/N$69*100),N81/N$69*100,0) -> 0.38765822
D82: =F82+H82+J82 -> 0
A83: Ocupación (1 Dig.)
A84: Profesionales, Técnicos y PEOA | B84: =[1]MercLab!C165 -> 255908.17 | C84: =IF(ISNUMBER(B84/B$69*100),B84/B$69*100,0) -> 7.7367347 | D84: =F84+H84+J84 -> 218976.41 | E84: =IF(ISNUMBER(D84/D$69*100),D84/D$69*100,0) -> 14.982029 | F84: =[1]MercLab!D165 -> 110348.56 | G84: =IF(ISNUMBER(F84/F$69*100),F84/F$69*100,0) -> 57.611255 | H84: =[1]MercLab!E165 -> 107911.78 | I84: =IF(ISNUMBER(H84/H$69*100),H84/H$69*100,0) -> 9.1910365 | J84: =[1]MercLab!F165 -> 716.06224 | K84: =IF(ISNUMBER(J84/J$69*100),J84/J$69*100,0) -> 0.74624172 | L84: =[1]MercLab!G165 -> 33055.195 | M84: =IF(ISNUMBER(L84/L$69*100),L84/L$69*100,0) -> 2.3238432 | N84: =[1]MercLab!H165 -> 3876.5691 | O84: =IF(ISNUMBER(N84/N$69*100),N84/N$69*100,0) -> 0.91499255
A85: Directores Gerentes y Administ. Grales. | B85: =[1]MercLab!C166 -> 100970.56 | C85: =IF(ISNUMBER(B85/B$69*100),B85/B$69*100,0) -> 3.0525889 | D85: =F85+H85+J85 -> 53228.95 | E85: =IF(ISNUMBER(D85/D$69*100),D85/D$69*100,0) -> 3.6418429 | F85: =[1]MercLab!D166 -> 18555.327 | G85: =IF(ISNUMBER(F85/F$69*100),F85/F$69*100,0) -> 9.6874455 | H85: =[1]MercLab!E166 -> 34673.623 | I85: =IF(ISNUMBER(H85/H$69*100),H85/H$69*100,0) -> 2.9532136 | J85: =[1]MercLab!F166 -> 0 | K85: =IF(ISNUMBER(J85/J$69*100),J85/J$69*100,0) -> 0 | L85: =[1]MercLab!G166 -> 46659.331 | M85: =IF(ISNUMBER(L85/L$69*100),L85/L$69*100,0) -> 3.2802399 | N85: =[1]MercLab!H166 -> 1082.2798 | O85: =IF(ISNUMBER(N85/N$69*100),N85/N$69*100,0) -> 0.25545216
A86: Empleados de Oficina | B86: =[1]MercLab!C167 -> 80134.604 | C86: =IF(ISNUMBER(B86/B$69*100),B86/B$69*100,0) -> 2.4226666 | D86: =F86+H86+J86 -> 75358.449 | E86: =IF(ISNUMBER(D86/D$69*100),D86/D$69*100,0) -> 5.1559092 | F86: =[1]MercLab!D167 -> 15790.373 | G86: =IF(ISNUMBER(F86/F$69*100),F86/F$69*100,0) -> 8.2439063 | H86: =[1]MercLab!E167 -> 59568.076 | I86: =IF(ISNUMBER(H86/H$69*100),H86/H$69*100,0) -> 5.0735179 | J86: =[1]MercLab!F167 -> 0 | K86: =IF(ISNUMBER(J86/J$69*100),J86/J$69*100,0) -> 0 | L86: =[1]MercLab!G167 -> 3166.0461 | M86: =IF(ISNUMBER(L86/L$69*100),L86/L$69*100,0) -> 0.22257907 | N86: =[1]MercLab!H167 -> 1610.1089 | O86: =IF(ISNUMBER(N86/N$69*100),N86/N$69*100,0) -> 0.38003647
A87: Comerciantes y Vendedores | B87: =[1]MercLab!C168 -> 528573.81 | C87: =IF(ISNUMBER(B87/B$69*100),B87/B$69*100,0) -> 15.980089 | D87: =F87+H87+J87 -> 111217.14 | E87: =IF(ISNUMBER(D87/D$69*100),D87/D$69*100,0) -> 7.6093055 | F87: =[1]MercLab!D168 -> 450.93495 | G87: =IF(ISNUMBER(F87/F$69*100),F87/F$69*100,0) -> 0.23542607 | H87: =[1]MercLab!E168 -> 110766.2 | I87: =IF(ISNUMBER(H87/H$69*100),H87/H$69*100,0) -> 9.4341526 | J87: =[1]MercLab!F168 -> 0 | K87: =IF(ISNUMBER(J87/J$69*100),J87/J$69*100,0) -> 0 | L87: =[1]MercLab!G168 -> 298298.05 | M87: =IF(ISNUMBER(L87/L$69*100),L87/L$69*100,0) -> 20.970921 | N87: =[1]MercLab!H168 -> 119058.63 | O87: =IF(ISNUMBER(N87/N$69*100),N87/N$69*100,0) -> 28.101591
A88: Agricultores, Ganaderos y Trab. Agrop. | B88: =[1]MercLab!C169 -> 1148206.8 | C88: =IF(ISNUMBER(B88/B$69*100),B88/B$69*100,0) -> 34.713122 | D88: =F88+H88+J88 -> 318318.28 | E88: =IF(ISNUMBER(D88/D$69*100),D88/D$69*100,0) -> 21.778847 | F88: =[1]MercLab!D169 -> 328.48002 | G88: =IF(ISNUMBER(F88/F$69*100),F88/F$69*100,0) -> 0.17149427 | H88: =[1]MercLab!E169 -> 317989.8 | I88: =IF(ISNUMBER(H88/H$69*100),H88/H$69*100,0) -> 27.083751 | J88: =[1]MercLab!F169 -> 0 | K88: =IF(ISNUMBER(J88/J$69*100),J88/J$69*100,0) -> 0 | L88: =[1]MercLab!G169 -> 598669.25 | M88: =IF(ISNUMBER(L88/L$69*100),L88/L$69*100,0) -> 42.087589 | N88: =[1]MercLab!H169 -> 231219.29 | O88: =IF(ISNUMBER(N88/N$69*100),N88/N$69*100,0) -> 54.575044
A89: Conductores de Transporte | B89: =[1]MercLab!C170 -> 84380.073 | C89: =IF(ISNUMBER(B89/B$69*100),B89/B$69*100,0) -> 2.5510175 | D89: =F89+H89+J89 -> 35544.114 | E89: =IF(ISNUMBER(D89/D$69*100),D89/D$69*100,0) -> 2.4318736 | F89: =[1]MercLab!D170 -> 4751.6668 | G89: =IF(ISNUMBER(F89/F$69*100),F89/F$69*100,0) -> 2.4807707 | H89: =[1]MercLab!E170 -> 29988.061 | I89: =IF(ISNUMBER(H89/H$69*100),H89/H$69*100,0) -> 2.554136 | J89: =[1]MercLab!F170 -> 804.38602 | K89: =IF(ISNUMBER(J89/J$69*100),J89/J$69*100,0) -> 0.83828803 | L89: =[1]MercLab!G170 -> 48135.872 | M89: =IF(ISNUMBER(L89/L$69*100),L89/L$69*100,0) -> 3.3840435 | N89: =[1]MercLab!H170 -> 700.08746 | O89: =IF(ISNUMBER(N89/N$69*100),N89/N$69*100,0) -> 0.16524272
A90: Trab. Ind. Textil, Albañilería, Mecánica, etc. | B90: =[1]MercLab!C171 -> 421498.39 | C90: =IF(ISNUMBER(B90/B$69*100),B90/B$69*100,0) -> 12.742935 | D90: =F90+H90+J90 -> 269095.74 | E90: =IF(ISNUMBER(D90/D$69*100),D90/D$69*100,0) -> 18.411116 | F90: =[1]MercLab!D171 -> 7594.8048 | G90: =IF(ISNUMBER(F90/F$69*100),F90/F$69*100,0) -> 3.9651285 | H90: =[1]MercLab!E171 -> 261500.93 | I90: =IF(ISNUMBER(H90/H$69*100),H90/H$69*100,0) -> 22.272495 | J90: =[1]MercLab!F171 -> 0 | K90: =IF(ISNUMBER(J90/J$69*100),J90/J$69*100,0) -> 0 | L90: =[1]MercLab!G171 -> 138803.53 | M90: =IF(ISNUMBER(L90/L$69*100),L90/L$69*100,0) -> 9.7581525 | N90: =[1]MercLab!H171 -> 13599.125 | O90: =IF(ISNUMBER(N90/N$69*100),N90/N$69*100,0) -> 3.2098223
A91: Trab. Area Grafica, Quim., Alimentos, etc. | B91: =[1]MercLab!C172 -> 181334.27 | C91: =IF(ISNUMBER(B91/B$69*100),B91/B$69*100,0) -> 5.4821818 | D91: =F91+H91+J91 -> 43474.59 | E91: =IF(ISNUMBER(D91/D$69*100),D91/D$69*100,0) -> 2.9744646 | F91: =[1]MercLab!D172 -> 296.0692 | G91: =IF(ISNUMBER(F91/F$69*100),F91/F$69*100,0) -> 0.15457309 | H91: =[1]MercLab!E172 -> 43178.521 | I91: =IF(ISNUMBER(H91/H$69*100),H91/H$69*100,0) -> 3.6775907 | J91: =[1]MercLab!F172 -> 0 | K91: =IF(ISNUMBER(J91/J$69*100),J91/J$69*100,0) -> 0 | L91: =[1]MercLab!G172 -> 98185.664 | M91: =IF(ISNUMBER(L91/L$69*100),L91/L$69*100,0) -> 6.9026392 | N91: =[1]MercLab!H172 -> 39674.013 | O91: =IF(ISNUMBER(N91/N$69*100),N91/N$69*100,0) -> 9.3643182
A92: Operador de Carga y Almacenaje | B92: =[1]MercLab!C173 -> 70834.471 | C92: =IF(ISNUMBER(B92/B$69*100),B92/B$69*100,0) -> 2.1415006 | D92: =F92+H92+J92 -> 48964.708 | E92: =IF(ISNUMBER(D92/D$69*100),D92/D$69*100,0) -> 3.35009 | F92: =[1]MercLab!D173 -> 3532.1161 | G92: =IF(ISNUMBER(F92/F$69*100),F92/F$69*100,0) -> 1.8440624 | H92: =[1]MercLab!E173 -> 45158.858 | I92: =IF(ISNUMBER(H92/H$69*100),H92/H$69*100,0) -> 3.8462595 | J92: =[1]MercLab!F173 -> 273.73335 | K92: =IF(ISNUMBER(J92/J$69*100),J92/J$69*100,0) -> 0.28527024 | L92: =[1]MercLab!G173 -> 18964.688 | M92: =IF(ISNUMBER(L92/L$69*100),L92/L$69*100,0) -> 1.3332537 | N92: =[1]MercLab!H173 -> 2905.075 | O92: =IF(ISNUMBER(N92/N$69*100),N92/N$69*100,0) -> 0.68568931
A93: Ocupación de los Servicios | B93: =[1]MercLab!C174 -> 397736.74 | C93: =IF(ISNUMBER(B93/B$69*100),B93/B$69*100,0) -> 12.024562 | D93: =F93+H93+J93 -> 264020.97 | E93: =IF(ISNUMBER(D93/D$69*100),D93/D$69*100,0) -> 18.063909 | F93: =[1]MercLab!D174 -> 27171.413 | G93: =IF(ISNUMBER(F93/F$69*100),F93/F$69*100,0) -> 14.185769 | H93: =[1]MercLab!E174 -> 142687.94 | I93: =IF(ISNUMBER(H93/H$69*100),H93/H$69*100,0) -> 12.152983 | J93: =[1]MercLab!F174 -> 94161.622 | K93: =IF(ISNUMBER(J93/J$69*100),J93/J$69*100,0) -> 98.1302 | L93: =[1]MercLab!G174 -> 126915.62 | M93: =IF(ISNUMBER(L93/L$69*100),L93/L$69*100,0) -> 8.9224101 | N93: =[1]MercLab!H174 -> 6800.1502 | O93: =IF(ISNUMBER(N93/N$69*100),N93/N$69*100,0) -> 1.6050499
A94: No sabe, No responde | B94: =[1]MercLab!C175 -> 38124.65 | C94: =IF(ISNUMBER(B94/B$69*100),B94/B$69*100,0) -> 1.1526021 | D94: =F94+H94+J94 -> 23394.461 | E94: =IF(ISNUMBER(D94/D$69*100),D94/D$69*100,0) -> 1.6006131 | F94: =[1]MercLab!D175 -> 2720.1912 | G94: =IF(ISNUMBER(F94/F$69*100),F94/F$69*100,0) -> 1.4201692 | H94: =[1]MercLab!E175 -> 20674.27 | I94: =IF(ISNUMBER(H94/H$69*100),H94/H$69*100,0) -> 1.760864 | J94: =[1]MercLab!F175 -> 0 | K94: =IF(ISNUMBER(J94/J$69*100),J94/J$69*100,0) -> 0 | L94: =[1]MercLab!G175 -> 11583.315 | M94: =IF(ISNUMBER(L94/L$69*100),L94/L$69*100,0) -> 0.81432911 | N94: =[1]MercLab!H175 -> 3146.8736 | O94: =IF(ISNUMBER(N94/N$69*100),N94/N$69*100,0) -> 0.7427614
A96: ='C01'!$A$46 -> Fuente: Instituto Nacional de Estadística (INE). XL Encuesta Permanente de Hogares de Propósitos Múltiples, Septiembre 2010.
A97: El salario mínimo en el área urbana es Lps. 5,500 y en la área rural es Lps. 4,055 (Promedio de salarios mínimos por rama)
A98: 1/ Porcentaje por columnas
A99: 2/ Porcentaje por filas

Sheet C04
A1: Cuadro No. 4. Personas ocupadas y que declaran ingresos por categoría ocupacional, según dominio, nivel educativo, rango de edad,
A2: sexo, número de salarios mínimos devengados, rama de actividad y ocupación
A3: Ocupación Principal
A4: Categorías | B4: Total Pers. Ocupadas | D4: Pers. que declaran Ing. | F4: Asalariados | N4: Cuenta propia | P4: Trab. fam. no remu. | R4: No Declaran Ingresos
F5: Total | H5: Público | J5: Privado | L5: Doméstico
B6: No. | C6: % 1/ | D6: No. | E6: % 1/ | F6: No. | G6: % 1/ | H6: No. | I6: % 1/ | J6: No. | K6: % 1/ | L6: No. | M6: % 1/ | N6: No. | O6: % 1/ | P6: No. | Q6: % 1/ | R6: No. | S6: % 1/
A8: Total Nacional 2/ | B8: ='C03'!B8 -> 3307702.6 | C8: =SUM(G8,O8,Q8,S8) -> 100 | D8: =[1]MercLab!C186 -> 2807588.4 | E8: =IF(ISNUMBER(D8/$B$8*100),D8/$B$8*100,0) -> 84.880317 | F8: =H8+J8+L8 -> 1446263.6 | G8: =IF(ISNUMBER(F8/$B$8*100),F8/$B$8*100,0) -> 43.724113 | H8: =[1]MercLab!D186 -> 186849.4 | I8: =IF(ISNUMBER(H8/$B$8*100),H8/$B$8*100,0) -> 5.6489178 | J8: =[1]MercLab!E186 -> 1163458.4 | K8: =IF(ISNUMBER(J8/$B$8*100),J8/$B$8*100,0) -> 35.174215 | L8: =[1]MercLab!F186 -> 95955.804 | M8: =IF(ISNUMBER(L8/$B$8*100),L8/$B$8*100,0) -> 2.9009804 | N8: =[1]MercLab!G186 -> 1361324.8 | O8: =IF(ISNUMBER(N8/$B$8*100),N8/$B$8*100,0) -> 41.156205 | P8: ='C03'!N8 -> 423672.2 | Q8: =IF(ISNUMBER(P8/$B$8*100),P8/$B$8*100,0) -> 12.808655 | R8: =B8-(D8+P8) -> 76441.924 | S8: =IF(ISNUMBER(R8/$B$8*100),R8/$B$8*100,0) -> 2.3110277
A10: Dominio
A11: Urbano | B11: ='C03'!B11 -> 1514858.6 | C11: =IF(ISNUMBER(B11/B$8*100),B11/B$8*100,0) -> 45.797908 | D11: =SUM(D12:D14) -> 1369940.9 | E11: =IF(ISNUMBER(D11/D$8*100),D11/D$8*100,0) -> 48.794219 | F11: =SUM(F12:F14) -> 825874.33 | G11: =IF(ISNUMBER(F11/F$8*100),F11/F$8*100,0) -> 57.103997 | H11: =SUM(H12:H14) -> 145789.4 | I11: =IF(ISNUMBER(H11/H$8*100),H11/H$8*100,0) -> 78.025082 | J11: =SUM(J12:J14) -> 615608.46 | K11: =IF(ISNUMBER(J11/J$8*100),J11/J$8*100,0) -> 52.911945 | L11: =SUM(L12:L14) -> 64476.468 | M11: =IF(ISNUMBER(L11/L$8*100),L11/L$8*100,0) -> 67.193922 | N11: =SUM(N12:N14) -> 544066.54 | O11: =IF(ISNUMBER(N11/N$8*100),N11/N$8*100,0) -> 39.96596 | P11: ='C03'!N11 -> 117528.82 | Q11: =IF(ISNUMBER(P11/P$8*100),P11/P$8*100,0) -> 27.740508 | R11: =B11-(D11+P11) -> 27388.907 | S11: =IF(ISNUMBER(R11/R$8*100),R11/R$8*100,0) -> 35.829693
A12: Distrito Central | B12: ='C03'!B12 -> 428208.65 | C12: =IF(ISNUMBER(B12/B$8*100),B12/B$8*100,0) -> 12.945803 | D12: =[1]MercLab!C187 -> 392528.51 | E12: =IF(ISNUMBER(D12/D$8*100),D12/D$8*100,0) -> 13.980985 | F12: =H12+J12+L12 -> 259308.56 | G12: =IF(ISNUMBER(F12/F$8*100),F12/F$8*100,0) -> 17.92955 | H12: =[1]MercLab!D187 -> 59513.824 | I12: =IF(ISNUMBER(H12/H$8*100),H12/H$8*100,0) -> 31.851226 | J12: =[1]MercLab!E187 -> 180676.18 | K12: =IF(ISNUMBER(J12/J$8*100),J12/J$8*100,0) -> 15.529234 | L12: =[1]MercLab!F187 -> 19118.552 | M12: =IF(ISNUMBER(L12/L$8*100),L12/L$8*100,0) -> 19.924331 | N12: =[1]MercLab!G187 -> 133219.95 | O12: =IF(ISNUMBER(N12/N$8*100),N12/N$8*100,0) -> 9.7860514 | P12: ='C03'!N12 -> 28361.141 | Q12: =IF(ISNUMBER(P12/P$8*100),P12/P$8*100,0) -> 6.6941235 | R12: =B12-(D12+P12) -> 7319.004 | S12: =IF(ISNUMBER(R12/R$8*100),R12/R$8*100,0) -> 9.5745942
A13: San Pedro Sula | B13: ='C03'!B13 -> 254743.38 | C13: =IF(ISNUMBER(B13/B$8*100),B13/B$8*100,0) -> 7.7015203 | D13: =[1]MercLab!C188 -> 236744.29 | E13: =IF(ISNUMBER(D13/D$8*100),D13/D$8*100,0) -> 8.4323004 | F13: =H13+J13+L13 -> 151183.15 | G13: =IF(ISNUMBER(F13/F$8*100),F13/F$8*100,0) -> 10.453361 | H13: =[1]MercLab!D188 -> 10346.785 | I13: =IF(ISNUMBER(H13/H$8*100),H13/H$8*100,0) -> 5.5374996 | J13: =[1]MercLab!E188 -> 132260.24 | K13: =IF(ISNUMBER(J13/J$8*100),J13/J$8*100,0) -> 11.367853 | L13: =[1]MercLab!F188 -> 8576.1296 | M13: =IF(ISNUMBER(L13/L$8*100),L13/L$8*100,0) -> 8.9375831 | N13: =[1]MercLab!G188 -> 85561.135 | O13: =IF(ISNUMBER(N13/N$8*100),N13/N$8*100,0) -> 6.2851373 | P13: ='C03'!N13 -> 12394.586 | Q13: =IF(ISNUMBER(P13/P$8*100),P13/P$8*100,0) -> 2.9255131 | R13: =B13-(D13+P13) -> 5604.5084 | S13: =IF(ISNUMBER(R13/R$8*100),R13/R$8*100,0) -> 7.3317208
A14: Resto urbano | B14: ='C03'!B14 -> 831906.56 | C14: =IF(ISNUMBER(B14/B$8*100),B14/B$8*100,0) -> 25.150585 | D14: =[1]MercLab!C189 -> 740668.07 | E14: =IF(ISNUMBER(D14/D$8*100),D14/D$8*100,0) -> 26.380935 | F14: =H14+J14+L14 -> 415382.61 | G14: =IF(ISNUMBER(F14/F$8*100),F14/F$8*100,0) -> 28.721086 | H14: =[1]MercLab!D189 -> 75928.787 | I14: =IF(ISNUMBER(H14/H$8*100),H14/H$8*100,0) -> 40.636356 | J14: =[1]MercLab!E189 -> 302672.04 | K14: =IF(ISNUMBER(J14/J$8*100),J14/J$8*100,0) -> 26.014857 | L14: =[1]MercLab!F189 -> 36781.786 | M14: =IF(ISNUMBER(L14/L$8*100),L14/L$8*100,0) -> 38.332008 | N14: =[1]MercLab!G189 -> 325285.46 | O14: =IF(ISNUMBER(N14/N$8*100),N14/N$8*100,0) -> 23.894771 | P14: ='C03'!N14 -> 76773.094 | Q14: =IF(ISNUMBER(P14/P$8*100),P14/P$8*100,0) -> 18.120871 | R14: =B14-(D14+P14) -> 14465.394 | S14: =IF(ISNUMBER(R14/R$8*100),R14/R$8*100,0) -> 18.923378
A15: Rural | B15: ='C03'!B15 -> 1792844 | C15: =IF(ISNUMBER(B15/B$8*100),B15/B$8*100,0) -> 54.202092 | D15: =[1]MercLab!C190 -> 1437647.6 | E15: =IF(ISNUMBER(D15/D$8*100),D15/D$8*100,0) -> 51.205781 | F15: =H15+J15+L15 -> 620389.27 | G15: =IF(ISNUMBER(F15/F$8*100),F15/F$8*100,0) -> 42.896003 | H15: =[1]MercLab!D190 -> 41060.003 | I15: =IF(ISNUMBER(H15/H$8*100),H15/H$8*100,0) -> 21.974918 | J15: =[1]MercLab!E190 -> 547849.93 | K15: =IF(ISNUMBER(J15/J$8*100),J15/J$8*100,0) -> 47.088055 | L15: =[1]MercLab!F190 -> 31479.336 | M15: =IF(ISNUMBER(L15/L$8*100),L15/L$8*100,0) -> 32.806078 | N15: =[1]MercLab!G190 -> 817258.3 | O15: =IF(ISNUMBER(N15/N$8*100),N15/N$8*100,0) -> 60.03404 | P15: ='C03'!N15 -> 306143.38 | Q15: =IF(ISNUMBER(P15/P$8*100),P15/P$8*100,0) -> 72.259492 | R15: =B15-(D15+P15) -> 49053.017 | S15: =IF(ISNUMBER(R15/R$8*100),R15/R$8*100,0) -> 64.170307
B16: ='C03'!B16 -> 0 | F16: =H16+J16+L16 -> 0
A17: Nivel Educativo
A18: Sin Nivel | B18: ='C03'!B18 -> 416518.61 | C18: =IF(ISNUMBER(B18/B$8*100),B18/B$8*100,0) -> 12.592384 | D18: =[1]MercLab!C192 -> 380358.83 | E18: =IF(ISNUMBER(D18/D$8*100),D18/D$8*100,0) -> 13.547528 | F18: =H18+J18+L18 -> 125070.59 | G18: =IF(ISNUMBER(F18/F$8*100),F18/F$8*100,0) -> 8.6478422 | H18: =[1]MercLab!D192 -> 3226.6478 | I18: =IF(ISNUMBER(H18/H$8*100),H18/H$8*100,0) -> 1.7268708 | J18: =[1]MercLab!E192 -> 112172.97 | K18: =IF(ISNUMBER(J18/J$8*100),J18/J$8*100,0) -> 9.641339 | L18: =[1]MercLab!F192 -> 9670.9779 | M18: =IF(ISNUMBER(L18/L$8*100),L18/L$8*100,0) -> 10.078575 | N18: =[1]MercLab!G192 -> 255288.24 | O18: =IF(ISNUMBER(N18/N$8*100),N18/N$8*100,0) -> 18.752926 | P18: ='C03'!N18 -> 24918.372 | Q18: =IF(ISNUMBER(P18/P$8*100),P18/P$8*100,0) -> 5.8815216 | R18: =B18-(D18+P18) -> 11241.407 | S18: =IF(ISNUMBER(R18/R$8*100),R18/R$8*100,0) -> 14.705813
A19: Primaria | B19: ='C03'!B19 -> 1838776.8 | C19: =IF(ISNUMBER(B19/B$8*100),B19/B$8*100,0) -> 55.590753 | D19: =[1]MercLab!C193 -> 1521612 | E19: =IF(ISNUMBER(D19/D$8*100),D19/D$8*100,0) -> 54.196405 | F19: =H19+J19+L19 -> 693478.3 | G19: =IF(ISNUMBER(F19/F$8*100),F19/F$8*100,0) -> 47.949648 | H19: =[1]MercLab!D193 -> 29111.928 | I19: =IF(ISNUMBER(H19/H$8*100),H19/H$8*100,0) -> 15.580424 | J19: =[1]MercLab!E193 -> 600884.32 | K19: =IF(ISNUMBER(J19/J$8*100),J19/J$8*100,0) -> 51.646395 | L19: =[1]MercLab!F193 -> 63482.055 | M19: =IF(ISNUMBER(L19/L$8*100),L19/L$8*100,0) -> 66.157598 | N19: =[1]MercLab!G193 -> 828133.7 | O19: =IF(ISNUMBER(N19/N$8*100),N19/N$8*100,0) -> 60.832924 | P19: ='C03'!N19 -> 274508.38 | Q19: =IF(ISNUMBER(P19/P$8*100),P19/P$8*100,0) -> 64.792635 | R19: =B19-(D19+P19) -> 42656.365 | S19: =IF(ISNUMBER(R19/R$8*100),R19/R$8*100,0) -> 55.802317
A20: Secundaria | B20: ='C03'!B20 -> 786902.09 | C20: =IF(ISNUMBER(B20/B$8*100),B20/B$8*100,0) -> 23.78999 | D20: =[1]MercLab!C194 -> 663133.65 | E20: =IF(ISNUMBER(D20/D$8*100),D20/D$8*100,0) -> 23.619333 | F20: =H20+J20+L20 -> 430611.5 | G20: =IF(ISNUMBER(F20/F$8*100),F20/F$8*100,0) -> 29.774068 | H20: =[1]MercLab!D194 -> 73442.283 | I20: =IF(ISNUMBER(H20/H$8*100),H20/H$8*100,0) -> 39.305603 | J20: =[1]MercLab!E194 -> 335278.78 | K20: =IF(ISNUMBER(J20/J$8*100),J20/J$8*100,0) -> 28.817428 | L20: =[1]MercLab!F194 -> 21890.435 | M20: =IF(ISNUMBER(L20/L$8*100),L20/L$8*100,0) -> 22.81304 | N20: =[1]MercLab!G194 -> 232522.15 | O20: =IF(ISNUMBER(N20/N$8*100),N20/N$8*100,0) -> 17.080578 | P20: ='C03'!N20 -> 112735 | Q20: =IF(ISNUMBER(P20/P$8*100),P20/P$8*100,0) -> 26.609016 | R20: =B20-(D20+P20) -> 11033.44 | S20: =IF(ISNUMBER(R20/R$8*100),R20/R$8*100,0) -> 14.433755
A21: Superior | B21: ='C03'!B21 -> 250641.9 | C21: =IF(ISNUMBER(B21/B$8*100),B21/B$8*100,0) -> 7.5775222 | D21: =[1]MercLab!C195 -> 229102.87 | E21: =IF(ISNUMBER(D21/D$8*100),D21/D$8*100,0) -> 8.1601303 | F21: =H21+J21+L21 -> 190812.8 | G21: =IF(ISNUMBER(F21/F$8*100),F21/F$8*100,0) -> 13.193501 | H21: =[1]MercLab!D195 -> 79583.194 | I21: =IF(ISNUMBER(H21/H$8*100),H21/H$8*100,0) -> 42.592159 | J21: =[1]MercLab!E195 -> 111229.61 | K21: =IF(ISNUMBER(J21/J$8*100),J21/J$8*100,0) -> 9.5602564 | L21: =[1]MercLab!F195 -> 0 | M21: =IF(ISNUMBER(L21/L$8*100),L21/L$8*100,0) -> 0 | N21: =[1]MercLab!G195 -> 38290.075 | O21: =IF(ISNUMBER(N21/N$8*100),N21/N$8*100,0) -> 2.8127067 | P21: ='C03'!N21 -> 10666.91 | Q21: =IF(ISNUMBER(P21/P$8*100),P21/P$8*100,0) -> 2.5177272 | R21: =B21-(D21+P21) -> 10872.111 | S21: =IF(ISNUMBER(R21/R$8*100),R21/R$8*100,0) -> 14.222708
A22: No sabe, no responde | B22: ='C03'!B22 -> 14863.214 | C22: =IF(ISNUMBER(B22/B$8*100),B22/B$8*100,0) -> 0.44935157 | D22: =[1]MercLab!C196 -> 13381.076 | E22: =IF(ISNUMBER(D22/D$8*100),D22/D$8*100,0) -> 0.4766039 | F22: =H22+J22+L22 -> 6290.3997 | G22: =IF(ISNUMBER(F22/F$8*100),F22/F$8*100,0) -> 0.43494144 | H22: =[1]MercLab!D196 -> 1485.3458 | I22: =IF(ISNUMBER(H22/H$8*100),H22/H$8*100,0) -> 0.79494276 | J22: =[1]MercLab!E196 -> 3892.7188 | K22: =IF(ISNUMBER(J22/J$8*100),J22/J$8*100,0) -> 0.3345817 | L22: =[1]MercLab!F196 -> 912.33508 | M22: =IF(ISNUMBER(L22/L$8*100),L22/L$8*100,0) -> 0.95078676 | N22: =[1]MercLab!G196 -> 7090.6762 | O22: =IF(ISNUMBER(N22/N$8*100),N22/N$8*100,0) -> 0.52086585 | P22: ='C03'!N22 -> 843.53591 | Q22: =IF(ISNUMBER(P22/P$8*100),P22/P$8*100,0) -> 0.19910107 | R22: =B22-(D22+P22) -> 638.60172 | S22: =IF(ISNUMBER(R22/R$8*100),R22/R$8*100,0) -> 0.83540771
F23: =H23+J23+L23 -> 0 | P23: ='C03'!N23 -> 0 | R23: =B23-(D23+P23) -> 0
A24: Rango de Edad
A25: De 10 a 11 años | B25: ='C03'!B25 -> 30106.846 | C25: =IF(ISNUMBER(B25/B$8*100),B25/B$8*100,0) -> 0.91020415 | D25: =[1]MercLab!C198 -> 2924.161 | E25: =IF(ISNUMBER(D25/D$8*100),D25/D$8*100,0) -> 0.10415205 | F25: =H25+J25+L25 -> 1298.5749 | G25: =IF(ISNUMBER(F25/F$8*100),F25/F$8*100,0) -> 0.089788258 | H25: =[1]MercLab!D198 -> 0 | I25: =IF(ISNUMBER(H25/H$8*100),H25/H$8*100,0) -> 0 | J25: =[1]MercLab!E198 -> 1298.5749 | K25: =IF(ISNUMBER(J25/J$8*100),J25/J$8*100,0) -> 0.11161335 | L25: =[1]MercLab!F198 -> 0 | M25: =IF(ISNUMBER(L25/L$8*100),L25/L$8*100,0) -> 0 | N25: =[1]MercLab!G198 -> 1625.5861 | O25: =IF(ISNUMBER(N25/N$8*100),N25/N$8*100,0) -> 0.11941206 | P25: ='C03'!N25 -> 27182.685 | Q25: =IF(ISNUMBER(P25/P$8*100),P25/P$8*100,0) -> 6.4159708 | R25: =B25-(D25+P25) -> 0 | S25: =IF(ISNUMBER(R25/R$8*100),R25/R$8*100,0) -> 0
A26: De 12 a 14 años | B26: ='C03'!B26 -> 137805.5 | C26: =IF(ISNUMBER(B26/B$8*100),B26/B$8*100,0) -> 4.1661998 | D26: =[1]MercLab!C199 -> 38822.547 | E26: =IF(ISNUMBER(D26/D$8*100),D26/D$8*100,0) -> 1.382772 | F26: =H26+J26+L26 -> 30293.75 | G26: =IF(ISNUMBER(F26/F$8*100),F26/F$8*100,0) -> 2.0946216 | H26: =[1]MercLab!D199 -> 0 | I26: =IF(ISNUMBER(H26/H$8*100),H26/H$8*100,0) -> 0 | J26: =[1]MercLab!E199 -> 28688.641 | K26: =IF(ISNUMBER(J26/J$8*100),J26/J$8*100,0) -> 2.4658072 | L26: =[1]MercLab!F199 -> 1605.1091 | M26: =IF(ISNUMBER(L26/L$8*100),L26/L$8*100,0) -> 1.6727588 | N26: =[1]MercLab!G199 -> 8528.7971 | O26: =IF(ISNUMBER(N26/N$8*100),N26/N$8*100,0) -> 0.62650712 | P26: ='C03'!N26 -> 98435.483 | Q26: =IF(ISNUMBER(P26/P$8*100),P26/P$8*100,0) -> 23.233878 | R26: =B26-(D26+P26) -> 547.46671 | S26: =IF(ISNUMBER(R26/R$8*100),R26/R$8*100,0) -> 0.71618646
A27: De 15 a 18 años | B27: ='C03'!B27 -> 315663.75 | C27: =IF(ISNUMBER(B27/B$8*100),B27/B$8*100,0) -> 9.5432932 | D27: =[1]MercLab!C200 -> 185700.38 | E27: =IF(ISNUMBER(D27/D$8*100),D27/D$8*100,0) -> 6.6142308 | F27: =H27+J27+L27 -> 150384.8 | G27: =IF(ISNUMBER(F27/F$8*100),F27/F$8*100,0) -> 10.39816 | H27: =[1]MercLab!D200 -> 234.58346 | I27: =IF(ISNUMBER(H27/H$8*100),H27/H$8*100,0) -> 0.12554681 | J27: =[1]MercLab!E200 -> 131291.23 | K27: =IF(ISNUMBER(J27/J$8*100),J27/J$8*100,0) -> 11.284566 | L27: =[1]MercLab!F200 -> 18858.988 | M27: =IF(ISNUMBER(L27/L$8*100),L27/L$8*100,0) -> 19.653827 | N27: =[1]MercLab!G200 -> 35315.579 | O27: =IF(ISNUMBER(N27/N$8*100),N27/N$8*100,0) -> 2.5942066 | P27: ='C03'!N27 -> 126081.43 | Q27: =IF(ISNUMBER(P27/P$8*100),P27/P$8*100,0) -> 29.759194 | R27: =B27-(D27+P27) -> 3881.9384 | S27: =IF(ISNUMBER(R27/R$8*100),R27/R$8*100,0) -> 5.0782846
A28: De 19 a 24 años | B28: ='C03'!B28 -> 547371.39 | C28: =IF(ISNUMBER(B28/B$8*100),B28/B$8*100,0) -> 16.548386 | D28: =[1]MercLab!C201 -> 455722.59 | E28: =IF(ISNUMBER(D28/D$8*100),D28/D$8*100,0) -> 16.231816 | F28: =H28+J28+L28 -> 341293.17 | G28: =IF(ISNUMBER(F28/F$8*100),F28/F$8*100,0) -> 23.598269 | H28: =[1]MercLab!D201 -> 19657.629 | I28: =IF(ISNUMBER(H28/H$8*100),H28/H$8*100,0) -> 10.520574 | J28: =[1]MercLab!E201 -> 299728.32 | K28: =IF(ISNUMBER(J28/J$8*100),J28/J$8*100,0) -> 25.761842 | L28: =[1]MercLab!F201 -> 21907.224 | M28: =IF(ISNUMBER(L28/L$8*100),L28/L$8*100,0) -> 22.830536 | N28: =[1]MercLab!G201 -> 114429.42 | O28: =IF(ISNUMBER(N28/N$8*100),N28/N$8*100,0) -> 8.4057392 | P28: ='C03'!N28 -> 80103.046 | Q28: =IF(ISNUMBER(P28/P$8*100),P28/P$8*100,0) -> 18.906845 | R28: =B28-(D28+P28) -> 11545.758 | S28: =IF(ISNUMBER(R28/R$8*100),R28/R$8*100,0) -> 15.103961
A29: De 25 a 29 años | B29: ='C03'!B29 -> 375584.15 | C29: =IF(ISNUMBER(B29/B$8*100),B29/B$8*100,0) -> 11.354834 | D29: =[1]MercLab!C202 -> 338144.76 | E29: =IF(ISNUMBER(D29/D$8*100),D29/D$8*100,0) -> 12.043958 | F29: =H29+J29+L29 -> 217482.82 | G29: =IF(ISNUMBER(F29/F$8*100),F29/F$8*100,0) -> 15.037564 | H29: =[1]MercLab!D202 -> 21788.731 | I29: =IF(ISNUMBER(H29/H$8*100),H29/H$8*100,0) -> 11.661119 | J29: =[1]MercLab!E202 -> 181262.46 | K29: =IF(ISNUMBER(J29/J$8*100),J29/J$8*100,0) -> 15.579625 | L29: =[1]MercLab!F202 -> 14431.633 | M29: =IF(ISNUMBER(L29/L$8*100),L29/L$8*100,0) -> 15.039875 | N29: =[1]MercLab!G202 -> 120661.94 | O29: =IF(ISNUMBER(N29/N$8*100),N29/N$8*100,0) -> 8.8635669 | P29: ='C03'!N29 -> 29079.72 | Q29: =IF(ISNUMBER(P29/P$8*100),P29/P$8*100,0) -> 6.8637308 | R29: =B29-(D29+P29) -> 8359.6676 | S29: =IF(ISNUMBER(R29/R$8*100),R29/R$8*100,0) -> 10.935972
A30: De 30 a 35 años | B30: ='C03'!B30 -> 422749 | C30: =IF(ISNUMBER(B30/B$8*100),B30/B$8*100,0) -> 12.780744 | D30: =[1]MercLab!C203 -> 391943.44 | E30: =IF(ISNUMBER(D30/D$8*100),D30/D$8*100,0) -> 13.960146 | F30: =H30+J30+L30 -> 215802.31 | G30: =IF(ISNUMBER(F30/F$8*100),F30/F$8*100,0) -> 14.921367 | H30: =[1]MercLab!D203 -> 29330.095 | I30: =IF(ISNUMBER(H30/H$8*100),H30/H$8*100,0) -> 15.697184 | J30: =[1]MercLab!E203 -> 174776.73 | K30: =IF(ISNUMBER(J30/J$8*100),J30/J$8*100,0) -> 15.022173 | L30: =[1]MercLab!F203 -> 11695.483 | M30: =IF(ISNUMBER(L30/L$8*100),L30/L$8*100,0) -> 12.188407 | N30: =[1]MercLab!G203 -> 176141.14 | O30: =IF(ISNUMBER(N30/N$8*100),N30/N$8*100,0) -> 12.93895 | P30: ='C03'!N30 -> 19160.181 | Q30: =IF(ISNUMBER(P30/P$8*100),P30/P$8*100,0) -> 4.5224069 | R30: =B30-(D30+P30) -> 11645.374 | S30: =IF(ISNUMBER(R30/R$8*100),R30/R$8*100,0) -> 15.234277
A31: De 36 a 44 años | B31: ='C03'!B31 -> 496221.37 | C31: =IF(ISNUMBER(B31/B$8*100),B31/B$8*100,0) -> 15.001995 | D31: =[1]MercLab!C204 -> 467173.08 | E31: =IF(ISNUMBER(D31/D$8*100),D31/D$8*100,0) -> 16.639657 | F31: =H31+J31+L31 -> 219101.77 | G31: =IF(ISNUMBER(F31/F$8*100),F31/F$8*100,0) -> 15.149505 | H31: =[1]MercLab!D204 -> 42467.618 | I31: =IF(ISNUMBER(H31/H$8*100),H31/H$8*100,0) -> 22.72826 | J31: =[1]MercLab!E204 -> 165947.6 | K31: =IF(ISNUMBER(J31/J$8*100),J31/J$8*100,0) -> 14.263303 | L31: =[1]MercLab!F204 -> 10686.554 | M31: =IF(ISNUMBER(L31/L$8*100),L31/L$8*100,0) -> 11.136954 | N31: =[1]MercLab!G204 -> 248071.31 | O31: =IF(ISNUMBER(N31/N$8*100),N31/N$8*100,0) -> 18.222786 | P31: ='C03'!N31 -> 16474.757 | Q31: =IF(ISNUMBER(P31/P$8*100),P31/P$8*100,0) -> 3.8885623 | R31: =B31-(D31+P31) -> 12573.539 | S31: =IF(ISNUMBER(R31/R$8*100),R31/R$8*100,0) -> 16.448486
A32: De 45 a 59 años | B32: ='C03'!B32 -> 651800.74 | C32: =IF(ISNUMBER(B32/B$8*100),B32/B$8*100,0) -> 19.705543 | D32: =[1]MercLab!C205 -> 618990.83 | E32: =IF(ISNUMBER(D32/D$8*100),D32/D$8*100,0) -> 22.047064 | F32: =H32+J32+L32 -> 214513.87 | G32: =IF(ISNUMBER(F32/F$8*100),F32/F$8*100,0) -> 14.83228 | H32: =[1]MercLab!D205 -> 62680.945 | I32: =IF(ISNUMBER(H32/H$8*100),H32/H$8*100,0) -> 33.546239 | J32: =[1]MercLab!E205 -> 139422.81 | K32: =IF(ISNUMBER(J32/J$8*100),J32/J$8*100,0) -> 11.98348 | L32: =[1]MercLab!F205 -> 12410.118 | M32: =IF(ISNUMBER(L32/L$8*100),L32/L$8*100,0) -> 12.93316 | N32: =[1]MercLab!G205 -> 404476.96 | O32: =IF(ISNUMBER(N32/N$8*100),N32/N$8*100,0) -> 29.712009 | P32: ='C03'!N32 -> 18458.883 | Q32: =IF(ISNUMBER(P32/P$8*100),P32/P$8*100,0) -> 4.3568785 | R32: =B32-(D32+P32) -> 14351.019 | S32: =IF(ISNUMBER(R32/R$8*100),R32/R$8*100,0) -> 18.773754
A33: De 60 años y más | B33: ='C03'!B33 -> 330399.82 | C33: =IF(ISNUMBER(B33/B$8*100),B33/B$8*100,0) -> 9.9888009 | D33: =[1]MercLab!C206 -> 308166.65 | E33: =IF(ISNUMBER(D33/D$8*100),D33/D$8*100,0) -> 10.976204 | F33: =H33+J33+L33 -> 56092.53 | G33: =IF(ISNUMBER(F33/F$8*100),F33/F$8*100,0) -> 3.8784444 | H33: =[1]MercLab!D206 -> 10689.797 | I33: =IF(ISNUMBER(H33/H$8*100),H33/H$8*100,0) -> 5.7210765 | J33: =[1]MercLab!E206 -> 41042.039 | K33: =IF(ISNUMBER(J33/J$8*100),J33/J$8*100,0) -> 3.5275897 | L33: =[1]MercLab!F206 -> 4360.6939 | M33: =IF(ISNUMBER(L33/L$8*100),L33/L$8*100,0) -> 4.5444817 | N33: =[1]MercLab!G206 -> 252074.12 | O33: =IF(ISNUMBER(N33/N$8*100),N33/N$8*100,0) -> 18.516823 | P33: ='C03'!N33 -> 8696.0148 | Q33: =IF(ISNUMBER(P33/P$8*100),P33/P$8*100,0) -> 2.0525337 | R33: =B33-(D33+P33) -> 13537.161 | S33: =IF(ISNUMBER(R33/R$8*100),R33/R$8*100,0) -> 17.709079
A35: Sexo
A36: Hombre | B36: ='C03'!B36 -> 2102297.2 | C36: =IF(ISNUMBER(B36/B$8*100),B36/B$8*100,0) -> 63.557624 | D36: =[1]MercLab!C208 -> 1769346.2 | E36: =IF(ISNUMBER(D36/D$8*100),D36/D$8*100,0) -> 63.02014 | F36: =H36+J36+L36 -> 956166.1 | G36: =IF(ISNUMBER(F36/F$8*100),F36/F$8*100,0) -> 66.112851 | H36: =[1]MercLab!D208 -> 80660.503 | I36: =IF(ISNUMBER(H36/H$8*100),H36/H$8*100,0) -> 43.168725 | J36: =[1]MercLab!E208 -> 869591.61 | K36: =IF(ISNUMBER(J36/J$8*100),J36/J$8*100,0) -> 74.74196 | L36: =[1]MercLab!F208 -> 5913.9802 | M36: =IF(ISNUMBER(L36/L$8*100),L36/L$8*100,0) -> 6.1632335 | N36: =[1]MercLab!G208 -> 813180.05 | O36: =IF(ISNUMBER(N36/N$8*100),N36/N$8*100,0) -> 59.734461 | P36: ='C03'!N36 -> 279972.47 | Q36: =IF(ISNUMBER(P36/P$8*100),P36/P$8*100,0) -> 66.082332 | R36: =B36-(D36+P36) -> 52978.526 | S36: =IF(ISNUMBER(R36/R$8*100),R36/R$8*100,0) -> 69.30559
A37: Mujer | B37: ='C03'!B37 -> 1205405.4 | C37: =IF(ISNUMBER(B37/B$8*100),B37/B$8*100,0) -> 36.442376 | D37: =[1]MercLab!C209 -> 1038242.3 | E37: =IF(ISNUMBER(D37/D$8*100),D37/D$8*100,0) -> 36.97986 | F37: =H37+J37+L37 -> 490097.5 | G37: =IF(ISNUMBER(F37/F$8*100),F37/F$8*100,0) -> 33.887149 | H37: =[1]MercLab!D209 -> 106188.9 | I37: =IF(ISNUMBER(H37/H$8*100),H37/H$8*100,0) -> 56.831275 | J37: =[1]MercLab!E209 -> 293866.78 | K37: =IF(ISNUMBER(J37/J$8*100),J37/J$8*100,0) -> 25.25804 | L37: =[1]MercLab!F209 -> 90041.823 | M37: =IF(ISNUMBER(L37/L$8*100),L37/L$8*100,0) -> 93.836767 | N37: =[1]MercLab!G209 -> 548144.79 | O37: =IF(ISNUMBER(N37/N$8*100),N37/N$8*100,0) -> 40.265539 | P37: ='C03'!N37 -> 143699.73 | Q37: =IF(ISNUMBER(P37/P$8*100),P37/P$8*100,0) -> 33.917668 | R37: =B37-(D37+P37) -> 23463.398 | S37: =IF(ISNUMBER(R37/R$8*100),R37/R$8*100,0) -> 30.69441
A39: No. de Salarios Mínimos 3/ | B39: ='C03'!B39 -> 2807588.4 | C39: =IF(ISNUMBER(B39/B$8*100),B39/B$8*100,0) -> 84.880317 | D39: =[1]MercLab!C210 -> 2807588.4 | E39: =IF(ISNUMBER(D39/D$8*100),D39/D$8*100,0) -> 100 | F39: =H39+J39+L39 -> 1446263.6 | G39: =IF(ISNUMBER(F39/F$8*100),F39/F$8*100,0) -> 100 | H39: =[1]MercLab!D210 -> 186849.4 | I39: =IF(ISNUMBER(H39/H$8*100),H39/H$8*100,0) -> 100 | J39: =[1]MercLab!E210 -> 1163458.4 | K39: =IF(ISNUMBER(J39/J$8*100),J39/J$8*100,0) -> 100 | L39: =[1]MercLab!F210 -> 95955.804 | M39: =IF(ISNUMBER(L39/L$8*100),L39/L$8*100,0) -> 100 | N39: =[1]MercLab!G210 -> 1361324.8 | O39: =IF(ISNUMBER(N39/N$8*100),N39/N$8*100,0) -> 100 | P39: ='C03'!N39 -> 0 | Q39: =IF(ISNUMBER(P39/P$8*100),P39/P$8*100,0) -> 0 | R39: =B39-(D39+P39) -> 0 | S39: =IF(ISNUMBER(R39/R$8*100),R39/R$8*100,0) -> 0
A40: Menos de un salario | B40: ='C03'!B40 -> 1931196.9 | C40: =IF(ISNUMBER(B40/B$8*100),B40/B$8*100,0) -> 58.38484 | D40: =SUM(D41:D43) -> 1931196.9 | E40: =IF(ISNUMBER(D40/D$8*100),D40/D$8*100,0) -> 68.784898 | F40: =H40+J40+L40 -> 838796.13 | G40: =IF(ISNUMBER(F40/F$8*100),F40/F$8*100,0) -> 57.997458 | H40: =SUM(H41:H43) -> 21437.57 | I40: =IF(ISNUMBER(H40/H$8*100),H40/H$8*100,0) -> 11.473181 | J40: =SUM(J41:J43) -> 729984.63 | K40: =IF(ISNUMBER(J40/J$8*100),J40/J$8*100,0) -> 62.74265 | L40: =SUM(L41:L43) -> 87373.925 | M40: =IF(ISNUMBER(L40/L$8*100),L40/L$8*100,0) -> 91.056426 | N40: =SUM(N41:N43) -> 1092400.7 | O40: =IF(ISNUMBER(N40/N$8*100),N40/N$8*100,0) -> 80.245412 | P40: ='C03'!N40 -> 0 | Q40: =IF(ISNUMBER(P40/P$8*100),P40/P$8*100,0) -> 0 | R40: =B40-(D40+P40) -> 0 | S40: =IF(ISNUMBER(R40/R$8*100),R40/R$8*100,0) -> 0
A41: Menos de 1 salario y trab <36 horas | B41: ='C03'!B41 -> 992520.61 | C41: =IF(ISNUMBER(B41/B$8*100),B41/B$8*100,0) -> 30.006344 | D41: =[1]MercLab!C211 -> 992520.61 | E41: =IF(ISNUMBER(D41/D$8*100),D41/D$8*100,0) -> 35.351357 | F41: =H41+J41+L41 -> 292424.47 | G41: =IF(ISNUMBER(F41/F$8*100),F41/F$8*100,0) -> 20.219307 | H41: =[1]MercLab!D211 -> 8978.9999 | I41: =IF(ISNUMBER(H41/H$8*100),H41/H$8*100,0) -> 4.8054744 | J41: =[1]MercLab!E211 -> 261400.51 | K41: =IF(ISNUMBER(J41/J$8*100),J41/J$8*100,0) -> 22.467542 | L41: =[1]MercLab!F211 -> 22044.968 | M41: =IF(ISNUMBER(L41/L$8*100),L41/L$8*100,0) -> 22.974086 | N41: =[1]MercLab!G211 -> 700096.13 | O41: =IF(ISNUMBER(N41/N$8*100),N41/N$8*100,0) -> 51.427559 | P41: ='C03'!N41 -> 0 | Q41: =IF(ISNUMBER(P41/P$8*100),P41/P$8*100,0) -> 0 | R41: =B41-(D41+P41) -> 0 | S41: =IF(ISNUMBER(R41/R$8*100),R41/R$8*100,0) -> 0
A42: Menos de 1 salario y trab >=36 horas | B42: ='C03'!B42 -> 938272.22 | C42: =IF(ISNUMBER(B42/B$8*100),B42/B$8*100,0) -> 28.366282 | D42: =[1]MercLab!C212 -> 938272.22 | E42: =IF(ISNUMBER(D42/D$8*100),D42/D$8*100,0) -> 33.419151 | F42: =H42+J42+L42 -> 546202.22 | G42: =IF(ISNUMBER(F42/F$8*100),F42/F$8*100,0) -> 37.766436 | H42: =[1]MercLab!D212 -> 12458.57 | I42: =IF(ISNUMBER(H42/H$8*100),H42/H$8*100,0) -> 6.667707 | J42: =[1]MercLab!E212 -> 468414.69 | K42: =IF(ISNUMBER(J42/J$8*100),J42/J$8*100,0) -> 40.260545 | L42: =[1]MercLab!F212 -> 65328.957 | M42: =IF(ISNUMBER(L42/L$8*100),L42/L$8*100,0) -> 68.08234 | N42: =[1]MercLab!G212 -> 392070.01 | O42: =IF(ISNUMBER(N42/N$8*100),N42/N$8*100,0) -> 28.800621 | P42: ='C03'!N42 -> 0 | Q42: =IF(ISNUMBER(P42/P$8*100),P42/P$8*100,0) -> 0 | R42: =B42-(D42+P42) -> 0 | S42: =IF(ISNUMBER(R42/R$8*100),R42/R$8*100,0) -> 0
A43: Menos de 1 salario y no decl. horas | B43: ='C03'!B43 -> 404.01826 | C43: =IF(ISNUMBER(B43/B$8*100),B43/B$8*100,0) -> 0.012214468 | D43: =[1]MercLab!C213 -> 404.01826 | E43: =IF(ISNUMBER(D43/D$8*100),D43/D$8*100,0) -> 0.014390224 | F43: =H43+J43+L43 -> 169.4348 | G43: =IF(ISNUMBER(F43/F$8*100),F43/F$8*100,0) -> 0.011715347 | H43: =[1]MercLab!D213 -> 0 | I43: =IF(ISNUMBER(H43/H$8*100),H43/H$8*100,0) -> 0 | J43: =[1]MercLab!E213 -> 169.4348 | K43: =IF(ISNUMBER(J43/J$8*100),J43/J$8*100,0) -> 0.01456303 | L43: =[1]MercLab!F213 -> 0 | M43: =IF(ISNUMBER(L43/L$8*100),L43/L$8*100,0) -> 0 | N43: =[1]MercLab!G213 -> 234.58346 | O43: =IF(ISNUMBER(N43/N$8*100),N43/N$8*100,0) -> 0.017231997 | P43: ='C03'!N43 -> 0 | Q43: =IF(ISNUMBER(P43/P$8*100),P43/P$8*100,0) -> 0 | R43: =B43-(D43+P43) -> 0 | S43: =IF(ISNUMBER(R43/R$8*100),R43/R$8*100,0) -> 0
A44: De 1 a 2 salarios | B44: ='C03'!B44 -> 644053 | C44: =IF(ISNUMBER(B44/B$8*100),B44/B$8*100,0) -> 19.471309 | D44: =[1]MercLab!C214 -> 644053 | E44: =IF(ISNUMBER(D44/D$8*100),D44/D$8*100,0) -> 22.939723 | F44: =H44+J44+L44 -> 451131.72 | G44: =IF(ISNUMBER(F44/F$8*100),F44/F$8*100,0) -> 31.192911 | H44: =[1]MercLab!D214 -> 93128.603 | I44: =IF(ISNUMBER(H44/H$8*100),H44/H$8*100,0) -> 49.841532 | J44: =[1]MercLab!E214 -> 349421.24 | K44: =IF(ISNUMBER(J44/J$8*100),J44/J$8*100,0) -> 30.032981 | L44: =[1]MercLab!F214 -> 8581.8783 | M44: =IF(ISNUMBER(L44/L$8*100),L44/L$8*100,0) -> 8.943574 | N44: =[1]MercLab!G214 -> 192921.28 | O44: =IF(ISNUMBER(N44/N$8*100),N44/N$8*100,0) -> 14.171583 | P44: ='C03'!N44 -> 0 | Q44: =IF(ISNUMBER(P44/P$8*100),P44/P$8*100,0) -> 0 | R44: =B44-(D44+P44) -> 0 | S44: =IF(ISNUMBER(R44/R$8*100),R44/R$8*100,0) -> 0
A45: De 2 a 3 salarios | B45: ='C03'!B45 -> 126367.69 | C45: =IF(ISNUMBER(B45/B$8*100),B45/B$8*100,0) -> 3.8204068 | D45: =[1]MercLab!C215 -> 126367.69 | E45: =IF(ISNUMBER(D45/D$8*100),D45/D$8*100,0) -> 4.5009337 | F45: =H45+J45+L45 -> 85963.974 | G45: =IF(ISNUMBER(F45/F$8*100),F45/F$8*100,0) -> 5.9438662 | H45: =[1]MercLab!D215 -> 36875.954 | I45: =IF(ISNUMBER(H45/H$8*100),H45/H$8*100,0) -> 19.735656 | J45: =[1]MercLab!E215 -> 49088.019 | K45: =IF(ISNUMBER(J45/J$8*100),J45/J$8*100,0) -> 4.2191469 | L45: =[1]MercLab!F215 -> 0 | M45: =IF(ISNUMBER(L45/L$8*100),L45/L$8*100,0) -> 0 | N45: =[1]MercLab!G215 -> 40403.721 | O45: =IF(ISNUMBER(N45/N$8*100),N45/N$8*100,0) -> 2.9679706 | P45: ='C03'!N45 -> 0 | Q45: =IF(ISNUMBER(P45/P$8*100),P45/P$8*100,0) -> 0 | R45: =B45-(D45+P45) -> 0 | S45: =IF(ISNUMBER(R45/R$8*100),R45/R$8*100,0) -> 0
A46: De 3 a 4 salarios | B46: ='C03'!B46 -> 52675.397 | C46: =IF(ISNUMBER(B46/B$8*100),B46/B$8*100,0) -> 1.5925071 | D46: =[1]MercLab!C216 -> 52675.397 | E46: =IF(ISNUMBER(D46/D$8*100),D46/D$8*100,0) -> 1.8761794 | F46: =H46+J46+L46 -> 37915.546 | G46: =IF(ISNUMBER(F46/F$8*100),F46/F$8*100,0) -> 2.6216207 | H46: =[1]MercLab!D216 -> 19458.256 | I46: =IF(ISNUMBER(H46/H$8*100),H46/H$8*100,0) -> 10.413871 | J46: =[1]MercLab!E216 -> 18457.29 | K46: =IF(ISNUMBER(J46/J$8*100),J46/J$8*100,0) -> 1.586416 | L46: =[1]MercLab!F216 -> 0 | M46: =IF(ISNUMBER(L46/L$8*100),L46/L$8*100,0) -> 0 | N46: =[1]MercLab!G216 -> 14759.851 | O46: =IF(ISNUMBER(N46/N$8*100),N46/N$8*100,0) -> 1.084227 | P46: ='C03'!N46 -> 0 | Q46: =IF(ISNUMBER(P46/P$8*100),P46/P$8*100,0) -> 0 | R46: =B46-(D46+P46) -> 0 | S46: =IF(ISNUMBER(R46/R$8*100),R46/R$8*100,0) -> 0
A47: De 4 salarios y más | B47: ='C03'!B47 -> 53295.498 | C47: =IF(ISNUMBER(B47/B$8*100),B47/B$8*100,0) -> 1.6112542 | D47: =[1]MercLab!C217 -> 53295.498 | E47: =IF(ISNUMBER(D47/D$8*100),D47/D$8*100,0) -> 1.898266 | F47: =H47+J47+L47 -> 32456.23 | G47: =IF(ISNUMBER(F47/F$8*100),F47/F$8*100,0) -> 2.2441434 | H47: =[1]MercLab!D217 -> 15949.015 | I47: =IF(ISNUMBER(H47/H$8*100),H47/H$8*100,0) -> 8.5357594 | J47: =[1]MercLab!E217 -> 16507.214 | K47: =IF(ISNUMBER(J47/J$8*100),J47/J$8*100,0) -> 1.4188057 | L47: =[1]MercLab!F217 -> 0 | M47: =IF(ISNUMBER(L47/L$8*100),L47/L$8*100,0) -> 0 | N47: =[1]MercLab!G217 -> 20839.268 | O47: =IF(ISNUMBER(N47/N$8*100),N47/N$8*100,0) -> 1.5308079 | P47: ='C03'!N47 -> 0 | Q47: =IF(ISNUMBER(P47/P$8*100),P47/P$8*100,0) -> 0 | R47: =B47-(D47+P47) -> 0 | S47: =IF(ISNUMBER(R47/R$8*100),R47/R$8*100,0) -> 0
A49: Rama de Actividad
A50: Primaria | B50: ='C03'!B50 -> 1200054.2 | C50: =IF(ISNUMBER(B50/B$8*100),B50/B$8*100,0) -> 36.280595 | D50: =[1]MercLab!C219 -> 915826 | E50: =IF(ISNUMBER(D50/D$8*100),D50/D$8*100,0) -> 32.619667 | F50: =H50+J50+L50 -> 353855.82 | G50: =IF(ISNUMBER(F50/F$8*100),F50/F$8*100,0) -> 24.466897 | H50: =[1]MercLab!D219 -> 0 | I50: =IF(ISNUMBER(H50/H$8*100),H50/H$8*100,0) -> 0 | J50: =[1]MercLab!E219 -> 353855.82 | K50: =IF(ISNUMBER(J50/J$8*100),J50/J$8*100,0) -> 30.414136 | L50: =[1]MercLab!F219 -> 0 | M50: =IF(ISNUMBER(L50/L$8*100),L50/L$8*100,0) -> 0 | N50: =[1]MercLab!G219 -> 561970.18 | O50: =IF(ISNUMBER(N50/N$8*100),N50/N$8*100,0) -> 41.281123 | P50: ='C03'!N50 -> 234852.79 | Q50: =IF(ISNUMBER(P50/P$8*100),P50/P$8*100,0) -> 55.432665 | R50: =B50-(D50+P50) -> 49375.382 | S50: =IF(ISNUMBER(R50/R$8*100),R50/R$8*100,0) -> 64.592019
A51: Secundaria | B51: ='C03'!B51 -> 457801.33 | C51: =IF(ISNUMBER(B51/B$8*100),B51/B$8*100,0) -> 13.840462 | D51: =[1]MercLab!C220 -> 405913.86 | E51: =IF(ISNUMBER(D51/D$8*100),D51/D$8*100,0) -> 14.457741 | F51: =H51+J51+L51 -> 228519.2 | G51: =IF(ISNUMBER(F51/F$8*100),F51/F$8*100,0) -> 15.80066 | H51: =[1]MercLab!D220 -> 0 | I51: =IF(ISNUMBER(H51/H$8*100),H51/H$8*100,0) -> 0 | J51: =[1]MercLab!E220 -> 228519.2 | K51: =IF(ISNUMBER(J51/J$8*100),J51/J$8*100,0) -> 19.641372 | L51: =[1]MercLab!F220 -> 0 | M51: =IF(ISNUMBER(L51/L$8*100),L51/L$8*100,0) -> 0 | N51: =[1]MercLab!G220 -> 177394.67 | O51: =IF(ISNUMBER(N51/N$8*100),N51/N$8*100,0) -> 13.031032 | P51: ='C03'!N51 -> 48032.475 | Q51: =IF(ISNUMBER(P51/P$8*100),P51/P$8*100,0) -> 11.337179 | R51: =B51-(D51+P51) -> 3854.9877 | S51: =IF(ISNUMBER(R51/R$8*100),R51/R$8*100,0) -> 5.0430281
A52: Terciaria | B52: ='C03'!B52 -> 1642435.2 | C52: =IF(ISNUMBER(B52/B$8*100),B52/B$8*100,0) -> 49.654865 | D52: =[1]MercLab!C221 -> 1480522.3 | E52: =IF(ISNUMBER(D52/D$8*100),D52/D$8*100,0) -> 52.732883 | F52: =H52+J52+L52 -> 861364.8 | G52: =IF(ISNUMBER(F52/F$8*100),F52/F$8*100,0) -> 59.55794 | H52: =[1]MercLab!D221 -> 186171.66 | I52: =IF(ISNUMBER(H52/H$8*100),H52/H$8*100,0) -> 99.637281 | J52: =[1]MercLab!E221 -> 579237.34 | K52: =IF(ISNUMBER(J52/J$8*100),J52/J$8*100,0) -> 49.785823 | L52: =[1]MercLab!F221 -> 95955.804 | M52: =IF(ISNUMBER(L52/L$8*100),L52/L$8*100,0) -> 100 | N52: =[1]MercLab!G221 -> 619157.53 | O52: =IF(ISNUMBER(N52/N$8*100),N52/N$8*100,0) -> 45.481982 | P52: ='C03'!N52 -> 139144.53 | Q52: =IF(ISNUMBER(P52/P$8*100),P52/P$8*100,0) -> 32.842498 | R52: =B52-(D52+P52) -> 22768.386 | S52: =IF(ISNUMBER(R52/R$8*100),R52/R$8*100,0) -> 29.785208
A53: No sabe, no responde | B53: ='C03'!B53 -> 7411.8189 | C53: =IF(ISNUMBER(B53/B$8*100),B53/B$8*100,0) -> 0.22407755 | D53: =[1]MercLab!C222 -> 5326.2506 | E53: =IF(ISNUMBER(D53/D$8*100),D53/D$8*100,0) -> 0.18970909 | F53: =H53+J53+L53 -> 2523.7808 | G53: =IF(ISNUMBER(F53/F$8*100),F53/F$8*100,0) -> 0.17450351 | H53: =[1]MercLab!D222 -> 677.7392 | I53: =IF(ISNUMBER(H53/H$8*100),H53/H$8*100,0) -> 0.3627195 | J53: =[1]MercLab!E222 -> 1846.0416 | K53: =IF(ISNUMBER(J53/J$8*100),J53/J$8*100,0) -> 0.15866847 | L53: =[1]MercLab!F222 -> 0 | M53: =IF(ISNUMBER(L53/L$8*100),L53/L$8*100,0) -> 0 | N53: =[1]MercLab!G222 -> 2802.4698 | O53: =IF(ISNUMBER(N53/N$8*100),N53/N$8*100,0) -> 0.20586341 | P53: ='C03'!N53 -> 1642.4001 | Q53: =IF(ISNUMBER(P53/P$8*100),P53/P$8*100,0) -> 0.38765822 | R53: =B53-(D53+P53) -> 443.16815 | S53: =IF(ISNUMBER(R53/R$8*100),R53/R$8*100,0) -> 0.5797449
A55: ='C01'!$A$46 -> Fuente: Instituto Nacional de Estadística (INE). XL Encuesta Permanente de Hogares de Propósitos Múltiples, Septiembre 2010.
A56: ='C02'!$A$46 -> El salario mínimo en el área urbana es Lps. 5,500 y en la área rural es Lps. 4,055 (Promedio de salarios mínimos por rama)
A57: 1/ Porcentaje por columnas
A58: 2/ Porcentaje por filas
A59: 3/ No. de salarios mínimos (personas que declaran ingresos) y trabajan 36 Hrs. o mas en la ocupación principal
A61: Cuadro No. 4. Personas ocupadas y que declaran ingresos por categoría ocupacional, según dominio, nivel educativo, rango de edad,
A62: sexo, número de salarios mínimos devengados, rama de actividad y ocupación
A63: Ocupación Principal
A64: ....... Continuación
A65: Categorías | B65: Total Pers. Ocupadas | D65: Pers. que declaran Ing. | F65: Asalariados | N65: Cuenta propia | P65: Trab. fam. no remu. | R65: No Declaran Ingresos
F66: Total | H66: Público | J66: Privado | L66: Doméstico
B67: No. | C67: % 1/ | D67: No. | E67: % 1/ | F67: No. | G67: % 1/ | H67: No. | I67: % 1/ | J67: No. | K67: % 1/ | L67: No. | M67: % 1/ | N67: No. | O67: % 1/ | P67: No. | Q67: % 1/ | R67: No. | S67: % 1/
A69: Total Nacional 2/ | B69: =B8 -> 3307702.6 | C69: =C8 -> 100 | D69: =D8 -> 2807588.4 | E69: =E8 -> 84.880317 | F69: =F8 -> 1446263.6 | G69: =G8 -> 43.724113 | H69: =H8 -> 186849.4 | I69: =I8 -> 5.6489178 | ... S69: =S8 -> 2.3110277
A71: Rama de Actividad (1 Dig.)
A72: Agricultura, Silvicultura, Caza y Pesca | B72: ='C03'!B72 -> 1191562 | C72: =IF(ISNUMBER(B72/B$69*100),B72/B$69*100,0) -> 36.023855 | D72: =[1]MercLab!C225 -> 907776.97 | E72: =IF(ISNUMBER(D72/D$69*100),D72/D$69*100,0) -> 32.332979 | F72: =H72+J72+L72 -> 348948.13 | G72: =IF(ISNUMBER(F72/F$69*100),F72/F$69*100,0) -> 24.127561 | H72: =[1]MercLab!D225 -> 0 | I72: =IF(ISNUMBER(H72/H$69*100),H72/H$69*100,0) -> 0 | J72: =[1]MercLab!E225 -> 348948.13 | K72: =IF(ISNUMBER(J72/J$69*100),J72/J$69*100,0) -> 29.992317 | L72: =[1]MercLab!F225 -> 0 | M72: =IF(ISNUMBER(L72/L$69*100),L72/L$69*100,0) -> 0 | N72: =[1]MercLab!G225 -> 558828.84 | O72: =IF(ISNUMBER(N72/N$69*100),N72/N$69*100,0) -> 41.050367 | P72: ='C03'!N72 -> 234409.63 | Q72: =IF(ISNUMBER(P72/P$69*100),P72/P$69*100,0) -> 55.328064 | R72: =B72-(D72+P72) -> 49375.382 | S72: =IF(ISNUMBER(R72/R$8*100),R72/R$8*100,0) -> 64.592019
A73: Explotación de minas y canteras | B73: ='C03'!B73 -> 8492.1965 | C73: =IF(ISNUMBER(B73/B$69*100),B73/B$69*100,0) -> 0.25674003 | D73: =[1]MercLab!C226 -> 8049.0284 | E73: =IF(ISNUMBER(D73/D$69*100),D73/D$69*100,0) -> 0.28668833 | F73: =H73+J73+L73 -> 4907.689 | G73: =IF(ISNUMBER(F73/F$69*100),F73/F$69*100,0) -> 0.33933572 | H73: =[1]MercLab!D226 -> 0 | I73: =IF(ISNUMBER(H73/H$69*100),H73/H$69*100,0) -> 0 | J73: =[1]MercLab!E226 -> 4907.689 | K73: =IF(ISNUMBER(J73/J$69*100),J73/J$69*100,0) -> 0.42181904 | L73: =[1]MercLab!F226 -> 0 | M73: =IF(ISNUMBER(L73/L$69*100),L73/L$69*100,0) -> 0 | N73: =[1]MercLab!G226 -> 3141.3394 | O73: =IF(ISNUMBER(N73/N$69*100),N73/N$69*100,0) -> 0.23075605 | P73: ='C03'!N73 -> 443.16815 | Q73: =IF(ISNUMBER(P73/P$69*100),P73/P$69*100,0) -> 0.10460166 | R73: =B73-(D73+P73) -> 0 | S73: =IF(ISNUMBER(R73/R$8*100),R73/R$8*100,0) -> 0
A74: Industria manufacturera | B74: ='C03'!B74 -> 457801.33 | C74: =IF(ISNUMBER(B74/B$69*100),B74/B$69*100,0) -> 13.840462 | D74: =[1]MercLab!C227 -> 405913.86 | E74: =IF(ISNUMBER(D74/D$69*100),D74/D$69*100,0) -> 14.457741 | F74: =H74+J74+L74 -> 228519.2 | G74: =IF(ISNUMBER(F74/F$69*100),F74/F$69*100,0) -> 15.80066 | H74: =[1]MercLab!D227 -> 0 | I74: =IF(ISNUMBER(H74/H$69*100),H74/H$69*100,0) -> 0 | J74: =[1]MercLab!E227 -> 228519.2 | K74: =IF(ISNUMBER(J74/J$69*100),J74/J$69*100,0) -> 19.641372 | L74: =[1]MercLab!F227 -> 0 | M74: =IF(ISNUMBER(L74/L$69*100),L74/L$69*100,0) -> 0 | N74: =[1]MercLab!G227 -> 177394.67 | O74: =IF(ISNUMBER(N74/N$69*100),N74/N$69*100,0) -> 13.031032 | P74: ='C03'!N74 -> 48032.475 | Q74: =IF(ISNUMBER(P74/P$69*100),P74/P$69*100,0) -> 11.337179 | R74: =B74-(D74+P74) -> 3854.9877 | S74: =IF(ISNUMBER(R74/R$8*100),R74/R$8*100,0) -> 5.0430281
A75: Electricidad, gas y agua | B75: ='C03'!B75 -> 11025.833 | C75: =IF(ISNUMBER(B75/B$69*100),B75/B$69*100,0) -> 0.33333809 | D75: =[1]MercLab!C228 -> 10871.863 | E75: =IF(ISNUMBER(D75/D$69*100),D75/D$69*100,0) -> 0.38723135 | F75: =H75+J75+L75 -> 10871.863 | G75: =IF(ISNUMBER(F75/F$69*100),F75/F$69*100,0) -> 0.75172069 | H75: =[1]MercLab!D228 -> 5314.3717 | I75: =IF(ISNUMBER(H75/H$69*100),H75/H$69*100,0) -> 2.8442006 | J75: =[1]MercLab!E228 -> 5557.491 | K75: =IF(ISNUMBER(J75/J$69*100),J75/J$69*100,0) -> 0.47766993 | L75: =[1]MercLab!F228 -> 0 | M75: =IF(ISNUMBER(L75/L$69*100),L75/L$69*100,0) -> 0 | N75: =[1]MercLab!G228 -> 0 | O75: =IF(ISNUMBER(N75/N$69*100),N75/N$69*100,0) -> 0 | P75: ='C03'!N75 -> 0 | Q75: =IF(ISNUMBER(P75/P$69*100),P75/P$69*100,0) -> 0 | R75: =B75-(D75+P75) -> 153.97001 | S75: =IF(ISNUMBER(R75/R$8*100),R75/R$8*100,0) -> 0.2014209
A76: Construcción | B76: ='C03'!B76 -> 168816.94 | C76: =IF(ISNUMBER(B76/B$69*100),B76/B$69*100,0) -> 5.1037521 | D76: =[1]MercLab!C229 -> 164008.36 | E76: =IF(ISNUMBER(D76/D$69*100),D76/D$69*100,0) -> 5.8416097 | F76: =H76+J76+L76 -> 111576.36 | G76: =IF(ISNUMBER(F76/F$69*100),F76/F$69*100,0) -> 7.7148011 | H76: =[1]MercLab!D229 -> 789.81697 | I76: =IF(ISNUMBER(H76/H$69*100),H76/H$69*100,0) -> 0.42270244 | J76: =[1]MercLab!E229 -> 110786.54 | K76: =IF(ISNUMBER(J76/J$69*100),J76/J$69*100,0) -> 9.5221749 | L76: =[1]MercLab!F229 -> 0 | M76: =IF(ISNUMBER(L76/L$69*100),L76/L$69*100,0) -> 0 | N76: =[1]MercLab!G229 -> 52431.998 | O76: =IF(ISNUMBER(N76/N$69*100),N76/N$69*100,0) -> 3.851542 | P76: ='C03'!N76 -> 2710.6206 | Q76: =IF(ISNUMBER(P76/P$69*100),P76/P$69*100,0) -> 0.63979195 | R76: =B76-(D76+P76) -> 2097.9611 | S76: =IF(ISNUMBER(R76/R$8*100),R76/R$8*100,0) -> 2.7445164
A77: Comercio por Mayor / menor, Hoteles / restaurantes | B77: ='C03'!B77 -> 743457.07 | C77: =IF(ISNUMBER(B77/B$69*100),B77/B$69*100,0) -> 22.476539 | D77: =[1]MercLab!C230 -> 611170.4 | E77: =IF(ISNUMBER(D77/D$69*100),D77/D$69*100,0) -> 21.768518 | F77: =H77+J77+L77 -> 225872.36 | G77: =IF(ISNUMBER(F77/F$69*100),F77/F$69*100,0) -> 15.617648 | H77: =[1]MercLab!D230 -> 0 | I77: =IF(ISNUMBER(H77/H$69*100),H77/H$69*100,0) -> 0 | J77: =[1]MercLab!E230 -> 225872.36 | K77: =IF(ISNUMBER(J77/J$69*100),J77/J$69*100,0) -> 19.413875 | L77: =[1]MercLab!F230 -> 0 | M77: =IF(ISNUMBER(L77/L$69*100),L77/L$69*100,0) -> 0 | N77: =[1]MercLab!G230 -> 385298.03 | O77: =IF(ISNUMBER(N77/N$69*100),N77/N$69*100,0) -> 28.303166 | P77: ='C03'!N77 -> 124181.36 | Q77: =IF(ISNUMBER(P77/P$69*100),P77/P$69*100,0) -> 29.310717 | R77: =B77-(D77+P77) -> 8105.3109 | S77: =IF(ISNUMBER(R77/R$8*100),R77/R$8*100,0) -> 10.603227
A78: Transp. almac. y comunicaciones | B78: ='C03'!B78 -> 117615.56 | C78: =IF(ISNUMBER(B78/B$69*100),B78/B$69*100,0) -> 3.5558082 | D78: =[1]MercLab!C231 -> 113199.06 | E78: =IF(ISNUMBER(D78/D$69*100),D78/D$69*100,0) -> 4.0318963 | F78: =H78+J78+L78 -> 54472.941 | G78: =IF(ISNUMBER(F78/F$69*100),F78/F$69*100,0) -> 3.7664601 | H78: =[1]MercLab!D231 -> 3571.0515 | I78: =IF(ISNUMBER(H78/H$69*100),H78/H$69*100,0) -> 1.9111924 | J78: =[1]MercLab!E231 -> 50901.889 | K78: =IF(ISNUMBER(J78/J$69*100),J78/J$69*100,0) -> 4.3750502 | L78: =[1]MercLab!F231 -> 0 | M78: =IF(ISNUMBER(L78/L$69*100),L78/L$69*100,0) -> 0 | N78: =[1]MercLab!G231 -> 58726.115 | O78: =IF(ISNUMBER(N78/N$69*100),N78/N$69*100,0) -> 4.3138943 | P78: ='C03'!N78 -> 2334.4035 | Q78: =IF(ISNUMBER(P78/P$69*100),P78/P$69*100,0) -> 0.55099283 | R78: =B78-(D78+P78) -> 2082.0994 | S78: =IF(ISNUMBER(R78/R$8*100),R78/R$8*100,0) -> 2.7237663
A79: Estab. finac. seguros, Bienes inmuebles y servicios | B79: ='C03'!B79 -> 101772.11 | C79: =IF(ISNUMBER(B79/B$69*100),B79/B$69*100,0) -> 3.0768217 | D79: =[1]MercLab!C232 -> 97442.834 | E79: =IF(ISNUMBER(D79/D$69*100),D79/D$69*100,0) -> 3.4706951 | F79: =H79+J79+L79 -> 76516.116 | G79: =IF(ISNUMBER(F79/F$69*100),F79/F$69*100,0) -> 5.2906065 | H79: =[1]MercLab!D232 -> 2901.0557 | I79: =IF(ISNUMBER(H79/H$69*100),H79/H$69*100,0) -> 1.5526171 | J79: =[1]MercLab!E232 -> 73615.06 | K79: =IF(ISNUMBER(J79/J$69*100),J79/J$69*100,0) -> 6.3272619 | L79: =[1]MercLab!F232 -> 0 | M79: =IF(ISNUMBER(L79/L$69*100),L79/L$69*100,0) -> 0 | N79: =[1]MercLab!G232 -> 20926.718 | O79: =IF(ISNUMBER(N79/N$69*100),N79/N$69*100,0) -> 1.5372318 | P79: ='C03'!N79 -> 942.55912 | Q79: =IF(ISNUMBER(P79/P$69*100),P79/P$69*100,0) -> 0.22247367 | R79: =B79-(D79+P79) -> 3386.7184 | S79: =IF(ISNUMBER(R79/R$8*100),R79/R$8*100,0) -> 4.4304463
A80: Servicios Comunales, Sociales y Personales | B80: ='C03'!B80 -> 499747.74 | C80: =IF(ISNUMBER(B80/B$69*100),B80/B$69*100,0) -> 15.108606 | D80: =[1]MercLab!C233 -> 483829.82 | E80: =IF(ISNUMBER(D80/D$69*100),D80/D$69*100,0) -> 17.232933 | F80: =H80+J80+L80 -> 382055.16 | G80: =IF(ISNUMBER(F80/F$69*100),F80/F$69*100,0) -> 26.416703 | H80: =[1]MercLab!D233 -> 173595.36 | I80: =IF(ISNUMBER(H80/H$69*100),H80/H$69*100,0) -> 92.906568 | J80: =[1]MercLab!E233 -> 112503.99 | K80: =IF(ISNUMBER(J80/J$69*100),J80/J$69*100,0) -> 9.6697907 | L80: =[1]MercLab!F233 -> 95955.804 | M80: =IF(ISNUMBER(L80/L$69*100),L80/L$69*100,0) -> 100 | N80: =[1]MercLab!G233 -> 101774.66 | O80: =IF(ISNUMBER(N80/N$69*100),N80/N$69*100,0) -> 7.4761481 | P80: ='C03'!N80 -> 8975.5887 | Q80: =IF(ISNUMBER(P80/P$69*100),P80/P$69*100,0) -> 2.118522 | R80: =B80-(D80+P80) -> 6942.3262 | S80: =IF(ISNUMBER(R80/R$8*100),R80/R$8*100,0) -> 9.0818308
A81: No sabe, No responde | B81: ='C03'!B81 -> 7411.8189 | C81: =IF(ISNUMBER(B81/B$69*100),B81/B$69*100,0) -> 0.22407755 | D81: =[1]MercLab!C234 -> 5326.2506 | E81: =IF(ISNUMBER(D81/D$69*100),D81/D$69*100,0) -> 0.18970909 | F81: =H81+J81+L81 -> 2523.7808 | G81: =IF(ISNUMBER(F81/F$69*100),F81/F$69*100,0) -> 0.17450351 | H81: =[1]MercLab!D234 -> 677.7392 | I81: =IF(ISNUMBER(H81/H$69*100),H81/H$69*100,0) -> 0.3627195 | J81: =[1]MercLab!E234 -> 1846.0416 | K81: =IF(ISNUMBER(J81/J$69*100),J81/J$69*100,0) -> 0.15866847 | L81: =[1]MercLab!F234 -> 0 | M81: =IF(ISNUMBER(L81/L$69*100),L81/L$69*100,0) -> 0 | N81: =[1]MercLab!G234 -> 2802.4698 | O81: =IF(ISNUMBER(N81/N$69*100),N81/N$69*100,0) -> 0.20586341 | P81: ='C03'!N81 -> 1642.4001 | Q81: =IF(ISNUMBER(P81/P$69*100),P81/P$69*100,0) -> 0.38765822 | R81: =B81-(D81+P81) -> 443.16815 | S81: =IF(ISNUMBER(R81/R$8*100),R81/R$8*100,0) -> 0.5797449
F82: =H82+J82+L82 -> 0
A83: Ocupación (1 Dig.)
A84: Profesionales, Técnicos y PEOA | B84: ='C03'!B84 -> 255908.17 | C84: =IF(ISNUMBER(B84/B$69*100),B84/B$69*100,0) -> 7.7367347 | D84: =[1]MercLab!C237 -> 244714.88 | E84: =IF(ISNUMBER(D84/D$69*100),D84/D$69*100,0) -> 8.716195 | F84: =H84+J84+L84 -> 212886.84 | G84: =IF(ISNUMBER(F84/F$69*100),F84/F$69*100,0) -> 14.719781 | H84: =[1]MercLab!D237 -> 106984.91 | I84: =IF(ISNUMBER(H84/H$69*100),H84/H$69*100,0) -> 57.257294 | J84: =[1]MercLab!E237 -> 105185.86 | K84: =IF(ISNUMBER(J84/J$69*100),J84/J$69*100,0) -> 9.0407929 | L84: =[1]MercLab!F237 -> 716.06224 | M84: =IF(ISNUMBER(L84/L$69*100),L84/L$69*100,0) -> 0.74624172 | N84: =[1]MercLab!G237 -> 31828.049 | O84: =IF(ISNUMBER(N84/N$69*100),N84/N$69*100,0) -> 2.3380201 | P84: ='C03'!N84 -> 3876.5691 | Q84: =IF(ISNUMBER(P84/P$69*100),P84/P$69*100,0) -> 0.91499255 | R84: =B84-(D84+P84) -> 7316.7182 | S84: =IF(ISNUMBER(R84/R$8*100),R84/R$8*100,0) -> 9.571604
A85: Directores Gerentes y Administ. Grales. | B85: ='C03'!B85 -> 100970.56 | C85: =IF(ISNUMBER(B85/B$69*100),B85/B$69*100,0) -> 3.0525889 | D85: =[1]MercLab!C238 -> 96998.519 | E85: =IF(ISNUMBER(D85/D$69*100),D85/D$69*100,0) -> 3.4548696 | F85: =H85+J85+L85 -> 51547.206 | G85: =IF(ISNUMBER(F85/F$69*100),F85/F$69*100,0) -> 3.564164 | H85: =[1]MercLab!D238 -> 17851.577 | I85: =IF(ISNUMBER(H85/H$69*100),H85/H$69*100,0) -> 9.5539922 | J85: =[1]MercLab!E238 -> 33695.629 | K85: =IF(ISNUMBER(J85/J$69*100),J85/J$69*100,0) -> 2.8961611 | L85: =[1]MercLab!F238 -> 0 | M85: =IF(ISNUMBER(L85/L$69*100),L85/L$69*100,0) -> 0 | N85: =[1]MercLab!G238 -> 45451.313 | O85: =IF(ISNUMBER(N85/N$69*100),N85/N$69*100,0) -> 3.3387559 | P85: ='C03'!N85 -> 1082.2798 | Q85: =IF(ISNUMBER(P85/P$69*100),P85/P$69*100,0) -> 0.25545216 | R85: =B85-(D85+P85) -> 2889.7625 | S85: =IF(ISNUMBER(R85/R$8*100),R85/R$8*100,0) -> 3.7803372
A86: Empleados de Oficina | B86: ='C03'!B86 -> 80134.604 | C86: =IF(ISNUMBER(B86/B$69*100),B86/B$69*100,0) -> 2.4226666 | D86: =[1]MercLab!C239 -> 77158.017 | E86: =IF(ISNUMBER(D86/D$69*100),D86/D$69*100,0) -> 2.7481954 | F86: =H86+J86+L86 -> 74145.941 | G86: =IF(ISNUMBER(F86/F$69*100),F86/F$69*100,0) -> 5.1267238 | H86: =[1]MercLab!D239 -> 15790.373 | I86: =IF(ISNUMBER(H86/H$69*100),H86/H$69*100,0) -> 8.4508559 | J86: =[1]MercLab!E239 -> 58355.567 | K86: =IF(ISNUMBER(J86/J$69*100),J86/J$69*100,0) -> 5.0156987 | L86: =[1]MercLab!F239 -> 0 | M86: =IF(ISNUMBER(L86/L$69*100),L86/L$69*100,0) -> 0 | N86: =[1]MercLab!G239 -> 3012.0761 | O86: =IF(ISNUMBER(N86/N$69*100),N86/N$69*100,0) -> 0.22126064 | P86: ='C03'!N86 -> 1610.1089 | Q86: =IF(ISNUMBER(P86/P$69*100),P86/P$69*100,0) -> 0.38003647 | R86: =B86-(D86+P86) -> 1366.4782 | S86: =IF(ISNUMBER(R86/R$8*100),R86/R$8*100,0) -> 1.7876031
A87: Comerciantes y Vendedores | B87: ='C03'!B87 -> 528573.81 | C87: =IF(ISNUMBER(B87/B$69*100),B87/B$69*100,0) -> 15.980089 | D87: =[1]MercLab!C240 -> 403209.44 | E87: =IF(ISNUMBER(D87/D$69*100),D87/D$69*100,0) -> 14.361415 | F87: =H87+J87+L87 -> 109835.18 | G87: =IF(ISNUMBER(F87/F$69*100),F87/F$69*100,0) -> 7.5944097 | H87: =[1]MercLab!D240 -> 450.93495 | I87: =IF(ISNUMBER(H87/H$69*100),H87/H$69*100,0) -> 0.24133605 | J87: =[1]MercLab!E240 -> 109384.25 | K87: =IF(ISNUMBER(J87/J$69*100),J87/J$69*100,0) -> 9.4016467 | L87: =[1]MercLab!F240 -> 0 | M87: =IF(ISNUMBER(L87/L$69*100),L87/L$69*100,0) -> 0 | N87: =[1]MercLab!G240 -> 293374.26 | O87: =IF(ISNUMBER(N87/N$69*100),N87/N$69*100,0) -> 21.550643 | P87: ='C03'!N87 -> 119058.63 | Q87: =IF(ISNUMBER(P87/P$69*100),P87/P$69*100,0) -> 28.101591 | R87: =B87-(D87+P87) -> 6305.7431 | S87: =IF(ISNUMBER(R87/R$8*100),R87/R$8*100,0) -> 8.2490638
A88: Agricultores, Ganaderos y Trab. Agrop. | B88: ='C03'!B88 -> 1148206.8 | C88: =IF(ISNUMBER(B88/B$69*100),B88/B$69*100,0) -> 34.713122 | D88: =[1]MercLab!C241 -> 868351.38 | E88: =IF(ISNUMBER(D88/D$69*100),D88/D$69*100,0) -> 30.928728 | F88: =H88+J88+L88 -> 317770.81 | G88: =IF(ISNUMBER(F88/F$69*100),F88/F$69*100,0) -> 21.971846 | H88: =[1]MercLab!D241 -> 328.48002 | I88: =IF(ISNUMBER(H88/H$69*100),H88/H$69*100,0) -> 0.17579935 | J88: =[1]MercLab!E241 -> 317442.33 | K88: =IF(ISNUMBER(J88/J$69*100),J88/J$69*100,0) -> 27.284373 | L88: =[1]MercLab!F241 -> 0 | M88: =IF(ISNUMBER(L88/L$69*100),L88/L$69*100,0) -> 0 | N88: =[1]MercLab!G241 -> 550580.57 | O88: =IF(ISNUMBER(N88/N$69*100),N88/N$69*100,0) -> 40.444467 | P88: ='C03'!N88 -> 231219.29 | Q88: =IF(ISNUMBER(P88/P$69*100),P88/P$69*100,0) -> 54.575044 | R88: =B88-(D88+P88) -> 48636.145 | S88: =IF(ISNUMBER(R88/R$8*100),R88/R$8*100,0) -> 63.624962
A89: Conductores de Transporte | B89: ='C03'!B89 -> 84380.073 | C89: =IF(ISNUMBER(B89/B$69*100),B89/B$69*100,0) -> 2.5510175 | D89: =[1]MercLab!C242 -> 82057.029 | E89: =IF(ISNUMBER(D89/D$69*100),D89/D$69*100,0) -> 2.9226872 | F89: =H89+J89+L89 -> 35074.947 | G89: =IF(ISNUMBER(F89/F$69*100),F89/F$69*100,0) -> 2.4252112 | H89: =[1]MercLab!D242 -> 4282.4999 | I89: =IF(ISNUMBER(H89/H$69*100),H89/H$69*100,0) -> 2.2919527 | J89: =[1]MercLab!E242 -> 29988.061 | K89: =IF(ISNUMBER(J89/J$69*100),J89/J$69*100,0) -> 2.5774932 | L89: =[1]MercLab!F242 -> 804.38602 | M89: =IF(ISNUMBER(L89/L$69*100),L89/L$69*100,0) -> 0.83828803 | N89: =[1]MercLab!G242 -> 46982.082 | O89: =IF(ISNUMBER(N89/N$69*100),N89/N$69*100,0) -> 3.4512029 | P89: ='C03'!N89 -> 700.08746 | Q89: =IF(ISNUMBER(P89/P$69*100),P89/P$69*100,0) -> 0.16524272 | R89: =B89-(D89+P89) -> 1622.9565 | S89: =IF(ISNUMBER(R89/R$8*100),R89/R$8*100,0) -> 2.1231236
A90: Trab. Ind. Textil, Albañilería, Mecánica, etc. | B90: ='C03'!B90 -> 421498.39 | C90: =IF(ISNUMBER(B90/B$69*100),B90/B$69*100,0) -> 12.742935 | D90: =[1]MercLab!C243 -> 403676.29 | E90: =IF(ISNUMBER(D90/D$69*100),D90/D$69*100,0) -> 14.378044 | F90: =H90+J90+L90 -> 267072.87 | G90: =IF(ISNUMBER(F90/F$69*100),F90/F$69*100,0) -> 18.466403 | H90: =[1]MercLab!D243 -> 7440.8348 | I90: =IF(ISNUMBER(H90/H$69*100),H90/H$69*100,0) -> 3.9822632 | J90: =[1]MercLab!E243 -> 259632.03 | K90: =IF(ISNUMBER(J90/J$69*100),J90/J$69*100,0) -> 22.315541 | L90: =[1]MercLab!F243 -> 0 | M90: =IF(ISNUMBER(L90/L$69*100),L90/L$69*100,0) -> 0 | N90: =[1]MercLab!G243 -> 136603.42 | O90: =IF(ISNUMBER(N90/N$69*100),N90/N$69*100,0) -> 10.034594 | P90: ='C03'!N90 -> 13599.125 | Q90: =IF(ISNUMBER(P90/P$69*100),P90/P$69*100,0) -> 3.2098223 | R90: =B90-(D90+P90) -> 4222.9743 | S90: =IF(ISNUMBER(R90/R$8*100),R90/R$8*100,0) -> 5.5244218
A91: Trab. Area Grafica, Quim., Alimentos, etc. | B91: ='C03'!B91 -> 181334.27 | C91: =IF(ISNUMBER(B91/B$69*100),B91/B$69*100,0) -> 5.4821818 | D91: =[1]MercLab!C244 -> 140542.98 | E91: =IF(ISNUMBER(D91/D$69*100),D91/D$69*100,0) -> 5.0058257 | F91: =H91+J91+L91 -> 43200.857 | G91: =IF(ISNUMBER(F91/F$69*100),F91/F$69*100,0) -> 2.9870666 | H91: =[1]MercLab!D244 -> 296.0692 | I91: =IF(ISNUMBER(H91/H$69*100),H91/H$69*100,0) -> 0.15845339 | J91: =[1]MercLab!E244 -> 42904.787 | K91: =IF(ISNUMBER(J91/J$69*100),J91/J$69*100,0) -> 3.6876942 | L91: =[1]MercLab!F244 -> 0 | M91: =IF(ISNUMBER(L91/L$69*100),L91/L$69*100,0) -> 0 | N91: =[1]MercLab!G244 -> 97342.128 | O91: =IF(ISNUMBER(N91/N$69*100),N91/N$69*100,0) -> 7.1505438 | P91: ='C03'!N91 -> 39674.013 | Q91: =IF(ISNUMBER(P91/P$69*100),P91/P$69*100,0) -> 9.3643182 | R91: =B91-(D91+P91) -> 1117.2693 | S91: =IF(ISNUMBER(R91/R$8*100),R91/R$8*100,0) -> 1.4615923
A92: Operador de Carga y Almacenaje | B92: ='C03'!B92 -> 70834.471 | C92: =IF(ISNUMBER(B92/B$69*100),B92/B$69*100,0) -> 2.1415006 | D92: =[1]MercLab!C245 -> 66786.141 | E92: =IF(ISNUMBER(D92/D$69*100),D92/D$69*100,0) -> 2.3787725 | F92: =H92+J92+L92 -> 48668.639 | G92: =IF(ISNUMBER(F92/F$69*100),F92/F$69*100,0) -> 3.3651292 | H92: =[1]MercLab!D245 -> 3532.1161 | I92: =IF(ISNUMBER(H92/H$69*100),H92/H$69*100,0) -> 1.8903546 | J92: =[1]MercLab!E245 -> 44862.789 | K92: =IF(ISNUMBER(J92/J$69*100),J92/J$69*100,0) -> 3.8559857 | L92: =[1]MercLab!F245 -> 273.73335 | M92: =IF(ISNUMBER(L92/L$69*100),L92/L$69*100,0) -> 0.28527024 | N92: =[1]MercLab!G245 -> 18117.502 | O92: =IF(ISNUMBER(N92/N$69*100),N92/N$69*100,0) -> 1.3308728 | P92: ='C03'!N92 -> 2905.075 | Q92: =IF(ISNUMBER(P92/P$69*100),P92/P$69*100,0) -> 0.68568931 | R92: =B92-(D92+P92) -> 1143.2556 | S92: =IF(ISNUMBER(R92/R$8*100),R92/R$8*100,0) -> 1.4955872
A93: Ocupación de los Servicios | B93: ='C03'!B93 -> 397736.74 | C93: =IF(ISNUMBER(B93/B$69*100),B93/B$69*100,0) -> 12.024562 | D93: =[1]MercLab!C246 -> 389285.41 | E93: =IF(ISNUMBER(D93/D$69*100),D93/D$69*100,0) -> 13.865473 | F93: =H93+J93+L93 -> 262665.85 | G93: =IF(ISNUMBER(F93/F$69*100),F93/F$69*100,0) -> 18.161686 | H93: =[1]MercLab!D246 -> 27171.413 | I93: =IF(ISNUMBER(H93/H$69*100),H93/H$69*100,0) -> 14.541879 | J93: =[1]MercLab!E246 -> 141332.82 | K93: =IF(ISNUMBER(J93/J$69*100),J93/J$69*100,0) -> 12.147647 | L93: =[1]MercLab!F246 -> 94161.622 | M93: =IF(ISNUMBER(L93/L$69*100),L93/L$69*100,0) -> 98.1302 | N93: =[1]MercLab!G246 -> 126619.55 | O93: =IF(ISNUMBER(N93/N$69*100),N93/N$69*100,0) -> 9.3012006 | P93: ='C03'!N93 -> 6800.1502 | Q93: =IF(ISNUMBER(P93/P$69*100),P93/P$69*100,0) -> 1.6050499 | R93: =B93-(D93+P93) -> 1651.1866 | S93: =IF(ISNUMBER(R93/R$8*100),R93/R$8*100,0) -> 2.1600537
A94: No sabe, No responde | B94: ='C03'!B94 -> 38124.65 | C94: =IF(ISNUMBER(B94/B$69*100),B94/B$69*100,0) -> 1.1526021 | D94: =[1]MercLab!C247 -> 34808.342 | E94: =IF(ISNUMBER(D94/D$69*100),D94/D$69*100,0) -> 1.239795 | F94: =H94+J94+L94 -> 23394.461 | G94: =IF(ISNUMBER(F94/F$69*100),F94/F$69*100,0) -> 1.6175794 | H94: =[1]MercLab!D247 -> 2720.1912 | I94: =IF(ISNUMBER(H94/H$69*100),H94/H$69*100,0) -> 1.4558201 | J94: =[1]MercLab!E247 -> 20674.27 | K94: =IF(ISNUMBER(J94/J$69*100),J94/J$69*100,0) -> 1.7769669 | L94: =[1]MercLab!F247 -> 0 | M94: =IF(ISNUMBER(L94/L$69*100),L94/L$69*100,0) -> 0 | N94: =[1]MercLab!G247 -> 11413.88 | O94: =IF(ISNUMBER(N94/N$69*100),N94/N$69*100,0) -> 0.83843913 | P94: ='C03'!N94 -> 3146.8736 | Q94: =IF(ISNUMBER(P94/P$69*100),P94/P$69*100,0) -> 0.7427614 | R94: =B94-(D94+P94) -> 169.4348 | S94: =IF(ISNUMBER(R94/R$8*100),R94/R$8*100,0) -> 0.22165167
A96: ='C01'!$A$46 -> Fuente: Instituto Nacional de Estadística (INE). XL Encuesta Permanente de Hogares de Propósitos Múltiples, Septiembre 2010.
A97: ='C02'!$A$46 -> El salario mínimo en el área urbana es Lps. 5,500 y en la área rural es Lps. 4,055 (Promedio de salarios mínimos por rama)
A98: 1/ Porcentaje por columnas
A99: 2/ Porcentaje por filas

Sheet C05
A1: Cuadro No. 5. Ingreso promedio de las personas ocupadas que declaran Ingreso por categoría ocupacional, según dominio,
A2: nivel educativo, rango de edad, sexo, número de salarios mínimos, rama de actividad y ocupación
A3: Ocupación Principal, Lps/Mes/Persona
A4: Categorías | B4: Ingreso Promedio
B5: Ingreso Promedio | C5: Asalariados | G5: Cuenta propia
C6: Total | D6: Público | E6: Privado | F6: Doméstico
A8: Total Nacional | B8: =[1]MercLab!C260 -> 4288.5189 | C8: =AVERAGE(D8:G8) -> 5349.6545 | D8: =[1]MercLab!D260 -> 10938.141 | E8: =[1]MercLab!E260 -> 4677.3789 | F8: =[1]MercLab!F260 -> 2622.1594 | G8: =[1]MercLab!G260 -> 3160.9384
A10: Dominio
A11: Urbano | B11: =AVERAGE(B12:B14) -> 6586.3954 | C11: =AVERAGE(D11:G11) -> 6952.0187 | D11: =AVERAGE(D12:D14) -> 12834.514 | E11: =AVERAGE(E12:E14) -> 6620.9054 | F11: =AVERAGE(F12:F14) -> 3021.4472 | G11: =AVERAGE(G12:G14) -> 5331.2082
A12: Distrito Central | B12: =[1]MercLab!C262 -> 7502.6179 | C12: =AVERAGE(D12:G12) -> 7539.5071 | D12: =[1]MercLab!D262 -> 13871.352 | E12: =[1]MercLab!E262 -> 7787.3002 | F12: =[1]MercLab!F262 -> 3679.2883 | G12: =[1]MercLab!G262 -> 4820.088
A13: San Pedro Sula | B13: =[1]MercLab!C263 -> 7377.0662 | C13: =AVERAGE(D13:G13) -> 8040.497 | D13: =[1]MercLab!D263 -> 14700.804 | E13: =[1]MercLab!E263 -> 7228.4456 | F13: =[1]MercLab!F263 -> 3080.9695 | G13: =[1]MercLab!G263 -> 7151.7693
A14: Resto urbano | B14: =[1]MercLab!C264 -> 4879.502 | C14: =AVERAGE(D14:G14) -> 5276.0521 | D14: =[1]MercLab!D264 -> 9931.387 | E14: =[1]MercLab!E264 -> 4846.9704 | F14: =[1]MercLab!F264 -> 2304.0837 | G14: =[1]MercLab!G264 -> 4021.7673
A15: Rural | B15: =[1]MercLab!C265 -> 2597.8795 | C15: =AVERAGE(D15:G15) -> 3724.8004 | D15: =[1]MercLab!D265 -> 7600.1867 | E15: =[1]MercLab!E265 -> 2942.1883 | F15: =[1]MercLab!F265 -> 2226.7826 | G15: =[1]MercLab!G265 -> 2130.044
A17: Nivel Educativo
A18: Sin Nivel | B18: =[1]MercLab!C267 -> 1724.1965 | C18: =AVERAGE(D18:G18) -> 2764.7482 | D18: =[1]MercLab!D267 -> 4946.1507 | E18: =[1]MercLab!E267 -> 2284.2947 | F18: =[1]MercLab!F267 -> 2417.4416 | G18: =[1]MercLab!G267 -> 1411.1059
A19: Primaria | B19: =[1]MercLab!C268 -> 3093.2733 | C19: =AVERAGE(D19:G19) -> 3911.6262 | D19: =[1]MercLab!D268 -> 6863.5036 | E19: =[1]MercLab!E268 -> 3351.6995 | F19: =[1]MercLab!F268 -> 2621.9464 | G19: =[1]MercLab!G268 -> 2809.3552
A20: Secundaria | B20: =[1]MercLab!C269 -> 5313.8344 | C20: =AVERAGE(D20:G20) -> 5243.2556 | D20: =[1]MercLab!D269 -> 8343.8164 | E20: =[1]MercLab!E269 -> 5337.3757 | F20: =[1]MercLab!F269 -> 2725.2657 | G20: =[1]MercLab!G269 -> 4566.5645
A21: Superior | B21: =[1]MercLab!C270 -> 13543.044 | C21: =AVERAGE(D21:G21) -> 10344.055 | D21: =[1]MercLab!D270 -> 15102.999 | E21: =[1]MercLab!E270 -> 12267.719 | F21: =[1]MercLab!F270 -> 0 | G21: =[1]MercLab!G270 -> 14005.504
A22: No sabe, no responde | B22: =[1]MercLab!C271 -> 3832.9015 | C22: =AVERAGE(D22:G22) -> 4595.6607 | D22: =[1]MercLab!D271 -> 8942.0322 | E22: =[1]MercLab!E271 -> 4540.1397 | F22: =[1]MercLab!F271 -> 2333.1186 | G22: =[1]MercLab!G271 -> 2567.3523
A24: Rango de Edad
A25: De 10 a 11 años | B25: =[1]MercLab!C273 -> 374.69002 | C25: =AVERAGE(D25:G25) -> 199.45098 | D25: =[1]MercLab!D273 -> 0 | E25: =[1]MercLab!E273 -> 615.40715 | F25: =[1]MercLab!F273 -> 0 | G25: =[1]MercLab!G273 -> 182.39677
A26: De 12 a 14 años | B26: =[1]MercLab!C274 -> 886.04142 | C26: =AVERAGE(D26:G26) -> 648.10806 | D26: =[1]MercLab!D274 -> 0 | E26: =[1]MercLab!E274 -> 969.71373 | F26: =[1]MercLab!F274 -> 1048.7505 | G26: =[1]MercLab!G274 -> 573.96801
A27: De 15 a 18 años | B27: =[1]MercLab!C275 -> 1862.9437 | C27: =AVERAGE(D27:G27) -> 3356.4965 | D27: =[1]MercLab!D275 -> 8000 | E27: =[1]MercLab!E275 -> 1983.2505 | F27: =[1]MercLab!F275 -> 2302.5978 | G27: =[1]MercLab!G275 -> 1140.1377
A28: De 19 a 24 años | B28: =[1]MercLab!C276 -> 3623.4802 | C28: =AVERAGE(D28:G28) -> 3720.9782 | D28: =[1]MercLab!D276 -> 5739.1773 | E28: =[1]MercLab!E276 -> 3927.7963 | F28: =[1]MercLab!F276 -> 2548.1449 | G28: =[1]MercLab!G276 -> 2668.7945
A29: De 25 a 29 años | B29: =[1]MercLab!C277 -> 4627.1057 | C29: =AVERAGE(D29:G29) -> 4707.2666 | D29: =[1]MercLab!D277 -> 7603.4909 | E29: =[1]MercLab!E277 -> 5258.5575 | F29: =[1]MercLab!F277 -> 2581.2771 | G29: =[1]MercLab!G277 -> 3385.7408
A30: De 30 a 35 años | B30: =[1]MercLab!C278 -> 5134.5391 | C30: =AVERAGE(D30:G30) -> 5704.0887 | D30: =[1]MercLab!D278 -> 10662.621 | E30: =[1]MercLab!E278 -> 5796.0988 | F30: =[1]MercLab!F278 -> 2634.0074 | G30: =[1]MercLab!G278 -> 3723.6281
A31: De 36 a 44 años | B31: =[1]MercLab!C279 -> 4967.3171 | C31: =AVERAGE(D31:G31) -> 6067.4376 | D31: =[1]MercLab!D279 -> 11989.468 | E31: =[1]MercLab!E279 -> 5718.1053 | F31: =[1]MercLab!F279 -> 3224.1371 | G31: =[1]MercLab!G279 -> 3338.0398
A32: De 45 a 59 años | B32: =[1]MercLab!C280 -> 5113.1592 | C32: =AVERAGE(D32:G32) -> 6341.6653 | D32: =[1]MercLab!D280 -> 12136.76 | E32: =[1]MercLab!E280 -> 6581.8709 | F32: =[1]MercLab!F280 -> 3066.7805 | G32: =[1]MercLab!G280 -> 3581.2498
A33: De 60 años y más | B33: =[1]MercLab!C281 -> 3066.4417 | C33: =AVERAGE(D33:G33) -> 6283.8589 | D33: =[1]MercLab!D281 -> 16911.079 | E33: =[1]MercLab!E281 -> 3481.5673 | F33: =[1]MercLab!F281 -> 2318.1064 | G33: =[1]MercLab!G281 -> 2424.6832
A35: Sexo
A36: Hombre | B36: =[1]MercLab!C283 -> 4375.048 | C36: =AVERAGE(D36:G36) -> 5922.7199 | D36: =[1]MercLab!D283 -> 11804.725 | E36: =[1]MercLab!E283 -> 4322.3936 | F36: =[1]MercLab!F283 -> 3865.6616 | G36: =[1]MercLab!G283 -> 3698.0993
A37: Mujer | B37: =[1]MercLab!C284 -> 4141.0583 | C37: =AVERAGE(D37:G37) -> 5228.0639 | D37: =[1]MercLab!D284 -> 10279.889 | E37: =[1]MercLab!E284 -> 5727.8282 | F37: =[1]MercLab!F284 -> 2540.4857 | G37: =[1]MercLab!G284 -> 2364.053
A39: No. de Salarios Mínimos 1/
A40: Menos de un salario | B40: =SUM(B41:B43) -> 5112.6956 | C40: =AVERAGE(D40:G40) -> 5064.6499 | D40: =SUM(D41:D43) -> 5408.4082 | E40: =SUM(E41:E43) -> 7403.8163 | F40: =SUM(F41:F43) -> 4197.2294 | G40: =SUM(G41:G43) -> 3249.1456
A41: Menos de 1 salario y trab <36 horas | B41: =[1]MercLab!C286 -> 1192.7035 | C41: =AVERAGE(D41:G41) -> 1555.5729 | D41: =[1]MercLab!D286 -> 2117.6316 | E41: =[1]MercLab!E286 -> 1419.6851 | F41: =[1]MercLab!F286 -> 1601.7647 | G41: =[1]MercLab!G286 -> 1083.2103
A42: Menos de 1 salario y trab >=36 horas | B42: =[1]MercLab!C287 -> 2368.9696 | C42: =AVERAGE(D42:G42) -> 2619.077 | D42: =[1]MercLab!D287 -> 3290.7766 | E42: =[1]MercLab!E287 -> 2784.1312 | F42: =[1]MercLab!F287 -> 2595.4647 | G42: =[1]MercLab!G287 -> 1805.9353
A43: Menos de 1 salario y no decl. horas | B43: =[1]MercLab!C288 -> 1551.0225 | C43: =AVERAGE(D43:G43) -> 890 | D43: =[1]MercLab!D288 -> 0 | E43: =[1]MercLab!E288 -> 3200 | F43: =[1]MercLab!F288 -> 0 | G43: =[1]MercLab!G288 -> 360
A44: De 1 a 2 salarios | B44: =[1]MercLab!C289 -> 6645.3489 | C44: =AVERAGE(D44:G44) -> 6495.179 | D44: =[1]MercLab!D289 -> 7342.4028 | E44: =[1]MercLab!E289 -> 6418.2392 | F44: =[1]MercLab!F289 -> 5446.5417 | G44: =[1]MercLab!G289 -> 6773.5324
A45: De 2 a 3 salarios | B45: =[1]MercLab!C290 -> 12224.402 | C45: =AVERAGE(D45:G45) -> 9163.2167 | D45: =[1]MercLab!D290 -> 12552.866 | E45: =[1]MercLab!E290 -> 12452.461 | F45: =[1]MercLab!F290 -> 0 | G45: =[1]MercLab!G290 -> 11647.539
A46: De 3 a 4 salarios | B46: =[1]MercLab!C291 -> 17972.278 | C46: =AVERAGE(D46:G46) -> 13463.04 | D46: =[1]MercLab!D291 -> 17962.016 | E46: =[1]MercLab!E291 -> 18243.497 | F46: =[1]MercLab!F291 -> 0 | G46: =[1]MercLab!G291 -> 17646.645
A47: De 4 salarios y más | B47: =[1]MercLab!C292 -> 34934.002 | C47: =AVERAGE(D47:G47) -> 25940.868 | D47: =[1]MercLab!D292 -> 30570.939 | E47: =[1]MercLab!E292 -> 34863.416 | F47: =[1]MercLab!F292 -> 0 | G47: =[1]MercLab!G292 -> 38329.119
A49: Rama de Actividad
A50: Primaria | B50: =[1]MercLab!C294 -> 2027.2524 | C50: =AVERAGE(D50:G50) -> 1016.2888 | D50: =[1]MercLab!D294 -> 0 | E50: =[1]MercLab!E294 -> 2056.0119 | F50: =[1]MercLab!F294 -> 0 | G50: =[1]MercLab!G294 -> 2009.1434
A51: Secundaria | B51: =[1]MercLab!C295 -> 4372.4344 | C51: =AVERAGE(D51:G51) -> 2083.7174 | D51: =[1]MercLab!D295 -> 0 | E51: =[1]MercLab!E295 -> 5795.0715 | F51: =[1]MercLab!F295 -> 0 | G51: =[1]MercLab!G295 -> 2539.7982
A52: Terciaria | B52: =[1]MercLab!C296 -> 5663.7287 | C52: =AVERAGE(D52:G52) -> 5947.8036 | D52: =[1]MercLab!D296 -> 10947.167 | E52: =[1]MercLab!E296 -> 5845.3029 | F52: =[1]MercLab!F296 -> 2622.1594 | G52: =[1]MercLab!G296 -> 4376.5849
A53: No sabe, no responde | B53: =[1]MercLab!C297 -> 4445.3636 | C53: =AVERAGE(D53:G53) -> 3914.2346 | D53: =[1]MercLab!D297 -> 8458.75 | E53: =[1]MercLab!E297 -> 2329.9309 | F53: =[1]MercLab!F297 -> 0 | G53: =[1]MercLab!G297 -> 4868.2575
A55: ='C01'!$A$46 -> Fuente: Instituto Nacional de Estadística (INE). XL Encuesta Permanente de Hogares de Propósitos Múltiples, Septiembre 2010.
A56: ='C02'!$A$46 -> El salario mínimo en el área urbana es Lps. 5,500 y en la área rural es Lps. 4,055 (Promedio de salarios mínimos por rama)
A57: 1/ No. de salarios mínimos (personas que declaran ingresos) y trabajan 36 Hrs. o mas
A59: Cuadro No. 5. Ingreso promedio de las personas ocupadas por categoría ocupacional, según dominio,
A60: nivel educativo, rango de edad, sexo, número de salarios mínimos, rama de actividad y ocupación
A61: Ocupación Principal, Lps/Mes/Persona
A62: ....... Continuación
A63: Categorías | B63: Ingreso Promedio
B64: Ingreso Promedio | C64: Asalariados | G64: Cuenta propia
C65: Total | D65: Público | E65: Privado | F65: Doméstico
A67: Total Nacional | B67: =B8 -> 4288.5189 | C67: =C8 -> 5349.6545 | D67: =D8 -> 10938.141 | E67: =E8 -> 4677.3789 | F67: =F8 -> 2622.1594 | G67: =G8 -> 3160.9384
A69: Rama de Actividad (1 Dig.)
A70: Agricultura, Silvicultura, Caza y Pesca | B70: =[1]MercLab!C300 -> 2013.9506 | C70: =AVERAGE(D70:G70) -> 1008.1207 | D70: =[1]MercLab!D300 -> 0 | E70: =[1]MercLab!E300 -> 2026.1495 | F70: =[1]MercLab!F300 -> 0 | G70: =[1]MercLab!G300 -> 2006.3332
A71: Explotación de minas y canteras | B71: =[1]MercLab!C301 -> 3527.4449 | C71: =AVERAGE(D71:G71) -> 1672.0893 | D71: =[1]MercLab!D301 -> 0 | E71: =[1]MercLab!E301 -> 4179.2998 | F71: =[1]MercLab!F301 -> 0 | G71: =[1]MercLab!G301 -> 2509.0575
A72: Industria manufacturera | B72: =[1]MercLab!C302 -> 4372.4344 | C72: =AVERAGE(D72:G72) -> 2083.7174 | D72: =[1]MercLab!D302 -> 0 | E72: =[1]MercLab!E302 -> 5795.0715 | F72: =[1]MercLab!F302 -> 0 | G72: =[1]MercLab!G302 -> 2539.7982
A73: Electricidad, gas y agua | B73: =[1]MercLab!C303 -> 7429.7121 | C73: =AVERAGE(D73:G73) -> 3735.571 | D73: =[1]MercLab!D303 -> 9323.813 | E73: =[1]MercLab!E303 -> 5618.471 | F73: =[1]MercLab!F303 -> 0 | G73: =[1]MercLab!G303 -> 0
A74: Construcción | B74: =[1]MercLab!C304 -> 4608.6001 | C74: =AVERAGE(D74:G74) -> 4579.1444 | D74: =[1]MercLab!D304 -> 8732.2511 | E74: =[1]MercLab!E304 -> 4222.9214 | F74: =[1]MercLab!F304 -> 0 | G74: =[1]MercLab!G304 -> 5361.4052
A75: Comercio por Mayor / menor, Hoteles / restaurantes | B75: =[1]MercLab!C305 -> 4592.7797 | C75: =AVERAGE(D75:G75) -> 2370.3613 | D75: =[1]MercLab!D305 -> 0 | E75: =[1]MercLab!E305 -> 5307.8728 | F75: =[1]MercLab!F305 -> 0 | G75: =[1]MercLab!G305 -> 4173.5723
A76: Transp. almac. y comunicaciones | B76: =[1]MercLab!C306 -> 6041.737 | C76: =AVERAGE(D76:G76) -> 6171.2824 | D76: =[1]MercLab!D306 -> 13046.508 | E76: =[1]MercLab!E306 -> 5899.8596 | F76: =[1]MercLab!F306 -> 0 | G76: =[1]MercLab!G306 -> 5738.7616
A77: Estab. finac. seguros, Bienes inmuebles y servicios | B77: =[1]MercLab!C307 -> 9421.5103 | C77: =AVERAGE(D77:G77) -> 9665.0573 | D77: =[1]MercLab!D307 -> 17934.684 | E77: =[1]MercLab!E307 -> 8205.0694 | F77: =[1]MercLab!F307 -> 0 | G77: =[1]MercLab!G307 -> 12520.476
A78: Servicios Comunales, Sociales y Personales | B78: =[1]MercLab!C308 -> 6489.2745 | C78: =AVERAGE(D78:G78) -> 5652.6882 | D78: =[1]MercLab!D308 -> 10846.983 | E78: =[1]MercLab!E308 -> 6964.3552 | F78: =[1]MercLab!F308 -> 2622.1594 | G78: =[1]MercLab!G308 -> 2177.2553
A79: No sabe, No responde | B79: =[1]MercLab!C309 -> 4445.3636 | C79: =AVERAGE(D79:G79) -> 3914.2346 | D79: =[1]MercLab!D309 -> 8458.75 | E79: =[1]MercLab!E309 -> 2329.9309 | F79: =[1]MercLab!F309 -> 0 | G79: =[1]MercLab!G309 -> 4868.2575
A80: Busca trabajo por primera vez | B80: =[1]MercLab!C310 -> 0 | C80: =AVERAGE(D80:G80) -> 0 | D80: =[1]MercLab!D310 -> 0 | E80: =[1]MercLab!E310 -> 0 | F80: =[1]MercLab!F310 -> 0 | G80: =[1]MercLab!G310 -> 0
A82: Ocupación (1 Dig.)
A83: Profesionales, Técnicos y PEOA | B83: =[1]MercLab!C312 -> 10519.6 | C83: =AVERAGE(D83:G83) -> 7854.1949 | D83: =[1]MercLab!D312 -> 12138.311 | E83: =[1]MercLab!E312 -> 9586.398 | F83: =[1]MercLab!F312 -> 1322.5348 | G83: =[1]MercLab!G312 -> 8369.536
A84: Directores Gerentes y Administ. Grales. | B84: =[1]MercLab!C313 -> 10788.843 | C84: =AVERAGE(D84:G84) -> 8426.9313 | D84: =[1]MercLab!D313 -> 13075.83 | E84: =[1]MercLab!E313 -> 10605.008 | F84: =[1]MercLab!F313 -> 0 | G84: =[1]MercLab!G313 -> 10026.887
A85: Empleados de Oficina | B85: =[1]MercLab!C314 -> 7512.1051 | C85: =AVERAGE(D85:G85) -> 5167.0195 | D85: =[1]MercLab!D314 -> 9478.8932 | E85: =[1]MercLab!E314 -> 7159.6711 | F85: =[1]MercLab!F314 -> 0 | G85: =[1]MercLab!G314 -> 4029.5138
A86: Comerciantes y Vendedores | B86: =[1]MercLab!C315 -> 4539.3656 | C86: =AVERAGE(D86:G86) -> 3886.6222 | D86: =[1]MercLab!D315 -> 5624.2589 | E86: =[1]MercLab!E315 -> 5886.9933 | F86: =[1]MercLab!F315 -> 0 | G86: =[1]MercLab!G315 -> 4035.2367
A87: Agricultores, Ganaderos y Trab. Agrop. | B87: =[1]MercLab!C316 -> 1887.5128 | C87: =AVERAGE(D87:G87) -> 1672.967 | D87: =[1]MercLab!D316 -> 3000 | E87: =[1]MercLab!E316 -> 1692.6944 | F87: =[1]MercLab!F316 -> 0 | G87: =[1]MercLab!G316 -> 1999.1735
A88: Conductores de Transporte | B88: =[1]MercLab!C317 -> 6036.4792 | C88: =AVERAGE(D88:G88) -> 6463.3561 | D88: =[1]MercLab!D317 -> 8281.1758 | E88: =[1]MercLab!E317 -> 6140.839 | F88: =[1]MercLab!F317 -> 5659.699 | G88: =[1]MercLab!G317 -> 5771.7106
A89: Trab. Ind. Textil, Albañilería, Mecánica, etc. | B89: =[1]MercLab!C318 -> 4415.3595 | C89: =AVERAGE(D89:G89) -> 4195.9627 | D89: =[1]MercLab!D318 -> 8250.2652 | E89: =[1]MercLab!E318 -> 4513.3412 | F89: =[1]MercLab!F318 -> 0 | G89: =[1]MercLab!G318 -> 4020.2444
A90: Trab. Area Grafica, Quim., Alimentos, etc. | B90: =[1]MercLab!C319 -> 2232.2599 | C90: =AVERAGE(D90:G90) -> 2780.6122 | D90: =[1]MercLab!D319 -> 6020 | E90: =[1]MercLab!E319 -> 3393.5732 | F90: =[1]MercLab!F319 -> 0 | G90: =[1]MercLab!G319 -> 1708.8757
A91: Operador de Carga y Almacenaje | B91: =[1]MercLab!C320 -> 3873.3679 | C91: =AVERAGE(D91:G91) -> 3255.5435 | D91: =[1]MercLab!D320 -> 4574.3682 | E91: =[1]MercLab!E320 -> 4453.0318 | F91: =[1]MercLab!F320 -> 1660 | G91: =[1]MercLab!G320 -> 2334.7739
A92: Ocupación de los Servicios | B92: =[1]MercLab!C321 -> 3488.5858 | C92: =AVERAGE(D92:G92) -> 4203.7956 | D92: =[1]MercLab!D321 -> 7621.6822 | E92: =[1]MercLab!E321 -> 4864.0455 | F92: =[1]MercLab!F321 -> 2608.8911 | G92: =[1]MercLab!G321 -> 1720.5635
A93: No sabe, No responde | B93: =[1]MercLab!C322 -> 4666.9949 | C93: =AVERAGE(D93:G93) -> 5257.7125 | D93: =[1]MercLab!D322 -> 13478.306 | E93: =[1]MercLab!E322 -> 4274.4366 | F93: =[1]MercLab!F322 -> 0 | G93: =[1]MercLab!G322 -> 3278.1077
A94: Busca trabajo por primera vez | B94: =[1]MercLab!C323 -> 0 | C94: =AVERAGE(D94:G94) -> 0 | D94: =[1]MercLab!D323 -> 0 | E94: =[1]MercLab!E323 -> 0 | F94: =[1]MercLab!F323 -> 0 | G94: =[1]MercLab!G323 -> 0
A96: ='C01'!$A$46 -> Fuente: Instituto Nacional de Estadística (INE). XL Encuesta Permanente de Hogares de Propósitos Múltiples, Septiembre 2010.
A97: ='C02'!$A$46 -> El salario mínimo en el área urbana es Lps. 5,500 y en la área rural es Lps. 4,055 (Promedio de salarios mínimos por rama)

Sheet C06
A1: Cuadro No. 6. Años de estudio promedio de las personas ocupadas por categoría ocupacional, según dominio, nivel educativo,
A2: rangos de edad, sexo, número de salarios mínimos devengados, rama de actividad y ocupación
A3: Ocupación Principal
A4: Categorías | B4: Declaran Ingresos | C4: Asalariados | G4: Cuenta Propia | H4: Trab. Fam. no Remu. | I4: No Declaran.
C5: Total | D5: Público | E5: Privado | F5: Doméstico
A7: Total Nacional | B7: =[1]MercLab!C335 -> 7.1163858 | C7: =AVERAGE(D7:H7) -> 6.339987 | D7: =[1]MercLab!D335 -> 12.230397 | E7: =[1]MercLab!E335 -> 7.5660794 | F7: =[1]MercLab!F335 -> 5.9746103 | G7: =[1]MercLab!G335 -> 5.9288485 | H7: =[1]MercLab!H335 -> 0 | I7: =[1]MercLab!I335 -> 0
A9: Dominios
A10: Urbano | B10: =AVERAGE(B11:B13) -> 8.8533253 | C10: =AVERAGE(C11:C13) -> 7.0974812 | D10: =AVERAGE(D11:D13) -> 12.552725 | E10: =AVERAGE(E11:E13) -> 9.1350477 | F10: =AVERAGE(F11:F13) -> 6.1289091 | G10: =AVERAGE(G11:G13) -> 7.6707246 | H10: =AVERAGE(H11:H13) -> 0 | I10: =AVERAGE(I11:I13) -> 0
A11: Distrito Central | B11: =[1]MercLab!C337 -> 9.4885801 | C11: =AVERAGE(D11:H11) -> 7.3590391 | D11: =[1]MercLab!D337 -> 13.028034 | E11: =[1]MercLab!E337 -> 9.9039797 | F11: =[1]MercLab!F337 -> 6.2851064 | G11: =[1]MercLab!G337 -> 7.5780757 | H11: =[1]MercLab!H337 -> 0 | I11: =[1]MercLab!I337 -> 0
A12: San Pedro Sula | B12: =[1]MercLab!C338 -> 9.1569811 | C12: =AVERAGE(D12:H12) -> 7.2700077 | D12: =[1]MercLab!D338 -> 12.423676 | E12: =[1]MercLab!E338 -> 9.52319 | F12: =[1]MercLab!F338 -> 5.8882682 | G12: =[1]MercLab!G338 -> 8.5149041 | H12: =[1]MercLab!H338 -> 0 | I12: =[1]MercLab!I338 -> 0
A13: Resto urbano | B13: =[1]MercLab!C339 -> 7.9144146 | C13: =AVERAGE(D13:H13) -> 6.6633969 | D13: =[1]MercLab!D339 -> 12.206464 | E13: =[1]MercLab!E339 -> 7.9779733 | F13: =[1]MercLab!F339 -> 6.2133528 | G13: =[1]MercLab!G339 -> 6.919194 | H13: =[1]MercLab!H339 -> 0 | I13: =[1]MercLab!I339 -> 0
A14: Rural | B14: =[1]MercLab!C340 -> 5.4721344 | C14: =AVERAGE(D14:H14) -> 5.4542612 | D14: =[1]MercLab!D340 -> 11.041667 | E14: =[1]MercLab!E340 -> 5.8713408 | F14: =[1]MercLab!F340 -> 5.5436893 | G14: =[1]MercLab!G340 -> 4.814609 | H14: =[1]MercLab!H340 -> 0 | I14: =[1]MercLab!I340 -> 0
A16: Nivel Educativo | H16: =[1]MercLab!H341 -> 0 | I16: =[1]MercLab!I341 -> 0
A17: Sin Nivel | B17: =[1]MercLab!C342 -> 0 | C17: =AVERAGE(D17:H17) -> 0 | D17: =[1]MercLab!D342 -> 0 | E17: =[1]MercLab!E342 -> 0 | F17: =[1]MercLab!F342 -> 0 | G17: =[1]MercLab!G342 -> 0 | H17: =[1]MercLab!H342 -> 0 | I17: =[1]MercLab!I342 -> 0
A18: Primaria | B18: =[1]MercLab!C343 -> 4.5559519 | C18: =AVERAGE(D18:H18) -> 3.8477916 | D18: =[1]MercLab!D343 -> 5.2368851 | E18: =[1]MercLab!E343 -> 4.8023301 | F18: =[1]MercLab!F343 -> 4.870716 | G18: =[1]MercLab!G343 -> 4.3290266 | H18: =[1]MercLab!H343 -> 0 | I18: =[1]MercLab!I343 -> 0
A19: Secundaria | B19: =[1]MercLab!C344 -> 10.143571 | C19: =AVERAGE(D19:H19) -> 8.0652712 | D19: =[1]MercLab!D344 -> 11.036788 | E19: =[1]MercLab!E344 -> 10.103847 | F19: =[1]MercLab!F344 -> 9.1758932 | G19: =[1]MercLab!G344 -> 10.009827 | H19: =[1]MercLab!H344 -> 0 | I19: =[1]MercLab!I344 -> 0
A20: Superior | B20: =[1]MercLab!C345 -> 15.358601 | C20: =AVERAGE(D20:H20) -> 9.2950896 | D20: =[1]MercLab!D345 -> 15.895069 | E20: =[1]MercLab!E345 -> 14.84682 | F20: =[1]MercLab!F345 -> 0 | G20: =[1]MercLab!G345 -> 15.733559 | H20: =[1]MercLab!H345 -> 0 | I20: =[1]MercLab!I345 -> 0
A21: No sabe, no responde | B21: =[1]MercLab!C346 -> 15 | C21: =AVERAGE(D21:H21) -> 3 | D21: =[1]MercLab!D346 -> 15 | E21: =[1]MercLab!E346 -> 0 | F21: =[1]MercLab!F346 -> 0 | G21: =[1]MercLab!G346 -> 0 | H21: =[1]MercLab!H346 -> 0 | I21: =[1]MercLab!I346 -> 0
A23: Rango de Edad | H23: =[1]MercLab!H347 -> 0 | I23: =[1]MercLab!I347 -> 0
A24: De 10 a 11 años | B24: =[1]MercLab!C348 -> 3.1057467 | C24: =AVERAGE(D24:H24) -> 1.2263318 | D24: =[1]MercLab!D348 -> 0 | E24: =[1]MercLab!E348 -> 2.7088871 | F24: =[1]MercLab!F348 -> 0 | G24: =[1]MercLab!G348 -> 3.422772 | H24: =[1]MercLab!H348 -> 0 | I24: =[1]MercLab!I348 -> 0
A25: De 12 a 14 años | B25: =[1]MercLab!C349 -> 4.8772209 | C25: =AVERAGE(D25:H25) -> 2.661824 | D25: =[1]MercLab!D349 -> 0 | E25: =[1]MercLab!E349 -> 4.9499077 | F25: =[1]MercLab!F349 -> 3.4746772 | G25: =[1]MercLab!G349 -> 4.8845349 | H25: =[1]MercLab!H349 -> 0 | I25: =[1]MercLab!I349 -> 0
A26: De 15 a 18 años | B26: =[1]MercLab!C350 -> 6.1414922 | C26: =AVERAGE(D26:H26) -> 6.2426667 | D26: =[1]MercLab!D350 -> 13 | E26: =[1]MercLab!E350 -> 6.1826604 | F26: =[1]MercLab!F350 -> 6.03916 | G26: =[1]MercLab!G350 -> 5.991513 | H26: =[1]MercLab!H350 -> 0 | I26: =[1]MercLab!I350 -> 0
A27: De 19 a 24 años | B27: =[1]MercLab!C351 -> 7.9662961 | C27: =AVERAGE(D27:H27) -> 6.8391918 | D27: =[1]MercLab!D351 -> 11.855891 | E27: =[1]MercLab!E351 -> 8.1484147 | F27: =[1]MercLab!F351 -> 7.2818704 | G27: =[1]MercLab!G351 -> 6.909783 | H27: =[1]MercLab!H351 -> 0 | I27: =[1]MercLab!I351 -> 0
A28: De 25 a 29 años | B28: =[1]MercLab!C352 -> 8.1712813 | C28: =AVERAGE(D28:H28) -> 6.8455266 | D28: =[1]MercLab!D352 -> 12.362446 | E28: =[1]MercLab!E352 -> 8.5055175 | F28: =[1]MercLab!F352 -> 6.276678 | G28: =[1]MercLab!G352 -> 7.082991 | H28: =[1]MercLab!H352 -> 0 | I28: =[1]MercLab!I352 -> 0
A29: De 30 a 35 años | B29: =[1]MercLab!C353 -> 7.8630847 | C29: =AVERAGE(D29:H29) -> 6.8021179 | D29: =[1]MercLab!D353 -> 13.505059 | E29: =[1]MercLab!E353 -> 8.1402593 | F29: =[1]MercLab!F353 -> 5.6626558 | G29: =[1]MercLab!G353 -> 6.7026159 | H29: =[1]MercLab!H353 -> 0 | I29: =[1]MercLab!I353 -> 0
A30: De 36 a 44 años | B30: =[1]MercLab!C354 -> 7.088772 | C30: =AVERAGE(D30:H30) -> 6.2151305 | D30: =[1]MercLab!D354 -> 12.818898 | E30: =[1]MercLab!E354 -> 7.2393403 | F30: =[1]MercLab!F354 -> 5.0476137 | G30: =[1]MercLab!G354 -> 5.9698004 | H30: =[1]MercLab!H354 -> 0 | I30: =[1]MercLab!I354 -> 0
A31: De 45 a 59 años | B31: =[1]MercLab!C355 -> 6.5610164 | C31: =AVERAGE(D31:H31) -> 5.8257078 | D31: =[1]MercLab!D355 -> 11.728254 | E31: =[1]MercLab!E355 -> 6.940114 | F31: =[1]MercLab!F355 -> 4.9769638 | G31: =[1]MercLab!G355 -> 5.4832074 | H31: =[1]MercLab!H355 -> 0 | I31: =[1]MercLab!I355 -> 0
A32: De 60 años y más | B32: =[1]MercLab!C356 -> 4.8846257 | C32: =AVERAGE(D32:H32) -> 4.6511438 | D32: =[1]MercLab!D356 -> 9.5622404 | E32: =[1]MercLab!E356 -> 5.6245169 | F32: =[1]MercLab!F356 -> 3.5894772 | G32: =[1]MercLab!G356 -> 4.4794846 | H32: =[1]MercLab!H356 -> 0 | I32: =[1]MercLab!I356 -> 0
A34: Sexo | H34: =[1]MercLab!H357 -> 0 | I34: =[1]MercLab!I357 -> 0
A35: Hombre | B35: =[1]MercLab!C358 -> 6.6767157 | C35: =AVERAGE(D35:H35) -> 5.9380402 | D35: =[1]MercLab!D358 -> 11.554776 | E35: =[1]MercLab!E358 -> 6.9020496 | F35: =[1]MercLab!F358 -> 5.3876541 | G35: =[1]MercLab!G358 -> 5.8457209 | H35: =[1]MercLab!H358 -> 0 | I35: =[1]MercLab!I358 -> 0
A36: Mujer | B36: =[1]MercLab!C359 -> 7.8381237 | C36: =AVERAGE(D36:H36) -> 6.8333528 | D36: =[1]MercLab!D359 -> 12.723315 | E36: =[1]MercLab!E359 -> 9.3822114 | F36: =[1]MercLab!F359 -> 6.0114985 | G36: =[1]MercLab!G359 -> 6.0497392 | H36: =[1]MercLab!H359 -> 0 | I36: =[1]MercLab!I359 -> 0
A38: No. de Salarios Mínimos 1/ | H38: =[1]MercLab!H360 -> 0 | I38: =[1]MercLab!I360 -> 0
A39: Menos de un salario | B39: =AVERAGE(B40:B42) -> 5.8166676 | C39: =AVERAGE(D39:H39) -> 4.464575 | D39: =AVERAGE(D40:D42) -> 6.2067271 | E39: =AVERAGE(E40:E42) -> 7.8050199 | F39: =AVERAGE(F40:F42) -> 3.9810184 | G39: =AVERAGE(G40:G42) -> 4.3301097 | H39: =AVERAGE(H40:H42) -> 0 | I39: =AVERAGE(I40:I42) -> 0
A40: Menos de 1 salario y trab <36 horas | B40: =[1]MercLab!C361 -> 5.5734388 | C40: =AVERAGE(D40:H40) -> 5.3696313 | D40: =[1]MercLab!D361 -> 9.5160757 | E40: =[1]MercLab!E361 -> 6.0665446 | F40: =[1]MercLab!F361 -> 5.9723187 | G40: =[1]MercLab!G361 -> 5.2932174 | H40: =[1]MercLab!H361 -> 0 | I40: =[1]MercLab!I361 -> 0
A41: Menos de 1 salario y trab >=36 horas | B41: =[1]MercLab!C362 -> 6.1021971 | C41: =AVERAGE(D41:H41) -> 5.4240938 | D41: =[1]MercLab!D362 -> 9.1041057 | E41: =[1]MercLab!E362 -> 6.3485152 | F41: =[1]MercLab!F362 -> 5.9707366 | G41: =[1]MercLab!G362 -> 5.6971117 | H41: =[1]MercLab!H362 -> 0 | I41: =[1]MercLab!I362 -> 0
A42: Menos de 1 salario y no decl. horas | B42: =[1]MercLab!C363 -> 5.774367 | C42: =AVERAGE(D42:H42) -> 2.6 | D42: =[1]MercLab!D363 -> 0 | E42: =[1]MercLab!E363 -> 11 | F42: =[1]MercLab!F363 -> 0 | G42: =[1]MercLab!G363 -> 2 | H42: =[1]MercLab!H363 -> 0 | I42: =[1]MercLab!I363 -> 0
A43: De 1 a 2 salarios | B43: =[1]MercLab!C364 -> 8.5683927 | C43: =AVERAGE(D43:H43) -> 6.5753159 | D43: =[1]MercLab!D364 -> 11.027501 | E43: =[1]MercLab!E364 -> 8.7439886 | F43: =[1]MercLab!F364 -> 6.0101217 | G43: =[1]MercLab!G364 -> 7.0949675 | H43: =[1]MercLab!H364 -> 0 | I43: =[1]MercLab!I364 -> 0
A44: De 2 a 3 salarios | B44: =[1]MercLab!C365 -> 11.051806 | C44: =AVERAGE(D44:H44) -> 6.6187709 | D44: =[1]MercLab!D365 -> 13.399749 | E44: =[1]MercLab!E365 -> 11.640097 | F44: =[1]MercLab!F365 -> 0 | G44: =[1]MercLab!G365 -> 8.054008 | H44: =[1]MercLab!H365 -> 0 | I44: =[1]MercLab!I365 -> 0
A45: De 3 a 4 salarios | B45: =[1]MercLab!C366 -> 13.055619 | C45: =AVERAGE(D45:H45) -> 7.6637232 | D45: =[1]MercLab!D366 -> 15.11595 | E45: =[1]MercLab!E366 -> 13.823621 | F45: =[1]MercLab!F366 -> 0 | G45: =[1]MercLab!G366 -> 9.3790453 | H45: =[1]MercLab!H366 -> 0 | I45: =[1]MercLab!I366 -> 0
A46: De 4 salarios y más | B46: =[1]MercLab!C367 -> 13.43735 | C46: =AVERAGE(D46:H46) -> 8.2395203 | D46: =[1]MercLab!D367 -> 16.533395 | E46: =[1]MercLab!E367 -> 14.956422 | F46: =[1]MercLab!F367 -> 0 | G46: =[1]MercLab!G367 -> 9.7077838 | H46: =[1]MercLab!H367 -> 0 | I46: =[1]MercLab!I367 -> 0
A48: Rama de Actividad | H48: =[1]MercLab!H368 -> 0 | I48: =[1]MercLab!I368 -> 0
A49: Primaria | B49: =[1]MercLab!C369 -> 4.6847855 | C49: =AVERAGE(D49:H49) -> 1.8938957 | D49: =[1]MercLab!D369 -> 0 | E49: =[1]MercLab!E369 -> 5.00302 | F49: =[1]MercLab!F369 -> 0 | G49: =[1]MercLab!G369 -> 4.4664584 | H49: =[1]MercLab!H369 -> 0 | I49: =[1]MercLab!I369 -> 0
A50: Secundaria | B50: =[1]MercLab!C370 -> 7.2610004 | C50: =AVERAGE(D50:H50) -> 2.8220083 | D50: =[1]MercLab!D370 -> 0 | E50: =[1]MercLab!E370 -> 8.0967816 | F50: =[1]MercLab!F370 -> 0 | G50: =[1]MercLab!G370 -> 6.01326 | H50: =[1]MercLab!H370 -> 0 | I50: =[1]MercLab!I370 -> 0
A51: Terciaria | B51: =[1]MercLab!C371 -> 8.2926103 | C51: =AVERAGE(D51:H51) -> 6.7681725 | D51: =[1]MercLab!D371 -> 12.229389 | E51: =[1]MercLab!E371 -> 8.6437776 | F51: =[1]MercLab!F371 -> 5.9746103 | G51: =[1]MercLab!G371 -> 6.9930854 | H51: =[1]MercLab!H371 -> 0 | I51: =[1]MercLab!I371 -> 0
A52: No sabe, no responde | B52: =[1]MercLab!C372 -> 7.6085917 | C52: =AVERAGE(D52:H52) -> 5.2121902 | D52: =[1]MercLab!D372 -> 12.5 | E52: =[1]MercLab!E372 -> 8.9206778 | F52: =[1]MercLab!F372 -> 0 | G52: =[1]MercLab!G372 -> 4.6402734 | H52: =[1]MercLab!H372 -> 0 | I52: =[1]MercLab!I372 -> 0
A54: ='C01'!$A$46 -> Fuente: Instituto Nacional de Estadística (INE). XL Encuesta Permanente de Hogares de Propósitos Múltiples, Septiembre 2010.
A55: ='C02'!$A$46 -> El salario mínimo en el área urbana es Lps. 5,500 y en la área rural es Lps. 4,055 (Promedio de salarios mínimos por rama)
A56: 1/ No. de salarios mínimos (personas que declaran ingresos) y trabajan 36 Hrs. o mas
A58: Cuadro No. 6. Años de estudio promedio de las personas ocupadas por categoría ocupacional, según dominio, nivel educativo,
A59: rangos de edad, sexo, número de salarios mínimos devengados, rama de actividad y ocupación
A60: Ocupación Principal
A61: ....... Continuación
A62: Categorías | B62: Declaran Ingresos | C62: Asalariados | G62: Cuenta Propia | H62: Trab. Fam. no Remu. | I62: No Declaran.
C63: Total | D63: Público | E63: Privado | F63: Doméstico | I63: Media
A65: Total Nacional | B65: =B7 -> 7.1163858 | C65: =C7 -> 6.339987 | D65: =D7 -> 12.230397 | E65: =E7 -> 7.5660794 | F65: =F7 -> 5.9746103 | G65: =G7 -> 5.9288485 | H65: =H7 -> 0 | I65: =I7 -> 0
A67: Rama de Actividad (1 dig.) | H67: =[1]MercLab!H374 -> 0 | I67: =[1]MercLab!I374 -> 0
A68: Agricultura, Silvicultura, Caza y Pesca | B68: =[1]MercLab!C375 -> 4.6724372 | C68: =AVERAGE(D68:H68) -> 1.8886511 | D68: =[1]MercLab!D375 -> 0 | E68: =[1]MercLab!E375 -> 4.9781125 | F68: =[1]MercLab!F375 -> 0 | G68: =[1]MercLab!G375 -> 4.4651429 | H68: =[1]MercLab!H375 -> 0 | I68: =[1]MercLab!I375 -> 0
A69: Explotación de minas y canteras | B69: =[1]MercLab!C376 -> 5.8032096 | C69: =AVERAGE(D69:H69) -> 2.2119307 | D69: =[1]MercLab!D376 -> 0 | E69: =[1]MercLab!E376 -> 6.3844007 | F69: =[1]MercLab!F376 -> 0 | G69: =[1]MercLab!G376 -> 4.6752528 | H69: =[1]MercLab!H376 -> 0 | I69: =[1]MercLab!I376 -> 0
A70: Industria manufacturera | B70: =[1]MercLab!C377 -> 7.2610004 | C70: =AVERAGE(D70:H70) -> 2.8220083 | D70: =[1]MercLab!D377 -> 0 | E70: =[1]MercLab!E377 -> 8.0967816 | F70: =[1]MercLab!F377 -> 0 | G70: =[1]MercLab!G377 -> 6.01326 | H70: =[1]MercLab!H377 -> 0 | I70: =[1]MercLab!I377 -> 0
A71: Electricidad, gas y agua | B71: =[1]MercLab!C378 -> 9.4515884 | C71: =AVERAGE(D71:H71) -> 3.7973743 | D71: =[1]MercLab!D378 -> 11.364781 | E71: =[1]MercLab!E378 -> 7.6220907 | F71: =[1]MercLab!F378 -> 0 | G71: =[1]MercLab!G378 -> 0 | H71: =[1]MercLab!H378 -> 0 | I71: =[1]MercLab!I378 -> 0
A72: Construcción | B72: =[1]MercLab!C379 -> 6.2812271 | C72: =AVERAGE(D72:H72) -> 4.5079556 | D72: =[1]MercLab!D379 -> 10.019267 | E72: =[1]MercLab!E379 -> 6.2632203 | F72: =[1]MercLab!F379 -> 0 | G72: =[1]MercLab!G379 -> 6.2572905 | H72: =[1]MercLab!H379 -> 0 | I72: =[1]MercLab!I379 -> 0
A73: Comercio por Mayor / menor, Hoteles / restaurantes | B73: =[1]MercLab!C380 -> 7.5275829 | C73: =AVERAGE(D73:H73) -> 3.0940078 | D73: =[1]MercLab!D380 -> 0 | E73: =[1]MercLab!E380 -> 8.6611542 | F73: =[1]MercLab!F380 -> 0 | G73: =[1]MercLab!G380 -> 6.8088848 | H73: =[1]MercLab!H380 -> 0 | I73: =[1]MercLab!I380 -> 0
A74: Transp. almac. y comunicaciones | B74: =[1]MercLab!C381 -> 7.8225852 | C74: =AVERAGE(D74:H74) -> 5.0888401 | D74: =[1]MercLab!D381 -> 9.8640764 | E74: =[1]MercLab!E381 -> 8.401001 | F74: =[1]MercLab!F381 -> 0 | G74: =[1]MercLab!G381 -> 7.179123 | H74: =[1]MercLab!H381 -> 0 | I74: =[1]MercLab!I381 -> 0
A75: Estab. finac. seguros, Bienes inmuebles y servicios | B75: =[1]MercLab!C382 -> 10.80333 | C75: =AVERAGE(D75:H75) -> 7.2773489 | D75: =[1]MercLab!D382 -> 14.211078 | E75: =[1]MercLab!E382 -> 10.365677 | F75: =[1]MercLab!F382 -> 0 | G75: =[1]MercLab!G382 -> 11.80999 | H75: =[1]MercLab!H382 -> 0 | I75: =[1]MercLab!I382 -> 0
A76: Servicios Comunales, Sociales y Personales | B76: =[1]MercLab!C383 -> 9.4936975 | C76: =AVERAGE(D76:H76) -> 6.994987 | D76: =[1]MercLab!D383 -> 12.282927 | E76: =[1]MercLab!E383 -> 9.8774014 | F76: =[1]MercLab!F383 -> 5.9746103 | G76: =[1]MercLab!G383 -> 6.8399965 | H76: =[1]MercLab!H383 -> 0 | I76: =[1]MercLab!I383 -> 0
A77: No sabe, No responde | B77: =[1]MercLab!C384 -> 7.6085917 | C77: =AVERAGE(D77:H77) -> 5.2121902 | D77: =[1]MercLab!D384 -> 12.5 | E77: =[1]MercLab!E384 -> 8.9206778 | F77: =[1]MercLab!F384 -> 0 | G77: =[1]MercLab!G384 -> 4.6402734 | H77: =[1]MercLab!H384 -> 0 | I77: =[1]MercLab!I384 -> 0
A79: Ocupación a (1 Dig.) | H79: =[1]MercLab!H386 -> 0 | I79: =[1]MercLab!I386 -> 0
A80: Profesionales, Técnicos y PEOA | B80: =[1]MercLab!C387 -> 12.738272 | C80: =AVERAGE(D80:H80) -> 9.3733658 | D80: =[1]MercLab!D387 -> 13.676056 | E80: =[1]MercLab!E387 -> 12.29645 | F80: =[1]MercLab!F387 -> 9.8704181 | G80: =[1]MercLab!G387 -> 11.023905 | H80: =[1]MercLab!H387 -> 0 | I80: =[1]MercLab!I387 -> 0
A81: Directores Gerentes y Administ. Grales. | B81: =[1]MercLab!C388 -> 10.592973 | C81: =AVERAGE(D81:H81) -> 6.7346653 | D81: =[1]MercLab!D388 -> 13.470051 | E81: =[1]MercLab!E388 -> 11.448557 | F81: =[1]MercLab!F388 -> 0 | G81: =[1]MercLab!G388 -> 8.7547189 | H81: =[1]MercLab!H388 -> 0 | I81: =[1]MercLab!I388 -> 0
A82: Empleados de Oficina | B82: =[1]MercLab!C389 -> 11.307914 | C82: =AVERAGE(D82:H82) -> 6.2050842 | D82: =[1]MercLab!D389 -> 12.117063 | E82: =[1]MercLab!E389 -> 11.281908 | F82: =[1]MercLab!F389 -> 0 | G82: =[1]MercLab!G389 -> 7.6264502 | H82: =[1]MercLab!H389 -> 0 | I82: =[1]MercLab!I389 -> 0
A83: Comerciantes y Vendedores | B83: =[1]MercLab!C390 -> 7.4932802 | C83: =AVERAGE(D83:H83) -> 5.7713391 | D83: =[1]MercLab!D390 -> 12.745553 | E83: =[1]MercLab!E390 -> 9.4235428 | F83: =[1]MercLab!F390 -> 0 | G83: =[1]MercLab!G390 -> 6.6875992 | H83: =[1]MercLab!H390 -> 0 | I83: =[1]MercLab!I390 -> 0
A84: Agricultores, Ganaderos y Trab. Agrop. | B84: =[1]MercLab!C391 -> 4.6090632 | C84: =AVERAGE(D84:H84) -> 3.0597439 | D84: =[1]MercLab!D391 -> 6 | E84: =[1]MercLab!E391 -> 4.8262252 | F84: =[1]MercLab!F391 -> 0 | G84: =[1]MercLab!G391 -> 4.4724945 | H84: =[1]MercLab!H391 -> 0 | I84: =[1]MercLab!I391 -> 0
A85: Conductores de Transporte | B85: =[1]MercLab!C392 -> 6.8639912 | C85: =AVERAGE(D85:H85) -> 5.5268668 | D85: =[1]MercLab!D392 -> 8.4000903 | E85: =[1]MercLab!E392 -> 6.4833354 | F85: =[1]MercLab!F392 -> 5.7706857 | G85: =[1]MercLab!G392 -> 6.9802228 | H85: =[1]MercLab!H392 -> 0 | I85: =[1]MercLab!I392 -> 0
A86: Trab. Ind. Textil, Albañilería, Mecánica, etc. | B86: =[1]MercLab!C393 -> 6.9007329 | C86: =AVERAGE(D86:H86) -> 4.4687107 | D86: =[1]MercLab!D393 -> 8.6982006 | E86: =[1]MercLab!E393 -> 6.9543367 | F86: =[1]MercLab!F393 -> 0 | G86: =[1]MercLab!G393 -> 6.6910162 | H86: =[1]MercLab!H393 -> 0 | I86: =[1]MercLab!I393 -> 0
A87: Trab. Area Grafica, Quim., Alimentos, etc. | B87: =[1]MercLab!C394 -> 5.7316047 | C87: =AVERAGE(D87:H87) -> 4.3696914 | D87: =[1]MercLab!D394 -> 10 | E87: =[1]MercLab!E394 -> 6.523456 | F87: =[1]MercLab!F394 -> 0 | G87: =[1]MercLab!G394 -> 5.3250008 | H87: =[1]MercLab!H394 -> 0 | I87: =[1]MercLab!I394 -> 0
A88: Operador de Carga y Almacenaje | B88: =[1]MercLab!C395 -> 7.0653515 | C88: =AVERAGE(D88:H88) -> 4.0955534 | D88: =[1]MercLab!D395 -> 7.0045673 | E88: =[1]MercLab!E395 -> 7.4162628 | F88: =[1]MercLab!F395 -> 0 | G88: =[1]MercLab!G395 -> 6.056937 | H88: =[1]MercLab!H395 -> 0 | I88: =[1]MercLab!I395 -> 0
A89: Ocupación de los Servicios | B89: =[1]MercLab!C396 -> 6.2592938 | C89: =AVERAGE(D89:H89) -> 5.136849 | D89: =[1]MercLab!D396 -> 7.3153718 | E89: =[1]MercLab!E396 -> 6.5931223 | F89: =[1]MercLab!F396 -> 5.9432979 | G89: =[1]MercLab!G396 -> 5.8324532 | H89: =[1]MercLab!H396 -> 0 | I89: =[1]MercLab!I396 -> 0
A90: No sabe, No responde | B90: =[1]MercLab!C397 -> 7.8079291 | C90: =AVERAGE(D90:H90) -> 5.6966605 | D90: =[1]MercLab!D397 -> 14.251737 | E90: =[1]MercLab!E397 -> 7.2818671 | F90: =[1]MercLab!F397 -> 0 | G90: =[1]MercLab!G397 -> 6.9496982 | H90: =[1]MercLab!H397 -> 0 | I90: =[1]MercLab!I397 -> 0
A92: ='C01'!$A$46 -> Fuente: Instituto Nacional de Estadística (INE). XL Encuesta Permanente de Hogares de Propósitos Múltiples, Septiembre 2010.
A93: ='C02'!$A$46 -> El salario mínimo en el área urbana es Lps. 5,500 y en la área rural es Lps. 4,055 (Promedio de salarios mínimos por rama)
