Workbook

Sheet Portada

Sheet C01
A1: Cuadro No. 1. Población en Edad de Trabajar (PET), Población Económicamente Activa (PEA) y Tasa de Participación (TP)
A2: según dominio, quintil del ingreso de hogar, nivel educativo y rango de edad
A4: Categorías | B4: Población en Edad de Trabajar (PET) | H4: Población Económicamente Activa (PEA) | N4: Tasa de Participación (TP)
B5: Total | C5: % 1/ | D5: Hombre | E5: % 1/ | F5: Mujer | G5: % 1/ | H5: Total | I5: % 1/ | J5: Hombre | K5: % 1/ | L5: Mujer | M5: % 1/ | N5: Total | O5: Hombre | P5: Mujer
A7: Total Nacional 2/ | B7: =[1]MercLab!C7 -> 6401785.5 | C7: =SUM(E7,G7) -> 100 | D7: =[1]MercLab!D7 -> 3073237.8 | E7: =IF(ISNUMBER(D7/$B$7*100),D7/$B$7*100,0) -> 48.005947 | F7: =[1]MercLab!E7 -> 3328547.7 | G7: =IF(ISNUMBER(F7/$B$7*100),F7/$B$7*100,0) -> 51.994053 | H7: =[1]MercLab!F7 -> 3466515.2 | I7: =SUM(K7,M7) -> 100 | J7: =[1]MercLab!G7 -> 2191748.7 | K7: =IF(ISNUMBER(J7/$H$7*100),J7/$H$7*100,0) -> 63.226283 | L7: =[1]MercLab!H7 -> 1274766.5 | M7: =IF(ISNUMBER(L7/$H$7*100),L7/$H$7*100,0) -> 36.773717 | N7: =IF(ISNUMBER(H7/B7*100),H7/B7*100,0) -> 54.149193 | O7: =IF(ISNUMBER(J7/D7*100),J7/D7*100,0) -> 71.31725 | P7: =IF(ISNUMBER(L7/F7*100),L7/F7*100,0) -> 38.297978
A9: Dominio
A10: Urbano | B10: =SUM(B11:B13) -> 2982335.8 | C10: =IF(ISNUMBER(B10/B$7*100),B10/B$7*100,0) -> 46.586 | D10: =SUM(D11:D13) -> 1340834.1 | E10: =IF(ISNUMBER(D10/D$7*100),D10/D$7*100,0) -> 43.629365 | F10: =SUM(F11:F13) -> 1641501.7 | G10: =IF(ISNUMBER(F10/F$7*100),F10/F$7*100,0) -> 49.315853 | H10: =SUM(H11:H13) -> 1627163.9 | I10: =IF(ISNUMBER(H10/H$7*100),H10/H$7*100,0) -> 46.939471 | J10: =SUM(J11:J13) -> 888723.17 | K10: =IF(ISNUMBER(J10/J$7*100),J10/J$7*100,0) -> 40.548589 | L10: =SUM(L11:L13) -> 738440.72 | M10: =IF(ISNUMBER(L10/L$7*100),L10/L$7*100,0) -> 57.927529 | N10: =IF(ISNUMBER(H10/B10*100),H10/B10*100,0) -> 54.560049 | O10: =IF(ISNUMBER(J10/D10*100),J10/D10*100,0) -> 66.281366 | P10: =IF(ISNUMBER(L10/F10*100),L10/F10*100,0) -> 44.985681
A11: Distrito Central | B11: =[1]MercLab!C8 -> 837744.46 | C11: =IF(ISNUMBER(B11/B$7*100),B11/B$7*100,0) -> 13.086106 | D11: =[1]MercLab!D8 -> 371627.12 | E11: =IF(ISNUMBER(D11/D$7*100),D11/D$7*100,0) -> 12.092365 | F11: =[1]MercLab!E8 -> 466117.34 | G11: =IF(ISNUMBER(F11/F$7*100),F11/F$7*100,0) -> 14.003625 | H11: =[1]MercLab!F8 -> 469237.3 | I11: =IF(ISNUMBER(H11/H$7*100),H11/H$7*100,0) -> 13.536283 | J11: =[1]MercLab!G8 -> 245397.76 | K11: =IF(ISNUMBER(J11/J$7*100),J11/J$7*100,0) -> 11.196437 | L11: =[1]MercLab!H8 -> 223839.54 | M11: =IF(ISNUMBER(L11/L$7*100),L11/L$7*100,0) -> 17.559258 | N11: =IF(ISNUMBER(H11/B11*100),H11/B11*100,0) -> 56.011985 | O11: =IF(ISNUMBER(J11/D11*100),J11/D11*100,0) -> 66.033329 | P11: =IF(ISNUMBER(L11/F11*100),L11/F11*100,0) -> 48.022144
A12: San Pedro Sula | B12: =[1]MercLab!C9 -> 481202.48 | C12: =IF(ISNUMBER(B12/B$7*100),B12/B$7*100,0) -> 7.5166917 | D12: =[1]MercLab!D9 -> 217390.26 | E12: =IF(ISNUMBER(D12/D$7*100),D12/D$7*100,0) -> 7.0736557 | F12: =[1]MercLab!E9 -> 263812.22 | G12: =IF(ISNUMBER(F12/F$7*100),F12/F$7*100,0) -> 7.9257454 | H12: =[1]MercLab!F9 -> 271541.51 | I12: =IF(ISNUMBER(H12/H$7*100),H12/H$7*100,0) -> 7.8332706 | J12: =[1]MercLab!G9 -> 149782.03 | K12: =IF(ISNUMBER(J12/J$7*100),J12/J$7*100,0) -> 6.8339052 | L12: =[1]MercLab!H9 -> 121759.49 | M12: =IF(ISNUMBER(L12/L$7*100),L12/L$7*100,0) -> 9.5515129 | N12: =IF(ISNUMBER(H12/B12*100),H12/B12*100,0) -> 56.429783 | O12: =IF(ISNUMBER(J12/D12*100),J12/D12*100,0) -> 68.900064 | P12: =IF(ISNUMBER(L12/F12*100),L12/F12*100,0) -> 46.153846
A13: Resto urbano | B13: =[1]MercLab!C10 -> 1663388.9 | C13: =IF(ISNUMBER(B13/B$7*100),B13/B$7*100,0) -> 25.983202 | D13: =[1]MercLab!D10 -> 751816.74 | E13: =IF(ISNUMBER(D13/D$7*100),D13/D$7*100,0) -> 24.463344 | F13: =[1]MercLab!E10 -> 911572.14 | G13: =IF(ISNUMBER(F13/F$7*100),F13/F$7*100,0) -> 27.386482 | H13: =[1]MercLab!F10 -> 886385.07 | I13: =IF(ISNUMBER(H13/H$7*100),H13/H$7*100,0) -> 25.569918 | J13: =[1]MercLab!G10 -> 493543.38 | K13: =IF(ISNUMBER(J13/J$7*100),J13/J$7*100,0) -> 22.518247 | L13: =[1]MercLab!H10 -> 392841.69 | M13: =IF(ISNUMBER(L13/L$7*100),L13/L$7*100,0) -> 30.816757 | N13: =IF(ISNUMBER(H13/B13*100),H13/B13*100,0) -> 53.287904 | O13: =IF(ISNUMBER(J13/D13*100),J13/D13*100,0) -> 65.646767 | P13: =IF(ISNUMBER(L13/F13*100),L13/F13*100,0) -> 43.094965
A14: Rural | B14: =[1]MercLab!C11 -> 3419449.7 | C14: =IF(ISNUMBER(B14/B$7*100),B14/B$7*100,0) -> 53.414 | D14: =[1]MercLab!D11 -> 1732403.6 | E14: =IF(ISNUMBER(D14/D$7*100),D14/D$7*100,0) -> 56.370635 | F14: =[1]MercLab!E11 -> 1687046 | G14: =IF(ISNUMBER(F14/F$7*100),F14/F$7*100,0) -> 50.684147 | H14: =[1]MercLab!F11 -> 1839351.3 | I14: =IF(ISNUMBER(H14/H$7*100),H14/H$7*100,0) -> 53.060529 | J14: =[1]MercLab!G11 -> 1303025.5 | K14: =IF(ISNUMBER(J14/J$7*100),J14/J$7*100,0) -> 59.451411 | L14: =[1]MercLab!H11 -> 536325.76 | M14: =IF(ISNUMBER(L14/L$7*100),L14/L$7*100,0) -> 42.072471 | N14: =IF(ISNUMBER(H14/B14*100),H14/B14*100,0) -> 53.790856 | O14: =IF(ISNUMBER(J14/D14*100),J14/D14*100,0) -> 75.214891 | P14: =IF(ISNUMBER(L14/F14*100),L14/F14*100,0) -> 31.79082
A16: Quintil de Ingreso
A17: 1 | B17: =[1]MercLab!C13 -> 1390252.3 | C17: =IF(ISNUMBER(B17/B$7*100),B17/B$7*100,0) -> 21.716634 | D17: =[1]MercLab!D13 -> 691729.66 | E17: =IF(ISNUMBER(D17/D$7*100),D17/D$7*100,0) -> 22.508172 | F17: =[1]MercLab!E13 -> 698522.65 | G17: =IF(ISNUMBER(F17/F$7*100),F17/F$7*100,0) -> 20.985809 | H17: =[1]MercLab!F13 -> 669834.45 | I17: =IF(ISNUMBER(H17/H$7*100),H17/H$7*100,0) -> 19.322992 | J17: =[1]MercLab!G13 -> 496602.99 | K17: =IF(ISNUMBER(J17/J$7*100),J17/J$7*100,0) -> 22.657844 | L17: =[1]MercLab!H13 -> 173231.46 | M17: =IF(ISNUMBER(L17/L$7*100),L17/L$7*100,0) -> 13.58927 | N17: =IF(ISNUMBER(H17/B17*100),H17/B17*100,0) -> 48.180783 | O17: =IF(ISNUMBER(J17/D17*100),J17/D17*100,0) -> 71.791485 | P17: =IF(ISNUMBER(L17/F17*100),L17/F17*100,0) -> 24.799691
A18: 2 | B18: =[1]MercLab!C14 -> 1369145.6 | C18: =IF(ISNUMBER(B18/B$7*100),B18/B$7*100,0) -> 21.386934 | D18: =[1]MercLab!D14 -> 658594.93 | E18: =IF(ISNUMBER(D18/D$7*100),D18/D$7*100,0) -> 21.430002 | F18: =[1]MercLab!E14 -> 710550.69 | G18: =IF(ISNUMBER(F18/F$7*100),F18/F$7*100,0) -> 21.347168 | H18: =[1]MercLab!F14 -> 676790.39 | I18: =IF(ISNUMBER(H18/H$7*100),H18/H$7*100,0) -> 19.523653 | J18: =[1]MercLab!G14 -> 454988.96 | K18: =IF(ISNUMBER(J18/J$7*100),J18/J$7*100,0) -> 20.759176 | L18: =[1]MercLab!H14 -> 221801.43 | M18: =IF(ISNUMBER(L18/L$7*100),L18/L$7*100,0) -> 17.399377 | N18: =IF(ISNUMBER(H18/B18*100),H18/B18*100,0) -> 49.431586 | O18: =IF(ISNUMBER(J18/D18*100),J18/D18*100,0) -> 69.084796 | P18: =IF(ISNUMBER(L18/F18*100),L18/F18*100,0) -> 31.215427
A19: 3 | B19: =[1]MercLab!C15 -> 1309854.5 | C19: =IF(ISNUMBER(B19/B$7*100),B19/B$7*100,0) -> 20.460768 | D19: =[1]MercLab!D15 -> 618625.71 | E19: =IF(ISNUMBER(D19/D$7*100),D19/D$7*100,0) -> 20.129445 | F19: =[1]MercLab!E15 -> 691228.79 | G19: =IF(ISNUMBER(F19/F$7*100),F19/F$7*100,0) -> 20.766678 | H19: =[1]MercLab!F15 -> 700412.58 | I19: =IF(ISNUMBER(H19/H$7*100),H19/H$7*100,0) -> 20.205092 | J19: =[1]MercLab!G15 -> 435129.25 | K19: =IF(ISNUMBER(J19/J$7*100),J19/J$7*100,0) -> 19.853063 | L19: =[1]MercLab!H15 -> 265283.32 | M19: =IF(ISNUMBER(L19/L$7*100),L19/L$7*100,0) -> 20.810347 | N19: =IF(ISNUMBER(H19/B19*100),H19/B19*100,0) -> 53.472548 | O19: =IF(ISNUMBER(J19/D19*100),J19/D19*100,0) -> 70.338049 | P19: =IF(ISNUMBER(L19/F19*100),L19/F19*100,0) -> 38.378512
A20: 4 | B20: =[1]MercLab!C16 -> 1222539 | C20: =IF(ISNUMBER(B20/B$7*100),B20/B$7*100,0) -> 19.096845 | D20: =[1]MercLab!D16 -> 581885.03 | E20: =IF(ISNUMBER(D20/D$7*100),D20/D$7*100,0) -> 18.933941 | F20: =[1]MercLab!E16 -> 640654 | G20: =IF(ISNUMBER(F20/F$7*100),F20/F$7*100,0) -> 19.247253 | H20: =[1]MercLab!F16 -> 704809.93 | I20: =IF(ISNUMBER(H20/H$7*100),H20/H$7*100,0) -> 20.331944 | J20: =[1]MercLab!G16 -> 413742.24 | K20: =IF(ISNUMBER(J20/J$7*100),J20/J$7*100,0) -> 18.877266 | L20: =[1]MercLab!H16 -> 291067.69 | M20: =IF(ISNUMBER(L20/L$7*100),L20/L$7*100,0) -> 22.83302 | N20: =IF(ISNUMBER(H20/B20*100),H20/B20*100,0) -> 57.651323 | O20: =IF(ISNUMBER(J20/D20*100),J20/D20*100,0) -> 71.103777 | P20: =IF(ISNUMBER(L20/F20*100),L20/F20*100,0) -> 45.4329
A21: 5 | B21: =[1]MercLab!C17 -> 1092980.1 | C21: =IF(ISNUMBER(B21/B$7*100),B21/B$7*100,0) -> 17.073052 | D21: =[1]MercLab!D17 -> 514084.65 | E21: =IF(ISNUMBER(D21/D$7*100),D21/D$7*100,0) -> 16.727787 | F21: =[1]MercLab!E17 -> 578895.49 | G21: =IF(ISNUMBER(F21/F$7*100),F21/F$7*100,0) -> 17.391834 | H21: =[1]MercLab!F17 -> 708514.77 | I21: =IF(ISNUMBER(H21/H$7*100),H21/H$7*100,0) -> 20.438819 | J21: =[1]MercLab!G17 -> 386763.3 | K21: =IF(ISNUMBER(J21/J$7*100),J21/J$7*100,0) -> 17.646334 | L21: =[1]MercLab!H17 -> 321751.47 | M21: =IF(ISNUMBER(L21/L$7*100),L21/L$7*100,0) -> 25.240032 | N21: =IF(ISNUMBER(H21/B21*100),H21/B21*100,0) -> 64.82412 | O21: =IF(ISNUMBER(J21/D21*100),J21/D21*100,0) -> 75.233387 | P21: =IF(ISNUMBER(L21/F21*100),L21/F21*100,0) -> 55.580234
A22: No declaran ingresos | B22: =[1]MercLab!C18 -> 17013.892 | C22: =IF(ISNUMBER(B22/B$7*100),B22/B$7*100,0) -> 0.26576791 | D22: =[1]MercLab!D18 -> 8317.789 | E22: =IF(ISNUMBER(D22/D$7*100),D22/D$7*100,0) -> 0.27065231 | F22: =[1]MercLab!E18 -> 8696.1026 | G22: =IF(ISNUMBER(F22/F$7*100),F22/F$7*100,0) -> 0.26125816 | H22: =[1]MercLab!F18 -> 6153.0455 | I22: =IF(ISNUMBER(H22/H$7*100),H22/H$7*100,0) -> 0.17749945 | J22: =[1]MercLab!G18 -> 4521.9376 | K22: =IF(ISNUMBER(J22/J$7*100),J22/J$7*100,0) -> 0.20631643 | L22: =[1]MercLab!H18 -> 1631.1079 | M22: =IF(ISNUMBER(L22/L$7*100),L22/L$7*100,0) -> 0.12795347 | N22: =IF(ISNUMBER(H22/B22*100),H22/B22*100,0) -> 36.164833 | O22: =IF(ISNUMBER(J22/D22*100),J22/D22*100,0) -> 54.364659 | P22: =IF(ISNUMBER(L22/F22*100),L22/F22*100,0) -> 18.756769
A24: Nivel Educativo
A25: Sin Nivel | B25: =[1]MercLab!C20 -> 762715.18 | C25: =IF(ISNUMBER(B25/B$7*100),B25/B$7*100,0) -> 11.914101 | D25: =[1]MercLab!D20 -> 359962.42 | E25: =IF(ISNUMBER(D25/D$7*100),D25/D$7*100,0) -> 11.712807 | F25: =[1]MercLab!E20 -> 402752.76 | G25: =IF(ISNUMBER(F25/F$7*100),F25/F$7*100,0) -> 12.099954 | H25: =[1]MercLab!F20 -> 424685.19 | I25: =IF(ISNUMBER(H25/H$7*100),H25/H$7*100,0) -> 12.25107 | J25: =[1]MercLab!G20 -> 291297.62 | K25: =IF(ISNUMBER(J25/J$7*100),J25/J$7*100,0) -> 13.290649 | L25: =[1]MercLab!H20 -> 133387.57 | M25: =IF(ISNUMBER(L25/L$7*100),L25/L$7*100,0) -> 10.463687 | N25: =IF(ISNUMBER(H25/B25*100),H25/B25*100,0) -> 55.680705 | O25: =IF(ISNUMBER(J25/D25*100),J25/D25*100,0) -> 80.924452 | P25: =IF(ISNUMBER(L25/F25*100),L25/F25*100,0) -> 33.118971
A26: Primaria | B26: =[1]MercLab!C21 -> 3560849.2 | C26: =IF(ISNUMBER(B26/B$7*100),B26/B$7*100,0) -> 55.622751 | D26: =[1]MercLab!D21 -> 1788657.8 | E26: =IF(ISNUMBER(D26/D$7*100),D26/D$7*100,0) -> 58.201086 | F26: =[1]MercLab!E21 -> 1772191.4 | G26: =IF(ISNUMBER(F26/F$7*100),F26/F$7*100,0) -> 53.242182 | H26: =[1]MercLab!F21 -> 1898797.6 | I26: =IF(ISNUMBER(H26/H$7*100),H26/H$7*100,0) -> 54.775401 | J26: =[1]MercLab!G21 -> 1289997.6 | K26: =IF(ISNUMBER(J26/J$7*100),J26/J$7*100,0) -> 58.857006 | L26: =[1]MercLab!H21 -> 608799.93 | M26: =IF(ISNUMBER(L26/L$7*100),L26/L$7*100,0) -> 47.757761 | N26: =IF(ISNUMBER(H26/B26*100),H26/B26*100,0) -> 53.324291 | O26: =IF(ISNUMBER(J26/D26*100),J26/D26*100,0) -> 72.120988 | P26: =IF(ISNUMBER(L26/F26*100),L26/F26*100,0) -> 34.352944
A27: Secundaria | B27: =[1]MercLab!C22 -> 1663947.9 | C27: =IF(ISNUMBER(B27/B$7*100),B27/B$7*100,0) -> 25.991935 | D27: =[1]MercLab!D22 -> 731304.94 | E27: =IF(ISNUMBER(D27/D$7*100),D27/D$7*100,0) -> 23.795912 | F27: =[1]MercLab!E22 -> 932643 | G27: =IF(ISNUMBER(F27/F$7*100),F27/F$7*100,0) -> 28.019517 | H27: =[1]MercLab!F22 -> 856732.45 | I27: =IF(ISNUMBER(H27/H$7*100),H27/H$7*100,0) -> 24.714516 | J27: =[1]MercLab!G22 -> 462542.71 | K27: =IF(ISNUMBER(J27/J$7*100),J27/J$7*100,0) -> 21.103821 | L27: =[1]MercLab!H22 -> 394189.74 | M27: =IF(ISNUMBER(L27/L$7*100),L27/L$7*100,0) -> 30.922506 | N27: =IF(ISNUMBER(H27/B27*100),H27/B27*100,0) -> 51.487936 | O27: =IF(ISNUMBER(J27/D27*100),J27/D27*100,0) -> 63.248952 | P27: =IF(ISNUMBER(L27/F27*100),L27/F27*100,0) -> 42.265877
A28: Superior | B28: =[1]MercLab!C23 -> 394483.34 | C28: =IF(ISNUMBER(B28/B$7*100),B28/B$7*100,0) -> 6.162083 | D28: =[1]MercLab!D23 -> 180034.08 | E28: =IF(ISNUMBER(D28/D$7*100),D28/D$7*100,0) -> 5.8581242 | F28: =[1]MercLab!E23 -> 214449.25 | G28: =IF(ISNUMBER(F28/F$7*100),F28/F$7*100,0) -> 6.4427273 | H28: =[1]MercLab!F23 -> 270817.22 | I28: =IF(ISNUMBER(H28/H$7*100),H28/H$7*100,0) -> 7.8123768 | J28: =[1]MercLab!G23 -> 136376.19 | K28: =IF(ISNUMBER(J28/J$7*100),J28/J$7*100,0) -> 6.2222551 | L28: =[1]MercLab!H23 -> 134441.03 | M28: =IF(ISNUMBER(L28/L$7*100),L28/L$7*100,0) -> 10.546326 | N28: =IF(ISNUMBER(H28/B28*100),H28/B28*100,0) -> 68.651119 | O28: =IF(ISNUMBER(J28/D28*100),J28/D28*100,0) -> 75.750208 | P28: =IF(ISNUMBER(L28/F28*100),L28/F28*100,0) -> 62.691303
A29: No sabe, no responde | B29: =[1]MercLab!C24 -> 19789.854 | C29: =IF(ISNUMBER(B29/B$7*100),B29/B$7*100,0) -> 0.30913022 | D29: =[1]MercLab!D24 -> 13278.569 | E29: =IF(ISNUMBER(D29/D$7*100),D29/D$7*100,0) -> 0.43207099 | F29: =[1]MercLab!E24 -> 6511.2848 | G29: =IF(ISNUMBER(F29/F$7*100),F29/F$7*100,0) -> 0.19561939 | H29: =[1]MercLab!F24 -> 15482.722 | I29: =IF(ISNUMBER(H29/H$7*100),H29/H$7*100,0) -> 0.4466365 | J29: =[1]MercLab!G24 -> 11534.512 | K29: =IF(ISNUMBER(J29/J$7*100),J29/J$7*100,0) -> 0.52626984 | L29: =[1]MercLab!H24 -> 3948.2098 | M29: =IF(ISNUMBER(L29/L$7*100),L29/L$7*100,0) -> 0.30972024 | N29: =IF(ISNUMBER(H29/B29*100),H29/B29*100,0) -> 78.235656 | O29: =IF(ISNUMBER(J29/D29*100),J29/D29*100,0) -> 86.865628 | P29: =IF(ISNUMBER(L29/F29*100),L29/F29*100,0) -> 60.636416
A31: Rango de edad
A32: De 10 a 11 años | B32: =[1]MercLab!C26 -> 451276.51 | C32: =IF(ISNUMBER(B32/B$7*100),B32/B$7*100,0) -> 7.0492289 | D32: =[1]MercLab!D26 -> 231692.39 | E32: =IF(ISNUMBER(D32/D$7*100),D32/D$7*100,0) -> 7.5390324 | F32: =[1]MercLab!E26 -> 219584.12 | G32: =IF(ISNUMBER(F32/F$7*100),F32/F$7*100,0) -> 6.5969949 | H32: =[1]MercLab!F26 -> 30106.846 | I32: =IF(ISNUMBER(H32/H$7*100),H32/H$7*100,0) -> 0.86850467 | J32: =[1]MercLab!G26 -> 22112.243 | K32: =IF(ISNUMBER(J32/J$7*100),J32/J$7*100,0) -> 1.0088859 | L32: =[1]MercLab!H26 -> 7994.6027 | M32: =IF(ISNUMBER(L32/L$7*100),L32/L$7*100,0) -> 0.62714253 | N32: =IF(ISNUMBER(H32/B32*100),H32/B32*100,0) -> 6.6714852 | O32: =IF(ISNUMBER(J32/D32*100),J32/D32*100,0) -> 9.5437935 | P32: =IF(ISNUMBER(L32/F32*100),L32/F32*100,0) -> 3.6407927
A33: De 12 a 14 años | B33: =[1]MercLab!C27 -> 650981.02 | C33: =IF(ISNUMBER(B33/B$7*100),B33/B$7*100,0) -> 10.168742 | D33: =[1]MercLab!D27 -> 336403.51 | E33: =IF(ISNUMBER(D33/D$7*100),D33/D$7*100,0) -> 10.946225 | F33: =[1]MercLab!E27 -> 314577.51 | G33: =IF(ISNUMBER(F33/F$7*100),F33/F$7*100,0) -> 9.4508938 | H33: =[1]MercLab!F27 -> 138397.63 | I33: =IF(ISNUMBER(H33/H$7*100),H33/H$7*100,0) -> 3.9924139 | J33: =[1]MercLab!G27 -> 107210.19 | K33: =IF(ISNUMBER(J33/J$7*100),J33/J$7*100,0) -> 4.8915365 | L33: =[1]MercLab!H27 -> 31187.448 | M33: =IF(ISNUMBER(L33/L$7*100),L33/L$7*100,0) -> 2.4465225 | N33: =IF(ISNUMBER(H33/B33*100),H33/B33*100,0) -> 21.259857 | O33: =IF(ISNUMBER(J33/D33*100),J33/D33*100,0) -> 31.86952 | P33: =IF(ISNUMBER(L33/F33*100),L33/F33*100,0) -> 9.9140743
A34: De 15 a 18 años | B34: =[1]MercLab!C28 -> 850235.22 | C34: =IF(ISNUMBER(B34/B$7*100),B34/B$7*100,0) -> 13.28122 | D34: =[1]MercLab!D28 -> 438481.66 | E34: =IF(ISNUMBER(D34/D$7*100),D34/D$7*100,0) -> 14.267743 | F34: =[1]MercLab!E28 -> 411753.56 | G34: =IF(ISNUMBER(F34/F$7*100),F34/F$7*100,0) -> 12.370367 | H34: =[1]MercLab!F28 -> 330477.26 | I34: =IF(ISNUMBER(H34/H$7*100),H34/H$7*100,0) -> 9.5334145 | J34: =[1]MercLab!G28 -> 247167.5 | K34: =IF(ISNUMBER(J34/J$7*100),J34/J$7*100,0) -> 11.277182 | L34: =[1]MercLab!H28 -> 83309.761 | M34: =IF(ISNUMBER(L34/L$7*100),L34/L$7*100,0) -> 6.5352959 | N34: =IF(ISNUMBER(H34/B34*100),H34/B34*100,0) -> 38.868921 | O34: =IF(ISNUMBER(J34/D34*100),J34/D34*100,0) -> 56.368947 | P34: =IF(ISNUMBER(L34/F34*100),L34/F34*100,0) -> 20.232918
A35: De 19 a 24 años | B35: =[1]MercLab!C29 -> 974293.71 | C35: =IF(ISNUMBER(B35/B$7*100),B35/B$7*100,0) -> 15.219093 | D35: =[1]MercLab!D29 -> 494369.48 | E35: =IF(ISNUMBER(D35/D$7*100),D35/D$7*100,0) -> 16.086275 | F35: =[1]MercLab!E29 -> 479924.23 | G35: =IF(ISNUMBER(F35/F$7*100),F35/F$7*100,0) -> 14.418427 | H35: =[1]MercLab!F29 -> 601516.54 | I35: =IF(ISNUMBER(H35/H$7*100),H35/H$7*100,0) -> 17.352197 | J35: =[1]MercLab!G29 -> 403491.53 | K35: =IF(ISNUMBER(J35/J$7*100),J35/J$7*100,0) -> 18.409571 | L35: =[1]MercLab!H29 -> 198025.01 | M35: =IF(ISNUMBER(L35/L$7*100),L35/L$7*100,0) -> 15.534219 | N35: =IF(ISNUMBER(H35/B35*100),H35/B35*100,0) -> 61.738728 | O35: =IF(ISNUMBER(J35/D35*100),J35/D35*100,0) -> 81.617403 | P35: =IF(ISNUMBER(L35/F35*100),L35/F35*100,0) -> 41.261724
A36: De 25 a 29 años | B36: =[1]MercLab!C30 -> 572606.99 | C36: =IF(ISNUMBER(B36/B$7*100),B36/B$7*100,0) -> 8.9444888 | D36: =[1]MercLab!D30 -> 273263.86 | E36: =IF(ISNUMBER(D36/D$7*100),D36/D$7*100,0) -> 8.8917254 | F36: =[1]MercLab!E30 -> 299343.12 | G36: =IF(ISNUMBER(F36/F$7*100),F36/F$7*100,0) -> 8.9932051 | H36: =[1]MercLab!F30 -> 406981.08 | I36: =IF(ISNUMBER(H36/H$7*100),H36/H$7*100,0) -> 11.740352 | J36: =[1]MercLab!G30 -> 249163.81 | K36: =IF(ISNUMBER(J36/J$7*100),J36/J$7*100,0) -> 11.368266 | L36: =[1]MercLab!H30 -> 157817.26 | M36: =IF(ISNUMBER(L36/L$7*100),L36/L$7*100,0) -> 12.380092 | N36: =IF(ISNUMBER(H36/B36*100),H36/B36*100,0) -> 71.075116 | O36: =IF(ISNUMBER(J36/D36*100),J36/D36*100,0) -> 91.180667 | P36: =IF(ISNUMBER(L36/F36*100),L36/F36*100,0) -> 52.721193
A37: De 30 a 34 años | B37: =[1]MercLab!C31 -> 484430.95 | C37: =IF(ISNUMBER(B37/B$7*100),B37/B$7*100,0) -> 7.5671225 | D37: =[1]MercLab!D31 -> 211496.58 | E37: =IF(ISNUMBER(D37/D$7*100),D37/D$7*100,0) -> 6.8818814 | F37: =[1]MercLab!E31 -> 272934.37 | G37: =IF(ISNUMBER(F37/F$7*100),F37/F$7*100,0) -> 8.1998035 | H37: =[1]MercLab!F31 -> 365505.95 | I37: =IF(ISNUMBER(H37/H$7*100),H37/H$7*100,0) -> 10.543902 | J37: =[1]MercLab!G31 -> 204613.26 | K37: =IF(ISNUMBER(J37/J$7*100),J37/J$7*100,0) -> 9.3356171 | L37: =[1]MercLab!H31 -> 160892.69 | M37: =IF(ISNUMBER(L37/L$7*100),L37/L$7*100,0) -> 12.621346 | N37: =IF(ISNUMBER(H37/B37*100),H37/B37*100,0) -> 75.450577 | O37: =IF(ISNUMBER(J37/D37*100),J37/D37*100,0) -> 96.745426 | P37: =IF(ISNUMBER(L37/F37*100),L37/F37*100,0) -> 58.94922
A38: De 35 a 39 años | B38: =[1]MercLab!C32 -> 425265.75 | C38: =IF(ISNUMBER(B38/B$7*100),B38/B$7*100,0) -> 6.6429241 | D38: =[1]MercLab!D32 -> 185499.26 | E38: =IF(ISNUMBER(D38/D$7*100),D38/D$7*100,0) -> 6.0359554 | F38: =[1]MercLab!E32 -> 239766.49 | G38: =IF(ISNUMBER(F38/F$7*100),F38/F$7*100,0) -> 7.2033364 | H38: =[1]MercLab!F32 -> 322218.4 | I38: =IF(ISNUMBER(H38/H$7*100),H38/H$7*100,0) -> 9.2951678 | J38: =[1]MercLab!G32 -> 181532.19 | K38: =IF(ISNUMBER(J38/J$7*100),J38/J$7*100,0) -> 8.2825277 | L38: =[1]MercLab!H32 -> 140686.21 | M38: =IF(ISNUMBER(L38/L$7*100),L38/L$7*100,0) -> 11.036234 | N38: =IF(ISNUMBER(H38/B38*100),H38/B38*100,0) -> 75.768716 | O38: =IF(ISNUMBER(J38/D38*100),J38/D38*100,0) -> 97.861409 | P38: =IF(ISNUMBER(L38/F38*100),L38/F38*100,0) -> 58.676343
A39: De 40 a 44 años | B39: =[1]MercLab!C33 -> 358661.71 | C39: =IF(ISNUMBER(B39/B$7*100),B39/B$7*100,0) -> 5.6025262 | D39: =[1]MercLab!D33 -> 159222.81 | E39: =IF(ISNUMBER(D39/D$7*100),D39/D$7*100,0) -> 5.1809466 | F39: =[1]MercLab!E33 -> 199438.9 | G39: =IF(ISNUMBER(F39/F$7*100),F39/F$7*100,0) -> 5.9917694 | H39: =[1]MercLab!F33 -> 269530.08 | I39: =IF(ISNUMBER(H39/H$7*100),H39/H$7*100,0) -> 7.7752459 | J39: =[1]MercLab!G33 -> 154406.76 | K39: =IF(ISNUMBER(J39/J$7*100),J39/J$7*100,0) -> 7.0449117 | L39: =[1]MercLab!H33 -> 115123.32 | M39: =IF(ISNUMBER(L39/L$7*100),L39/L$7*100,0) -> 9.0309339 | N39: =IF(ISNUMBER(H39/B39*100),H39/B39*100,0) -> 75.148829 | O39: =IF(ISNUMBER(J39/D39*100),J39/D39*100,0) -> 96.975277 | P39: =IF(ISNUMBER(L39/F39*100),L39/F39*100,0) -> 57.723601
A40: De 45 a 49 años | B40: =[1]MercLab!C34 -> 343796.4 | C40: =IF(ISNUMBER(B40/B$7*100),B40/B$7*100,0) -> 5.3703205 | D40: =[1]MercLab!D34 -> 148987.71 | E40: =IF(ISNUMBER(D40/D$7*100),D40/D$7*100,0) -> 4.8479069 | F40: =[1]MercLab!E34 -> 194808.69 | G40: =IF(ISNUMBER(F40/F$7*100),F40/F$7*100,0) -> 5.8526633 | H40: =[1]MercLab!F34 -> 249311.37 | I40: =IF(ISNUMBER(H40/H$7*100),H40/H$7*100,0) -> 7.1919884 | J40: =[1]MercLab!G34 -> 143398.4 | K40: =IF(ISNUMBER(J40/J$7*100),J40/J$7*100,0) -> 6.5426481 | L40: =[1]MercLab!H34 -> 105912.97 | M40: =IF(ISNUMBER(L40/L$7*100),L40/L$7*100,0) -> 8.3084209 | N40: =IF(ISNUMBER(H40/B40*100),H40/B40*100,0) -> 72.517155 | O40: =IF(ISNUMBER(J40/D40*100),J40/D40*100,0) -> 96.248479 | P40: =IF(ISNUMBER(L40/F40*100),L40/F40*100,0) -> 54.367679
A41: De 50 a 54 años | B41: =[1]MercLab!C35 -> 337182.25 | C41: =IF(ISNUMBER(B41/B$7*100),B41/B$7*100,0) -> 5.2670033 | D41: =[1]MercLab!D35 -> 152967.37 | E41: =IF(ISNUMBER(D41/D$7*100),D41/D$7*100,0) -> 4.977401 | F41: =[1]MercLab!E35 -> 184214.89 | G41: =IF(ISNUMBER(F41/F$7*100),F41/F$7*100,0) -> 5.5343922 | H41: =[1]MercLab!F35 -> 247541.73 | I41: =IF(ISNUMBER(H41/H$7*100),H41/H$7*100,0) -> 7.1409388 | J41: =[1]MercLab!G35 -> 148042.97 | K41: =IF(ISNUMBER(J41/J$7*100),J41/J$7*100,0) -> 6.7545595 | L41: =[1]MercLab!H35 -> 99498.758 | M41: =IF(ISNUMBER(L41/L$7*100),L41/L$7*100,0) -> 7.8052537 | N41: =IF(ISNUMBER(H41/B41*100),H41/B41*100,0) -> 73.414814 | O41: =IF(ISNUMBER(J41/D41*100),J41/D41*100,0) -> 96.780751 | P41: =IF(ISNUMBER(L41/F41*100),L41/F41*100,0) -> 54.012333
A42: De 55 a 59 años | B42: =[1]MercLab!C36 -> 251064.02 | C42: =IF(ISNUMBER(B42/B$7*100),B42/B$7*100,0) -> 3.9217811 | D42: =[1]MercLab!D36 -> 113224.49 | E42: =IF(ISNUMBER(D42/D$7*100),D42/D$7*100,0) -> 3.6842087 | F42: =[1]MercLab!E36 -> 137839.52 | G42: =IF(ISNUMBER(F42/F$7*100),F42/F$7*100,0) -> 4.1411311 | H42: =[1]MercLab!F36 -> 171038.2 | I42: =IF(ISNUMBER(H42/H$7*100),H42/H$7*100,0) -> 4.93401 | J42: =[1]MercLab!G36 -> 104116.04 | K42: =IF(ISNUMBER(J42/J$7*100),J42/J$7*100,0) -> 4.7503641 | L42: =[1]MercLab!H36 -> 66922.16 | M42: =IF(ISNUMBER(L42/L$7*100),L42/L$7*100,0) -> 5.2497584 | N42: =IF(ISNUMBER(H42/B42*100),H42/B42*100,0) -> 68.125335 | O42: =IF(ISNUMBER(J42/D42*100),J42/D42*100,0) -> 91.955407 | P42: =IF(ISNUMBER(L42/F42*100),L42/F42*100,0) -> 48.550777
A43: De 60 a 64 años | B43: =[1]MercLab!C37 -> 206047.01 | C43: =IF(ISNUMBER(B43/B$7*100),B43/B$7*100,0) -> 3.2185866 | D43: =[1]MercLab!D37 -> 98527.741 | E43: =IF(ISNUMBER(D43/D$7*100),D43/D$7*100,0) -> 3.2059915 | F43: =[1]MercLab!E37 -> 107519.27 | G43: =IF(ISNUMBER(F43/F$7*100),F43/F$7*100,0) -> 3.2302157 | H43: =[1]MercLab!F37 -> 121979.48 | I43: =IF(ISNUMBER(H43/H$7*100),H43/H$7*100,0) -> 3.5187925 | J43: =[1]MercLab!G37 -> 80860.917 | K43: =IF(ISNUMBER(J43/J$7*100),J43/J$7*100,0) -> 3.6893334 | L43: =[1]MercLab!H37 -> 41118.559 | M43: =IF(ISNUMBER(L43/L$7*100),L43/L$7*100,0) -> 3.2255758 | N43: =IF(ISNUMBER(H43/B43*100),H43/B43*100,0) -> 59.199828 | O43: =IF(ISNUMBER(J43/D43*100),J43/D43*100,0) -> 82.069188 | P43: =IF(ISNUMBER(L43/F43*100),L43/F43*100,0) -> 38.242967
A44: De 65 años y más | B44: =[1]MercLab!C38 -> 495943.94 | C44: =IF(ISNUMBER(B44/B$7*100),B44/B$7*100,0) -> 7.7469628 | D44: =[1]MercLab!D38 -> 229100.91 | E44: =IF(ISNUMBER(D44/D$7*100),D44/D$7*100,0) -> 7.4547081 | F44: =[1]MercLab!E38 -> 266843.04 | G44: =IF(ISNUMBER(F44/F$7*100),F44/F$7*100,0) -> 8.0168007 | H44: =[1]MercLab!F38 -> 211910.59 | I44: =IF(ISNUMBER(H44/H$7*100),H44/H$7*100,0) -> 6.1130727 | J44: =[1]MercLab!G38 -> 145632.86 | K44: =IF(ISNUMBER(J44/J$7*100),J44/J$7*100,0) -> 6.6445967 | L44: =[1]MercLab!H38 -> 66277.731 | M44: =IF(ISNUMBER(L44/L$7*100),L44/L$7*100,0) -> 5.1992057 | N44: =IF(ISNUMBER(H44/B44*100),H44/B44*100,0) -> 42.728739 | O44: =IF(ISNUMBER(J44/D44*100),J44/D44*100,0) -> 63.567126 | P44: =IF(ISNUMBER(L44/F44*100),L44/F44*100,0) -> 24.837722
A46: Fuente: Instituto Nacional de Estadística (INE). XL Encuesta Permanente de Hogares de Propósitos Múltiples, Septiembre 2010.
A47: 1/ Porcentaje por columnas
...

Sheet C02
A1: Cuadro No. 2. Tasa de Desempleo Abierto (TDA), Población en Edad de Trabajar (PET) y Población Económicamente Activa (PEA), | S1: =A1 -> Cuadro No. 2. Tasa de Desempleo Abierto (TDA), Población en Edad de Trabajar (PET) y Población Económicamente Activa (PEA),
A2: según dominio, nivel educativo, rango de edad, sexo, rama de actividad y ocupación | S2: =A2 -> según dominio, nivel educativo, rango de edad, sexo, rama de actividad y ocupación
A3: Categorías | B3: Población Total | E3: Población en Edad de Trabajar (PET) | H3: Población Económicamente Activa (PEA) | Q3: TDA | R3: MBT | S3: Categorías | T3: Población Económicamente Activa (PEA) | AC3: TDA | AD3: MBT
H4: Total | K4: Ocupados | N4: Desocupados | T4: Total | W4: Ocupados | Z4: Desocupados
B5: No. | C5: % 1/ | D5: AEP | E5: No. | F5: % 1/ | G5: AEP | H5: No. | I5: % 1/ | J5: AEP | K5: No. | L5: % 1/ | M5: AEP | N5: No. | O5: % 1/ | P5: AEP | T5: No. | U5: % 1/ | V5: AEP | W5: No. | X5: % 1/ | Y5: AEP | Z5: No. | AA5: % 1/ | AB5: AEP
A7: Total Nacional | B7: =[1]MercLab!C48 -> 8093877 | C7: =SUM(C10,C14) -> 100 | D7: =[1]MercLab!D48 -> 6.1033944 | E7: =[1]MercLab!E48 -> 6401785.5 | F7: =SUM(F10,F14) -> 100 | G7: =[1]MercLab!F48 -> 6.633981 | H7: =[1]MercLab!G48 -> 3466515.2 | I7: =SUM(I10,I14) -> 100 | J7: =[1]MercLab!H48 -> 7.0901828 | K7: =[1]MercLab!I48 -> 3307702.6 | L7: =SUM(L10,L14) -> 100 | M7: =[1]MercLab!J48 -> 6.9962608 | N7: =[1]MercLab!K48 -> 158812.59 | O7: =SUM(O10,O14) -> 100 | P7: =[1]MercLab!L48 -> 8.8904318 | Q7: =IF(ISNUMBER(N7/H7*100),N7/H7*100,0) -> 4.5813326 | R7: =[1]MercLab!M48 -> 4.122669 | S7: Total Nacional | T7: =H7 -> 3466515.2 | U7: =I7 -> 100 | V7: =J7 -> 7.0901828 | W7: =K7 -> 3307702.6 | X7: =L7 -> 100 | Y7: =M7 -> 6.9962608 | Z7: =N7 -> 158812.59 | AA7: =O7 -> 100 | ... AD7: =R7 -> 4.122669
A9: Dominio | S9: Rama de Actividad (1 Dig.)
A10: Urbano | B10: =SUM(B11:B13) -> 3680611 | C10: =IF(ISNUMBER(B10/B$7*100),B10/B$7*100,0) -> 45.474017 | D10: =AVERAGE(D11:D13) -> 7.6626722 | E10: =SUM(E11:E13) -> 2982335.8 | F10: =IF(ISNUMBER(E10/E$7*100),E10/E$7*100,0) -> 46.586 | G10: =AVERAGE(G11:G13) -> 8.2199193 | H10: =SUM(H11:H13) -> 1627163.9 | I10: =IF(ISNUMBER(H10/H$7*100),H10/H$7*100,0) -> 46.939471 | J10: =AVERAGE(J11:J13) -> 8.8664982 | K10: =SUM(K11:K13) -> 1514858.6 | L10: =IF(ISNUMBER(K10/K$7*100),K10/K$7*100,0) -> 45.797908 | M10: =AVERAGE(M11:M13) -> 8.8245325 | N10: =SUM(N11:N13) -> 112305.29 | O10: =IF(ISNUMBER(N10/N$7*100),N10/N$7*100,0) -> 70.715611 | P10: =AVERAGE(P11:P13) -> 9.3569952 | Q10: =IF(ISNUMBER(N10/H10*100),N10/H10*100,0) -> 6.9019042 | R10: =AVERAGE(R11:R13) -> 3.8875735 | S10: Agricultura, Silvicultura, Caza y Pesca | T10: =[1]MercLab!G79 -> 1204567.1 | U10: =IF(ISNUMBER(T10/T$7*100),T10/T$7*100,0) -> 34.748646 | V10: =[1]MercLab!H79 -> 4.8938438 | W10: =[1]MercLab!I79 -> 1191562 | X10: =IF(ISNUMBER(W10/W$7*100),W10/W$7*100,0) -> 36.023855 | Y10: =[1]MercLab!J79 -> 4.8812462 | Z10: =[1]MercLab!K79 -> 13005.112 | AA10: =IF(ISNUMBER(Z10/Z$7*100),Z10/Z$7*100,0) -> 8.1889677 | AB10: =[1]MercLab!L79 -> 6.1542534 | AC10: =IF(ISNUMBER(Z10/T10*100),Z10/T10*100,0) -> 1.0796503 | AD10: =[1]MercLab!M79 -> 1.6500833
A11: Distrito Central | B11: =[1]MercLab!C49 -> 1011172 | C11: =IF(ISNUMBER(B11/B$7*100),B11/B$7*100,0) -> 12.493049 | D11: =[1]MercLab!D49 -> 8.3743791 | E11: =[1]MercLab!E49 -> 837744.46 | F11: =IF(ISNUMBER(E11/E$7*100),E11/E$7*100,0) -> 13.086106 | G11: =[1]MercLab!F49 -> 8.9148339 | H11: =[1]MercLab!G49 -> 469237.3 | I11: =IF(ISNUMBER(H11/H$7*100),H11/H$7*100,0) -> 13.536283 | J11: =[1]MercLab!H49 -> 9.4931825 | K11: =[1]MercLab!I49 -> 428208.65 | L11: =IF(ISNUMBER(K11/K$7*100),K11/K$7*100,0) -> 12.945803 | M11: =[1]MercLab!J49 -> 9.4096267 | N11: =[1]MercLab!K49 -> 41028.648 | O11: =IF(ISNUMBER(N11/N$7*100),N11/N$7*100,0) -> 25.834632 | P11: =[1]MercLab!L49 -> 10.3402 | Q11: =IF(ISNUMBER(N11/H11*100),N11/H11*100,0) -> 8.7436884 | R11: =[1]MercLab!M49 -> 4.1644451 | S11: Explotación de minas y canteras | T11: =[1]MercLab!G80 -> 8492.1965 | U11: =IF(ISNUMBER(T11/T$7*100),T11/T$7*100,0) -> 0.24497791 | V11: =[1]MercLab!H80 -> 5.7447985 | W11: =[1]MercLab!I80 -> 8492.1965 | X11: =IF(ISNUMBER(W11/W$7*100),W11/W$7*100,0) -> 0.25674003 | Y11: =[1]MercLab!J80 -> 5.7447985 | Z11: =[1]MercLab!K80 -> 0 | AA11: =IF(ISNUMBER(Z11/Z$7*100),Z11/Z$7*100,0) -> 0 | AB11: =[1]MercLab!L80 -> 0 | AC11: =IF(ISNUMBER(Z11/T11*100),Z11/T11*100,0) -> 0 | AD11: =[1]MercLab!M80 -> 1
A12: San Pedro Sula | B12: =[1]MercLab!C50 -> 599728.59 | C12: =IF(ISNUMBER(B12/B$7*100),B12/B$7*100,0) -> 7.4096578 | D12: =[1]MercLab!D50 -> 7.8130257 | E12: =[1]MercLab!E50 -> 481202.48 | F12: =IF(ISNUMBER(E12/E$7*100),E12/E$7*100,0) -> 7.5166917 | G12: =[1]MercLab!F50 -> 8.4136978 | H12: =[1]MercLab!G50 -> 271541.51 | I12: =IF(ISNUMBER(H12/H$7*100),H12/H$7*100,0) -> 7.8332706 | J12: =[1]MercLab!H50 -> 9.1731837 | K12: =[1]MercLab!I50 -> 254743.38 | L12: =IF(ISNUMBER(K12/K$7*100),K12/K$7*100,0) -> 7.7015203 | M12: =[1]MercLab!J50 -> 9.1647399 | N12: =[1]MercLab!K50 -> 16798.128 | O12: =IF(ISNUMBER(N12/N$7*100),N12/N$7*100,0) -> 10.577328 | P12: =[1]MercLab!L50 -> 9.3057199 | Q12: =IF(ISNUMBER(N12/H12*100),N12/H12*100,0) -> 6.18621 | R12: =[1]MercLab!M50 -> 3.2549587 | S12: Industria manufacturera | T12: =[1]MercLab!G81 -> 481929.4 | U12: =IF(ISNUMBER(T12/T$7*100),T12/T$7*100,0) -> 13.902417 | V12: =[1]MercLab!H81 -> 7.2238249 | W12: =[1]MercLab!I81 -> 457801.33 | X12: =IF(ISNUMBER(W12/W$7*100),W12/W$7*100,0) -> 13.840462 | Y12: =[1]MercLab!J81 -> 7.173426 | Z12: =[1]MercLab!K81 -> 24128.069 | AA12: =IF(ISNUMBER(Z12/Z$7*100),Z12/Z$7*100,0) -> 15.192794 | AB12: =[1]MercLab!L81 -> 8.1177262 | AC12: =IF(ISNUMBER(Z12/T12*100),Z12/T12*100,0) -> 5.0065568 | AD12: =[1]MercLab!M81 -> 4.1558904
A13: Resto urbano | B13: =[1]MercLab!C51 -> 2069710.4 | C13: =IF(ISNUMBER(B13/B$7*100),B13/B$7*100,0) -> 25.57131 | D13: =[1]MercLab!D51 -> 6.8006117 | E13: =[1]MercLab!E51 -> 1663388.9 | F13: =IF(ISNUMBER(E13/E$7*100),E13/E$7*100,0) -> 25.983202 | G13: =[1]MercLab!F51 -> 7.3312262 | H13: =[1]MercLab!G51 -> 886385.07 | I13: =IF(ISNUMBER(H13/H$7*100),H13/H$7*100,0) -> 25.569918 | J13: =[1]MercLab!H51 -> 7.9331285 | K13: =[1]MercLab!I51 -> 831906.56 | L13: =IF(ISNUMBER(K13/K$7*100),K13/K$7*100,0) -> 25.150585 | M13: =[1]MercLab!J51 -> 7.899231 | N13: =[1]MercLab!K51 -> 54478.518 | O13: =IF(ISNUMBER(N13/N$7*100),N13/N$7*100,0) -> 34.303652 | P13: =[1]MercLab!L51 -> 8.4250657 | Q13: =IF(ISNUMBER(N13/H13*100),N13/H13*100,0) -> 6.1461456 | R13: =[1]MercLab!M51 -> 4.2433168 | S13: Electricidad, gas y agua | T13: =[1]MercLab!G82 -> 11710.455 | U13: =IF(ISNUMBER(T13/T$7*100),T13/T$7*100,0) -> 0.33781636 | V13: =[1]MercLab!H82 -> 9.5952571 | W13: =[1]MercLab!I82 -> 11025.833 | X13: =IF(ISNUMBER(W13/W$7*100),W13/W$7*100,0) -> 0.33333809 | Y13: =[1]MercLab!J82 -> 9.4871756 | Z13: =[1]MercLab!K82 -> 684.62267 | AA13: =IF(ISNUMBER(Z13/Z$7*100),Z13/Z$7*100,0) -> 0.43108841 | AB13: =[1]MercLab!L82 -> 11.335907 | AC13: =IF(ISNUMBER(Z13/T13*100),Z13/T13*100,0) -> 5.8462515 | AD13: =[1]MercLab!M82 -> 5.1962069
A14: Rural | B14: =[1]MercLab!C52 -> 4413266 | C14: =IF(ISNUMBER(B14/B$7*100),B14/B$7*100,0) -> 54.525983 | D14: =[1]MercLab!D52 -> 4.8666604 | E14: =[1]MercLab!E52 -> 3419449.7 | F14: =IF(ISNUMBER(E14/E$7*100),E14/E$7*100,0) -> 53.414 | G14: =[1]MercLab!F52 -> 5.3403194 | H14: =[1]MercLab!G52 -> 1839351.3 | I14: =IF(ISNUMBER(H14/H$7*100),H14/H$7*100,0) -> 53.060529 | J14: =[1]MercLab!H52 -> 5.5679351 | K14: =[1]MercLab!I52 -> 1792844 | L14: =IF(ISNUMBER(K14/K$7*100),K14/K$7*100,0) -> 54.202092 | M14: =[1]MercLab!J52 -> 5.4996358 | N14: =[1]MercLab!K52 -> 46507.297 | O14: =IF(ISNUMBER(N14/N$7*100),N14/N$7*100,0) -> 29.284389 | P14: =[1]MercLab!L52 -> 7.9441196 | Q14: =IF(ISNUMBER(N14/H14*100),N14/H14*100,0) -> 2.5284619 | R14: =[1]MercLab!M52 -> 4.2335895 | S14: Construcción | T14: =[1]MercLab!G83 -> 190496.92 | U14: =IF(ISNUMBER(T14/T$7*100),T14/T$7*100,0) -> 5.4953436 | V14: =[1]MercLab!H83 -> 6.304048 | W14: =[1]MercLab!I83 -> 168816.94 | X14: =IF(ISNUMBER(W14/W$7*100),W14/W$7*100,0) -> 5.1037521 | Y14: =[1]MercLab!J83 -> 6.3157859 | Z14: =[1]MercLab!K83 -> 21679.979 | AA14: =IF(ISNUMBER(Z14/Z$7*100),Z14/Z$7*100,0) -> 13.651297 | AB14: =[1]MercLab!L83 -> 6.2151108 | AC14: =IF(ISNUMBER(Z14/T14*100),Z14/T14*100,0) -> 11.38075 | AD14: =[1]MercLab!M83 -> 2.6467793
S15: Comercio por Mayor/Menor, Hoteles / restaurantes | T15: =[1]MercLab!G84 -> 777109.94 | U15: =IF(ISNUMBER(T15/T$7*100),T15/T$7*100,0) -> 22.417613 | V15: =[1]MercLab!H84 -> 7.5687472 | W15: =[1]MercLab!I84 -> 743457.07 | X15: =IF(ISNUMBER(W15/W$7*100),W15/W$7*100,0) -> 22.476539 | Y15: =[1]MercLab!J84 -> 7.4916831 | Z15: =[1]MercLab!K84 -> 33652.874 | AA15: =IF(ISNUMBER(Z15/Z$7*100),Z15/Z$7*100,0) -> 21.190306 | AB15: =[1]MercLab!L84 -> 9.1635977 | AC15: =IF(ISNUMBER(Z15/T15*100),Z15/T15*100,0) -> 4.3305165 | AD15: =[1]MercLab!M84 -> 3.6987716
A16: Nivel educativo 2/ | S16: Transp. almac. y comunicaciones | T16: =[1]MercLab!G85 -> 122946.78 | U16: =IF(ISNUMBER(T16/T$7*100),T16/T$7*100,0) -> 3.5466966 | V16: =[1]MercLab!H85 -> 7.9213002 | W16: =[1]MercLab!I85 -> 117615.56 | X16: =IF(ISNUMBER(W16/W$7*100),W16/W$7*100,0) -> 3.5558082 | Y16: =[1]MercLab!J85 -> 7.8887434 | Z16: =[1]MercLab!K85 -> 5331.2167 | AA16: =IF(ISNUMBER(Z16/Z$7*100),Z16/Z$7*100,0) -> 3.3569232 | AB16: =[1]MercLab!L85 -> 8.6063484 | AC16: =IF(ISNUMBER(Z16/T16*100),Z16/T16*100,0) -> 4.3361989 | AD16: =[1]MercLab!M85 -> 4.2166207
A17: Sin Nivel | B17: =[1]MercLab!C54 -> 1860247.7 | C17: =IF(ISNUMBER(B17/B$7*100),B17/B$7*100,0) -> 22.983395 | D17: =[1]MercLab!D54 -> 0 | E17: =[1]MercLab!E54 -> 762715.18 | F17: =IF(ISNUMBER(E17/E$7*100),E17/E$7*100,0) -> 11.914101 | G17: =[1]MercLab!F54 -> 0 | H17: =[1]MercLab!G54 -> 424685.19 | I17: =IF(ISNUMBER(H17/H$7*100),H17/H$7*100,0) -> 12.25107 | J17: =[1]MercLab!H54 -> 0 | K17: =[1]MercLab!I54 -> 416518.61 | L17: =IF(ISNUMBER(K17/K$7*100),K17/K$7*100,0) -> 12.592384 | M17: =[1]MercLab!J54 -> 0 | N17: =[1]MercLab!K54 -> 8166.5758 | O17: =IF(ISNUMBER(N17/N$7*100),N17/N$7*100,0) -> 5.1422723 | P17: =[1]MercLab!L54 -> 0 | Q17: =IF(ISNUMBER(N17/H17*100),N17/H17*100,0) -> 1.9229717 | R17: =[1]MercLab!M54 -> 2.5466526 | S17: Estab. finac. seguros, Bienes inmuebles y servicios | T17: =[1]MercLab!G86 -> 107550.17 | U17: =IF(ISNUMBER(T17/T$7*100),T17/T$7*100,0) -> 3.1025444 | V17: =[1]MercLab!H86 -> 10.929697 | W17: =[1]MercLab!I86 -> 101772.11 | X17: =IF(ISNUMBER(W17/W$7*100),W17/W$7*100,0) -> 3.0768217 | Y17: =[1]MercLab!J86 -> 10.882182 | Z17: =[1]MercLab!K86 -> 5778.0617 | AA17: =IF(ISNUMBER(Z17/Z$7*100),Z17/Z$7*100,0) -> 3.6382894 | AB17: =[1]MercLab!L86 -> 11.820439 | AC17: =IF(ISNUMBER(Z17/T17*100),Z17/T17*100,0) -> 5.3724336 | AD17: =[1]MercLab!M86 -> 5.5241554
A18: Primaria | B18: =[1]MercLab!C55 -> 4155173.6 | C18: =IF(ISNUMBER(B18/B$7*100),B18/B$7*100,0) -> 51.337247 | D18: =[1]MercLab!D55 -> 3.9307986 | E18: =[1]MercLab!E55 -> 3560849.2 | F18: =IF(ISNUMBER(E18/E$7*100),E18/E$7*100,0) -> 55.622751 | G18: =[1]MercLab!F55 -> 4.4055514 | H18: =[1]MercLab!G55 -> 1898797.6 | I18: =IF(ISNUMBER(H18/H$7*100),H18/H$7*100,0) -> 54.775401 | J18: =[1]MercLab!H55 -> 4.5979557 | K18: =[1]MercLab!I55 -> 1838776.8 | L18: =IF(ISNUMBER(K18/K$7*100),K18/K$7*100,0) -> 55.590753 | M18: =[1]MercLab!J55 -> 4.5848912 | N18: =[1]MercLab!K55 -> 60020.819 | O18: =IF(ISNUMBER(N18/N$7*100),N18/N$7*100,0) -> 37.793489 | P18: =[1]MercLab!L55 -> 4.9981221 | Q18: =IF(ISNUMBER(N18/H18*100),N18/H18*100,0) -> 3.1609909 | R18: =[1]MercLab!M55 -> 2.9611918 | S18: Servicios Comunales, Sociales y Personales | T18: =[1]MercLab!G87 -> 527088.33 | U18: =IF(ISNUMBER(T18/T$7*100),T18/T$7*100,0) -> 15.205136 | V18: =[1]MercLab!H87 -> 9.4975784 | W18: =[1]MercLab!I87 -> 499747.74 | X18: =IF(ISNUMBER(W18/W$7*100),W18/W$7*100,0) -> 15.108606 | Y18: =[1]MercLab!J87 -> 9.5181742 | Z18: =[1]MercLab!K87 -> 27340.592 | AA18: =IF(ISNUMBER(Z18/Z$7*100),Z18/Z$7*100,0) -> 17.215633 | AB18: =[1]MercLab!L87 -> 9.1313954 | AC18: =IF(ISNUMBER(Z18/T18*100),Z18/T18*100,0) -> 5.1870987 | AD18: =[1]MercLab!M87 -> 4.6017474
A19: Secundaria | B19: =[1]MercLab!C56 -> 1664182.5 | C19: =IF(ISNUMBER(B19/B$7*100),B19/B$7*100,0) -> 20.561006 | D19: =[1]MercLab!D56 -> 9.4642938 | E19: =[1]MercLab!E56 -> 1663947.9 | F19: =IF(ISNUMBER(E19/E$7*100),E19/E$7*100,0) -> 25.991935 | G19: =[1]MercLab!F56 -> 9.4645003 | H19: =[1]MercLab!G56 -> 856732.45 | I19: =IF(ISNUMBER(H19/H$7*100),H19/H$7*100,0) -> 24.714516 | J19: =[1]MercLab!H56 -> 10.019533 | K19: =[1]MercLab!I56 -> 786902.09 | L19: =IF(ISNUMBER(K19/K$7*100),K19/K$7*100,0) -> 23.78999 | M19: =[1]MercLab!J56 -> 9.9822604 | N19: =[1]MercLab!K56 -> 69830.359 | O19: =IF(ISNUMBER(N19/N$7*100),N19/N$7*100,0) -> 43.970291 | P19: =[1]MercLab!L56 -> 10.439385 | Q19: =IF(ISNUMBER(N19/H19*100),N19/H19*100,0) -> 8.1507778 | R19: =[1]MercLab!M56 -> 5.1675977 | S19: No sabe, No responde | T19: =[1]MercLab!G88 -> 8289.5614 | U19: =IF(ISNUMBER(T19/T$7*100),T19/T$7*100,0) -> 0.23913242 | V19: =[1]MercLab!H88 -> 7.5925443 | W19: =[1]MercLab!I88 -> 7411.8189 | X19: =IF(ISNUMBER(W19/W$7*100),W19/W$7*100,0) -> 0.22407755 | Y19: =[1]MercLab!J88 -> 7.4063476 | Z19: =[1]MercLab!K88 -> 877.74258 | AA19: =IF(ISNUMBER(Z19/Z$7*100),Z19/Z$7*100,0) -> 0.5526908 | AB19: =[1]MercLab!L88 -> 8.8966107 | AC19: =IF(ISNUMBER(Z19/T19*100),Z19/T19*100,0) -> 10.588529 | AD19: =[1]MercLab!M88 -> 1.3793599
A20: Superior | B20: =[1]MercLab!C57 -> 394483.34 | C20: =IF(ISNUMBER(B20/B$7*100),B20/B$7*100,0) -> 4.8738489 | D20: =[1]MercLab!D57 -> 14.811441 | E20: =[1]MercLab!E57 -> 394483.34 | F20: =IF(ISNUMBER(E20/E$7*100),E20/E$7*100,0) -> 6.162083 | G20: =[1]MercLab!F57 -> 14.811441 | H20: =[1]MercLab!G57 -> 270817.22 | I20: =IF(ISNUMBER(H20/H$7*100),H20/H$7*100,0) -> 7.8123768 | J20: =[1]MercLab!H57 -> 15.299409 | K20: =[1]MercLab!I57 -> 250641.9 | L20: =IF(ISNUMBER(K20/K$7*100),K20/K$7*100,0) -> 7.5775222 | M20: =[1]MercLab!J57 -> 15.314775 | N20: =[1]MercLab!K57 -> 20175.329 | O20: =IF(ISNUMBER(N20/N$7*100),N20/N$7*100,0) -> 12.70386 | P20: =[1]MercLab!L57 -> 15.108702 | Q20: =IF(ISNUMBER(N20/H20*100),N20/H20*100,0) -> 7.4497952 | R20: =[1]MercLab!M57 -> 4.9239603 | S20: Busca trabajo por primera vez | T20: =[1]MercLab!G89 -> 26334.321 | U20: =IF(ISNUMBER(T20/T$7*100),T20/T$7*100,0) -> 0.75967708 | V20: =[1]MercLab!H89 -> 11.458105 | W20: =[1]MercLab!I89 -> 0 | X20: =IF(ISNUMBER(W20/W$7*100),W20/W$7*100,0) -> 0 | Y20: =[1]MercLab!J89 -> 0 | Z20: =[1]MercLab!K89 -> 26334.321 | AA20: =IF(ISNUMBER(Z20/Z$7*100),Z20/Z$7*100,0) -> 16.582011 | AB20: =[1]MercLab!L89 -> 11.458105 | AC20: =IF(ISNUMBER(Z20/T20*100),Z20/T20*100,0) -> 100 | AD20: =[1]MercLab!M89 -> 6.13365
A21: No sabe, no responde | B21: =[1]MercLab!C58 -> 19789.854 | C21: =IF(ISNUMBER(B21/B$7*100),B21/B$7*100,0) -> 0.24450401 | D21: =[1]MercLab!D58 -> 15 | E21: =[1]MercLab!E58 -> 19789.854 | F21: =IF(ISNUMBER(E21/E$7*100),E21/E$7*100,0) -> 0.30913022 | G21: =[1]MercLab!F58 -> 15 | H21: =[1]MercLab!G58 -> 15482.722 | I21: =IF(ISNUMBER(H21/H$7*100),H21/H$7*100,0) -> 0.4466365 | J21: =[1]MercLab!H58 -> 15 | K21: =[1]MercLab!I58 -> 14863.214 | L21: =IF(ISNUMBER(K21/K$7*100),K21/K$7*100,0) -> 0.44935157 | M21: =[1]MercLab!J58 -> 15 | N21: =[1]MercLab!K58 -> 619.50849 | O21: =IF(ISNUMBER(N21/N$7*100),N21/N$7*100,0) -> 0.39008777 | P21: =[1]MercLab!L58 -> 0 | Q21: =IF(ISNUMBER(N21/H21*100),N21/H21*100,0) -> 4.0012892 | R21: =[1]MercLab!M58 -> 2.7578747
S22: Ocupación (1 Dig.)
A23: Rango de Edad | S23: Profesionales, Técnicos y PEOA | T23: =[1]MercLab!G91 -> 268424.33 | U23: =IF(ISNUMBER(T23/T$7*100),T23/T$7*100,0) -> 7.7433479 | V23: =[1]MercLab!H91 -> 12.722404 | W23: =[1]MercLab!I91 -> 255908.17 | X23: =IF(ISNUMBER(W23/W$7*100),W23/W$7*100,0) -> 7.7367347 | Y23: =[1]MercLab!J91 -> 12.752411 | Z23: =[1]MercLab!K91 -> 12516.155 | AA23: =IF(ISNUMBER(Z23/Z$7*100),Z23/Z$7*100,0) -> 7.881085 | AB23: =[1]MercLab!L91 -> 12.117358 | AC23: =IF(ISNUMBER(Z23/T23*100),Z23/T23*100,0) -> 4.6628245 | AD23: =[1]MercLab!M91 -> 5.3468581
A24: De 10 a 11 años | B24: =[1]MercLab!C60 -> 451276.51 | C24: =IF(ISNUMBER(B24/B$7*100),B24/B$7*100,0) -> 5.5755297 | D24: =[1]MercLab!D60 -> 3.174203 | E24: =[1]MercLab!E60 -> 451276.51 | F24: =IF(ISNUMBER(E24/E$7*100),E24/E$7*100,0) -> 7.0492289 | G24: =[1]MercLab!F60 -> 3.174203 | H24: =[1]MercLab!G60 -> 30106.846 | I24: =IF(ISNUMBER(H24/H$7*100),H24/H$7*100,0) -> 0.86850467 | J24: =[1]MercLab!H60 -> 3.1357838 | K24: =[1]MercLab!I60 -> 30106.846 | L24: =IF(ISNUMBER(K24/K$7*100),K24/K$7*100,0) -> 0.91020415 | M24: =[1]MercLab!J60 -> 3.1357838 | N24: =[1]MercLab!K60 -> 0 | O24: =IF(ISNUMBER(N24/N$7*100),N24/N$7*100,0) -> 0 | P24: =[1]MercLab!L60 -> 0 | Q24: =IF(ISNUMBER(N24/H24*100),N24/H24*100,0) -> 0 | R24: =[1]MercLab!M60 -> 0 | S24: Directores Gerentes y Administ. Grales. | T24: =[1]MercLab!G92 -> 106733.19 | U24: =IF(ISNUMBER(T24/T$7*100),T24/T$7*100,0) -> 3.0789765 | V24: =[1]MercLab!H92 -> 10.814989 | W24: =[1]MercLab!I92 -> 100970.56 | X24: =IF(ISNUMBER(W24/W$7*100),W24/W$7*100,0) -> 3.0525889 | Y24: =[1]MercLab!J92 -> 10.702232 | Z24: =[1]MercLab!K92 -> 5762.6256 | AA24: =IF(ISNUMBER(Z24/Z$7*100),Z24/Z$7*100,0) -> 3.6285697 | AB24: =[1]MercLab!L92 -> 12.686997 | AC24: =IF(ISNUMBER(Z24/T24*100),Z24/T24*100,0) -> 5.3990944 | AD24: =[1]MercLab!M92 -> 6.35363
A25: De 12 a 14 años | B25: =[1]MercLab!C61 -> 650981.02 | C25: =IF(ISNUMBER(B25/B$7*100),B25/B$7*100,0) -> 8.0428826 | D25: =[1]MercLab!D61 -> 5.1612034 | E25: =[1]MercLab!E61 -> 650981.02 | F25: =IF(ISNUMBER(E25/E$7*100),E25/E$7*100,0) -> 10.168742 | G25: =[1]MercLab!F61 -> 5.1612034 | H25: =[1]MercLab!G61 -> 138397.63 | I25: =IF(ISNUMBER(H25/H$7*100),H25/H$7*100,0) -> 3.9924139 | J25: =[1]MercLab!H61 -> 5.0222767 | K25: =[1]MercLab!I61 -> 137805.5 | L25: =IF(ISNUMBER(K25/K$7*100),K25/K$7*100,0) -> 4.1661998 | M25: =[1]MercLab!J61 -> 5.0223763 | N25: =[1]MercLab!K61 -> 592.1384 | O25: =IF(ISNUMBER(N25/N$7*100),N25/N$7*100,0) -> 0.37285356 | P25: =[1]MercLab!L61 -> 5 | Q25: =IF(ISNUMBER(N25/H25*100),N25/H25*100,0) -> 0.42785298 | R25: =[1]MercLab!M61 -> 2.6158785 | S25: Empleados de Oficina | T25: =[1]MercLab!G93 -> 85899.91 | U25: =IF(ISNUMBER(T25/T$7*100),T25/T$7*100,0) -> 2.4779903 | V25: =[1]MercLab!H93 -> 11.247595 | W25: =[1]MercLab!I93 -> 80134.604 | X25: =IF(ISNUMBER(W25/W$7*100),W25/W$7*100,0) -> 2.4226666 | Y25: =[1]MercLab!J93 -> 11.253198 | Z25: =[1]MercLab!K93 -> 5765.3063 | AA25: =IF(ISNUMBER(Z25/Z$7*100),Z25/Z$7*100,0) -> 3.6302577 | AB25: =[1]MercLab!L93 -> 11.170667 | AC25: =IF(ISNUMBER(Z25/T25*100),Z25/T25*100,0) -> 6.7116558 | AD25: =[1]MercLab!M93 -> 5.3602358
A26: De 15 a 18 años | B26: =[1]MercLab!C62 -> 850235.22 | C26: =IF(ISNUMBER(B26/B$7*100),B26/B$7*100,0) -> 10.504672 | D26: =[1]MercLab!D62 -> 7.2563708 | E26: =[1]MercLab!E62 -> 850235.22 | F26: =IF(ISNUMBER(E26/E$7*100),E26/E$7*100,0) -> 13.28122 | G26: =[1]MercLab!F62 -> 7.2563708 | H26: =[1]MercLab!G62 -> 330477.26 | I26: =IF(ISNUMBER(H26/H$7*100),H26/H$7*100,0) -> 9.5334145 | J26: =[1]MercLab!H62 -> 6.3581233 | K26: =[1]MercLab!I62 -> 315663.75 | L26: =IF(ISNUMBER(K26/K$7*100),K26/K$7*100,0) -> 9.5432932 | M26: =[1]MercLab!J62 -> 6.3225362 | N26: =[1]MercLab!K62 -> 14813.506 | O26: =IF(ISNUMBER(N26/N$7*100),N26/N$7*100,0) -> 9.327665 | P26: =[1]MercLab!L62 -> 7.1603561 | Q26: =IF(ISNUMBER(N26/H26*100),N26/H26*100,0) -> 4.4824586 | R26: =[1]MercLab!M62 -> 2.8570039 | S26: Comerciantes y Vendedores | T26: =[1]MercLab!G94 -> 550316.09 | U26: =IF(ISNUMBER(T26/T$7*100),T26/T$7*100,0) -> 15.875196 | V26: =[1]MercLab!H94 -> 7.5038212 | W26: =[1]MercLab!I94 -> 528573.81 | X26: =IF(ISNUMBER(W26/W$7*100),W26/W$7*100,0) -> 15.980089 | Y26: =[1]MercLab!J94 -> 7.408169 | Z26: =[1]MercLab!K94 -> 21742.273 | AA26: =IF(ISNUMBER(Z26/Z$7*100),Z26/Z$7*100,0) -> 13.690522 | AB26: =[1]MercLab!L94 -> 9.6517434 | AC26: =IF(ISNUMBER(Z26/T26*100),Z26/T26*100,0) -> 3.95087 | AD26: =[1]MercLab!M94 -> 3.8561583
A27: De 19 a 24 años | B27: =[1]MercLab!C63 -> 974293.71 | C27: =IF(ISNUMBER(B27/B$7*100),B27/B$7*100,0) -> 12.037417 | D27: =[1]MercLab!D63 -> 8.4040781 | E27: =[1]MercLab!E63 -> 974293.71 | F27: =IF(ISNUMBER(E27/E$7*100),E27/E$7*100,0) -> 15.219093 | G27: =[1]MercLab!F63 -> 8.4040781 | H27: =[1]MercLab!G63 -> 601516.54 | I27: =IF(ISNUMBER(H27/H$7*100),H27/H$7*100,0) -> 17.352197 | J27: =[1]MercLab!H63 -> 8.0642598 | K27: =[1]MercLab!I63 -> 547371.39 | L27: =IF(ISNUMBER(K27/K$7*100),K27/K$7*100,0) -> 16.548386 | M27: =[1]MercLab!J63 -> 7.930615 | N27: =[1]MercLab!K63 -> 54145.151 | O27: =IF(ISNUMBER(N27/N$7*100),N27/N$7*100,0) -> 34.09374 | P27: =[1]MercLab!L63 -> 9.3598743 | Q27: =IF(ISNUMBER(N27/H27*100),N27/H27*100,0) -> 9.0014401 | R27: =[1]MercLab!M63 -> 3.9241209 | S27: Agricultores, Ganaderos y Trab. Agrop. | T27: =[1]MercLab!G95 -> 1155209.6 | U27: =IF(ISNUMBER(T27/T$7*100),T27/T$7*100,0) -> 33.324811 | V27: =[1]MercLab!H95 -> 4.8473971 | W27: =[1]MercLab!I95 -> 1148206.8 | X27: =IF(ISNUMBER(W27/W$7*100),W27/W$7*100,0) -> 34.713122 | Y27: =[1]MercLab!J95 -> 4.8413764 | Z27: =[1]MercLab!K95 -> 7002.8132 | AA27: =IF(ISNUMBER(Z27/Z$7*100),Z27/Z$7*100,0) -> 4.4094824 | AB27: =[1]MercLab!L95 -> 6.0742428 | AC27: =IF(ISNUMBER(Z27/T27*100),Z27/T27*100,0) -> 0.60619415 | AD27: =[1]MercLab!M95 -> 1.7596539
A28: De 25 a 29 años | B28: =[1]MercLab!C64 -> 572606.99 | C28: =IF(ISNUMBER(B28/B$7*100),B28/B$7*100,0) -> 7.0745699 | D28: =[1]MercLab!D64 -> 7.9982236 | E28: =[1]MercLab!E64 -> 572606.99 | F28: =IF(ISNUMBER(E28/E$7*100),E28/E$7*100,0) -> 8.9444888 | G28: =[1]MercLab!F64 -> 7.9982236 | H28: =[1]MercLab!G64 -> 406981.08 | I28: =IF(ISNUMBER(H28/H$7*100),H28/H$7*100,0) -> 11.740352 | J28: =[1]MercLab!H64 -> 8.2673122 | K28: =[1]MercLab!I64 -> 375584.15 | L28: =IF(ISNUMBER(K28/K$7*100),K28/K$7*100,0) -> 11.354834 | M28: =[1]MercLab!J64 -> 8.11791 | N28: =[1]MercLab!K64 -> 31396.933 | O28: =IF(ISNUMBER(N28/N$7*100),N28/N$7*100,0) -> 19.769801 | P28: =[1]MercLab!L64 -> 9.9624561 | Q28: =IF(ISNUMBER(N28/H28*100),N28/H28*100,0) -> 7.7145928 | R28: =[1]MercLab!M64 -> 4.084059 | S28: Conductores de Transporte | T28: =[1]MercLab!G96 -> 87016.158 | U28: =IF(ISNUMBER(T28/T$7*100),T28/T$7*100,0) -> 2.5101912 | V28: =[1]MercLab!H96 -> 6.8753976 | W28: =[1]MercLab!I96 -> 84380.073 | X28: =IF(ISNUMBER(W28/W$7*100),W28/W$7*100,0) -> 2.5510175 | Y28: =[1]MercLab!J96 -> 6.9056033 | Z28: =[1]MercLab!K96 -> 2636.0852 | AA28: =IF(ISNUMBER(Z28/Z$7*100),Z28/Z$7*100,0) -> 1.6598717 | AB28: =[1]MercLab!L96 -> 5.9447578 | AC28: =IF(ISNUMBER(Z28/T28*100),Z28/T28*100,0) -> 3.0294203 | AD28: =[1]MercLab!M96 -> 4.1151794
A29: De 30 a 35 años | B29: =[1]MercLab!C65 -> 582075.88 | C29: =IF(ISNUMBER(B29/B$7*100),B29/B$7*100,0) -> 7.1915583 | D29: =[1]MercLab!D65 -> 7.5053904 | E29: =[1]MercLab!E65 -> 582075.88 | F29: =IF(ISNUMBER(E29/E$7*100),E29/E$7*100,0) -> 9.092399 | G29: =[1]MercLab!F65 -> 7.5053904 | H29: =[1]MercLab!G65 -> 439316.23 | I29: =IF(ISNUMBER(H29/H$7*100),H29/H$7*100,0) -> 12.673138 | J29: =[1]MercLab!H65 -> 7.8619472 | K29: =[1]MercLab!I65 -> 422749 | L29: =IF(ISNUMBER(K29/K$7*100),K29/K$7*100,0) -> 12.780744 | M29: =[1]MercLab!J65 -> 7.7934914 | N29: =[1]MercLab!K65 -> 16567.233 | O29: =IF(ISNUMBER(N29/N$7*100),N29/N$7*100,0) -> 10.431939 | P29: =[1]MercLab!L65 -> 9.5689136 | Q29: =IF(ISNUMBER(N29/H29*100),N29/H29*100,0) -> 3.7711407 | R29: =[1]MercLab!M65 -> 5.16383 | S29: Trab. Ind. Textil, Albañilería, Mecánica, etc. | T29: =[1]MercLab!G97 -> 455892.99 | U29: =IF(ISNUMBER(T29/T$7*100),T29/T$7*100,0) -> 13.151334 | V29: =[1]MercLab!H97 -> 6.8620947 | W29: =[1]MercLab!I97 -> 421498.39 | X29: =IF(ISNUMBER(W29/W$7*100),W29/W$7*100,0) -> 12.742935 | Y29: =[1]MercLab!J97 -> 6.9046604 | Z29: =[1]MercLab!K97 -> 34394.603 | AA29: =IF(ISNUMBER(Z29/Z$7*100),Z29/Z$7*100,0) -> 21.657353 | AB29: =[1]MercLab!L97 -> 6.3387451 | AC29: =IF(ISNUMBER(Z29/T29*100),Z29/T29*100,0) -> 7.5444465 | AD29: =[1]MercLab!M97 -> 3.0684004
A30: De 36 a 44 años | B30: =[1]MercLab!C66 -> 686282.53 | C30: =IF(ISNUMBER(B30/B$7*100),B30/B$7*100,0) -> 8.4790334 | D30: =[1]MercLab!D66 -> 6.8688119 | E30: =[1]MercLab!E66 -> 686282.53 | F30: =IF(ISNUMBER(E30/E$7*100),E30/E$7*100,0) -> 10.720174 | G30: =[1]MercLab!F66 -> 6.8688119 | H30: =[1]MercLab!G66 -> 517938.2 | I30: =IF(ISNUMBER(H30/H$7*100),H30/H$7*100,0) -> 14.941178 | J30: =[1]MercLab!H66 -> 7.1364684 | K30: =[1]MercLab!I66 -> 496221.37 | L30: =IF(ISNUMBER(K30/K$7*100),K30/K$7*100,0) -> 15.001995 | M30: =[1]MercLab!J66 -> 7.0791744 | N30: =[1]MercLab!K66 -> 21716.821 | O30: =IF(ISNUMBER(N30/N$7*100),N30/N$7*100,0) -> 13.674496 | P30: =[1]MercLab!L66 -> 8.4214107 | Q30: =IF(ISNUMBER(N30/H30*100),N30/H30*100,0) -> 4.1929368 | R30: =[1]MercLab!M66 -> 4.8252442 | S30: Trab. Area Grafica, Quim., Alimentos, etc. | T30: =[1]MercLab!G98 -> 185428.06 | U30: =IF(ISNUMBER(T30/T$7*100),T30/T$7*100,0) -> 5.34912 | V30: =[1]MercLab!H98 -> 6.0105476 | W30: =[1]MercLab!I98 -> 181334.27 | X30: =IF(ISNUMBER(W30/W$7*100),W30/W$7*100,0) -> 5.4821818 | Y30: =[1]MercLab!J98 -> 5.9882405 | Z30: =[1]MercLab!K98 -> 4093.7894 | AA30: =IF(ISNUMBER(Z30/Z$7*100),Z30/Z$7*100,0) -> 2.5777487 | AB30: =[1]MercLab!L98 -> 6.8875671 | AC30: =IF(ISNUMBER(Z30/T30*100),Z30/T30*100,0) -> 2.2077508 | AD30: =[1]MercLab!M98 -> 2.6668252
A31: De 45 a 59 años | B31: =[1]MercLab!C67 -> 932042.67 | C31: =IF(ISNUMBER(B31/B$7*100),B31/B$7*100,0) -> 11.515404 | D31: =[1]MercLab!D67 -> 6.2655999 | E31: =[1]MercLab!E67 -> 932042.67 | F31: =IF(ISNUMBER(E31/E$7*100),E31/E$7*100,0) -> 14.559105 | G31: =[1]MercLab!F67 -> 6.2655999 | H31: =[1]MercLab!G67 -> 667891.3 | I31: =IF(ISNUMBER(H31/H$7*100),H31/H$7*100,0) -> 19.266937 | J31: =[1]MercLab!H67 -> 6.59674 | K31: =[1]MercLab!I67 -> 651800.74 | L31: =IF(ISNUMBER(K31/K$7*100),K31/K$7*100,0) -> 19.705543 | M31: =[1]MercLab!J67 -> 6.5753905 | N31: =[1]MercLab!K67 -> 16090.561 | O31: =IF(ISNUMBER(N31/N$7*100),N31/N$7*100,0) -> 10.131792 | P31: =[1]MercLab!L67 -> 7.3597395 | Q31: =IF(ISNUMBER(N31/H31*100),N31/H31*100,0) -> 2.4091587 | R31: =[1]MercLab!M67 -> 4.6116876 | S31: Operador de Carga y Almacenaje | T31: =[1]MercLab!G99 -> 82839.269 | U31: =IF(ISNUMBER(T31/T$7*100),T31/T$7*100,0) -> 2.3896987 | V31: =[1]MercLab!H99 -> 7.0527489 | W31: =[1]MercLab!I99 -> 70834.471 | X31: =IF(ISNUMBER(W31/W$7*100),W31/W$7*100,0) -> 2.1415006 | Y31: =[1]MercLab!J99 -> 7.0499837 | Z31: =[1]MercLab!K99 -> 12004.798 | AA31: =IF(ISNUMBER(Z31/Z$7*100),Z31/Z$7*100,0) -> 7.559097 | AB31: =[1]MercLab!L99 -> 7.0692114 | AC31: =IF(ISNUMBER(Z31/T31*100),Z31/T31*100,0) -> 14.491675 | AD31: =[1]MercLab!M99 -> 2.94969
A32: De 60 años y más | B32: =[1]MercLab!C68 -> 701990.95 | C32: =IF(ISNUMBER(B32/B$7*100),B32/B$7*100,0) -> 8.6731112 | D32: =[1]MercLab!D68 -> 4.8840717 | E32: =[1]MercLab!E68 -> 701990.95 | F32: =IF(ISNUMBER(E32/E$7*100),E32/E$7*100,0) -> 10.965549 | G32: =[1]MercLab!F68 -> 4.8840717 | H32: =[1]MercLab!G68 -> 333890.07 | I32: =IF(ISNUMBER(H32/H$7*100),H32/H$7*100,0) -> 9.6318653 | J32: =[1]MercLab!H68 -> 4.8553682 | K32: =[1]MercLab!I68 -> 330399.82 | L32: =IF(ISNUMBER(K32/K$7*100),K32/K$7*100,0) -> 9.9888009 | M32: =[1]MercLab!J68 -> 4.8661397 | N32: =[1]MercLab!K68 -> 3490.2459 | O32: =IF(ISNUMBER(N32/N$7*100),N32/N$7*100,0) -> 2.1977136 | P32: =[1]MercLab!L68 -> 3.9422476 | Q32: =IF(ISNUMBER(N32/H32*100),N32/H32*100,0) -> 1.0453279 | R32: =[1]MercLab!M68 -> 2.8748457 | S32: Ocupación de los Servicios | T32: =[1]MercLab!G100 -> 422102.6 | U32: =IF(ISNUMBER(T32/T$7*100),T32/T$7*100,0) -> 12.176569 | V32: =[1]MercLab!H100 -> 6.3273355 | W32: =[1]MercLab!I100 -> 397736.74 | X32: =IF(ISNUMBER(W32/W$7*100),W32/W$7*100,0) -> 12.024562 | Y32: =[1]MercLab!J100 -> 6.2474591 | Z32: =[1]MercLab!K100 -> 24365.86 | AA32: =IF(ISNUMBER(Z32/Z$7*100),Z32/Z$7*100,0) -> 15.342524 | AB32: =[1]MercLab!L100 -> 7.5396353 | AC32: =IF(ISNUMBER(Z32/T32*100),Z32/T32*100,0) -> 5.7724969 | AD32: =[1]MercLab!M100 -> 3.7575138
S33: No sabe, No responde | T33: =[1]MercLab!G101 -> 40318.61 | U33: =IF(ISNUMBER(T33/T$7*100),T33/T$7*100,0) -> 1.1630877 | V33: =[1]MercLab!H101 -> 7.8021284 | W33: =[1]MercLab!I101 -> 38124.65 | X33: =IF(ISNUMBER(W33/W$7*100),W33/W$7*100,0) -> 1.1526021 | Y33: =[1]MercLab!J101 -> 7.7159316 | Z33: =[1]MercLab!K101 -> 2193.9603 | AA33: =IF(ISNUMBER(Z33/Z$7*100),Z33/Z$7*100,0) -> 1.3814776 | AB33: =[1]MercLab!L101 -> 9.2486836 | AC33: =IF(ISNUMBER(Z33/T33*100),Z33/T33*100,0) -> 5.4415574 | AD33: =[1]MercLab!M101 -> 2.7878397
A34: Sexo | S34: Busca trabajo por primera vez | T34: =[1]MercLab!G102 -> 26334.321 | U34: =IF(ISNUMBER(T34/T$7*100),T34/T$7*100,0) -> 0.75967708 | V34: =[1]MercLab!H102 -> 11.458105 | W34: =[1]MercLab!I102 -> 0 | X34: =IF(ISNUMBER(W34/W$7*100),W34/W$7*100,0) -> 0 | Y34: =[1]MercLab!J102 -> 0 | Z34: =[1]MercLab!K102 -> 26334.321 | AA34: =IF(ISNUMBER(Z34/Z$7*100),Z34/Z$7*100,0) -> 16.582011 | AB34: =[1]MercLab!L102 -> 11.458105 | AC34: =IF(ISNUMBER(Z34/T34*100),Z34/T34*100,0) -> 100 | AD34: =[1]MercLab!M102 -> 6.13365
A35: Hombre | B35: =[1]MercLab!C70 -> 3939101.1 | C35: =IF(ISNUMBER(B35/B$7*100),B35/B$7*100,0) -> 48.667666 | D35: =[1]MercLab!D70 -> 5.8880173 | E35: =[1]MercLab!E70 -> 3073237.8 | F35: =IF(ISNUMBER(E35/E$7*100),E35/E$7*100,0) -> 48.005947 | G35: =[1]MercLab!F70 -> 6.4239498 | H35: =[1]MercLab!G70 -> 2191748.7 | I35: =IF(ISNUMBER(H35/H$7*100),H35/H$7*100,0) -> 63.226283 | J35: =[1]MercLab!H70 -> 6.6415627 | K35: =[1]MercLab!I70 -> 2102297.2 | L35: =IF(ISNUMBER(K35/K$7*100),K35/K$7*100,0) -> 63.557624 | M35: =[1]MercLab!J70 -> 6.5721496 | N35: =[1]MercLab!K70 -> 89451.528 | O35: =IF(ISNUMBER(N35/N$7*100),N35/N$7*100,0) -> 56.325212 | P35: =[1]MercLab!L70 -> 8.1395651 | Q35: =IF(ISNUMBER(N35/H35*100),N35/H35*100,0) -> 4.0812858 | R35: =[1]MercLab!M70 -> 3.5453236
A36: Mujer | B36: =[1]MercLab!C71 -> 4154775.9 | C36: =IF(ISNUMBER(B36/B$7*100),B36/B$7*100,0) -> 51.332334 | D36: =[1]MercLab!D71 -> 6.3043092 | E36: =[1]MercLab!E71 -> 3328547.7 | F36: =IF(ISNUMBER(E36/E$7*100),E36/E$7*100,0) -> 51.994053 | G36: =[1]MercLab!F71 -> 6.8282182 | H36: =[1]MercLab!G71 -> 1274766.5 | I36: =IF(ISNUMBER(H36/H$7*100),H36/H$7*100,0) -> 36.773717 | J36: =[1]MercLab!H71 -> 7.8351746 | K36: =[1]MercLab!I71 -> 1205405.4 | L36: =IF(ISNUMBER(K36/K$7*100),K36/K$7*100,0) -> 36.442376 | M36: =[1]MercLab!J71 -> 7.711099 | N36: =[1]MercLab!K71 -> 69361.062 | O36: =IF(ISNUMBER(N36/N$7*100),N36/N$7*100,0) -> 43.674788 | P36: =[1]MercLab!L71 -> 9.8362058 | Q36: =IF(ISNUMBER(N36/H36*100),N36/H36*100,0) -> 5.4410799 | R36: =[1]MercLab!M71 -> 4.8246127 | S36: ='C01'!A46 -> Fuente: Instituto Nacional de Estadística (INE). XL Encuesta Permanente de Hogares de Propósitos Múltiples, Septiembre 2010.
S37: =A46 -> El salario mínimo en el área urbana es Lps. 5,500 y en la área rural es Lps. 4,055 (Promedio de salarios mínimos por rama)
A38: Rama de Actividad | S38: AEP= Años de Estudio Promedio
A39: Primaria | B39: =[1]MercLab!C73 -> 1302767.3 | C39: =IF(ISNUMBER(B39/B$7*100),B39/B$7*100,0) -> 16.095714 | D39: =[1]MercLab!D73 -> 4.8644845 | E39: =[1]MercLab!E73 -> 1290110.4 | F39: =IF(ISNUMBER(E39/E$7*100),E39/E$7*100,0) -> 20.152353 | G39: =[1]MercLab!F73 -> 4.9038116 | H39: =[1]MercLab!G73 -> 1213059.3 | I39: =IF(ISNUMBER(H39/H$7*100),H39/H$7*100,0) -> 34.993624 | J39: =[1]MercLab!H73 -> 4.9009419 | K39: =[1]MercLab!I73 -> 1200054.2 | L39: =IF(ISNUMBER(K39/K$7*100),K39/K$7*100,0) -> 36.280595 | M39: =[1]MercLab!J73 -> 4.8885207 | N39: =[1]MercLab!K73 -> 13005.112 | O39: =IF(ISNUMBER(N39/N$7*100),N39/N$7*100,0) -> 8.1889677 | P39: =[1]MercLab!L73 -> 6.1542534 | Q39: =IF(ISNUMBER(N39/H39*100),N39/H39*100,0) -> 1.072092 | R39: =[1]MercLab!M73 -> 1.6431804 | S39: TDA= Tasa de Desempleo Abierto
A40: Secundaria | B40: =[1]MercLab!C74 -> 509518.35 | C40: =IF(ISNUMBER(B40/B$7*100),B40/B$7*100,0) -> 6.2951086 | D40: =[1]MercLab!D74 -> 7.1913889 | E40: =[1]MercLab!E74 -> 508293.13 | F40: =IF(ISNUMBER(E40/E$7*100),E40/E$7*100,0) -> 7.9398651 | G40: =[1]MercLab!F74 -> 7.2048023 | H40: =[1]MercLab!G74 -> 481929.4 | I40: =IF(ISNUMBER(H40/H$7*100),H40/H$7*100,0) -> 13.902417 | J40: =[1]MercLab!H74 -> 7.2238249 | K40: =[1]MercLab!I74 -> 457801.33 | L40: =IF(ISNUMBER(K40/K$7*100),K40/K$7*100,0) -> 13.840462 | M40: =[1]MercLab!J74 -> 7.173426 | N40: =[1]MercLab!K74 -> 24128.069 | O40: =IF(ISNUMBER(N40/N$7*100),N40/N$7*100,0) -> 15.192794 | P40: =[1]MercLab!L74 -> 8.1177262 | Q40: =IF(ISNUMBER(N40/H40*100),N40/H40*100,0) -> 5.0065568 | R40: =[1]MercLab!M74 -> 4.1558904 | S40: MBT= Meses promedio en Busca de Trabajo
A41: Terciaria | B41: =[1]MercLab!C75 -> 1833490.1 | C41: =IF(ISNUMBER(B41/B$7*100),B41/B$7*100,0) -> 22.652804 | D41: =[1]MercLab!D75 -> 8.232572 | E41: =[1]MercLab!E75 -> 1828913.9 | F41: =IF(ISNUMBER(E41/E$7*100),E41/E$7*100,0) -> 28.56881 | G41: =[1]MercLab!F75 -> 8.2480702 | H41: =[1]MercLab!G75 -> 1736902.6 | I41: =IF(ISNUMBER(H41/H$7*100),H41/H$7*100,0) -> 50.105149 | J41: =[1]MercLab!H75 -> 8.2673787 | K41: =[1]MercLab!I75 -> 1642435.2 | L41: =IF(ISNUMBER(K41/K$7*100),K41/K$7*100,0) -> 49.654865 | M41: =[1]MercLab!J75 -> 8.2457002 | N41: =[1]MercLab!K75 -> 94467.346 | O41: =IF(ISNUMBER(N41/N$7*100),N41/N$7*100,0) -> 59.483537 | P41: =[1]MercLab!L75 -> 8.6315585 | Q41: =IF(ISNUMBER(N41/H41*100),N41/H41*100,0) -> 5.4388396 | R41: =[1]MercLab!M75 -> 3.9013506 | S41: 1/ Porcentaje por columna
A42: No sabe, no responde | B42: =[1]MercLab!C76 -> 9788.5131 | C42: =IF(ISNUMBER(B42/B$7*100),B42/B$7*100,0) -> 0.12093726 | D42: =[1]MercLab!D76 -> 7.0479559 | E42: =[1]MercLab!E76 -> 9788.5131 | F42: =IF(ISNUMBER(E42/E$7*100),E42/E$7*100,0) -> 0.15290286 | G42: =[1]MercLab!F76 -> 7.0479559 | H42: =[1]MercLab!G76 -> 8289.5614 | I42: =IF(ISNUMBER(H42/H$7*100),H42/H$7*100,0) -> 0.23913242 | J42: =[1]MercLab!H76 -> 7.5925443 | K42: =[1]MercLab!I76 -> 7411.8189 | L42: =IF(ISNUMBER(K42/K$7*100),K42/K$7*100,0) -> 0.22407755 | M42: =[1]MercLab!J76 -> 7.4063476 | N42: =[1]MercLab!K76 -> 877.74258 | O42: =IF(ISNUMBER(N42/N$7*100),N42/N$7*100,0) -> 0.5526908 | P42: =[1]MercLab!L76 -> 8.8966107 | Q42: =IF(ISNUMBER(N42/H42*100),N42/H42*100,0) -> 10.588529 | R42: =[1]MercLab!M76 -> 1.3793599
...

Sheet C03
A1: Cuadro No. 3. Personas ocupadas por categoría ocupacional, según dominio, nivel educativo, rango de edad, sexo.
A2: número de salarios mínimos, rama de actividad y ocupación
A3: Ocupación Principal
A4: Categorías | B4: Total Ocupados | D4: Asalariados | L4: Cuenta propia | N4: Trab. fam. no remu.
D5: Total Asalariados | F5: Público | H5: Privado | J5: Doméstico
B6: No. | C6: % 1/ | D6: No. | E6: % 1/ | F6: No. | G6: % 1/ | H6: No. | I6: % 1/ | J6: No. | K6: % 1/ | L6: No. | M6: % 1/ | N6: No. | O6: % 1/
A8: Total Nacional 2/ | B8: =[1]MercLab!C114 -> 3307702.6 | C8: =SUM(E8,M8,O8) -> 100 | D8: =F8+H8+J8 -> 1461593.8 | E8: =IF(ISNUMBER(D8/$B$8*100),D8/$B$8*100,0) -> 44.187583 | F8: =[1]MercLab!D114 -> 191539.94 | G8: =IF(ISNUMBER(F8/$B$8*100),F8/$B$8*100,0) -> 5.7907245 | H8: =[1]MercLab!E114 -> 1174098.1 | I8: =IF(ISNUMBER(H8/$B$8*100),H8/$B$8*100,0) -> 35.495878 | J8: =[1]MercLab!F114 -> 95955.804 | K8: =IF(ISNUMBER(J8/$B$8*100),J8/$B$8*100,0) -> 2.9009804 | L8: =[1]MercLab!G114 -> 1422436.6 | M8: =IF(ISNUMBER(L8/$B$8*100),L8/$B$8*100,0) -> 43.003763 | N8: =[1]MercLab!H114 -> 423672.2 | O8: =IF(ISNUMBER(N8/$B$8*100),N8/$B$8*100,0) -> 12.808655
D9: =F9+H9+J9 -> 0
A10: Dominio
