Workbook

Sheet Caratula

Sheet Cuadro01
A1: Cuadro No. 1. Tasa de analfabetismo y años de estudio promedio por sexo, según dominio, quintil de ingreso, rangos de edad y categoría ocupacional
A3: Categorias | B3: Total | D3: Hombres | F3: Mujer
B4: Tasa de Analf. | C4: AEP | D4: Tasa de Analf. | E4: AEP | F4: Tasa de Analf. | G4: AEP
A6: Total Nacional | B6: =[1]Sheet!D7 -> 15.092569 | C6: =[1]Sheet!E7 -> 7.176858 | D6: =[1]Sheet!G7 -> 15.069221 | E6: =[1]Sheet!H7 -> 6.9999139 | F6: =[1]Sheet!J7 -> 15.113501 | G6: =[1]Sheet!K7 -> 7.3353012
A8: Dominio
A9: Urbano | B9: =[1]Sheet!D8 -> 7.745857 | C9: =[1]Sheet!E8 -> 8.5441967 | D9: =[1]Sheet!G8 -> 7.0695035 | E9: =[1]Sheet!H8 -> 8.4819201 | F9: =[1]Sheet!J8 -> 8.2843724 | G9: =[1]Sheet!K8 -> 8.5942758
A10: Distrito Central | B10: =[1]Sheet!D9 -> 5.6448277 | C10: =[1]Sheet!E9 -> 9.4823498 | D10: =[1]Sheet!G9 -> 4.8306376 | E10: =[1]Sheet!H9 -> 9.4592163 | F10: =[1]Sheet!J9 -> 6.2811791 | G10: =[1]Sheet!K9 -> 9.5007583
A11: San Pedro Sula | B11: =[1]Sheet!D10 -> 5.3714286 | C11: =[1]Sheet!E10 -> 8.9881944 | D11: =[1]Sheet!G10 -> 4.2810648 | E11: =[1]Sheet!H10 -> 9.0398778 | F11: =[1]Sheet!J10 -> 6.2343151 | G11: =[1]Sheet!K10 -> 8.9462503
A12: Resto Urbano | B12: =[1]Sheet!D11 -> 9.5615063 | C12: =[1]Sheet!E11 -> 7.88894 | D12: =[1]Sheet!G11 -> 9.0535769 | E12: =[1]Sheet!H11 -> 7.7728975 | F12: =[1]Sheet!J11 -> 9.9706266 | G12: =[1]Sheet!K11 -> 7.9825258
A13: Rural | B13: =[1]Sheet!D12 -> 21.927533 | C13: =[1]Sheet!E12 -> 5.7118961 | D13: =[1]Sheet!G12 -> 21.665969 | E13: =[1]Sheet!H12 -> 5.5873633 | F13: =[1]Sheet!J12 -> 22.189202 | G13: =[1]Sheet!K12 -> 5.8369399
A15: Quintil del Hogar
A16: Quintil 1 | B16: =[1]Sheet!D13 -> 26.104987 | C16: =[1]Sheet!E13 -> 5.129803 | D16: =[1]Sheet!G13 -> 26.600922 | E16: =[1]Sheet!H13 -> 5.0532002 | F16: =[1]Sheet!J13 -> 25.626236 | G16: =[1]Sheet!K13 -> 5.2029466
A17: Quintil 2 | B17: =[1]Sheet!D14 -> 22.258258 | C17: =[1]Sheet!E14 -> 5.7677752 | D17: =[1]Sheet!G14 -> 22.958184 | E17: =[1]Sheet!H14 -> 5.6231728 | F17: =[1]Sheet!J14 -> 21.629362 | G17: =[1]Sheet!K14 -> 5.8949569
A18: Quintil 3 | B18: =[1]Sheet!D15 -> 14.01878 | C18: =[1]Sheet!E15 -> 6.6913403 | D18: =[1]Sheet!G15 -> 13.59745 | E18: =[1]Sheet!H15 -> 6.422562 | F18: =[1]Sheet!J15 -> 14.379217 | G18: =[1]Sheet!K15 -> 6.9229547
A19: Quintil 4 | B19: =[1]Sheet!D16 -> 8.2957523 | C19: =[1]Sheet!E16 -> 7.5912039 | D19: =[1]Sheet!G16 -> 7.0625204 | E19: =[1]Sheet!H16 -> 7.3572673 | F19: =[1]Sheet!J16 -> 9.3856157 | G19: =[1]Sheet!K16 -> 7.8020476
A20: Quintil 5 | B20: =[1]Sheet!D17 -> 4.1371859 | C20: =[1]Sheet!E17 -> 10.193405 | D20: =[1]Sheet!G17 -> 3.8378546 | E20: =[1]Sheet!H17 -> 10.076551 | F20: =[1]Sheet!J17 -> 4.4011016 | G20: =[1]Sheet!K17 -> 10.297208
A21: No Declaran Ingresos | B21: =[1]Sheet!D18 -> 1.7584946 | C21: =[1]Sheet!E18 -> 9.7583626 | D21: =[1]Sheet!G18 -> 0 | E21: =[1]Sheet!H18 -> 10.551666 | F21: =[1]Sheet!J18 -> 3.5011608 | G21: =[1]Sheet!K18 -> 8.9722002
A23: Rangos de Edad
A24: De 15 - 18 Años | B24: =[1]Sheet!D19 -> 4.535445 | C24: =[1]Sheet!E19 -> 7.2563708 | D24: =[1]Sheet!G19 -> 5.8729665 | E24: =[1]Sheet!H19 -> 7.0297243 | F24: =[1]Sheet!J19 -> 3.1111012 | G24: =[1]Sheet!K19 -> 7.4915408
A25: De 19 - 24 Años | B25: =[1]Sheet!D20 -> 5.7853756 | C25: =[1]Sheet!E20 -> 8.4040781 | D25: =[1]Sheet!G20 -> 7.1805106 | E25: =[1]Sheet!H20 -> 7.9584358 | F25: =[1]Sheet!J20 -> 4.3482485 | G25: =[1]Sheet!K20 -> 8.8508766
A26: De 25 - 29 Años | B26: =[1]Sheet!D21 -> 8.8196954 | C26: =[1]Sheet!E21 -> 7.9982236 | D26: =[1]Sheet!G21 -> 9.7995757 | E26: =[1]Sheet!H21 -> 7.7950729 | F26: =[1]Sheet!J21 -> 7.9251838 | G26: =[1]Sheet!K21 -> 8.1818633
A27: De 30 - 35 Años | B27: =[1]Sheet!D22 -> 11.277706 | C27: =[1]Sheet!E22 -> 7.5053904 | D27: =[1]Sheet!G22 -> 13.317706 | E27: =[1]Sheet!H22 -> 7.4098386 | F27: =[1]Sheet!J22 -> 9.7316848 | G27: =[1]Sheet!K22 -> 7.5751859
A28: De 36 - 44 Años | B28: =[1]Sheet!D23 -> 13.556877 | C28: =[1]Sheet!E23 -> 6.8688119 | D28: =[1]Sheet!G23 -> 13.728437 | E28: =[1]Sheet!H23 -> 6.712516 | F28: =[1]Sheet!J23 -> 13.41942 | G28: =[1]Sheet!K23 -> 6.9924853
A29: De 45 - 59 Años | B29: =[1]Sheet!D24 -> 21.036501 | C29: =[1]Sheet!E24 -> 6.2655999 | D29: =[1]Sheet!G24 -> 19.848255 | E29: =[1]Sheet!H24 -> 6.2638254 | F29: =[1]Sheet!J24 -> 21.990981 | G29: =[1]Sheet!K24 -> 6.2670534
A30: De 60 Años y mas | B30: =[1]Sheet!D25 -> 42.685991 | C30: =[1]Sheet!E25 -> 4.8840717 | D30: =[1]Sheet!G25 -> 40.210531 | E30: =[1]Sheet!H25 -> 4.8629599 | F30: =[1]Sheet!J25 -> 44.852426 | G30: =[1]Sheet!K25 -> 4.903733
A32: Categoría Ocupacional
A33: Asalariado | B33: =[1]Sheet!D26 -> 9.6048854 | C33: =[1]Sheet!E26 -> 8.2194114 | D33: =[1]Sheet!G26 -> 12.081715 | E33: =[1]Sheet!H26 -> 7.4284246 | F33: =[1]Sheet!J26 -> 4.8819064 | G33: =[1]Sheet!K26 -> 9.6260367
A34: Empleado Publico | B34: =[1]Sheet!D27 -> 1.7471088 | C34: =[1]Sheet!E27 -> 12.293264 | D34: =[1]Sheet!G27 -> 3.7307116 | E34: =[1]Sheet!H27 -> 11.65933 | F34: =[1]Sheet!J27 -> 0.2169481 | G34: =[1]Sheet!K27 -> 12.762277
A35: Empleado Privado | B35: =[1]Sheet!D28 -> 10.768903 | C35: =[1]Sheet!E28 -> 7.6611256 | D35: =[1]Sheet!G28 -> 12.887222 | E35: =[1]Sheet!H28 -> 6.9935137 | F35: =[1]Sheet!J28 -> 4.6876926 | G35: =[1]Sheet!K28 -> 9.4305198
A36: Empleada Domestica | B36: =[1]Sheet!D29 -> 11.41054 | C36: =[1]Sheet!E29 -> 6.0173697 | D36: =[1]Sheet!G29 -> 14.263421 | E36: =[1]Sheet!H29 -> 5.3876541 | F36: =[1]Sheet!J29 -> 11.219761 | G36: =[1]Sheet!K29 -> 6.0576654
A37: Cuenta Propia | B37: =[1]Sheet!D30 -> 20.364711 | C37: =[1]Sheet!E30 -> 5.9386919 | D37: =[1]Sheet!G30 -> 20.842708 | E37: =[1]Sheet!H30 -> 5.869635 | F37: =[1]Sheet!J30 -> 19.645287 | G37: =[1]Sheet!K30 -> 6.0402922
A38: Trabajador no Remunerado | B38: =[1]Sheet!D31 -> 8.2685137 | C38: =[1]Sheet!E31 -> 6.9523771 | D38: =[1]Sheet!G31 -> 9.2967373 | E38: =[1]Sheet!H31 -> 6.6739186 | F38: =[1]Sheet!J31 -> 6.5274805 | G38: =[1]Sheet!K31 -> 7.4125089
A39: Inactivos | B39: =[1]Sheet!D32 -> 17.052646 | C39: =[1]Sheet!E32 -> 7.091312 | D39: =[1]Sheet!G32 -> 14.411058 | E39: =[1]Sheet!H32 -> 7.9655293 | F39: =[1]Sheet!J32 -> 17.802884 | G39: =[1]Sheet!K32 -> 6.8343405
A41: Fuente: Instituto Nacional de Estadística (INE). XL Encuesta Permanente de Hogares de Propósitos Múltiples, Septiembre 2010.
A42: AEP = Años de Estudio Promedio

Sheet Cuadro02
A1: Cuadro No. 2. Población de 5 a 18 años que asiste a un centro de enseñanza y tasa de cobertura, según dominio y sexo
A3: Categorias | B3: Poblacion | G3: Asistencia | M3: Tasa de Cobertura
B4: Total | C4: 5 - 6 Años | D4: 7 - 12 Años | E4: 13 - 15 Años | F4: 16 - 18 Años | G4: Total | H4: 5 - 6 Años | I4: 7 - 12 Años | J4: 13 - 15 Años | K4: 16 - 18 Años | L4: Total | M4: 5 - 6 Años | N4: 7 - 12 Años | O4: 13 - 15 Años | P4: 16 - 18 Años
A6: Total Nacional | B6: =[1]Sheet!C40 -> 2837563.9 | C6: =[1]Sheet!D40 -> 348690.48 | D6: =[1]Sheet!E40 -> 1217321.4 | E6: =[1]Sheet!F40 -> 642925.95 | F6: =[1]Sheet!G40 -> 628626.07 | G6: =+H6+I6+J6+K6 -> 1669421.7 | H6: =[1]Sheet!H40 -> 163759.66 | I6: =[1]Sheet!I40 -> 1104322.9 | J6: =[1]Sheet!J40 -> 227098.82 | K6: =[1]Sheet!K40 -> 174240.34 | L6: =+G6/B6*100 -> 58.832921 | M6: =+H6/C6*100 -> 46.96419 | N6: =+I6/D6*100 -> 90.717448 | O6: =+J6/E6*100 -> 35.322702 | P6: =+K6/F6*100 -> 27.717645
A8: Dominio
A9: Urbano | B9: =[1]Sheet!C41 -> 1157197 | C9: =[1]Sheet!D41 -> 136820.87 | D9: =[1]Sheet!E41 -> 480212.25 | E9: =[1]Sheet!F41 -> 255757.49 | F9: =[1]Sheet!G41 -> 284406.38 | G9: =+H9+I9+J9+K9 -> 769386.48 | H9: =[1]Sheet!H41 -> 67296.024 | I9: =[1]Sheet!I41 -> 436550.41 | J9: =[1]Sheet!J41 -> 145033.56 | K9: =[1]Sheet!K41 -> 120506.49 | L9: =+G9/B9*100 -> 66.487079 | M9: =+H9/C9*100 -> 49.185498 | N9: =+I9/D9*100 -> 90.907803 | O9: =+J9/E9*100 -> 56.707453 | P9: =+K9/F9*100 -> 42.371232
A10: Distrito Central | B10: =[1]Sheet!C42 -> 291821.83 | C10: =[1]Sheet!D42 -> 32466.351 | D10: =[1]Sheet!E42 -> 111849.39 | E10: =[1]Sheet!F42 -> 66035.245 | F10: =[1]Sheet!G42 -> 81470.836 | G10: =+H10+I10+J10+K10 -> 198527.98 | H10: =[1]Sheet!H42 -> 17828.343 | I10: =[1]Sheet!I42 -> 101199.31 | J10: =[1]Sheet!J42 -> 42529.982 | K10: =[1]Sheet!K42 -> 36970.354 | L10: =+G10/B10*100 -> 68.030547 | M10: =+H10/C10*100 -> 54.913295 | N10: =+I10/D10*100 -> 90.478188 | O10: =+J10/E10*100 -> 64.404973 | P10: =+K10/F10*100 -> 45.378635
A11: San Pedro Sula | B11: =[1]Sheet!C43 -> 177742.98 | C11: =[1]Sheet!D43 -> 21093.892 | D11: =[1]Sheet!E43 -> 73166.549 | E11: =[1]Sheet!F43 -> 39693.469 | F11: =[1]Sheet!G43 -> 43789.071 | G11: =+H11+I11+J11+K11 -> 119141.99 | H11: =[1]Sheet!H43 -> 8576.1296 | I11: =[1]Sheet!I43 -> 66915.367 | J11: =[1]Sheet!J43 -> 24573.614 | K11: =[1]Sheet!K43 -> 19076.884 | L11: =+G11/B11*100 -> 67.030492 | M11: =+H11/C11*100 -> 40.656934 | N11: =+I11/D11*100 -> 91.456229 | O11: =+J11/E11*100 -> 61.908456 | P11: =+K11/F11*100 -> 43.565401
A12: Resto Urbano | B12: =[1]Sheet!C44 -> 687632.18 | C12: =[1]Sheet!D44 -> 83260.623 | D12: =[1]Sheet!E44 -> 295196.31 | E12: =[1]Sheet!F44 -> 150028.78 | F12: =[1]Sheet!G44 -> 159146.47 | G12: =+H12+I12+J12+K12 -> 451716.5 | H12: =[1]Sheet!H44 -> 40891.552 | I12: =[1]Sheet!I44 -> 268435.74 | J12: =[1]Sheet!J44 -> 77929.964 | K12: =[1]Sheet!K44 -> 64459.248 | L12: =+G12/B12*100 -> 65.691588 | M12: =+H12/C12*100 -> 49.112714 | N12: =+I12/D12*100 -> 90.934653 | O12: =+J12/E12*100 -> 51.943344 | P12: =+K12/F12*100 -> 40.503096
A13: Rural | B13: =[1]Sheet!C45 -> 1680366.9 | C13: =[1]Sheet!D45 -> 211869.62 | D13: =[1]Sheet!E45 -> 737109.18 | E13: =[1]Sheet!F45 -> 387168.46 | F13: =[1]Sheet!G45 -> 344219.69 | G13: =+H13+I13+J13+K13 -> 900035.27 | H13: =[1]Sheet!H45 -> 96463.634 | I13: =[1]Sheet!I45 -> 667772.52 | J13: =[1]Sheet!J45 -> 82065.259 | K13: =[1]Sheet!K45 -> 53733.857 | L13: =+G13/B13*100 -> 53.561829 | M13: =+H13/C13*100 -> 45.529716 | N13: =+I13/D13*100 -> 90.593434 | O13: =+J13/E13*100 -> 21.196267 | P13: =+K13/F13*100 -> 15.610338
A15: Hombre | B15: =[1]Sheet!C46 -> 1455131.3 | C15: =[1]Sheet!D46 -> 174707.86 | D15: =[1]Sheet!E46 -> 623430.95 | E15: =[1]Sheet!F46 -> 330123.78 | F15: =[1]Sheet!G46 -> 326868.74 | G15: =+H15+I15+J15+K15 -> 828652.58 | H15: =[1]Sheet!H46 -> 80554.395 | I15: =[1]Sheet!I46 -> 562760 | J15: =[1]Sheet!J46 -> 104288.29 | K15: =[1]Sheet!K46 -> 81049.902 | L15: =+G15/B15*100 -> 56.946928 | M15: =+H15/C15*100 -> 46.108055 | N15: =+I15/D15*100 -> 90.268217 | O15: =+J15/E15*100 -> 31.590662 | P15: =+K15/F15*100 -> 24.795856
A16: Dominio
A17: Urbano | B17: =[1]Sheet!C47 -> 565908.52 | C17: =[1]Sheet!D47 -> 64667.048 | D17: =[1]Sheet!E47 -> 243160.57 | E17: =[1]Sheet!F47 -> 124303.67 | F17: =[1]Sheet!G47 -> 133777.23 | G17: =+H17+I17+J17+K17 -> 377019.92 | H17: =[1]Sheet!H47 -> 31610.871 | I17: =[1]Sheet!I47 -> 221961.97 | J17: =[1]Sheet!J47 -> 67963.873 | K17: =[1]Sheet!K47 -> 55483.207 | L17: =+G17/B17*100 -> 66.622061 | M17: =+H17/C17*100 -> 48.882502 | N17: =+I17/D17*100 -> 91.282058 | O17: =+J17/E17*100 -> 54.675677 | P17: =+K17/F17*100 -> 41.474327
A18: Distrito Central | B18: =[1]Sheet!C48 -> 136597.95 | C18: =[1]Sheet!D48 -> 14356.508 | D18: =[1]Sheet!E48 -> 52617.071 | E18: =[1]Sheet!F48 -> 33334.31 | F18: =[1]Sheet!G48 -> 36290.062 | G18: =+H18+I18+J18+K18 -> 92613.551 | H18: =[1]Sheet!H48 -> 7295.5457 | I18: =[1]Sheet!I48 -> 48488.402 | J18: =[1]Sheet!J48 -> 20549.511 | K18: =[1]Sheet!K48 -> 16280.092 | L18: =+G18/B18*100 -> 67.800103 | M18: =+H18/C18*100 -> 50.816993 | N18: =+I18/D18*100 -> 92.153366 | O18: =+J18/E18*100 -> 61.646728 | P18: =+K18/F18*100 -> 44.861021
A19: San Pedro Sula | B19: =[1]Sheet!C49 -> 86900.675 | C19: =[1]Sheet!D49 -> 9453.7587 | D19: =[1]Sheet!E49 -> 38815.84 | E19: =[1]Sheet!F49 -> 17906.712 | F19: =[1]Sheet!G49 -> 20724.364 | G19: =+H19+I19+J19+K19 -> 57199.859 | H19: =[1]Sheet!H49 -> 3510.5163 | I19: =[1]Sheet!I49 -> 35058.972 | J19: =[1]Sheet!J49 -> 10978.062 | K19: =[1]Sheet!K49 -> 7652.3096 | L19: =+G19/B19*100 -> 65.822112 | M19: =+H19/C19*100 -> 37.13355 | N19: =+I19/D19*100 -> 90.321301 | O19: =+J19/E19*100 -> 61.306965 | P19: =+K19/F19*100 -> 36.92422
A20: Resto Urbano | B20: =[1]Sheet!C50 -> 342409.9 | C20: =[1]Sheet!D50 -> 40856.781 | D20: =[1]Sheet!E50 -> 151727.66 | E20: =[1]Sheet!F50 -> 73062.649 | F20: =[1]Sheet!G50 -> 76762.807 | G20: =+H20+I20+J20+K20 -> 227206.51 | H20: =[1]Sheet!H50 -> 20804.809 | I20: =[1]Sheet!I50 -> 138414.6 | J20: =[1]Sheet!J50 -> 36436.3 | K20: =[1]Sheet!K50 -> 31550.805 | L20: =+G20/B20*100 -> 66.355124 | M20: =+H20/C20*100 -> 50.921311 | N20: =+I20/D20*100 -> 91.225686 | O20: =+J20/E20*100 -> 49.869941 | P20: =+K20/F20*100 -> 41.101682
A21: Rural | B21: =[1]Sheet!C51 -> 889222.8 | C21: =[1]Sheet!D51 -> 110040.81 | D21: =[1]Sheet!E51 -> 380270.38 | E21: =[1]Sheet!F51 -> 205820.11 | F21: =[1]Sheet!G51 -> 193091.51 | G21: =+H21+I21+J21+K21 -> 451632.66 | H21: =[1]Sheet!H51 -> 48943.524 | I21: =[1]Sheet!I51 -> 340798.03 | J21: =[1]Sheet!J51 -> 36324.416 | K21: =[1]Sheet!K51 -> 25566.695 | L21: =+G21/B21*100 -> 50.789595 | M21: =+H21/C21*100 -> 44.477612 | N21: =+I21/D21*100 -> 89.619925 | O21: =+J21/E21*100 -> 17.648623 | P21: =+K21/F21*100 -> 13.240714
A23: Mujer | B23: =[1]Sheet!C52 -> 1382432.6 | C23: =[1]Sheet!D52 -> 173982.62 | D23: =[1]Sheet!E52 -> 593890.48 | E23: =[1]Sheet!F52 -> 312802.17 | F23: =[1]Sheet!G52 -> 301757.33 | G23: =+H23+I23+J23+K23 -> 840769.16 | H23: =[1]Sheet!H52 -> 83205.264 | I23: =[1]Sheet!I52 -> 541562.93 | J23: =[1]Sheet!J52 -> 122810.53 | K23: =[1]Sheet!K52 -> 93190.441 | L23: =+G23/B23*100 -> 60.818094 | M23: =+H23/C23*100 -> 47.823893 | N23: =+I23/D23*100 -> 91.189023 | O23: =+J23/E23*100 -> 39.261406 | P23: =+K23/F23*100 -> 30.882577
A24: Dominio
A25: Urbano | B25: =[1]Sheet!C53 -> 591288.47 | C25: =[1]Sheet!D53 -> 72153.817 | D25: =[1]Sheet!E53 -> 237051.68 | E25: =[1]Sheet!F53 -> 131453.82 | F25: =[1]Sheet!G53 -> 150629.15 | G25: =+H25+I25+J25+K25 -> 392366.56 | H25: =[1]Sheet!H53 -> 35685.154 | I25: =[1]Sheet!I53 -> 214588.44 | J25: =[1]Sheet!J53 -> 77069.686 | K25: =[1]Sheet!K53 -> 65023.279 | L25: =+G25/B25*100 -> 66.357891 | M25: =+H25/C25*100 -> 49.457056 | N25: =+I25/D25*100 -> 90.523905 | O25: =+J25/E25*100 -> 58.628715 | P25: =+K25/F25*100 -> 43.167793
A26: Distrito Central | B26: =[1]Sheet!C54 -> 155223.88 | C26: =[1]Sheet!D54 -> 18109.843 | D26: =[1]Sheet!E54 -> 59232.324 | E26: =[1]Sheet!F54 -> 32700.935 | F26: =[1]Sheet!G54 -> 45180.775 | G26: =+H26+I26+J26+K26 -> 105914.43 | H26: =[1]Sheet!H54 -> 10532.797 | I26: =[1]Sheet!I54 -> 52710.904 | J26: =[1]Sheet!J54 -> 21980.47 | K26: =[1]Sheet!K54 -> 20690.261 | L26: =+G26/B26*100 -> 68.233338 | M26: =+H26/C26*100 -> 58.160622 | N26: =+I26/D26*100 -> 88.990099 | O26: =+J26/E26*100 -> 67.216643 | P26: =+K26/F26*100 -> 45.794393
A27: San Pedro Sula | B27: =[1]Sheet!C55 -> 90842.307 | C27: =[1]Sheet!D55 -> 11640.133 | D27: =[1]Sheet!E55 -> 34350.71 | E27: =[1]Sheet!F55 -> 21786.757 | F27: =[1]Sheet!G55 -> 23064.708 | G27: =+H27+I27+J27+K27 -> 61942.136 | H27: =[1]Sheet!H55 -> 5065.6134 | I27: =[1]Sheet!I55 -> 31856.395 | J27: =[1]Sheet!J55 -> 13595.552 | K27: =[1]Sheet!K55 -> 11424.575 | L27: =+G27/B27*100 -> 68.186441 | M27: =+H27/C27*100 -> 43.518519 | N27: =+I27/D27*100 -> 92.738682 | O27: =+J27/E27*100 -> 62.402827 | P27: =+K27/F27*100 -> 49.53271
A28: Resto Urbano | B28: =[1]Sheet!C56 -> 345222.28 | C28: =[1]Sheet!D56 -> 42403.841 | D28: =[1]Sheet!E56 -> 143468.65 | E28: =[1]Sheet!F56 -> 76966.129 | F28: =[1]Sheet!G56 -> 82383.665 | G28: =+H28+I28+J28+K28 -> 224509.99 | H28: =[1]Sheet!H56 -> 20086.743 | I28: =[1]Sheet!I56 -> 130021.14 | J28: =[1]Sheet!J56 -> 41493.664 | K28: =[1]Sheet!K56 -> 32908.443 | L28: =+G28/B28*100 -> 65.033458 | M28: =+H28/C28*100 -> 47.370102 | N28: =+I28/D28*100 -> 90.626866 | O28: =+J28/E28*100 -> 53.91159 | P28: =+K28/F28*100 -> 39.94535
A29: Rural | B29: =[1]Sheet!C57 -> 791144.14 | C29: =[1]Sheet!D57 -> 101828.81 | D29: =[1]Sheet!E57 -> 356838.8 | E29: =[1]Sheet!F57 -> 181348.35 | F29: =[1]Sheet!G57 -> 151128.18 | G29: =+H29+I29+J29+K29 -> 448402.61 | H29: =[1]Sheet!H57 -> 47520.11 | I29: =[1]Sheet!I57 -> 326974.49 | J29: =[1]Sheet!J57 -> 45740.843 | K29: =[1]Sheet!K57 -> 28167.162 | L29: =+G29/B29*100 -> 56.677739 | M29: =+H29/C29*100 -> 46.666667 | N29: =+I29/D29*100 -> 91.630868 | O29: =+J29/E29*100 -> 25.222642 | P29: =+K29/F29*100 -> 18.637928
A31: =Cuadro01!A41 -> Fuente: Instituto Nacional de Estadística (INE). XL Encuesta Permanente de Hogares de Propósitos Múltiples, Septiembre 2010.

Sheet Cuadro03
A1: Cuadro No. 3. Población de 6 a 15 años que asiste, repite y tasa de repitencia en educación primaria por grado, según dominio y sexo
A3: Categorias | B3: Total | E3: Primer Grado | H3: Segundo Grado | K3: Tercer Grado | N3: Cuarto Grado | Q3: Quinto Grado | T3: Sexto Grado
E4: 06 - 10 Años | H4: 07 - 11 Años | K4: 8 - 12 Años | N4: 09 - 13 Años | Q4: 10 - 14 Años | T4: 11 - 15 Años
B5: Asiste | C5: Repite | D5: TR /1 | E5: Asiste | F5: Repite | G5: TR /1 | H5: Asiste | I5: Repite | J5: TR /1 | K5: Asiste | L5: Repite | M5: TR /1 | N5: Asiste | O5: Repite | P5: TR /1 | Q5: Asiste | R5: Repite | S5: TR /1 | T5: Asiste | U5: Repite | V5: TR /1
A7: Total Nacional | B7: =+E7+H7+K7+N7+Q7+T7 -> 1251472.4 | C7: =+F7+I7+L7+O7+R7+U7 -> 93032.876 | D7: =+C7/B7*100 -> 7.4338736 | E7: =[1]Sheet!C65 -> 217178.91 | F7: =[1]Sheet!D65 -> 36299.021 | G7: =+F7/E7*100 -> 16.713879 | H7: =[1]Sheet!F65 -> 189219.31 | I7: =[1]Sheet!G65 -> 20940.02 | J7: =+I7/H7*100 -> 11.066535 | K7: =[1]Sheet!I65 -> 222976.32 | L7: =[1]Sheet!J65 -> 17676.621 | M7: =+L7/K7*100 -> 7.9275777 | N7: =[1]Sheet!L65 -> 216798.7 | O7: =[1]Sheet!M65 -> 10211.339 | P7: =+O7/N7*100 -> 4.7100556 | Q7: =[1]Sheet!O65 -> 205292.53 | R7: =[1]Sheet!P65 -> 4948.7531 | S7: =+R7/Q7*100 -> 2.4105861 | T7: =[1]Sheet!R65 -> 200006.62 | U7: =[1]Sheet!S65 -> 2957.1206 | V7: =+U7/T7*100 -> 1.4785114
A9: Dominio
A10: Urbano | B10: =+E10+H10+K10+N10+Q10+T10 -> 491178 | C10: =+F10+I10+L10+O10+R10+U10 -> 24325.804 | D10: =+C10/B10*100 -> 4.9525434 | E10: =[1]Sheet!C66 -> 79655.277 | F10: =[1]Sheet!D66 -> 8761.4459 | G10: =+F10/E10*100 -> 10.999203 | H10: =[1]Sheet!F66 -> 65875.057 | I10: =[1]Sheet!G66 -> 3202.0986 | J10: =+I10/H10*100 -> 4.8608665 | K10: =[1]Sheet!I66 -> 83700.794 | L10: =[1]Sheet!J66 -> 3278.247 | M10: =+L10/K10*100 -> 3.9166259 | N10: =[1]Sheet!L66 -> 92687.998 | O10: =[1]Sheet!M66 -> 4736.6723 | P10: =+O10/N10*100 -> 5.1103404 | Q10: =[1]Sheet!O66 -> 87067.09 | R10: =[1]Sheet!P66 -> 2485.1529 | S10: =+R10/Q10*100 -> 2.8542965 | T10: =[1]Sheet!R66 -> 82191.786 | U10: =[1]Sheet!S66 -> 1862.1872 | V10: =+U10/T10*100 -> 2.265661
A11: Distrito Central | B11: =+E11+H11+K11+N11+Q11+T11 -> 114523.65 | C11: =+F11+I11+L11+O11+R11+U11 -> 4785.5026 | D11: =+C11/B11*100 -> 4.1786153 | E11: =[1]Sheet!C67 -> 16233.176 | F11: =[1]Sheet!D67 -> 1923.5844 | G11: =+F11/E11*100 -> 11.849711 | H11: =[1]Sheet!F67 -> 16819.634 | I11: =[1]Sheet!G67 -> 469.16692 | J11: =+I11/H11*100 -> 2.7894003 | K11: =[1]Sheet!I67 -> 19892.678 | L11: =[1]Sheet!J67 -> 985.25054 | M11: =+L11/K11*100 -> 4.9528302 | N11: =[1]Sheet!L67 -> 22097.762 | O11: =[1]Sheet!M67 -> 234.58346 | P11: =+O11/N11*100 -> 1.0615711 | Q11: =[1]Sheet!O67 -> 19306.219 | R11: =[1]Sheet!P67 -> 469.16692 | S11: =+R11/Q11*100 -> 2.4301337 | T11: =[1]Sheet!R67 -> 20174.178 | U11: =[1]Sheet!S67 -> 703.75039 | V11: =+U11/T11*100 -> 3.4883721
A12: San Pedro Sula | B12: =+E12+H12+K12+N12+Q12+T12 -> 74998.793 | C12: =+F12+I12+L12+O12+R12+U12 -> 4557.5123 | D12: =+C12/B12*100 -> 6.0767809 | E12: =[1]Sheet!C68 -> 15427.795 | F12: =[1]Sheet!D68 -> 1724.4641 | G12: =+F12/E12*100 -> 11.177645 | H12: =[1]Sheet!F68 -> 10239.006 | I12: =[1]Sheet!G68 -> 615.88005 | J12: =+I12/H12*100 -> 6.0150376 | K12: =[1]Sheet!I68 -> 12055.852 | L12: =[1]Sheet!J68 -> 769.85006 | M12: =+L12/K12*100 -> 6.385696 | N12: =[1]Sheet!L68 -> 15166.046 | O12: =[1]Sheet!M68 -> 769.85006 | P12: =+O12/N12*100 -> 5.0761421 | Q12: =[1]Sheet!O68 -> 10577.74 | R12: =[1]Sheet!P68 -> 153.97001 | S12: =+R12/Q12*100 -> 1.4556041 | T12: =[1]Sheet!R68 -> 11532.354 | U12: =[1]Sheet!S68 -> 523.49804 | V12: =+U12/T12*100 -> 4.5393858
A13: Resto Urbano | B13: =+E13+H13+K13+N13+Q13+T13 -> 301655.56 | C13: =+F13+I13+L13+O13+R13+U13 -> 14982.789 | D13: =+C13/B13*100 -> 4.9668532 | E13: =[1]Sheet!C69 -> 47994.306 | F13: =[1]Sheet!D69 -> 5113.3974 | G13: =+F13/E13*100 -> 10.654175 | H13: =[1]Sheet!F69 -> 38816.417 | I13: =[1]Sheet!G69 -> 2117.0516 | J13: =+I13/H13*100 -> 5.4540109 | K13: =[1]Sheet!I69 -> 51752.265 | L13: =[1]Sheet!J69 -> 1523.1464 | M13: =+L13/K13*100 -> 2.9431493 | N13: =[1]Sheet!L69 -> 55424.19 | O13: =[1]Sheet!M69 -> 3732.2387 | P13: =+O13/N13*100 -> 6.7339527 | Q13: =[1]Sheet!O69 -> 57183.132 | R13: =[1]Sheet!P69 -> 1862.016 | S13: =+R13/Q13*100 -> 3.256233 | T13: =[1]Sheet!R69 -> 50485.254 | U13: =[1]Sheet!S69 -> 634.9388 | V13: =+U13/T13*100 -> 1.2576718
A14: Rural | B14: =+E14+H14+K14+N14+Q14+T14 -> 760294.39 | C14: =+F14+I14+L14+O14+R14+U14 -> 68707.072 | D14: =+C14/B14*100 -> 9.0369037 | E14: =[1]Sheet!C70 -> 137523.64 | F14: =[1]Sheet!D70 -> 27537.575 | G14: =+F14/E14*100 -> 20.023885 | H14: =[1]Sheet!F70 -> 123344.25 | I14: =[1]Sheet!G70 -> 17737.921 | J14: =+I14/H14*100 -> 14.380826 | K14: =[1]Sheet!I70 -> 139275.53 | L14: =[1]Sheet!J70 -> 14398.374 | M14: =+L14/K14*100 -> 10.33805 | N14: =[1]Sheet!L70 -> 124110.7 | O14: =[1]Sheet!M70 -> 5474.6671 | P14: =+O14/N14*100 -> 4.411116 | Q14: =[1]Sheet!O70 -> 118225.44 | R14: =[1]Sheet!P70 -> 2463.6002 | S14: =+R14/Q14*100 -> 2.0838157 | T14: =[1]Sheet!R70 -> 117814.84 | U14: =[1]Sheet!S70 -> 1094.9334 | V14: =+U14/T14*100 -> 0.92936803
A16: Hombre | B16: =+E16+H16+K16+N16+Q16+T16 -> 642807.89 | C16: =+F16+I16+L16+O16+R16+U16 -> 57465.695 | D16: =+C16/B16*100 -> 8.9397931 | E16: =[1]Sheet!C71 -> 113833.18 | F16: =[1]Sheet!D71 -> 22806.523 | G16: =+F16/E16*100 -> 20.035039 | H16: =[1]Sheet!F71 -> 99141.339 | I16: =[1]Sheet!G71 -> 12931.422 | J16: =+I16/H16*100 -> 13.04342 | K16: =[1]Sheet!I71 -> 119610.59 | L16: =[1]Sheet!J71 -> 10278.698 | M16: =+L16/K16*100 -> 8.5934687 | N16: =[1]Sheet!L71 -> 110148.27 | O16: =[1]Sheet!M71 -> 7314.5264 | P16: =+O16/N16*100 -> 6.6406187 | Q16: =[1]Sheet!O71 -> 100486.27 | R16: =[1]Sheet!P71 -> 2074.276 | S16: =+R16/Q16*100 -> 2.0642383 | T16: =[1]Sheet!R71 -> 99588.248 | U16: =[1]Sheet!S71 -> 2060.2504 | V16: =+U16/T16*100 -> 2.0687686
A17: Dominio
A18: Urbano | B18: =+E18+H18+K18+N18+Q18+T18 -> 248960.34 | C18: =+F18+I18+L18+O18+R18+U18 -> 16953.159 | D18: =+C18/B18*100 -> 6.8095822 | E18: =[1]Sheet!C72 -> 43921.685 | F18: =[1]Sheet!D72 -> 5725.5616 | G18: =+F18/E18*100 -> 13.035842 | H18: =[1]Sheet!F72 -> 34074.921 | I18: =[1]Sheet!G72 -> 2693.7942 | J18: =+I18/H18*100 -> 7.9055038 | K18: =[1]Sheet!I72 -> 44279.166 | L18: =[1]Sheet!J72 -> 2285.6843 | M18: =+L18/K18*100 -> 5.1619859 | N18: =[1]Sheet!L72 -> 48311.902 | O18: =[1]Sheet!M72 -> 3482.2594 | P18: =+O18/N18*100 -> 7.2078708 | Q18: =[1]Sheet!O72 -> 43330.745 | R18: =[1]Sheet!P72 -> 1526.8093 | S18: =+R18/Q18*100 -> 3.5236166 | T18: =[1]Sheet!R72 -> 35041.923 | U18: =[1]Sheet!S72 -> 1239.0503 | V18: =+U18/T18*100 -> 3.5359084
A19: Distrito Central | B19: =+E19+H19+K19+N19+Q19+T19 -> 56229.656 | C19: =+F19+I19+L19+O19+R19+U19 -> 3847.1688 | D19: =+C19/B19*100 -> 6.8418857 | E19: =[1]Sheet!C73 -> 9688.297 | F19: =[1]Sheet!D73 -> 1689.0009 | G19: =+F19/E19*100 -> 17.433414 | H19: =[1]Sheet!F73 -> 8890.7132 | I19: =[1]Sheet!G73 -> 469.16692 | J19: =+I19/H19*100 -> 5.2770449 | K19: =[1]Sheet!I73 -> 10579.714 | L19: =[1]Sheet!J73 -> 750.66708 | M19: =+L19/K19*100 -> 7.0953437 | N19: =[1]Sheet!L73 -> 8867.2549 | O19: =[1]Sheet!M73 -> 234.58346 | P19: =+O19/N19*100 -> 2.6455026 | Q19: =[1]Sheet!O73 -> 9688.297 | R19: =[1]Sheet!P73 -> 469.16692 | S19: =+R19/Q19*100 -> 4.842615 | T19: =[1]Sheet!R73 -> 8515.3797 | U19: =[1]Sheet!S73 -> 234.58346 | V19: =+U19/T19*100 -> 2.7548209
A20: San Pedro Sula | B20: =+E20+H20+K20+N20+Q20+T20 -> 38692.664 | C20: =+F20+I20+L20+O20+R20+U20 -> 2863.8422 | D20: =+C20/B20*100 -> 7.4015121 | E20: =[1]Sheet!C74 -> 7636.9126 | F20: =[1]Sheet!D74 -> 954.61407 | G20: =+F20/E20*100 -> 12.5 | H20: =[1]Sheet!F74 -> 5419.7444 | I20: =[1]Sheet!G74 -> 615.88005 | J20: =+I20/H20*100 -> 11.363636 | K20: =[1]Sheet!I74 -> 6004.8305 | L20: =[1]Sheet!J74 -> 307.94002 | M20: =+L20/K20*100 -> 5.1282051 | N20: =[1]Sheet!L74 -> 7667.7066 | O20: =[1]Sheet!M74 -> 615.88005 | P20: =+O20/N20*100 -> 8.0321285 | Q20: =[1]Sheet!O74 -> 5974.0364 | R20: =[1]Sheet!P74 -> 0 | S20: =+R20/Q20*100 -> 0 | T20: =[1]Sheet!R74 -> 5989.4334 | U20: =[1]Sheet!S74 -> 369.52803 | V20: =+U20/T20*100 -> 6.1696658
A21: Resto Urbano | B21: =+E21+H21+K21+N21+Q21+T21 -> 154038.02 | C21: =+F21+I21+L21+O21+R21+U21 -> 10242.148 | D21: =+C21/B21*100 -> 6.6491039 | E21: =[1]Sheet!C75 -> 26596.476 | F21: =[1]Sheet!D75 -> 3081.9466 | G21: =+F21/E21*100 -> 11.587801 | H21: =[1]Sheet!F75 -> 19764.463 | I21: =[1]Sheet!G75 -> 1608.7472 | J21: =+I21/H21*100 -> 8.1395947 | K21: =[1]Sheet!I75 -> 27694.621 | L21: =[1]Sheet!J75 -> 1227.0772 | M21: =+L21/K21*100 -> 4.4307419 | N21: =[1]Sheet!L75 -> 31776.94 | O21: =[1]Sheet!M75 -> 2631.7959 | P21: =+O21/N21*100 -> 8.2820936 | Q21: =[1]Sheet!O75 -> 27668.411 | R21: =[1]Sheet!P75 -> 1057.6424 | S21: =+R21/Q21*100 -> 3.8225628 | T21: =[1]Sheet!R75 -> 20537.11 | U21: =[1]Sheet!S75 -> 634.9388 | V21: =+U21/T21*100 -> 3.0916658
A22: Rural | B22: =+E22+H22+K22+N22+Q22+T22 -> 393847.55 | C22: =+F22+I22+L22+O22+R22+U22 -> 40512.536 | D22: =+C22/B22*100 -> 10.28635 | E22: =[1]Sheet!C76 -> 69911.499 | F22: =[1]Sheet!D76 -> 17080.961 | G22: =+F22/E22*100 -> 24.432263 | H22: =[1]Sheet!F76 -> 65066.418 | I22: =[1]Sheet!G76 -> 10237.627 | J22: =+I22/H22*100 -> 15.734119 | K22: =[1]Sheet!I76 -> 75331.419 | L22: =[1]Sheet!J76 -> 7993.0139 | M22: =+L22/K22*100 -> 10.610465 | N22: =[1]Sheet!L76 -> 61836.365 | O22: =[1]Sheet!M76 -> 3832.267 | P22: =+O22/N22*100 -> 6.1974325 | Q22: =[1]Sheet!O76 -> 57155.524 | R22: =[1]Sheet!P76 -> 547.46671 | S22: =+R22/Q22*100 -> 0.95785441 | T22: =[1]Sheet!R76 -> 64546.325 | U22: =[1]Sheet!S76 -> 821.20006 | V22: =+U22/T22*100 -> 1.2722646
A24: Mujer | B24: =+E24+H24+K24+N24+Q24+T24 -> 608664.5 | C24: =+F24+I24+L24+O24+R24+U24 -> 35567.18 | D24: =+C24/B24*100 -> 5.8434786 | E24: =[1]Sheet!C77 -> 103345.73 | F24: =[1]Sheet!D77 -> 13492.498 | G24: =+F24/E24*100 -> 13.05569 | H24: =[1]Sheet!F77 -> 90077.967 | I24: =[1]Sheet!G77 -> 8008.5983 | J24: =+I24/H24*100 -> 8.8907405 | K24: =[1]Sheet!I77 -> 103365.74 | L24: =[1]Sheet!J77 -> 7397.9232 | M24: =+L24/K24*100 -> 7.157036 | N24: =[1]Sheet!L77 -> 106650.43 | O24: =[1]Sheet!M77 -> 2896.8129 | P24: =+O24/N24*100 -> 2.7161755 | Q24: =[1]Sheet!O77 -> 104806.26 | R24: =[1]Sheet!P77 -> 2874.4771 | S24: =+R24/Q24*100 -> 2.7426579 | T24: =[1]Sheet!R77 -> 100418.37 | U24: =[1]Sheet!S77 -> 896.87029 | V24: =+U24/T24*100 -> 0.89313366
A25: Dominio
A26: Urbano | B26: =+E26+H26+K26+N26+Q26+T26 -> 242217.66 | C26: =+F26+I26+L26+O26+R26+U26 -> 7372.6448 | D26: =+C26/B26*100 -> 3.0438097 | E26: =[1]Sheet!C78 -> 35733.592 | F26: =[1]Sheet!D78 -> 3035.8843 | G26: =+F26/E26*100 -> 8.4958835 | H26: =[1]Sheet!F78 -> 31800.136 | I26: =[1]Sheet!G78 -> 508.3044 | J26: =+I26/H26*100 -> 1.5984347 | K26: =[1]Sheet!I78 -> 39421.628 | L26: =[1]Sheet!J78 -> 992.5627 | M26: =+L26/K26*100 -> 2.5178125 | N26: =[1]Sheet!L78 -> 44376.097 | O26: =[1]Sheet!M78 -> 1254.4128 | P26: =+O26/N26*100 -> 2.8267759 | Q26: =[1]Sheet!O78 -> 43736.346 | R26: =[1]Sheet!P78 -> 958.34361 | S26: =+R26/Q26*100 -> 2.1911835 | T26: =[1]Sheet!R78 -> 47149.863 | U26: =[1]Sheet!S78 -> 623.13694 | V26: =+U26/T26*100 -> 1.3216092
A27: Distrito Central | B27: =+E27+H27+K27+N27+Q27+T27 -> 58293.99 | C27: =+F27+I27+L27+O27+R27+U27 -> 938.33385 | D27: =+C27/B27*100 -> 1.6096579 | E27: =[1]Sheet!C79 -> 6544.8786 | F27: =[1]Sheet!D79 -> 234.58346 | G27: =+F27/E27*100 -> 3.5842294 | H27: =[1]Sheet!F79 -> 7928.921 | I27: =[1]Sheet!G79 -> 0 | J27: =+I27/H27*100 -> 0 | K27: =[1]Sheet!I79 -> 9312.9634 | L27: =[1]Sheet!J79 -> 234.58346 | M27: =+L27/K27*100 -> 2.5188917 | N27: =[1]Sheet!L79 -> 13230.507 | O27: =[1]Sheet!M79 -> 0 | P27: =+O27/N27*100 -> 0 | Q27: =[1]Sheet!O79 -> 9617.9219 | R27: =[1]Sheet!P79 -> 0 | S27: =+R27/Q27*100 -> 0 | T27: =[1]Sheet!R79 -> 11658.798 | U27: =[1]Sheet!S79 -> 469.16692 | V27: =+U27/T27*100 -> 4.0241449
A28: San Pedro Sula | B28: =+E28+H28+K28+N28+Q28+T28 -> 36306.129 | C28: =+F28+I28+L28+O28+R28+U28 -> 1693.6701 | D28: =+C28/B28*100 -> 4.6649703 | E28: =[1]Sheet!C80 -> 7790.8826 | F28: =[1]Sheet!D80 -> 769.85006 | G28: =+F28/E28*100 -> 9.8814229 | H28: =[1]Sheet!F80 -> 4819.2614 | I28: =[1]Sheet!G80 -> 0 | J28: =+I28/H28*100 -> 0 | K28: =[1]Sheet!I80 -> 6051.0215 | L28: =[1]Sheet!J80 -> 461.91003 | M28: =+L28/K28*100 -> 7.6335878 | N28: =[1]Sheet!L80 -> 7498.3396 | O28: =[1]Sheet!M80 -> 153.97001 | P28: =+O28/N28*100 -> 2.0533881 | Q28: =[1]Sheet!O80 -> 4603.7033 | R28: =[1]Sheet!P80 -> 153.97001 | S28: =+R28/Q28*100 -> 3.3444816 | T28: =[1]Sheet!R80 -> 5542.9204 | U28: =[1]Sheet!S80 -> 153.97001 | V28: =+U28/T28*100 -> 2.7777778
A29: Resto Urbano | B29: =+E29+H29+K29+N29+Q29+T29 -> 147617.54 | C29: =+F29+I29+L29+O29+R29+U29 -> 4740.6408 | D29: =+C29/B29*100 -> 3.2114346 | E29: =[1]Sheet!C81 -> 21397.831 | F29: =[1]Sheet!D81 -> 2031.4508 | G29: =+F29/E29*100 -> 9.4937231 | H29: =[1]Sheet!F81 -> 19051.954 | I29: =[1]Sheet!G81 -> 508.3044 | J29: =+I29/H29*100 -> 2.6679909 | K29: =[1]Sheet!I81 -> 24057.643 | L29: =[1]Sheet!J81 -> 296.0692 | M29: =+L29/K29*100 -> 1.2306658 | N29: =[1]Sheet!L81 -> 23647.25 | O29: =[1]Sheet!M81 -> 1100.4428 | P29: =+O29/N29*100 -> 4.6535762 | Q29: =[1]Sheet!O81 -> 29514.72 | R29: =[1]Sheet!P81 -> 804.3736 | S29: =+R29/Q29*100 -> 2.7253302 | T29: =[1]Sheet!R81 -> 29948.144 | U29: =[1]Sheet!S81 -> 0 | V29: =+U29/T29*100 -> 0
A30: Rural | B30: =+E30+H30+K30+N30+Q30+T30 -> 366446.84 | C30: =+F30+I30+L30+O30+R30+U30 -> 28194.535 | D30: =+C30/B30*100 -> 7.6940315 | E30: =[1]Sheet!C82 -> 67612.138 | F30: =[1]Sheet!D82 -> 10456.614 | G30: =+F30/E30*100 -> 15.465587 | H30: =[1]Sheet!F82 -> 58277.831 | I30: =[1]Sheet!G82 -> 7500.2939 | J30: =+I30/H30*100 -> 12.869892 | K30: =[1]Sheet!I82 -> 63944.111 | L30: =[1]Sheet!J82 -> 6405.3605 | M30: =+L30/K30*100 -> 10.017123 | N30: =[1]Sheet!L82 -> 62274.338 | O30: =[1]Sheet!M82 -> 1642.4001 | P30: =+O30/N30*100 -> 2.6373626 | Q30: =[1]Sheet!O82 -> 61069.911 | R30: =[1]Sheet!P82 -> 1916.1335 | S30: =+R30/Q30*100 -> 3.1376065 | T30: =[1]Sheet!R82 -> 53268.511 | U30: =[1]Sheet!S82 -> 273.73335 | V30: =+U30/T30*100 -> 0.51387461
A32: =Cuadro01!A41 -> Fuente: Instituto Nacional de Estadística (INE). XL Encuesta Permanente de Hogares de Propósitos Múltiples, Septiembre 2010.
A33: /1 TR :Tasa de Repitencia por Grados= Repitentes por grados / Poblacion que asiste por grado * 100

Sheet Cuadro04
A1: Cuadro No. 4. Tasa de repitencia en educación primaria por dominio según grado, edad y sexo
A3: Categoria | B3: Total | C3: Dominio
C4: Distrito Central | D4: San Pedro Sula | E4: Resto Urbano | F4: Rural
A6: Total Nacional | B6: =Cuadro03!$D$7 -> 7.4338736 | C6: =Cuadro03!$D$11 -> 4.1786153 | D6: =Cuadro03!$D$12 -> 6.0767809 | E6: =Cuadro03!$D$13 -> 4.9668532 | F6: =Cuadro03!$D$14 -> 9.0369037
A8: Grados
A9: Primer Grado | B9: =Cuadro03!$G$7 -> 16.713879 | C9: =Cuadro03!$G$11 -> 11.849711 | D9: =Cuadro03!$G$12 -> 11.177645 | E9: =Cuadro03!$G$13 -> 10.654175 | F9: =Cuadro03!$G$14 -> 20.023885
A10: Segundo Grado | B10: =Cuadro03!$J$7 -> 11.066535 | C10: =Cuadro03!$J$11 -> 2.7894003 | D10: =Cuadro03!$J$12 -> 6.0150376 | E10: =Cuadro03!$J$13 -> 5.4540109 | F10: =Cuadro03!$J$14 -> 14.380826
A11: Tercer Grado | B11: =Cuadro03!$M$7 -> 7.9275777 | C11: =Cuadro03!$M$11 -> 4.9528302 | D11: =Cuadro03!$M$12 -> 6.385696 | E11: =Cuadro03!$M$13 -> 2.9431493 | F11: =Cuadro03!$M$14 -> 10.33805
A12: Cuarto Grado | B12: =Cuadro03!$P$7 -> 4.7100556 | C12: =Cuadro03!$P$11 -> 1.0615711 | D12: =Cuadro03!$P$12 -> 5.0761421 | E12: =Cuadro03!$P$13 -> 6.7339527 | F12: =Cuadro03!$P$14 -> 4.411116
A13: Quinto Grado | B13: =Cuadro03!$S$7 -> 2.4105861 | C13: =Cuadro03!$S$11 -> 2.4301337 | D13: =Cuadro03!$S$12 -> 1.4556041 | E13: =Cuadro03!$S$13 -> 3.256233 | F13: =Cuadro03!$S$14 -> 2.0838157
A14: Sexto Grado | B14: =Cuadro03!$V$7 -> 1.4785114 | C14: =Cuadro03!$V$11 -> 3.4883721 | D14: =Cuadro03!$V$12 -> 4.5393858 | E14: =Cuadro03!$V$13 -> 1.2576718 | F14: =Cuadro03!$V$14 -> 0.92936803
A16: Edad
A17: 6 | B17: =[1]Sheet!D88 -> 0.70951101 | C17: =[1]Sheet!E88 -> 0 | D17: =[1]Sheet!F88 -> 0 | E17: =[1]Sheet!G88 -> 0 | F17: =[1]Sheet!H88 -> 1.2626263
A18: 7 | B18: =[1]Sheet!D90 -> 5.2871068 | C18: =[1]Sheet!E90 -> 5.1194539 | D18: =[1]Sheet!F90 -> 9.383378 | E18: =[1]Sheet!G90 -> 2.0795527 | F18: =[1]Sheet!H90 -> 6.1361457
A19: 8 | B19: =[1]Sheet!D92 -> 10.646747 | C19: =[1]Sheet!E92 -> 3.0513176 | D19: =[1]Sheet!F92 -> 7.9632466 | E19: =[1]Sheet!G92 -> 10.598105 | F19: =[1]Sheet!H92 -> 12.205045
A20: 9 | B20: =[1]Sheet!D94 -> 9.6267428 | C20: =[1]Sheet!E94 -> 7.9207921 | D20: =[1]Sheet!F94 -> 2.5673941 | E20: =[1]Sheet!G94 -> 4.2340733 | F20: =[1]Sheet!H94 -> 13.086482
A21: 10 | B21: =[1]Sheet!D96 -> 8.934203 | C21: =[1]Sheet!E96 -> 3.2017076 | D21: =[1]Sheet!F96 -> 5.624297 | E21: =[1]Sheet!G96 -> 5.1625586 | F21: =[1]Sheet!H96 -> 11.597542
A22: 11 | B22: =[1]Sheet!D98 -> 9.0945739 | C22: =[1]Sheet!E98 -> 0 | D22: =[1]Sheet!F98 -> 7.800312 | E22: =[1]Sheet!G98 -> 3.3252802 | F22: =[1]Sheet!H98 -> 12.722298
A23: 12 | B23: =[1]Sheet!D100 -> 6.6539922 | C23: =[1]Sheet!E100 -> 1.996008 | D23: =[1]Sheet!F100 -> 3.4482759 | E23: =[1]Sheet!G100 -> 7.9458237 | F23: =[1]Sheet!H100 -> 6.9272637
A24: 13 | B24: =[1]Sheet!D102 -> 6.6455834 | C24: =[1]Sheet!E102 -> 8.2644628 | D24: =[1]Sheet!F102 -> 9.3457944 | E24: =[1]Sheet!G102 -> 4.5402258 | F24: =[1]Sheet!H102 -> 6.9504778
A25: 14 | B25: =[1]Sheet!D104 -> 4.9051866 | C25: =[1]Sheet!E104 -> 6.1728395 | D25: =[1]Sheet!F104 -> 20.779221 | E25: =[1]Sheet!G104 -> 7.3187895 | F25: =[1]Sheet!H104 -> 3.0656934
A26: 15 | B26: =[1]Sheet!D106 -> 6.4359044 | C26: =[1]Sheet!E106 -> 9.8039216 | D26: =[1]Sheet!F106 -> 21.73913 | E26: =[1]Sheet!G106 -> 10.410196 | F26: =[1]Sheet!H106 -> 4.6554935
A28: Sexo
A29: Hombre | B29: =Cuadro03!$D$16 -> 8.9397931 | C29: =Cuadro03!$D$19 -> 6.8418857 | D29: =Cuadro03!$D$20 -> 7.4015121 | E29: =Cuadro03!$D$21 -> 6.6491039 | F29: =Cuadro03!$D$22 -> 10.28635
A30: Mujer | B30: =Cuadro03!$D$24 -> 5.8434786 | C30: =Cuadro03!$D$27 -> 1.6096579 | D30: =Cuadro03!$D$28 -> 4.6649703 | E30: =Cuadro03!$D$29 -> 3.2114346 | F30: =Cuadro03!$D$30 -> 7.6940315
A32: =Cuadro01!A41 -> Fuente: Instituto Nacional de Estadística (INE). XL Encuesta Permanente de Hogares de Propósitos Múltiples, Septiembre 2010.

Sheet Cuadro05
A1: Cuadro No. 5. Población total matriculada en primaria el año anterior y no matriculada en año actual, según dominio, grado escolar, quintil de ingreso y nivel educativo del jefe
A3: Categorías | B3: Matricula año anterior | D3: No matriculado el año actual
D4: Sexo | J4: Condición laboral
D5: Total | F5: Hombres | H5: Mujer | J5: Solo Trabaja | L5: Ni trabaja, Ni estudia
B6: No. | C6: % /1 | D6: No. | E6: % /1 | F6: No. | G6: % /1 | H6: No. | I6: % /1 | J6: No. | K6: % /1 | L6: No. | M6: % /1
A8: Total Nacional | B8: =SUM(B11,B15) -> 1340173.9 | C8: =SUM(C11,C15) -> 100 | D8: =SUM(D11,D15) -> 76744.954 | E8: =SUM(E11,E15) -> 100 | F8: =SUM(F11,F15) -> 41658.218 | G8: =SUM(G11,G15) -> 100 | H8: =SUM(H11,H15) -> 35086.736 | I8: =SUM(I11,I15) -> 100 | ... M8: =SUM(M11,M15) -> 100
A10: Dominio
A11: Urbano | B11: =+B12+B13+B14 -> 535178.85 | C11: =+C12+C13+C14 -> 39.933538 | D11: =+D12+D13+D14 -> 18111.269 | E11: =+E12+E13+E14 -> 23.599297 | F11: =+F12+F13+F14 -> 8481.7355 | G11: =+G12+G13+G14 -> 20.360294 | H11: =+H12+H13+H14 -> 9629.5337 | I11: =+I12+I13+I14 -> 27.44494 | ... M11: =+M12+M13+M14 -> 25.091976
A12: Distrito Central | B12: =[1]Sheet!C116 -> 128035.65 | C12: =[1]Sheet!D116 -> 9.5536597 | D12: =[1]Sheet!E116 -> 4504.0025 | E12: =[1]Sheet!F116 -> 5.868793 | F12: =[1]Sheet!G116 -> 2111.2512 | G12: =[1]Sheet!H116 -> 5.0680304 | H12: =[1]Sheet!I116 -> 2392.7513 | I12: =[1]Sheet!J116 -> 6.8195324 | J12: =[1]Sheet!M116 -> 2627.3348 | K12: =[1]Sheet!N116 -> 8.3578721 | L12: =[1]Sheet!Q116 -> 1172.9173 | M12: =[1]Sheet!R116 -> 2.9719689
A13: San Pedro Sula | B13: =[1]Sheet!C117 -> 78786.455 | C13: =[1]Sheet!D117 -> 5.8788233 | D13: =[1]Sheet!E117 -> 2001.6102 | E13: =[1]Sheet!F117 -> 2.6081326 | F13: =[1]Sheet!G117 -> 1231.7601 | G13: =[1]Sheet!H117 -> 2.9568238 | H13: =[1]Sheet!I117 -> 769.85006 | I13: =[1]Sheet!J117 -> 2.1941342 | J13: =[1]Sheet!M117 -> 923.82007 | K13: =[1]Sheet!N117 -> 2.9387842 | L13: =[1]Sheet!Q117 -> 1077.7901 | M13: =[1]Sheet!R117 -> 2.730933
A14: Resto Urbano | B14: =[1]Sheet!C118 -> 328356.74 | C14: =[1]Sheet!D118 -> 24.501055 | D14: =[1]Sheet!E118 -> 11605.657 | E14: =[1]Sheet!F118 -> 15.122371 | F14: =[1]Sheet!G118 -> 5138.7243 | G14: =[1]Sheet!H118 -> 12.335439 | H14: =[1]Sheet!I118 -> 6466.9323 | I14: =[1]Sheet!J118 -> 18.431274 | J14: =[1]Sheet!M118 -> 2810.3208 | K14: =[1]Sheet!N118 -> 8.9399731 | L14: =[1]Sheet!Q118 -> 7652.0925 | M14: =[1]Sheet!R118 -> 19.389074
A15: Rural | B15: =[1]Sheet!C119 -> 804995.05 | C15: =[1]Sheet!D119 -> 60.066462 | D15: =[1]Sheet!E119 -> 58633.684 | E15: =[1]Sheet!F119 -> 76.400703 | F15: =[1]Sheet!G119 -> 33176.482 | G15: =[1]Sheet!H119 -> 79.639706 | H15: =[1]Sheet!I119 -> 25457.202 | I15: =[1]Sheet!J119 -> 72.55506 | J15: =[1]Sheet!M119 -> 25073.975 | K15: =[1]Sheet!N119 -> 79.763371 | L15: =[1]Sheet!Q119 -> 29563.202 | M15: =[1]Sheet!R119 -> 74.908024
A17: Grado Escolar
A18: 1 | B18: =[1]Sheet!C121 -> 230572.2 | C18: =[1]Sheet!D121 -> 17.204648 | D18: =[1]Sheet!E121 -> 8891.9823 | E18: =[1]Sheet!F121 -> 11.586406 | F18: =[1]Sheet!G121 -> 4648.7064 | G18: =[1]Sheet!H121 -> 11.159158 | H18: =[1]Sheet!I121 -> 4243.2759 | I18: =[1]Sheet!J121 -> 12.093675 | J18: =[1]Sheet!M121 -> 975.17007 | K18: =[1]Sheet!N121 -> 3.1021348 | L18: =[1]Sheet!Q121 -> 5367.2842 | M18: =[1]Sheet!R121 -> 13.599767
A19: 2 | B19: =[1]Sheet!C122 -> 247131.22 | C19: =[1]Sheet!D122 -> 18.440235 | D19: =[1]Sheet!E122 -> 6222.357 | E19: =[1]Sheet!F122 -> 8.1078386 | F19: =[1]Sheet!G122 -> 3630.6605 | G19: =[1]Sheet!H122 -> 8.7153524 | H19: =[1]Sheet!I122 -> 2591.6965 | I19: =[1]Sheet!J122 -> 7.3865421 | J19: =[1]Sheet!M122 -> 1995.9076 | K19: =[1]Sheet!N122 -> 6.3492252 | L19: =[1]Sheet!Q122 -> 3340.1131 | M19: =[1]Sheet!R122 -> 8.4632669
A20: 3 | B20: =[1]Sheet!C123 -> 243616.75 | C20: =[1]Sheet!D123 -> 18.177995 | D20: =[1]Sheet!E123 -> 5864.3045 | E20: =[1]Sheet!F123 -> 7.6412901 | F20: =[1]Sheet!G123 -> 3704.4153 | G20: =[1]Sheet!H123 -> 8.8923998 | H20: =[1]Sheet!I123 -> 2159.8892 | I20: =[1]Sheet!J123 -> 6.1558569 | J20: =[1]Sheet!M123 -> 2948.3639 | K20: =[1]Sheet!N123 -> 9.3791048 | L20: =[1]Sheet!Q123 -> 2407.6238 | M20: =[1]Sheet!R123 -> 6.1005009
A21: 4 | B21: =[1]Sheet!C124 -> 227193.05 | C21: =[1]Sheet!D124 -> 16.952505 | D21: =[1]Sheet!E124 -> 7210.3127 | E21: =[1]Sheet!F124 -> 9.3951619 | F21: =[1]Sheet!G124 -> 3305.8434 | G21: =[1]Sheet!H124 -> 7.9356332 | H21: =[1]Sheet!I124 -> 3904.4693 | I21: =[1]Sheet!J124 -> 11.128049 | J21: =[1]Sheet!M124 -> 2102.9609 | K21: =[1]Sheet!N124 -> 6.6897749 | L21: =[1]Sheet!Q124 -> 3755.499 | M21: =[1]Sheet!R124 -> 9.5157828
A22: 5 | B22: =[1]Sheet!C125 -> 220725.82 | C22: =[1]Sheet!D125 -> 16.469939 | D22: =[1]Sheet!E125 -> 6853.4424 | E22: =[1]Sheet!F125 -> 8.9301538 | F22: =[1]Sheet!G125 -> 4024.0376 | G22: =[1]Sheet!H125 -> 9.6596489 | H22: =[1]Sheet!I125 -> 2829.4048 | I22: =[1]Sheet!J125 -> 8.0640297 | J22: =[1]Sheet!M125 -> 3053.4667 | K22: =[1]Sheet!N125 -> 9.7134496 | L22: =[1]Sheet!Q125 -> 3252.509 | M22: =[1]Sheet!R125 -> 8.2412933
A23: 6 | B23: =[1]Sheet!C126 -> 170934.86 | C23: =[1]Sheet!D126 -> 12.754678 | D23: =[1]Sheet!E126 -> 41702.555 | E23: =[1]Sheet!F126 -> 54.339149 | F23: =[1]Sheet!G126 -> 22344.555 | G23: =[1]Sheet!H126 -> 53.637808 | H23: =[1]Sheet!I126 -> 19358 | I23: =[1]Sheet!J126 -> 55.171847 | J23: =[1]Sheet!M126 -> 20359.582 | K23: =[1]Sheet!N126 -> 64.766311 | L23: =[1]Sheet!Q126 -> 21342.973 | M23: =[1]Sheet!R126 -> 54.079389
A25: Quintil del Ingreso del hogar
A26: 1 | B26: =[1]Sheet!C128 -> 402394.2 | C26: =[1]Sheet!D128 -> 30.025522 | D26: =[1]Sheet!E128 -> 31536.197 | E26: =[1]Sheet!F128 -> 41.09221 | F26: =[1]Sheet!G128 -> 16815.66 | G26: =[1]Sheet!H128 -> 40.365769 | H26: =[1]Sheet!I128 -> 14720.537 | I26: =[1]Sheet!J128 -> 41.954707 | J26: =[1]Sheet!M128 -> 12499.502 | K26: =[1]Sheet!N128 -> 39.762438 | L26: =[1]Sheet!Q128 -> 16726.946 | M26: =[1]Sheet!R128 -> 42.383178
A27: 2 | B27: =[1]Sheet!C129 -> 341264.3 | C27: =[1]Sheet!D129 -> 25.46418 | D27: =[1]Sheet!E129 -> 20044.253 | E27: =[1]Sheet!F129 -> 26.118008 | F27: =[1]Sheet!G129 -> 9902.8425 | G27: =[1]Sheet!H129 -> 23.771642 | H27: =[1]Sheet!I129 -> 10141.41 | I27: =[1]Sheet!J129 -> 28.90383 | J27: =[1]Sheet!M129 -> 6627.0388 | K27: =[1]Sheet!N129 -> 21.081418 | L27: =[1]Sheet!Q129 -> 11824.366 | M27: =[1]Sheet!R129 -> 29.960891
A28: 3 | B28: =[1]Sheet!C130 -> 268926.65 | C28: =[1]Sheet!D130 -> 20.066549 | D28: =[1]Sheet!E130 -> 12922.5 | E28: =[1]Sheet!F130 -> 16.83824 | F28: =[1]Sheet!G130 -> 7999.1584 | G28: =[1]Sheet!H130 -> 19.201874 | H28: =[1]Sheet!I130 -> 4923.3411 | I28: =[1]Sheet!J130 -> 14.031916 | J28: =[1]Sheet!M130 -> 5729.0764 | K28: =[1]Sheet!N130 -> 18.22489 | L28: =[1]Sheet!Q130 -> 6056.9066 | M28: =[1]Sheet!R130 -> 15.34715
A29: 4 | B29: =[1]Sheet!C131 -> 209347.71 | C29: =[1]Sheet!D131 -> 15.620937 | D29: =[1]Sheet!E131 -> 9925.8591 | E29: =[1]Sheet!F131 -> 12.933566 | F29: =[1]Sheet!G131 -> 5522.2186 | G29: =[1]Sheet!H131 -> 13.256013 | H29: =[1]Sheet!I131 -> 4403.6405 | I29: =[1]Sheet!J131 -> 12.550727 | J29: =[1]Sheet!M131 -> 4845.3628 | K29: =[1]Sheet!N131 -> 15.41369 | L29: =[1]Sheet!Q131 -> 4276.1103 | M29: =[1]Sheet!R131 -> 10.834921
A30: 5 | B30: =[1]Sheet!C132 -> 116301.98 | C30: =[1]Sheet!D132 -> 8.6781263 | D30: =[1]Sheet!E132 -> 2316.1448 | E30: =[1]Sheet!F132 -> 3.0179766 | F30: =[1]Sheet!G132 -> 1418.3382 | G30: =[1]Sheet!H132 -> 3.4047021 | H30: =[1]Sheet!I132 -> 897.80653 | I30: =[1]Sheet!J132 -> 2.5588203 | J30: =[1]Sheet!M132 -> 1734.4714 | K30: =[1]Sheet!N132 -> 5.5175648 | L30: =[1]Sheet!Q132 -> 581.67338 | M30: =[1]Sheet!R132 -> 1.4738594
A31: No declaran ingresos | B31: =[1]Sheet!C133 -> 1939.0479 | C31: =[1]Sheet!D133 -> 0.14468629 | D31: =[1]Sheet!E133 -> 0 | E31: =[1]Sheet!F133 -> 0 | F31: =[1]Sheet!G133 -> 0 | G31: =[1]Sheet!H133 -> 0 | H31: =[1]Sheet!I133 -> 0 | I31: =[1]Sheet!J133 -> 0 | J31: =[1]Sheet!M133 -> 0 | K31: =[1]Sheet!N133 -> 0 | L31: =[1]Sheet!Q133 -> 0 | M31: =[1]Sheet!R133 -> 0
A33: Nivel educativo del jefe
A34: Sin Nivel | B34: =[1]Sheet!C135 -> 296584.67 | C34: =[1]Sheet!D135 -> 22.130312 | D34: =[1]Sheet!E135 -> 26356.911 | E34: =[1]Sheet!F135 -> 34.34351 | F34: =[1]Sheet!G135 -> 15459.254 | G34: =[1]Sheet!H135 -> 37.109735 | H34: =[1]Sheet!I135 -> 10897.657 | I34: =[1]Sheet!J135 -> 31.059193 | J34: =[1]Sheet!M135 -> 10158.419 | K34: =[1]Sheet!N135 -> 32.31517 | L34: =[1]Sheet!Q135 -> 14742.353 | M34: =[1]Sheet!R135 -> 37.354563
A35: Primaria | B35: =[1]Sheet!C136 -> 820628.56 | C35: =[1]Sheet!D136 -> 61.232991 | D35: =[1]Sheet!E136 -> 46011.777 | E35: =[1]Sheet!F136 -> 59.95414 | F35: =[1]Sheet!G136 -> 24377.956 | G35: =[1]Sheet!H136 -> 58.518961 | H35: =[1]Sheet!I136 -> 21633.82 | I35: =[1]Sheet!J136 -> 61.658117 | J35: =[1]Sheet!M136 -> 19865.965 | K35: =[1]Sheet!N136 -> 63.196055 | L35: =[1]Sheet!Q136 -> 22605.637 | M35: =[1]Sheet!R136 -> 57.27876
A36: Secundaria | B36: =[1]Sheet!C137 -> 173960.99 | C36: =[1]Sheet!D137 -> 12.980479 | D36: =[1]Sheet!E137 -> 3200.1956 | E36: =[1]Sheet!F137 -> 4.1699101 | F36: =[1]Sheet!G137 -> 1651.5724 | G36: =[1]Sheet!H137 -> 3.9645777 | H36: =[1]Sheet!I137 -> 1548.6231 | I36: =[1]Sheet!J137 -> 4.4136997 | J36: =[1]Sheet!M137 -> 1055.7835 | K36: =[1]Sheet!N137 -> 3.358576 | L36: =[1]Sheet!Q137 -> 1297.2256 | M36: =[1]Sheet!R137 -> 3.2869446
A37: Superior | B37: =[1]Sheet!C138 -> 44257.133 | C37: =[1]Sheet!D138 -> 3.3023426 | D37: =[1]Sheet!E138 -> 1006.6353 | E37: =[1]Sheet!F138 -> 1.3116632 | F37: =[1]Sheet!G138 -> 0 | G37: =[1]Sheet!H138 -> 0 | H37: =[1]Sheet!I138 -> 1006.6353 | I37: =[1]Sheet!J138 -> 2.868991 | J37: =[1]Sheet!M138 -> 355.28304 | K37: =[1]Sheet!N138 -> 1.1301986 | L37: =[1]Sheet!Q138 -> 651.35224 | M37: =[1]Sheet!R138 -> 1.6504135
A38: No sabe / No responde | B38: =[1]Sheet!C139 -> 4742.5386 | C38: =[1]Sheet!D139 -> 0.35387487 | D38: =[1]Sheet!E139 -> 169.4348 | E38: =[1]Sheet!F139 -> 0.22077647 | F38: =[1]Sheet!G139 -> 169.4348 | G38: =[1]Sheet!H139 -> 0.40672599 | H38: =[1]Sheet!I139 -> 0 | I38: =[1]Sheet!J139 -> 0 | J38: =[1]Sheet!M139 -> 0 | K38: =[1]Sheet!N139 -> 0 | L38: =[1]Sheet!Q139 -> 169.4348 | M38: =[1]Sheet!R139 -> 0.42931838
A40: =Cuadro01!A41 -> Fuente: Instituto Nacional de Estadística (INE). XL Encuesta Permanente de Hogares de Propósitos Múltiples, Septiembre 2010.
A41: /1 Porcentaje por columna

Sheet Cuadro06
A1: Cuadro No. 6. Población total matriculada en primaria el año anterior, por resultados obtenidos, según dominio, grado escolar, quintil de ingreso y nivel educativo del jefe
A3: Categorías | B3: Total | I3: Evaluados
B4: Matricula | D4: Desertores | F4: Evaluados | I4: Aprobaron | K4: No aprobaron
B5: No. | C5: % /1 | D5: No. | E5: % /2 | F5: No. | G5: % /2 | I5: No. | J5: % /2 | K5: No. | L5: % /2
A7: Total Nacional | B7: =SUM(B10,B14) -> 1340173.9 | C7: =SUM(C10,C14) -> 100 | D7: =SUM(D10,D14) -> 9482.071 | E7: =+D7/B7*100 -> 0.70752542 | F7: =SUM(F10,F14) -> 1330691.8 | G7: =F7/$B7*100 -> 99.292475 | H7: =SUM(H10,H14) -> 0 | I7: =SUM(I10,I14) -> 1237815.5 | J7: =+I7/F7*100 -> 93.020449 | K7: =SUM(K10,K14) -> 92876.317 | L7: =+K7/F7*100 -> 6.9795512
A9: Dominio
A10: Urbano | B10: =+B11+B12+B13 -> 535178.85 | C10: =B10/B$7*100 -> 39.933538 | D10: =+D11+D12+D13 -> 2912.4705 | E10: =+D10/B10*100 -> 0.54420508 | F10: =+F11+F12+F13 -> 532266.38 | G10: =+F10/B10*100 -> 99.455795 | H10: =+H11+H12+H13 -> 0 | I10: =+I11+I12+I13 -> 505195.56 | J10: =+I10/F10*100 -> 94.914047 | K10: =+K11+K12+K13 -> 27070.819 | L10: =+K10/F10*100 -> 5.0859531
A11: Distrito Central | B11: =[1]Sheet!C146 -> 128035.65 | C11: =B11/B$7*100 -> 9.5536597 | D11: =[1]Sheet!I146 -> 0 | E11: =[1]Sheet!J146 -> 0 | F11: =+I11+K11 -> 128035.65 | G11: =F11/$B11*100 -> 100 | I11: =[1]Sheet!E146 -> 122499.48 | J11: =[1]Sheet!F146 -> 95.676072 | K11: =[1]Sheet!G146 -> 5536.1697 | L11: =[1]Sheet!H146 -> 4.3239282
A12: San Pedro Sula | B12: =[1]Sheet!C147 -> 78786.455 | C12: =B12/B$7*100 -> 5.8788233 | D12: =[1]Sheet!I147 -> 923.82007 | E12: =[1]Sheet!J147 -> 1.172562 | F12: =+I12+K12 -> 77862.635 | G12: =F12/$B12*100 -> 98.827438 | I12: =[1]Sheet!E147 -> 74290.531 | J12: =[1]Sheet!F147 -> 94.293531 | K12: =[1]Sheet!G147 -> 3572.1043 | L12: =[1]Sheet!H147 -> 4.5339066
A13: Resto Urbano | B13: =[1]Sheet!C148 -> 328356.74 | C13: =B13/B$7*100 -> 24.501055 | D13: =[1]Sheet!I148 -> 1988.6504 | E13: =[1]Sheet!J148 -> 0.60563714 | F13: =+I13+K13 -> 326368.09 | G13: =F13/$B13*100 -> 99.394363 | I13: =[1]Sheet!E148 -> 308405.55 | J13: =[1]Sheet!F148 -> 93.923927 | K13: =[1]Sheet!G148 -> 17962.545 | L13: =[1]Sheet!H148 -> 5.4704357
A14: Rural | B14: =[1]Sheet!C149 -> 804995.05 | C14: =B14/B$7*100 -> 60.066462 | D14: =[1]Sheet!I149 -> 6569.6005 | E14: =[1]Sheet!J149 -> 0.81610446 | F14: =+I14+K14 -> 798425.45 | G14: =F14/$B14*100 -> 99.183896 | I14: =[1]Sheet!E149 -> 732619.95 | J14: =[1]Sheet!F149 -> 91.009249 | K14: =[1]Sheet!G149 -> 65805.498 | L14: =[1]Sheet!H149 -> 8.1746464
A16: Grado Escolar
A17: 1 | B17: =[1]Sheet!C151 -> 230572.2 | C17: =B17/B$7*100 -> 17.204648 | D17: =[1]Sheet!I151 -> 3505.7778 | E17: =[1]Sheet!J151 -> 1.5204686 | F17: =+I17+K17 -> 227066.42 | G17: =F17/$B17*100 -> 98.479531 | I17: =[1]Sheet!E151 -> 191893.34 | J17: =[1]Sheet!F151 -> 83.22484 | K17: =[1]Sheet!G151 -> 35173.077 | L17: =[1]Sheet!H151 -> 15.254691
A18: 2 | B18: =[1]Sheet!C152 -> 247131.22 | C18: =B18/B$7*100 -> 18.440235 | D18: =[1]Sheet!I152 -> 2788.9204 | E18: =[1]Sheet!J152 -> 1.128518 | F18: =+I18+K18 -> 244342.3 | G18: =F18/$B18*100 -> 98.871482 | I18: =[1]Sheet!E152 -> 224432.06 | J18: =[1]Sheet!F152 -> 90.814938 | K18: =[1]Sheet!G152 -> 19910.235 | L18: =[1]Sheet!H152 -> 8.0565439
A19: 3 | B19: =[1]Sheet!C153 -> 243616.75 | C19: =B19/B$7*100 -> 18.177995 | D19: =[1]Sheet!I153 -> 273.73335 | E19: =[1]Sheet!J153 -> 0.11236229 | F19: =+I19+K19 -> 243343.02 | G19: =F19/$B19*100 -> 99.887638 | I19: =[1]Sheet!E153 -> 225046.28 | J19: =[1]Sheet!F153 -> 92.37718 | K19: =[1]Sheet!G153 -> 18296.733 | L19: =[1]Sheet!H153 -> 7.5104577
A20: 4 | B20: =[1]Sheet!C154 -> 227193.05 | C20: =B20/B$7*100 -> 16.952505 | D20: =[1]Sheet!I154 -> 547.46671 | E20: =[1]Sheet!J154 -> 0.24096983 | F20: =+I20+K20 -> 226645.58 | G20: =F20/$B20*100 -> 99.75903 | I20: =[1]Sheet!E154 -> 215898.65 | J20: =[1]Sheet!F154 -> 95.02872 | K20: =[1]Sheet!G154 -> 10746.935 | L20: =[1]Sheet!H154 -> 4.7303098
A21: 5 | B21: =[1]Sheet!C155 -> 220725.82 | C21: =B21/B$7*100 -> 16.469939 | D21: =[1]Sheet!I155 -> 1642.4001 | E21: =[1]Sheet!J155 -> 0.74409062 | F21: =+I21+K21 -> 219083.42 | G21: =F21/$B21*100 -> 99.255909 | I21: =[1]Sheet!E155 -> 214320.02 | J21: =[1]Sheet!F155 -> 97.097847 | K21: =[1]Sheet!G155 -> 4763.4 | L21: =[1]Sheet!H155 -> 2.158062
A22: 6 | B22: =[1]Sheet!C156 -> 170934.86 | C22: =B22/B$7*100 -> 12.754678 | D22: =[1]Sheet!I156 -> 723.77257 | E22: =[1]Sheet!J156 -> 0.42342011 | F22: =+I22+K22 -> 170211.09 | G22: =F22/$B22*100 -> 99.57658 | I22: =[1]Sheet!E156 -> 166225.15 | J22: =[1]Sheet!F156 -> 97.244735 | K22: =[1]Sheet!G156 -> 3985.9367 | L22: =[1]Sheet!H156 -> 2.3318454
A24: Quintil del Ingreso del hogar
A25: 1 | B25: =[1]Sheet!C158 -> 402394.2 | C25: =B25/B$7*100 -> 30.025522 | D25: =[1]Sheet!I158 -> 2092.4393 | E25: =[1]Sheet!J158 -> 0.51999739 | F25: =+I25+K25 -> 400301.76 | G25: =F25/$B25*100 -> 99.480003 | I25: =[1]Sheet!E158 -> 357175.51 | J25: =[1]Sheet!F158 -> 88.762588 | K25: =[1]Sheet!G158 -> 43126.254 | L25: =[1]Sheet!H158 -> 10.717414
A26: 2 | B26: =[1]Sheet!C159 -> 341264.3 | C26: =B26/B$7*100 -> 25.46418 | D26: =[1]Sheet!I159 -> 4171.1366 | E26: =[1]Sheet!J159 -> 1.2222599 | F26: =+I26+K26 -> 337093.16 | G26: =F26/$B26*100 -> 98.77774 | I26: =[1]Sheet!E159 -> 314183.7 | J26: =[1]Sheet!F159 -> 92.064624 | K26: =[1]Sheet!G159 -> 22909.467 | L26: =[1]Sheet!H159 -> 6.7131156
A27: 3 | B27: =[1]Sheet!C160 -> 268926.65 | C27: =B27/B$7*100 -> 20.066549 | D27: =[1]Sheet!I160 -> 1698.9426 | E27: =[1]Sheet!J160 -> 0.63174945 | F27: =+I27+K27 -> 267227.71 | G27: =F27/$B27*100 -> 99.368251 | I27: =[1]Sheet!E160 -> 249011.12 | J27: =[1]Sheet!F160 -> 92.594439 | K27: =[1]Sheet!G160 -> 18216.584 | L27: =[1]Sheet!H160 -> 6.7738113
A28: 4 | B28: =[1]Sheet!C161 -> 209347.71 | C28: =B28/B$7*100 -> 15.620937 | D28: =[1]Sheet!I161 -> 1196.1476 | E28: =[1]Sheet!J161 -> 0.57136885 | F28: =+I28+K28 -> 208151.57 | G28: =F28/$B28*100 -> 99.428631 | I28: =[1]Sheet!E161 -> 200966.8 | J28: =[1]Sheet!F161 -> 95.996654 | K28: =[1]Sheet!G161 -> 7184.766 | L28: =[1]Sheet!H161 -> 3.4319773
A29: 5 | B29: =[1]Sheet!C162 -> 116301.98 | C29: =B29/B$7*100 -> 8.6781263 | D29: =[1]Sheet!I162 -> 323.40481 | E29: =[1]Sheet!J162 -> 0.27807334 | F29: =+I29+K29 -> 115978.58 | G29: =F29/$B29*100 -> 99.721927 | I29: =[1]Sheet!E162 -> 114539.33 | J29: =[1]Sheet!F162 -> 98.484419 | K29: =[1]Sheet!G162 -> 1439.2458 | L29: =[1]Sheet!H162 -> 1.2375075
A30: No declaran ingresos | B30: =[1]Sheet!C163 -> 1939.0479 | C30: =B30/B$7*100 -> 0.14468629 | D30: =[1]Sheet!I163 -> 0 | E30: =[1]Sheet!J163 -> 0 | F30: =+I30+K30 -> 1939.0479 | G30: =F30/$B30*100 -> 100 | I30: =[1]Sheet!E163 -> 1939.0479 | J30: =[1]Sheet!F163 -> 100 | K30: =[1]Sheet!G163 -> 0 | L30: =[1]Sheet!H163 -> 0
A32: Nivel educativo del jefe
A33: Sin Nivel | B33: =[1]Sheet!C165 -> 296584.67 | C33: =B33/B$7*100 -> 22.130312 | D33: =[1]Sheet!I165 -> 3734.8395 | E33: =[1]Sheet!J165 -> 1.2592827 | F33: =+I33+K33 -> 292849.83 | G33: =F33/$B33*100 -> 98.740717 | I33: =[1]Sheet!E165 -> 263210.05 | J33: =[1]Sheet!F165 -> 88.747018 | K33: =[1]Sheet!G165 -> 29639.781 | L33: =[1]Sheet!H165 -> 9.9936995
A34: Primaria | B34: =[1]Sheet!C166 -> 820628.56 | C34: =B34/B$7*100 -> 61.232991 | D34: =[1]Sheet!I166 -> 5281.7275 | E34: =[1]Sheet!J166 -> 0.64361975 | F34: =+I34+K34 -> 815346.84 | G34: =F34/$B34*100 -> 99.35638 | I34: =[1]Sheet!E166 -> 758036.9 | J34: =[1]Sheet!F166 -> 92.372717 | K34: =[1]Sheet!G166 -> 57309.937 | L34: =[1]Sheet!H166 -> 6.9836635
A35: Secundaria | B35: =[1]Sheet!C167 -> 173960.99 | C35: =B35/B$7*100 -> 12.980479 | D35: =[1]Sheet!I167 -> 465.504 | E35: =[1]Sheet!J167 -> 0.26759102 | F35: =+I35+K35 -> 173495.49 | G35: =F35/$B35*100 -> 99.732409 | I35: =[1]Sheet!E167 -> 168881.45 | J35: =[1]Sheet!F167 -> 97.080065 | K35: =[1]Sheet!G167 -> 4614.0439 | L35: =[1]Sheet!H167 -> 2.652344
A36: Superior | B36: =[1]Sheet!C168 -> 44257.133 | C36: =B36/B$7*100 -> 3.3023426 | D36: =[1]Sheet!I168 -> 0 | E36: =[1]Sheet!J168 -> 0 | F36: =+I36+K36 -> 44257.133 | G36: =F36/$B36*100 -> 100 | I36: =[1]Sheet!E168 -> 43683.816 | J36: =[1]Sheet!F168 -> 98.704576 | K36: =[1]Sheet!G168 -> 573.31749 | L36: =[1]Sheet!H168 -> 1.2954239
A37: No sabe / No responde | B37: =[1]Sheet!C169 -> 4742.5386 | C37: =B37/B$7*100 -> 0.35387487 | D37: =[1]Sheet!I169 -> 0 | E37: =[1]Sheet!J169 -> 0 | F37: =+I37+K37 -> 4742.5386 | G37: =F37/$B37*100 -> 100 | I37: =[1]Sheet!E169 -> 4003.3013 | J37: =[1]Sheet!F169 -> 84.412623 | K37: =[1]Sheet!G169 -> 739.23736 | L37: =[1]Sheet!H169 -> 15.587377
A39: =Cuadro01!A41 -> Fuente: Instituto Nacional de Estadística (INE). XL Encuesta Permanente de Hogares de Propósitos Múltiples, Septiembre 2010.
A40: /1 Porcentaje por columna
A41: /2 Porcentaje por fila
