Workbook
Name Print_Area: titulo!$A$1:$I$6

Sheet titulo

Sheet Cuadro01
A4: Cuadro No. 1. Viviendas con acceso a servicio de agua, por sistema que los proporciona según dominio, nivel educativo del jefe, sexo del jefe y quintil de ingreso del hogar
A6: Categorias | B6: Total | D6: Servicio publico | E6: 0 | F6: Servicio privado | G6: 0 | H6: Pozo malacate | I6: 0 | J6: Pozo con bomba | K6: 0 | L6: Rio,riachuelo,manantial | M6: 0 | N6: Carro cisterna | O6: 0 | P6: Pick-up con dron o barril | Q6: 0 | R6: Llave pública comunitaria | S6: 0 | T6: Del vecino / otra vivienda | U6: 0 | V6: Otro | W6: 0
B7: No | C7: % /1 | D7: No | E7: % /1 | F7: No | G7: % /1 | H7: No | I7: % /1 | J7: No | K7: % /1 | L7: No | M7: % /1 | N7: No | O7: % /1 | P7: No | Q7: % /1 | R7: No | S7: % /1 | T7: No | U7: % /1 | V7: No | W7: % /1
A8: Total Nacional/2 | B8: =[1]vivienda!C5 -> 1711305.2 | C8: =[1]vivienda!D5 -> 100 | D8: =[1]vivienda!E5 -> 583794 | E8: =+D8/$B8*100 -> 34.113962 | F8: =[1]vivienda!G5 -> 861211.6 | G8: =+F8/$B8*100 -> 50.324841 | H8: =[1]vivienda!I5 -> 25488.169 | I8: =+H8/$B8*100 -> 1.4893994 | J8: =[1]vivienda!K5 -> 22478.685 | K8: =+J8/$B8*100 -> 1.3135404 | L8: =[1]vivienda!M5 -> 65849.255 | M8: =+L8/$B8*100 -> 3.8478967 | N8: =[1]vivienda!O5 -> 22405.018 | O8: =+N8/$B8*100 -> 1.3092357 | P8: =[1]vivienda!Q5 -> 2723.2742 | Q8: =+P8/$B8*100 -> 0.15913434 | R8: =[1]vivienda!S5 -> 5845.0448 | S8: =+R8/$B8*100 -> 0.34155479 | T8: =[1]vivienda!U5 -> 45767.747 | U8: =+T8/$B8*100 -> 2.6744351 | V8: =[1]vivienda!W5 -> 75742.381 | W8: =+V8/$B8*100 -> 4.4260009
A10: Dominio
A11: Urbano | B11: =[1]vivienda!C6 -> 827693.9 | C11: =+B11/B8*100 -> 48.366236 | D11: =[1]vivienda!E6 -> 537888.91 | E11: =+D11/D8*100 -> 92.136767 | F11: =[1]vivienda!G6 -> 235895.12 | G11: =+F11/F8*100 -> 27.391076 | H11: =[1]vivienda!I6 -> 3151.527 | I11: =+H11/H8*100 -> 12.364666 | J11: =[1]vivienda!K6 -> 5425.0969 | K11: =+J11/J8*100 -> 24.134405 | L11: =[1]vivienda!M6 -> 2562.1035 | M11: =+L11/L8*100 -> 3.8908617 | N11: =[1]vivienda!O6 -> 17751.551 | O11: =+N11/N8*100 -> 79.230247 | P11: =[1]vivienda!Q6 -> 1080.8741 | Q11: =+P11/P8*100 -> 39.69024 | R11: =[1]vivienda!S6 -> 1739.0445 | S11: =+R11/R8*100 -> 29.752458 | T11: =[1]vivienda!U6 -> 17792.198 | U11: =+T11/T8*100 -> 38.87497 | V11: =[1]vivienda!W6 -> 4407.4694 | W11: =+W12+W13+W14 -> 38.87497
A12: Distrito Central | B12: =[1]vivienda!C7 -> 228015.13 | C12: =[1]vivienda!D7 -> 13.324048 | D12: =[1]vivienda!E7 -> 209013.86 | E12: =[1]vivienda!F7 -> 35.802675 | F12: =[1]vivienda!G7 -> 938.33385 | G12: =[1]vivienda!H7 -> 0.10895509 | H12: =[1]vivienda!I7 -> 0 | I12: =[1]vivienda!J7 -> 0 | ... T12: =[1]vivienda!U7 -> 5864.5865 | U12: =[1]vivienda!T7 -> 8.0267464 | V12: =[1]vivienda!W7 -> 1407.5008 | W12: =[1]vivienda!V7 -> 12.813798
A13: San Pedro Sula | B13: =[1]vivienda!C8 -> 138573.01 | C13: =[1]vivienda!D8 -> 8.0975044 | D13: =[1]vivienda!E8 -> 2401.9322 | E13: =[1]vivienda!F8 -> 0.41143489 | F13: =[1]vivienda!G8 -> 131090.07 | G13: =[1]vivienda!H8 -> 15.221586 | H13: =[1]vivienda!I8 -> 0 | I13: =[1]vivienda!J8 -> 0 | ... T13: =[1]vivienda!U8 -> 1693.6701 | U13: =[1]vivienda!T8 -> 0 | V13: =[1]vivienda!W8 -> 1231.7601 | W13: =[1]vivienda!V8 -> 3.7005757
A14: Resto Urbano | B14: =[1]vivienda!C9 -> 461105.76 | C14: =[1]vivienda!D9 -> 26.944684 | D14: =[1]vivienda!E9 -> 326473.12 | E14: =[1]vivienda!F9 -> 55.922657 | F14: =[1]vivienda!G9 -> 103866.72 | G14: =[1]vivienda!H9 -> 12.060534 | H14: =[1]vivienda!I9 -> 3151.527 | I14: =[1]vivienda!J9 -> 12.364666 | ... T14: =[1]vivienda!U9 -> 10233.941 | U14: =[1]vivienda!T9 -> 21.725712 | V14: =[1]vivienda!W9 -> 1768.2085 | W14: =[1]vivienda!V9 -> 22.360597
A15: Rural | B15: =[1]vivienda!C10 -> 883611.27 | C15: =[1]vivienda!D10 -> 51.633764 | D15: =[1]vivienda!E10 -> 45905.083 | E15: =[1]vivienda!F10 -> 7.8632332 | F15: =[1]vivienda!G10 -> 625316.47 | G15: =[1]vivienda!H10 -> 72.608924 | H15: =[1]vivienda!I10 -> 22336.642 | I15: =[1]vivienda!J10 -> 87.635334 | ... T15: =[1]vivienda!U10 -> 27975.549 | U15: =[1]vivienda!T10 -> 70.247542 | V15: =[1]vivienda!W10 -> 71334.912 | W15: =[1]vivienda!V10 -> 61.12503
A17: Nivel Educativo del Jefe
A18: Sin Nivel | B18: =[1]vivienda!C12 -> 345785.04 | C18: =[1]vivienda!D12 -> 20.205925 | D18: =[1]vivienda!E12 -> 68699.068 | E18: =[1]vivienda!F12 -> 11.76769 | F18: =[1]vivienda!G12 -> 194656.65 | G18: =[1]vivienda!H12 -> 22.602651 | H18: =[1]vivienda!I12 -> 7938.2673 | I18: =[1]vivienda!J12 -> 31.14491 | ... T18: =[1]vivienda!U12 -> 15443.602 | U18: =[1]vivienda!T12 -> 28.099017 | V18: =[1]vivienda!W12 -> 27892.174 | W18: =[1]vivienda!V12 -> 33.743418
A19: Primaria | B19: =[1]vivienda!C13 -> 954564.99 | C19: =[1]vivienda!D13 -> 55.77994 | D19: =[1]vivienda!E13 -> 285889.95 | E19: =[1]vivienda!F13 -> 48.971033 | F19: =[1]vivienda!G13 -> 515333.93 | G19: =[1]vivienda!H13 -> 59.838248 | H19: =[1]vivienda!I13 -> 13599.51 | I19: =[1]vivienda!J13 -> 53.356168 | ... T19: =[1]vivienda!U13 -> 24286.049 | U19: =[1]vivienda!T13 -> 64.319037 | V19: =[1]vivienda!W13 -> 44251.009 | W19: =[1]vivienda!V13 -> 53.063677
A20: Secundaria | B20: =[1]vivienda!C14 -> 294801.98 | C20: =[1]vivienda!D14 -> 17.226733 | D20: =[1]vivienda!E14 -> 159352.83 | E20: =[1]vivienda!F14 -> 27.296072 | F20: =[1]vivienda!G14 -> 111957.21 | G20: =[1]vivienda!H14 -> 12.999965 | H20: =[1]vivienda!I14 -> 2448.645 | I20: =[1]vivienda!J14 -> 9.6069869 | ... T20: =[1]vivienda!U14 -> 5047.4606 | U20: =[1]vivienda!T14 -> 2.8987767 | V20: =[1]vivienda!W14 -> 3029.3958 | W20: =[1]vivienda!V14 -> 11.028423
A21: Superior | B21: =[1]vivienda!C15 -> 108243.59 | C21: =[1]vivienda!D15 -> 6.3252066 | D21: =[1]vivienda!E15 -> 67913.995 | E21: =[1]vivienda!F15 -> 11.633212 | F21: =[1]vivienda!G15 -> 34661.062 | G21: =[1]vivienda!H15 -> 4.0246859 | H21: =[1]vivienda!I15 -> 1501.7462 | I21: =[1]vivienda!J15 -> 5.8919345 | ... T21: =[1]vivienda!U15 -> 443.16815 | U21: =[1]vivienda!T15 -> 0 | V21: =[1]vivienda!W15 -> 569.80255 | W21: =[1]vivienda!V15 -> 0.96829795
A22: Ns / Nr | B22: =[1]vivienda!C16 -> 7909.5664 | C22: =[1]vivienda!D16 -> 0.46219497 | D22: =[1]vivienda!E16 -> 1938.1534 | E22: =[1]vivienda!F16 -> 0.3319927 | F22: =[1]vivienda!G16 -> 4602.7462 | G22: =[1]vivienda!H16 -> 0.5344501 | H22: =[1]vivienda!I16 -> 0 | I22: =[1]vivienda!J16 -> 0 | ... T22: =[1]vivienda!U16 -> 547.46671 | U22: =[1]vivienda!T16 -> 4.6831694 | V22: =[1]vivienda!W16 -> 0 | W22: =[1]vivienda!V16 -> 1.1961845
A24: Sexo del Jefe
A25: Hombre | B25: =[1]vivienda!C18 -> 1185274.8 | C25: =[1]vivienda!D18 -> 69.261453 | D25: =[1]vivienda!E18 -> 372071 | E25: =[1]vivienda!F18 -> 63.73327 | F25: =[1]vivienda!G18 -> 613876.37 | G25: =[1]vivienda!H18 -> 71.280551 | H25: =[1]vivienda!I18 -> 19870.347 | I25: =[1]vivienda!J18 -> 77.959101 | ... T25: =[1]vivienda!U18 -> 32369.793 | U25: =[1]vivienda!T18 -> 63.492316 | V25: =[1]vivienda!W18 -> 61946.344 | W25: =[1]vivienda!V18 -> 70.726211
A26: Mujer | B26: =[1]vivienda!C19 -> 526030.34 | C26: =[1]vivienda!D19 -> 30.738547 | D26: =[1]vivienda!E19 -> 211722.99 | E26: =[1]vivienda!F19 -> 36.26673 | F26: =[1]vivienda!G19 -> 247335.23 | G26: =[1]vivienda!H19 -> 28.719449 | H26: =[1]vivienda!I19 -> 5617.8215 | I26: =[1]vivienda!J19 -> 22.040899 | ... T26: =[1]vivienda!U19 -> 13397.954 | U26: =[1]vivienda!T19 -> 36.507684 | V26: =[1]vivienda!W19 -> 13796.037 | W26: =[1]vivienda!V19 -> 29.273789
A28: Quintil del Hogar
A29: Quintil 1 | B29: =[1]vivienda!C21 -> 340932.76 | C29: =[1]vivienda!D21 -> 19.922382 | D29: =[1]vivienda!E21 -> 52142.947 | E29: =[1]vivienda!F21 -> 8.9317374 | F29: =[1]vivienda!G21 -> 193870.12 | G29: =[1]vivienda!H21 -> 22.511323 | H29: =[1]vivienda!I21 -> 9712.4966 | I29: =[1]vivienda!J21 -> 38.105902 | ... T29: =[1]vivienda!U21 -> 14787.223 | U29: =[1]vivienda!T21 -> 22.013588 | V29: =[1]vivienda!W21 -> 24918.18 | W29: =[1]vivienda!V21 -> 32.309266
A30: Quintil 2 | B30: =[1]vivienda!C22 -> 338633.38 | C30: =[1]vivienda!D22 -> 19.788018 | D30: =[1]vivienda!E22 -> 73823.777 | E30: =[1]vivienda!F22 -> 12.645518 | F30: =[1]vivienda!G22 -> 201758.32 | G30: =[1]vivienda!H22 -> 23.427264 | H30: =[1]vivienda!I22 -> 5223.2696 | I30: =[1]vivienda!J22 -> 20.492918 | ... T30: =[1]vivienda!U22 -> 11228.563 | U30: =[1]vivienda!T22 -> 30.71013 | V30: =[1]vivienda!W22 -> 24609.012 | W30: =[1]vivienda!V22 -> 24.533789
A31: Quintil 3 | B31: =[1]vivienda!C23 -> 340718 | C31: =[1]vivienda!D23 -> 19.909833 | D31: =[1]vivienda!E23 -> 120446.87 | E31: =[1]vivienda!F23 -> 20.631742 | F31: =[1]vivienda!G23 -> 171799 | G31: =[1]vivienda!H23 -> 19.948524 | H31: =[1]vivienda!I23 -> 4981.947 | I31: =[1]vivienda!J23 -> 19.546116 | ... T31: =[1]vivienda!U23 -> 9347.8153 | U31: =[1]vivienda!T23 -> 27.42922 | V31: =[1]vivienda!W23 -> 13390.317 | W31: =[1]vivienda!V23 -> 20.42446
A32: Quintil 4 | B32: =[1]vivienda!C24 -> 342746.42 | C32: =[1]vivienda!D24 -> 20.028363 | D32: =[1]vivienda!E24 -> 147530.32 | E32: =[1]vivienda!F24 -> 25.270956 | F32: =[1]vivienda!G24 -> 161609.82 | G32: =[1]vivienda!H24 -> 18.765402 | H32: =[1]vivienda!I24 -> 2086.5039 | I32: =[1]vivienda!J24 -> 8.1861665 | ... T32: =[1]vivienda!U24 -> 7039.4586 | U32: =[1]vivienda!T24 -> 12.265116 | V32: =[1]vivienda!W24 -> 7173.899 | W32: =[1]vivienda!V24 -> 15.380828
A33: Quintil 5 | B33: =[1]vivienda!C25 -> 342048.21 | C33: =[1]vivienda!D25 -> 19.987564 | D33: =[1]vivienda!E25 -> 185202.86 | E33: =[1]vivienda!F25 -> 31.724009 | F33: =[1]vivienda!G25 -> 130868.89 | G33: =[1]vivienda!H25 -> 15.195904 | H33: =[1]vivienda!I25 -> 3210.2182 | I33: =[1]vivienda!J25 -> 12.594935 | ... T33: =[1]vivienda!U25 -> 3364.6871 | U33: =[1]vivienda!T25 -> 7.5819462 | V33: =[1]vivienda!W25 -> 5650.9729 | W33: =[1]vivienda!V25 -> 7.3516557
A34: No Declaran Ingresos | B34: =[1]vivienda!C26 -> 6226.402 | C34: =[1]vivienda!D26 -> 0.36383938 | D34: =[1]vivienda!E26 -> 4647.2227 | E34: =[1]vivienda!F26 -> 0.79603812 | F34: =[1]vivienda!G26 -> 1305.4459 | G34: =[1]vivienda!H26 -> 0.15158249 | H34: =[1]vivienda!I26 -> 273.73335 | I34: =[1]vivienda!J26 -> 1.0739624 | ... T34: =[1]vivienda!U26 -> 0 | U34: =[1]vivienda!T26 -> 0 | V34: =[1]vivienda!W26 -> 0 | W34: =[1]vivienda!V26 -> 0
A35: Fuente: Instituto Nacional de Estadística (INE). XL Encuesta Permanente de Hogares de Propósitos Múltiples, Septiembre 2010.
A36: 1/ Porcentaje por columnas
A37: 2/ Porcentaje por filas

Sheet Cuadro02
A1: Cuadro No. 2. Viviendas con acceso a saneamiento, por sistema que los proporciona según dominio, nivel educativo del jefe, sexo del jefe y quintil de ingreso del hogar
A3: Categorias | B3: Total | C3: 0 | D3: Inodoro conectado a alcantarilla | E3: 0 | F3: Inodoro conectado a pozo septico | G3: 0 | H3: Inodoro con desague a rio, laguna o mar | I3: 0 | J3: Letrina con descarga a rio, laguna o mar | K3: 0 | L3: Letrina con cierre hidraulico | M3: 0 | N3: Letrina con pozo septico | O3: 0 | P3: Letrina con pozo negro | Q3: 0 | R3: Otro Tipo | S3: 0 | T3: No Tiene | U3: 0
B4: No | C4: % /1 | D4: No | E4: % /1 | F4: No | G4: % /1 | H4: No | I4: % /1 | J4: No | K4: % /1 | L4: No | M4: % /1 | N4: No | O4: % /1 | P4: No | Q4: % /1 | R4: No | S4: % /1 | T4: No | U4: % /1
A5: Total Nacional/2 | B5: =+D5+F5+H5+J5+L5+N5+P5+R5+T5 -> 1711305.2 | C5: =[1]vivienda!X5 -> 100 | D5: =[1]vivienda!AA5 -> 602564.22 | E5: =+D5/$B5*100 -> 35.210799 | F5: =[1]vivienda!AC5 -> 249925.91 | G5: =+F5/$B5*100 -> 14.604404 | H5: =[1]vivienda!AE5 -> 12654.084 | I5: =+H5/$B5*100 -> 0.73944056 | J5: =[1]vivienda!AG5 -> 5048.8376 | K5: =+J5/$B5*100 -> 0.29502848 | L5: =[1]vivienda!AI5 -> 410640.53 | M5: =+L5/$B5*100 -> 23.995751 | N5: =[1]vivienda!AK5 -> 75618.489 | O5: =+N5/$B5*100 -> 4.4187612 | P5: =[1]vivienda!AM5 -> 178442.18 | Q5: =+P5/$B5*100 -> 10.427256 | R5: =[1]vivienda!AO5 -> 5677.5391 | S5: =+R5/$B5*100 -> 0.33176661 | T5: =Cuadro01!B8-(Cuadro02!D5+Cuadro02!F5+Cuadro02!H5+Cuadro02!J5+Cuadro02!L5+Cuadro02!N5+Cuadro02!P5+Cuadro02!R5) -> 170733.38 | U5: =+T5/$B5*100 -> 9.9767933
A7: Dominio
A8: Urbano | B8: =+D8+F8+H8+J8+L8+N8+P8+R8+T8 -> 827693.9 | C8: =+B8/$B$5*100 -> 48.366236 | D8: =[1]vivienda!AA6 -> 553675.44 | E8: =+E9+E10+E11 -> 91.886545 | F8: =[1]vivienda!AC6 -> 93761.036 | G8: =+G9+G10+G11 -> 37.515532 | H8: =[1]vivienda!AE6 -> 9232.4175 | I8: =+I9+I10+I11 -> 72.95998 | J8: =[1]vivienda!AG6 -> 2858.9708 | K8: =+K9+K10+K11 -> 56.626317 | L8: =[1]vivienda!AI6 -> 65079.54 | M8: =+M9+M10+M11 -> 15.848299 | N8: =[1]vivienda!AK6 -> 24156.618 | O8: =+O9+O10+O11 -> 31.945386 | P8: =[1]vivienda!AM6 -> 64815.46 | Q8: =+Q9+Q10+Q11 -> 36.322949 | R8: =[1]vivienda!AO6 -> 2666.4723 | S8: =+S9+S10+S11 -> 46.965282 | T8: =Cuadro01!B11-(Cuadro02!D8+Cuadro02!F8+Cuadro02!H8+Cuadro02!J8+Cuadro02!L8+Cuadro02!N8+Cuadro02!P8+Cuadro02!R8) -> 11447.94 | U8: =+U9+U10+U11 -> 6.7051566
A9: Distrito Central | B9: =+D9+F9+H9+J9+L9+N9+P9+R9+T9 -> 228015.13 | C9: =+B9/$B$5*100 -> 13.324048 | D9: =[1]vivienda!AA7 -> 184476.43 | E9: =[1]vivienda!AB7 -> 30.615232 | F9: =[1]vivienda!AC7 -> 5442.3363 | G9: =[1]vivienda!AD7 -> 2.1775798 | H9: =[1]vivienda!AE7 -> 1876.6677 | I9: =[1]vivienda!AF7 -> 14.830529 | J9: =[1]vivienda!AG7 -> 0 | K9: =[1]vivienda!AH7 -> 0 | ... S9: =[1]vivienda!AP7 -> 38.012382 | T9: =Cuadro01!B12-(Cuadro02!D9+Cuadro02!F9+Cuadro02!H9+Cuadro02!J9+Cuadro02!L9+Cuadro02!N9+Cuadro02!P9+Cuadro02!R9) -> 3424.9185 | U9: =+T9/T$5*100 -> 2.0060041
A10: San Pedro Sula | B10: =+D10+F10+H10+J10+L10+N10+P10+R10+T10 -> 138573.01 | C10: =+B10/$B$5*100 -> 8.0975044 | D10: =[1]vivienda!AA8 -> 122267.59 | E10: =[1]vivienda!AB8 -> 20.291212 | F10: =[1]vivienda!AC8 -> 7606.1186 | G10: =[1]vivienda!AD8 -> 3.0433493 | H10: =[1]vivienda!AE8 -> 2001.6102 | I10: =[1]vivienda!AF8 -> 15.817898 | J10: =[1]vivienda!AG8 -> 461.91003 | K10: =[1]vivienda!AH8 -> 9.1488392 | ... S10: =[1]vivienda!AP8 -> 0 | T10: =Cuadro01!B13-(Cuadro02!D10+Cuadro02!F10+Cuadro02!H10+Cuadro02!J10+Cuadro02!L10+Cuadro02!N10+Cuadro02!P10+Cuadro02!R10) -> 461.91003 | U10: =+T10/T$5*100 -> 0.27054466
A11: Resto Urbano | B11: =+D11+F11+H11+J11+L11+N11+P11+R11+T11 -> 461105.76 | C11: =+B11/$B$5*100 -> 26.944684 | D11: =[1]vivienda!AA9 -> 246931.42 | E11: =[1]vivienda!AB9 -> 40.9801 | F11: =[1]vivienda!AC9 -> 80712.581 | G11: =[1]vivienda!AD9 -> 32.294603 | H11: =[1]vivienda!AE9 -> 5354.1397 | I11: =[1]vivienda!AF9 -> 42.311553 | J11: =[1]vivienda!AG9 -> 2397.0607 | K11: =[1]vivienda!AH9 -> 47.477477 | ... S11: =[1]vivienda!AP9 -> 8.9529 | T11: =Cuadro01!B14-(Cuadro02!D11+Cuadro02!F11+Cuadro02!H11+Cuadro02!J11+Cuadro02!L11+Cuadro02!N11+Cuadro02!P11+Cuadro02!R11) -> 7561.1119 | U11: =+T11/T$5*100 -> 4.4286079
A12: Rural | B12: =+D12+F12+H12+J12+L12+N12+P12+R12+T12 -> 883611.27 | C12: =+B12/$B$5*100 -> 51.633764 | D12: =[1]vivienda!AA10 -> 48888.777 | E12: =[1]vivienda!AB10 -> 8.113455 | F12: =[1]vivienda!AC10 -> 156164.88 | G12: =[1]vivienda!AD10 -> 62.484468 | H12: =[1]vivienda!AE10 -> 3421.6669 | I12: =[1]vivienda!AF10 -> 27.04002 | J12: =[1]vivienda!AG10 -> 2189.8668 | K12: =[1]vivienda!AH10 -> 43.373683 | ... S12: =[1]vivienda!AP10 -> 53.034718 | T12: =Cuadro01!B15-(Cuadro02!D12+Cuadro02!F12+Cuadro02!H12+Cuadro02!J12+Cuadro02!L12+Cuadro02!N12+Cuadro02!P12+Cuadro02!R12) -> 159285.44 | U12: =+T12/T$5*100 -> 93.294843
A14: Nivel Educativo del Jefe
A15: Sin Nivel | B15: =+D15+F15+H15+J15+L15+N15+P15+R15+T15 -> 345785.04 | C15: =+B15/$B$5*100 -> 20.205925 | D15: =[1]vivienda!AA12 -> 47978.845 | E15: =[1]vivienda!AB12 -> 7.9624451 | F15: =[1]vivienda!AC12 -> 36123.86 | G15: =[1]vivienda!AD12 -> 14.453827 | H15: =[1]vivienda!AE12 -> 2862.6628 | I15: =[1]vivienda!AF12 -> 22.622441 | J15: =[1]vivienda!AG12 -> 1089.6581 | K15: =[1]vivienda!AH12 -> 21.582355 | ... S15: =[1]vivienda!AP12 -> 22.038018 | T15: =Cuadro01!B18-(Cuadro02!D15+Cuadro02!F15+Cuadro02!H15+Cuadro02!J15+Cuadro02!L15+Cuadro02!N15+Cuadro02!P15+Cuadro02!R15) -> 70199.915 | U15: =+T15/T$5*100 -> 41.11669
A16: Primaria | B16: =+D16+F16+H16+J16+L16+N16+P16+R16+T16 -> 954564.99 | C16: =+B16/$B$5*100 -> 55.77994 | D16: =[1]vivienda!AA13 -> 268930.94 | E16: =[1]vivienda!AB13 -> 44.631083 | F16: =[1]vivienda!AC13 -> 155902.72 | G16: =[1]vivienda!AD13 -> 62.379576 | H16: =[1]vivienda!AE13 -> 7074.5501 | I16: =[1]vivienda!AF13 -> 55.907246 | J16: =[1]vivienda!AG13 -> 3192.6066 | K16: =[1]vivienda!AH13 -> 63.234487 | ... S16: =[1]vivienda!AP13 -> 54.087145 | T16: =Cuadro01!B19-(Cuadro02!D16+Cuadro02!F16+Cuadro02!H16+Cuadro02!J16+Cuadro02!L16+Cuadro02!N16+Cuadro02!P16+Cuadro02!R16) -> 93386.182 | U16: =+T16/T$5*100 -> 54.697085
A17: Secundaria | B17: =+D17+F17+H17+J17+L17+N17+P17+R17+T17 -> 294801.98 | C17: =+B17/$B$5*100 -> 17.226733 | D17: =[1]vivienda!AA14 -> 191461.59 | E17: =[1]vivienda!AB14 -> 31.77447 | F17: =[1]vivienda!AC14 -> 46157.531 | G17: =[1]vivienda!AD14 -> 18.468486 | H17: =[1]vivienda!AE14 -> 1293.6192 | I17: =[1]vivienda!AF14 -> 10.222938 | J17: =[1]vivienda!AG14 -> 766.57297 | K17: =[1]vivienda!AH14 -> 15.183158 | ... S17: =[1]vivienda!AP14 -> 16.069199 | T17: =Cuadro01!B20-(Cuadro02!D17+Cuadro02!F17+Cuadro02!H17+Cuadro02!J17+Cuadro02!L17+Cuadro02!N17+Cuadro02!P17+Cuadro02!R17) -> 5778.6157 | U17: =+T17/T$5*100 -> 3.3845846
A18: Superior | B18: =+D18+F18+H18+J18+L18+N18+P18+R18+T18 -> 108243.59 | C18: =+B18/$B$5*100 -> 6.3252066 | D18: =[1]vivienda!AA15 -> 91445.694 | E18: =[1]vivienda!AB15 -> 15.176091 | F18: =[1]vivienda!AC15 -> 10810.791 | G18: =[1]vivienda!AD15 -> 4.3255981 | H18: =[1]vivienda!AE15 -> 1423.2523 | I18: =[1]vivienda!AF15 -> 11.247375 | J18: =[1]vivienda!AG15 -> 0 | K18: =[1]vivienda!AH15 -> 0 | ... S18: =[1]vivienda!AP15 -> 7.805638 | T18: =Cuadro01!B21-(Cuadro02!D18+Cuadro02!F18+Cuadro02!H18+Cuadro02!J18+Cuadro02!L18+Cuadro02!N18+Cuadro02!P18+Cuadro02!R18) -> 273.73335 | U18: =+T18/T$5*100 -> 0.16032797
A19: Ns / Nr | B19: =+D19+F19+H19+J19+L19+N19+P19+R19+T19 -> 7909.5664 | C19: =+B19/$B$5*100 -> 0.46219497 | D19: =[1]vivienda!AA16 -> 2747.1534 | E19: =[1]vivienda!AB16 -> 0.45591047 | F19: =[1]vivienda!AC16 -> 931.008 | G19: =[1]vivienda!AD16 -> 0.37251359 | H19: =[1]vivienda!AE16 -> 0 | I19: =[1]vivienda!AF16 -> 0 | J19: =[1]vivienda!AG16 -> 0 | K19: =[1]vivienda!AH16 -> 0 | ... S19: =[1]vivienda!AP16 -> 0 | T19: =Cuadro01!B22-(Cuadro02!D19+Cuadro02!F19+Cuadro02!H19+Cuadro02!J19+Cuadro02!L19+Cuadro02!N19+Cuadro02!P19+Cuadro02!R19) -> 1094.9334 | U19: =+T19/T$5*100 -> 0.64131186
A21: Sexo del Jefe
A22: Hombre | B22: =+D22+F22+H22+J22+L22+N22+P22+R22+T22 -> 1185274.8 | C22: =+B22/$B$5*100 -> 69.261453 | D22: =[1]vivienda!AA18 -> 385824.29 | E22: =[1]vivienda!AB18 -> 64.030401 | F22: =[1]vivienda!AC18 -> 171436.75 | G22: =[1]vivienda!AD18 -> 68.595029 | H22: =[1]vivienda!AE18 -> 8307.9639 | I22: =[1]vivienda!AF18 -> 65.654405 | J22: =[1]vivienda!AG18 -> 4752.7684 | K22: =[1]vivienda!AH18 -> 94.135894 | ... S22: =[1]vivienda!AP18 -> 64.187525 | T22: =Cuadro01!B25-(Cuadro02!D22+Cuadro02!F22+Cuadro02!H22+Cuadro02!J22+Cuadro02!L22+Cuadro02!N22+Cuadro02!P22+Cuadro02!R22) -> 129974.79 | U22: =+T22/T$5*100 -> 76.127348
A23: Mujer | B23: =+D23+F23+H23+J23+L23+N23+P23+R23+T23 -> 526030.34 | C23: =+B23/$B$5*100 -> 30.738547 | D23: =[1]vivienda!AA19 -> 216739.93 | E23: =[1]vivienda!AB19 -> 35.969599 | F23: =[1]vivienda!AC19 -> 78489.161 | G23: =[1]vivienda!AD19 -> 31.404971 | H23: =[1]vivienda!AE19 -> 4346.1206 | I23: =[1]vivienda!AF19 -> 34.345595 | J23: =[1]vivienda!AG19 -> 296.0692 | K23: =[1]vivienda!AH19 -> 5.8641063 | ... S23: =[1]vivienda!AP19 -> 35.812475 | T23: =Cuadro01!B26-(Cuadro02!D23+Cuadro02!F23+Cuadro02!H23+Cuadro02!J23+Cuadro02!L23+Cuadro02!N23+Cuadro02!P23+Cuadro02!R23) -> 40758.585 | U23: =+T23/T$5*100 -> 23.872652
A25: Quintil del Hogar
A26: Quintil 1 | B26: =+D26+F26+H26+J26+L26+N26+P26+R26+T26 -> 340932.76 | C26: =+B26/$B$5*100 -> 19.922382 | D26: =[1]vivienda!AA21 -> 26092.646 | E26: =[1]vivienda!AB21 -> 4.3302681 | F26: =[1]vivienda!AC21 -> 29552.641 | G26: =[1]vivienda!AD21 -> 11.82456 | H26: =[1]vivienda!AE21 -> 815.92472 | I26: =[1]vivienda!AF21 -> 6.4479158 | J26: =[1]vivienda!AG21 -> 1702.261 | K26: =[1]vivienda!AH21 -> 33.7159 | ... S26: =[1]vivienda!AP21 -> 19.285352 | T26: =Cuadro01!B29-(Cuadro02!D26+Cuadro02!F26+Cuadro02!H26+Cuadro02!J26+Cuadro02!L26+Cuadro02!N26+Cuadro02!P26+Cuadro02!R26) -> 82893.782 | U26: =+T26/T$5*100 -> 48.551597
A27: Quintil 2 | B27: =+D27+F27+H27+J27+L27+N27+P27+R27+T27 -> 338633.38 | C27: =+B27/$B$5*100 -> 19.788018 | D27: =[1]vivienda!AA22 -> 53883.732 | E27: =[1]vivienda!AB22 -> 8.9424049 | F27: =[1]vivienda!AC22 -> 44719.929 | G27: =[1]vivienda!AD22 -> 17.893274 | H27: =[1]vivienda!AE22 -> 1841.086 | I27: =[1]vivienda!AF22 -> 14.549341 | J27: =[1]vivienda!AG22 -> 1216.2925 | K27: =[1]vivienda!AH22 -> 24.090545 | ... S27: =[1]vivienda!AP22 -> 23.417133 | T27: =Cuadro01!B30-(Cuadro02!D27+Cuadro02!F27+Cuadro02!H27+Cuadro02!J27+Cuadro02!L27+Cuadro02!N27+Cuadro02!P27+Cuadro02!R27) -> 49238.281 | U27: =+T27/T$5*100 -> 28.839282
A28: Quintil 3 | B28: =+D28+F28+H28+J28+L28+N28+P28+R28+T28 -> 340718 | C28: =+B28/$B$5*100 -> 19.909833 | D28: =[1]vivienda!AA23 -> 113230.47 | E28: =[1]vivienda!AB23 -> 18.791436 | F28: =[1]vivienda!AC23 -> 58487.083 | G28: =[1]vivienda!AD23 -> 23.401768 | H28: =[1]vivienda!AE23 -> 2614.9158 | I28: =[1]vivienda!AF23 -> 20.664599 | J28: =[1]vivienda!AG23 -> 1209.7411 | K28: =[1]vivienda!AH23 -> 23.960785 | ... S28: =[1]vivienda!AP23 -> 36.406978 | T28: =Cuadro01!B31-(Cuadro02!D28+Cuadro02!F28+Cuadro02!H28+Cuadro02!J28+Cuadro02!L28+Cuadro02!N28+Cuadro02!P28+Cuadro02!R28) -> 22595.28 | U28: =+T28/T$5*100 -> 13.234249
A29: Quintil 4 | B29: =+D29+F29+H29+J29+L29+N29+P29+R29+T29 -> 342746.42 | C29: =+B29/$B$5*100 -> 20.028363 | D29: =[1]vivienda!AA24 -> 170148.4 | E29: =[1]vivienda!AB24 -> 28.237388 | F29: =[1]vivienda!AC24 -> 59914.125 | G29: =[1]vivienda!AD24 -> 23.972754 | H29: =[1]vivienda!AE24 -> 4458.3278 | I29: =[1]vivienda!AF24 -> 35.232323 | J29: =[1]vivienda!AG24 -> 920.54298 | K29: =[1]vivienda!AH24 -> 18.232771 | ... S29: =[1]vivienda!AP24 -> 20.890537 | T29: =Cuadro01!B32-(Cuadro02!D29+Cuadro02!F29+Cuadro02!H29+Cuadro02!J29+Cuadro02!L29+Cuadro02!N29+Cuadro02!P29+Cuadro02!R29) -> 9837.8636 | U29: =+T29/T$5*100 -> 5.7621208
A30: Quintil 5 | B30: =+D30+F30+H30+J30+L30+N30+P30+R30+T30 -> 342048.21 | C30: =+B30/$B$5*100 -> 19.987564 | D30: =[1]vivienda!AA25 -> 234865.08 | E30: =[1]vivienda!AB25 -> 38.977601 | F30: =[1]vivienda!AC25 -> 56386.265 | G30: =[1]vivienda!AD25 -> 22.561192 | H30: =[1]vivienda!AE25 -> 2923.8301 | I30: =[1]vivienda!AF25 -> 23.105821 | J30: =[1]vivienda!AG25 -> 0 | K30: =[1]vivienda!AH25 -> 0 | ... S30: =[1]vivienda!AP25 -> 0 | T30: =Cuadro01!B33-(Cuadro02!D30+Cuadro02!F30+Cuadro02!H30+Cuadro02!J30+Cuadro02!L30+Cuadro02!N30+Cuadro02!P30+Cuadro02!R30) -> 5699.0058 | U30: =+T30/T$5*100 -> 3.3379565
A31: No Declaran Ingresos | B31: =+D31+F31+H31+J31+L31+N31+P31+R31+T31 -> 6226.402 | C31: =+B31/$B$5*100 -> 0.36383938 | D31: =[1]vivienda!AA26 -> 4343.8967 | E31: =[1]vivienda!AB26 -> 0.72090186 | F31: =[1]vivienda!AC26 -> 865.87176 | G31: =[1]vivienda!AD26 -> 0.34645137 | H31: =[1]vivienda!AE26 -> 0 | I31: =[1]vivienda!AF26 -> 0 | J31: =[1]vivienda!AG26 -> 0 | K31: =[1]vivienda!AH26 -> 0 | ... S31: =[1]vivienda!AP26 -> 0 | T31: =Cuadro01!B34-(Cuadro02!D31+Cuadro02!F31+Cuadro02!H31+Cuadro02!J31+Cuadro02!L31+Cuadro02!N31+Cuadro02!P31+Cuadro02!R31) -> 469.16692 | U31: =+T31/T$5*100 -> 0.27479508
A32: =Cuadro01!A35 -> Fuente: Instituto Nacional de Estadística (INE). XL Encuesta Permanente de Hogares de Propósitos Múltiples, Septiembre 2010.
A33: /1 Porcentaje por columnas
A34: /2 Porcentaje por filas

Sheet Cuadro03
A1: Cuadro No. 3. Viviendas con acceso a servicio de Electricidad, por sistema que los porporciona segun dominio, nivel educativo del jefe, sexo del jefe y quintil de ingreso del hogar
A3: Categorias | B3: Total | C3: 0 | D3: Servicio publico | E3: 0 | F3: Servicio privado colectivo | G3: 0 | H3: Planta propia | I3: 0 | J3: Energia solar | K3: 0 | L3: Vela | M3: 0 | N3: Candil o lampara de gas | O3: 0 | P3: Ocote | Q3: 0 | R3: Otro | S3: 0
B4: No | C4: % /1 | D4: No | E4: % /1 | F4: No | G4: % /1 | H4: No | I4: % /1 | J4: No | K4: % /1 | L4: No | M4: % /1 | N4: No | O4: % /1 | P4: No | Q4: % /1 | R4: No | S4: % /1
A5: Total Nacional/2 | B5: =[1]vivienda!AQ5 -> 1711305.2 | C5: =+E5+G5+I5+K5+M5+O5+Q5+S5 -> 100 | D5: =[1]vivienda!AS5 -> 1356372.1 | E5: =+D5/$B$5*100 -> 79.259509 | F5: =[1]vivienda!AU5 -> 5528.4987 | G5: =+F5/$B$5*100 -> 0.32305744 | H5: =[1]vivienda!AW5 -> 7719.2806 | I5: =+H5/$B$5*100 -> 0.45107563 | J5: =[1]vivienda!AY5 -> 20589.943 | K5: =+J5/$B$5*100 -> 1.2031719 | L5: =[1]vivienda!BA5 -> 70539.038 | M5: =+L5/$B$5*100 -> 4.1219439 | N5: =[1]vivienda!BC5 -> 162650.04 | O5: =+N5/$B$5*100 -> 9.5044442 | P5: =[1]vivienda!BE5 -> 81018.479 | Q5: =+P5/$B$5*100 -> 4.7343092 | R5: =[1]vivienda!BG5 -> 6887.8105 | S5: =+R5/$B$5*100 -> 0.40248874
A7: Dominio
A8: Urbano | B8: =[1]vivienda!AQ6 -> 827693.9 | C8: =+B8/B5*100 -> 48.366236 | D8: =[1]vivienda!AS6 -> 815474.96 | E8: =+D8/D5*100 -> 60.121775 | F8: =[1]vivienda!AU6 -> 1969.9651 | G8: =+F8/F5*100 -> 35.632912 | H8: =[1]vivienda!AW6 -> 0 | I8: =+H8/H5*100 -> 0 | J8: =[1]vivienda!AY6 -> 169.4348 | K8: =+J8/J5*100 -> 0.82290077 | L8: =[1]vivienda!BA6 -> 6430.687 | M8: =+L8/L5*100 -> 9.1164936 | N8: =[1]vivienda!BC6 -> 2817.1391 | O8: =+N8/N5*100 -> 1.7320248 | P8: =[1]vivienda!BE6 -> 677.7392 | Q8: =+P8/P5*100 -> 0.83652423 | R8: =[1]vivienda!BG6 -> 153.97001 | S8: =+R8/R5*100 -> 2.2353985
A9: Distrito Central | B9: =[1]vivienda!AQ7 -> 228015.13 | C9: =[1]vivienda!AR7 -> 13.324048 | D9: =[1]vivienda!AS7 -> 227076.79 | E9: =[1]vivienda!AT7 -> 16.741482 | F9: =[1]vivienda!AU7 -> 234.58346 | G9: =[1]vivienda!AV7 -> 4.2431676 | H9: =[1]vivienda!AW7 -> 0 | I9: =[1]vivienda!AX7 -> 0 | ... S9: =[1]vivienda!BH7 -> 0
A10: San Pedro Sula | B10: =[1]vivienda!AQ8 -> 138573.01 | C10: =[1]vivienda!AR8 -> 8.0975044 | D10: =[1]vivienda!AS8 -> 138265.07 | E10: =[1]vivienda!AT8 -> 10.193742 | F10: =[1]vivienda!AU8 -> 0 | G10: =[1]vivienda!AV8 -> 0 | H10: =[1]vivienda!AW8 -> 0 | I10: =[1]vivienda!AX8 -> 0 | ... S10: =[1]vivienda!BH8 -> 2.2353985
A11: Resto Urbano | B11: =[1]vivienda!AQ9 -> 461105.76 | C11: =[1]vivienda!AR9 -> 26.944684 | D11: =[1]vivienda!AS9 -> 450133.1 | E11: =[1]vivienda!AT9 -> 33.186551 | F11: =[1]vivienda!AU9 -> 1735.3816 | G11: =[1]vivienda!AV9 -> 31.389744 | H11: =[1]vivienda!AW9 -> 0 | I11: =[1]vivienda!AX9 -> 0 | ... S11: =[1]vivienda!BH9 -> 0
A12: Rural | B12: =[1]vivienda!AQ10 -> 883611.27 | C12: =[1]vivienda!AR10 -> 51.633764 | D12: =[1]vivienda!AS10 -> 540897.11 | E12: =[1]vivienda!AT10 -> 39.878225 | F12: =[1]vivienda!AU10 -> 3558.5336 | G12: =[1]vivienda!AV10 -> 64.367088 | H12: =[1]vivienda!AW10 -> 7719.2806 | I12: =[1]vivienda!AX10 -> 100 | ... S12: =[1]vivienda!BH10 -> 97.764602
A14: Nivel Educativo del Jefe
A15: Sin Nivel | B15: =[1]vivienda!AQ12 -> 345785.04 | C15: =[1]vivienda!AR12 -> 20.205925 | D15: =[1]vivienda!AS12 -> 210704.73 | E15: =[1]vivienda!AT12 -> 15.534434 | F15: =[1]vivienda!AU12 -> 1143.2556 | G15: =[1]vivienda!AV12 -> 20.679314 | H15: =[1]vivienda!AW12 -> 2244.6135 | I15: =[1]vivienda!AX12 -> 29.078014 | ... S15: =[1]vivienda!BH12 -> 40.536542
A16: Primaria | B16: =[1]vivienda!AQ13 -> 954564.99 | C16: =[1]vivienda!AR13 -> 55.77994 | D16: =[1]vivienda!AS13 -> 747715.02 | E16: =[1]vivienda!AT13 -> 55.1261 | F16: =[1]vivienda!AU13 -> 4215.8082 | G16: =[1]vivienda!AV13 -> 76.255933 | H16: =[1]vivienda!AW13 -> 4927.2004 | I16: =[1]vivienda!AX13 -> 63.829787 | ... S16: =[1]vivienda!BH13 -> 43.566775
A17: Secundaria | B17: =[1]vivienda!AQ14 -> 294801.98 | C17: =[1]vivienda!AR14 -> 17.226733 | D17: =[1]vivienda!AS14 -> 285034.42 | E17: =[1]vivienda!AT14 -> 21.014471 | F17: =[1]vivienda!AU14 -> 169.4348 | G17: =[1]vivienda!AV14 -> 3.0647525 | H17: =[1]vivienda!AW14 -> 547.46671 | I17: =[1]vivienda!AX14 -> 7.0921986 | ... S17: =[1]vivienda!BH14 -> 3.9741708
A18: Superior | B18: =[1]vivienda!AQ15 -> 108243.59 | C18: =[1]vivienda!AR15 -> 6.3252066 | D18: =[1]vivienda!AS15 -> 106874.92 | E18: =[1]vivienda!AT15 -> 7.8794693 | F18: =[1]vivienda!AU15 -> 0 | G18: =[1]vivienda!AV15 -> 0 | H18: =[1]vivienda!AW15 -> 0 | I18: =[1]vivienda!AX15 -> 0 | ... S18: =[1]vivienda!BH15 -> 11.922512
A19: Ns / Nr | B19: =[1]vivienda!AQ16 -> 7909.5664 | C19: =[1]vivienda!AR16 -> 0.46219497 | D19: =[1]vivienda!AS16 -> 6042.9848 | E19: =[1]vivienda!AT16 -> 0.4455256 | F19: =[1]vivienda!AU16 -> 0 | G19: =[1]vivienda!AV16 -> 0 | H19: =[1]vivienda!AW16 -> 0 | I19: =[1]vivienda!AX16 -> 0 | ... S19: =[1]vivienda!BH16 -> 0
A21: Sexo del Jefe
A22: Hombre | B22: =[1]vivienda!AQ18 -> 1185274.8 | C22: =[1]vivienda!AR18 -> 69.261453 | D22: =[1]vivienda!AS18 -> 909751.55 | E22: =[1]vivienda!AT18 -> 67.072418 | F22: =[1]vivienda!AU18 -> 3733.4778 | G22: =[1]vivienda!AV18 -> 67.531495 | H22: =[1]vivienda!AW18 -> 7171.8139 | I22: =[1]vivienda!AX18 -> 92.907801 | ... S22: =[1]vivienda!BH18 -> 91.256824
A23: Mujer | B23: =[1]vivienda!AQ19 -> 526030.34 | C23: =[1]vivienda!AR19 -> 30.738547 | D23: =[1]vivienda!AS19 -> 446620.53 | E23: =[1]vivienda!AT19 -> 32.927582 | F23: =[1]vivienda!AU19 -> 1795.0209 | G23: =[1]vivienda!AV19 -> 32.468505 | H23: =[1]vivienda!AW19 -> 547.46671 | I23: =[1]vivienda!AX19 -> 7.0921986 | ... S23: =[1]vivienda!BH19 -> 8.7431757
A25: Quintil del Hogar
A26: Quintil 1 | B26: =[1]vivienda!AQ21 -> 340932.76 | C26: =[1]vivienda!AR21 -> 19.922382 | D26: =[1]vivienda!AS21 -> 179138.47 | E26: =[1]vivienda!AT21 -> 13.207177 | F26: =[1]vivienda!AU21 -> 782.03776 | G26: =[1]vivienda!AV21 -> 14.145572 | H26: =[1]vivienda!AW21 -> 821.20006 | I26: =[1]vivienda!AX21 -> 10.638298 | ... S26: =[1]vivienda!BH21 -> 37.357205
A27: Quintil 2 | B27: =[1]vivienda!AQ22 -> 338633.38 | C27: =[1]vivienda!AR22 -> 19.788018 | D27: =[1]vivienda!AS22 -> 237094.49 | E27: =[1]vivienda!AT22 -> 17.480048 | F27: =[1]vivienda!AU22 -> 1560.4374 | G27: =[1]vivienda!AV22 -> 28.225338 | H27: =[1]vivienda!AW22 -> 2737.3335 | I27: =[1]vivienda!AX22 -> 35.460993 | ... S27: =[1]vivienda!BH22 -> 18.132082
A28: Quintil 3 | B28: =[1]vivienda!AQ23 -> 340718 | C28: =[1]vivienda!AR23 -> 19.909833 | D28: =[1]vivienda!AS23 -> 289444.84 | E28: =[1]vivienda!AT23 -> 21.339634 | F28: =[1]vivienda!AU23 -> 1772.685 | G28: =[1]vivienda!AV23 -> 32.064492 | H28: =[1]vivienda!AW23 -> 1697.1468 | I28: =[1]vivienda!AX23 -> 21.985816 | ... S28: =[1]vivienda!BH23 -> 24.639859
A29: Quintil 4 | B29: =[1]vivienda!AQ24 -> 342746.42 | C29: =[1]vivienda!AR24 -> 20.028363 | D29: =[1]vivienda!AS24 -> 319013.1 | E29: =[1]vivienda!AT24 -> 23.519587 | F29: =[1]vivienda!AU24 -> 865.87176 | G29: =[1]vivienda!AV24 -> 15.661969 | H29: =[1]vivienda!AW24 -> 1368.6668 | I29: =[1]vivienda!AX24 -> 17.730496 | ... S29: =[1]vivienda!BH24 -> 11.922512
A30: Quintil 5 | B30: =[1]vivienda!AQ25 -> 342048.21 | C30: =[1]vivienda!AR25 -> 19.987564 | D30: =[1]vivienda!AS25 -> 325454.78 | E30: =[1]vivienda!AT25 -> 23.994506 | F30: =[1]vivienda!AU25 -> 547.46671 | G30: =[1]vivienda!AV25 -> 9.9026289 | H30: =[1]vivienda!AW25 -> 1094.9334 | I30: =[1]vivienda!AX25 -> 14.184397 | ... S30: =[1]vivienda!BH25 -> 7.9483416
A31: No Declaran Ingresos | B31: =[1]vivienda!AQ26 -> 6226.402 | C31: =[1]vivienda!AR26 -> 0.36383938 | D31: =[1]vivienda!AS26 -> 6226.402 | E31: =[1]vivienda!AT26 -> 0.45904823 | F31: =[1]vivienda!AU26 -> 0 | G31: =[1]vivienda!AV26 -> 0 | H31: =[1]vivienda!AW26 -> 0 | I31: =[1]vivienda!AX26 -> 0 | ... S31: =[1]vivienda!BH26 -> 0
A32: =Cuadro01!A35 -> Fuente: Instituto Nacional de Estadística (INE). XL Encuesta Permanente de Hogares de Propósitos Múltiples, Septiembre 2010.
A33: /1 Porcentaje por columnas
A34: /2 Porcentaje por filas

Sheet Cuadro04
A1: Cuadro No. 4. Total hogares y hogares con hacinamiento segun dominio, nivel educativo del jefe, sexo del jefe, quintil de ingreso y edad del jefe
A3: Categorias | B3: Total Hogares | C3: Hogares con Hacinamiento* | F3: Total Hogares | J3: Hogares con Hacinamiento
C4: No. | D4: %/1 | E4: %/2 | F4: Personas por Hogar | G4: Piezas | H4: Piezas para Dormir | I4: Personas por Habitacion | J4: Personas por Hogar | K4: Piezas | L4: Piezas para Dormir | M4: Personas por Habitacion
A6: Total Nacional | B6: =[1]vivienda!C33 -> 1753675.5 | C6: =[1]vivienda!D33 -> 149830.19 | D6: =+C6/C$6*100 -> 100 | E6: =+C6/B6*100 -> 8.5437806 | F6: =[1]vivienda!E33 -> 4.6152229 | G6: =[1]vivienda!F33 -> 3.6378652 | H6: =[1]vivienda!G33 -> 1.8132107 | I6: =[1]vivienda!H33 -> 1.630241 | J6: =[1]vivienda!I33 -> 6.74808 | K6: =[1]vivienda!J33 -> 1.5612015 | L6: =[1]vivienda!K33 -> 1.1627052 | M6: =[1]vivienda!L33 -> 4.7759057
A8: Dominio
A9: Urbano | B9: =[1]vivienda!C34 -> 850957.62 | C9: =[1]vivienda!D34 -> 64315.886 | D9: =+C9/C$6*100 -> 42.925853 | E9: =+C9/B9*100 -> 7.5580598 | F9: =[1]vivienda!E34 -> 4.3252577 | G9: =[1]vivienda!F34 -> 3.7946875 | H9: =[1]vivienda!G34 -> 1.9135438 | I9: =[1]vivienda!H34 -> 1.5196197 | J9: =[1]vivienda!I34 -> 5.8381317 | K9: =[1]vivienda!J34 -> 1.3254971 | L9: =[1]vivienda!K34 -> 1.1185659 | M9: =[1]vivienda!L34 -> 4.7931837
A10: Distrito Central | B10: =[1]vivienda!C35 -> 238923.26 | C10: =[1]vivienda!D35 -> 22215.054 | D10: =+C10/C$6*100 -> 14.826821 | E10: =+C10/B10*100 -> 9.2979872 | F10: =[1]vivienda!E35 -> 4.2322042 | G10: =[1]vivienda!F35 -> 3.8167695 | H10: =[1]vivienda!G35 -> 1.9786942 | I10: =[1]vivienda!H35 -> 1.5797686 | J10: =[1]vivienda!I35 -> 5.5533263 | K10: =[1]vivienda!J35 -> 1.2777191 | L10: =[1]vivienda!K35 -> 1.0813094 | M10: =[1]vivienda!L35 -> 4.6907779
A11: San Pedro Sula | B11: =[1]vivienda!C36 -> 140713.19 | C11: =[1]vivienda!D36 -> 12471.571 | D11: =+C11/C$6*100 -> 8.323804 | E11: =+C11/B11*100 -> 8.8631141 | F11: =[1]vivienda!E36 -> 4.2620637 | G11: =[1]vivienda!F36 -> 3.7221111 | H11: =[1]vivienda!G36 -> 1.9428822 | I11: =[1]vivienda!H36 -> 1.571406 | J11: =[1]vivienda!I36 -> 5.1851852 | K11: =[1]vivienda!J36 -> 1.1481481 | L11: =[1]vivienda!K36 -> 1.0987654 | M11: =[1]vivienda!L36 -> 4.7674897
A12: Resto Urbano | B12: =[1]vivienda!C37 -> 471321.17 | C12: =[1]vivienda!D37 -> 29629.261 | D12: =+C12/C$6*100 -> 19.775228 | E12: =+C12/B12*100 -> 6.286427 | F12: =[1]vivienda!E37 -> 4.3912952 | G12: =[1]vivienda!F37 -> 3.8055621 | H12: =[1]vivienda!G37 -> 1.8717586 | I12: =[1]vivienda!H37 -> 1.474383 | J12: =[1]vivienda!I37 -> 6.3265082 | K12: =[1]vivienda!J37 -> 1.4359694 | L12: =[1]vivienda!K37 -> 1.1548341 | M12: =[1]vivienda!L37 -> 4.8807794
A13: Rural | B13: =[1]vivienda!C38 -> 902717.85 | C13: =[1]vivienda!D38 -> 85514.3 | D13: =+C13/C$6*100 -> 57.074147 | E13: =+C13/B13*100 -> 9.472982 | F13: =[1]vivienda!E38 -> 4.8885621 | G13: =[1]vivienda!F38 -> 3.4908956 | H13: =[1]vivienda!G38 -> 1.7186306 | I13: =[1]vivienda!H38 -> 1.7339124 | J13: =[1]vivienda!I38 -> 7.4324584 | K13: =[1]vivienda!J38 -> 1.7384763 | L13: =[1]vivienda!K38 -> 1.1959027 | M13: =[1]vivienda!L38 -> 4.7629108
A15: Nivel Educativo del Jefe
A16: Sin Nivel | B16: =[1]vivienda!C40 -> 350529.83 | C16: =[1]vivienda!D40 -> 42679.538 | D16: =+C16/C$6*100 -> 28.485273 | E16: =+C16/B16*100 -> 12.175722 | F16: =[1]vivienda!E40 -> 4.8739663 | G16: =[1]vivienda!F40 -> 3.1997715 | H16: =[1]vivienda!G40 -> 1.6478644 | I16: =[1]vivienda!H40 -> 1.9108406 | J16: =[1]vivienda!I40 -> 7.4564786 | K16: =[1]vivienda!J40 -> 1.6687376 | L16: =[1]vivienda!K40 -> 1.1706211 | M16: =[1]vivienda!L40 -> 5.0409458
A17: Primaria | B17: =[1]vivienda!C41 -> 976156.11 | C17: =[1]vivienda!D41 -> 92325.781 | D17: =+C17/C$6*100 -> 61.620281 | E17: =+C17/B17*100 -> 9.4580959 | F17: =[1]vivienda!E41 -> 4.8045854 | G17: =[1]vivienda!F41 -> 3.5448857 | H17: =[1]vivienda!G41 -> 1.784694 | I17: =[1]vivienda!H41 -> 1.7098483 | J17: =[1]vivienda!I41 -> 6.6685737 | K17: =[1]vivienda!J41 -> 1.568514 | L17: =[1]vivienda!K41 -> 1.1737899 | M17: =[1]vivienda!L41 -> 4.6713568
A18: Secundaria | B18: =[1]vivienda!C42 -> 304786.87 | C18: =[1]vivienda!D42 -> 13365.904 | D18: =+C18/C$6*100 -> 8.9207018 | E18: =+C18/B18*100 -> 4.3853281 | F18: =[1]vivienda!E42 -> 4.0058407 | G18: =[1]vivienda!F42 -> 3.9664958 | H18: =[1]vivienda!G42 -> 1.9086186 | I18: =[1]vivienda!H42 -> 1.29778 | J18: =[1]vivienda!I42 -> 5.2277262 | K18: =[1]vivienda!J42 -> 1.2285674 | L18: =[1]vivienda!K42 -> 1.078621 | M18: =[1]vivienda!L42 -> 4.6289778
A19: Superior | B19: =[1]vivienda!C43 -> 113745.63 | C19: =[1]vivienda!D43 -> 900.97417 | D19: =+C19/C$6*100 -> 0.60133021 | E19: =+C19/B19*100 -> 0.79209564 | F19: =[1]vivienda!E43 -> 3.8326504 | G19: =[1]vivienda!F43 -> 4.9515895 | H19: =[1]vivienda!G43 -> 2.3037777 | I19: =[1]vivienda!H43 -> 0.92749276 | J19: =[1]vivienda!I43 -> 4.6885544 | K19: =[1]vivienda!J43 -> 1 | L19: =[1]vivienda!K43 -> 1 | M19: =[1]vivienda!L43 -> 4.6885544
A20: Ns / Nr | B20: =[1]vivienda!C44 -> 8457.0331 | C20: =[1]vivienda!D44 -> 557.98827 | D20: =+C20/C$6*100 -> 0.37241379 | E20: =+C20/B20*100 -> 6.5979199 | F20: =[1]vivienda!E44 -> 4.5207858 | G20: =[1]vivienda!F44 -> 3.8418232 | H20: =[1]vivienda!G44 -> 1.9215969 | I20: =[1]vivienda!H44 -> 1.7274808 | J20: =[1]vivienda!I44 -> 5.4628344 | K20: =[1]vivienda!J44 -> 1 | L20: =[1]vivienda!K44 -> 1 | M20: =[1]vivienda!L44 -> 5.4628344
A22: Sexo del Jefe
A23: Hombre | B23: =[1]vivienda!C46 -> 1214994.1 | C23: =[1]vivienda!D46 -> 113121.17 | D23: =+C23/C$6*100 -> 75.499583 | E23: =+C23/B23*100 -> 9.3104292 | F23: =[1]vivienda!E46 -> 4.793474 | G23: =[1]vivienda!F46 -> 3.6205292 | H23: =[1]vivienda!G46 -> 1.8074792 | I23: =[1]vivienda!H46 -> 1.6952809 | J23: =[1]vivienda!I46 -> 6.7994005 | K23: =[1]vivienda!J46 -> 1.5613109 | L23: =[1]vivienda!K46 -> 1.1536337 | M23: =[1]vivienda!L46 -> 4.7439404
A24: Mujer | B24: =[1]vivienda!C47 -> 538681.38 | C24: =[1]vivienda!D47 -> 36709.021 | D24: =+C24/C$6*100 -> 24.500417 | E24: =+C24/B24*100 -> 6.8146073 | F24: =[1]vivienda!E47 -> 4.2131783 | G24: =[1]vivienda!F47 -> 3.6769236 | H24: =[1]vivienda!G47 -> 1.8261382 | I24: =[1]vivienda!H47 -> 1.4837047 | J24: =[1]vivienda!I47 -> 6.5899328 | K24: =[1]vivienda!J47 -> 1.5608643 | L24: =[1]vivienda!K47 -> 1.1906597 | M24: =[1]vivienda!L47 -> 4.8744088
A26: Quintil del Hogar
A27: Quintil 1 | B27: =[1]vivienda!C49 -> 349465.7 | C27: =[1]vivienda!D49 -> 52458.126 | D27: =+C27/C$6*100 -> 35.01172 | E27: =+C27/B27*100 -> 15.010951 | F27: =[1]vivienda!E49 -> 5.4023795 | G27: =[1]vivienda!F49 -> 3.1375849 | H27: =[1]vivienda!G49 -> 1.5902343 | I27: =[1]vivienda!H49 -> 2.1250914 | J27: =[1]vivienda!I49 -> 7.2959419 | K27: =[1]vivienda!J49 -> 1.7022946 | L27: =[1]vivienda!K49 -> 1.1579166 | M27: =[1]vivienda!L49 -> 4.7938897
A28: Quintil 2 | B28: =[1]vivienda!C50 -> 349504.79 | C28: =[1]vivienda!D50 -> 38883.592 | D28: =+C28/C$6*100 -> 25.951775 | E28: =+C28/B28*100 -> 11.125339 | F28: =[1]vivienda!E50 -> 5.134673 | G28: =[1]vivienda!F50 -> 3.3557068 | H28: =[1]vivienda!G50 -> 1.7162083 | I28: =[1]vivienda!H50 -> 1.9035898 | J28: =[1]vivienda!I50 -> 7.254284 | K28: =[1]vivienda!J50 -> 1.633174 | L28: =[1]vivienda!K50 -> 1.2114824 | M28: =[1]vivienda!L50 -> 4.8904846
A29: Quintil 3 | B29: =[1]vivienda!C51 -> 349280.13 | C29: =[1]vivienda!D51 -> 34634.194 | D29: =+C29/C$6*100 -> 23.115632 | E29: =+C29/B29*100 -> 9.9158786 | F29: =[1]vivienda!E51 -> 4.763458 | G29: =[1]vivienda!F51 -> 3.5309408 | H29: =[1]vivienda!G51 -> 1.7921823 | I29: =[1]vivienda!H51 -> 1.7297557 | J29: =[1]vivienda!I51 -> 6.3797648 | K29: =[1]vivienda!J51 -> 1.4638691 | L29: =[1]vivienda!K51 -> 1.1885683 | M29: =[1]vivienda!L51 -> 4.7732157
A30: Quintil 4 | B30: =[1]vivienda!C52 -> 349672.94 | C30: =[1]vivienda!D52 -> 19580.821 | D30: =+C30/C$6*100 -> 13.068676 | E30: =+C30/B30*100 -> 5.5997531 | F30: =[1]vivienda!E52 -> 4.2453306 | G30: =[1]vivienda!F52 -> 3.7388157 | H30: =[1]vivienda!G52 -> 1.9104513 | I30: =[1]vivienda!H52 -> 1.4509065 | J30: =[1]vivienda!I52 -> 5.417744 | K30: =[1]vivienda!J52 -> 1.3109615 | L30: =[1]vivienda!K52 -> 1.0684363 | M30: =[1]vivienda!L52 -> 4.5704833
A31: Quintil 5 | B31: =[1]vivienda!C53 -> 349525.52 | C31: =[1]vivienda!D53 -> 4038.8695 | D31: =+C31/C$6*100 -> 2.6956314 | E31: =+C31/B31*100 -> 1.1555292 | F31: =[1]vivienda!E53 -> 3.5549818 | G31: =[1]vivienda!F53 -> 4.4143385 | H31: =[1]vivienda!G53 -> 2.0529025 | I31: =[1]vivienda!H53 -> 0.95708062 | J31: =[1]vivienda!I53 -> 4.5264667 | K31: =[1]vivienda!J53 -> 1.1161629 | L31: =[1]vivienda!K53 -> 1 | M31: =[1]vivienda!L53 -> 4.5032732
A32: No Declaran Ingresos | B32: =[1]vivienda!C54 -> 6226.402 | C32: =[1]vivienda!D54 -> 234.58346 | D32: =+C32/C$6*100 -> 0.15656622 | E32: =+C32/B32*100 -> 3.7675605 | F32: =[1]vivienda!E54 -> 3.2520914 | G32: =[1]vivienda!F54 -> 4.0643928 | H32: =[1]vivienda!G54 -> 2.0363664 | I32: =[1]vivienda!H54 -> 1.0300189 | J32: =[1]vivienda!I54 -> 4 | K32: =[1]vivienda!J54 -> 1 | L32: =[1]vivienda!K54 -> 1 | M32: =[1]vivienda!L54 -> 4
A34: Edad del jefe del hogar
A35: De Menos de 25 Años | B35: =[1]vivienda!C56 -> 137759.76 | C35: =[1]vivienda!D56 -> 9761.211 | D35: =+C35/C$6*100 -> 6.5148495 | E35: =+C35/B35*100 -> 7.0856766 | F35: =[1]vivienda!E56 -> 3.1987654 | G35: =[1]vivienda!F56 -> 2.7468045 | H35: =[1]vivienda!G56 -> 1.2649746 | I35: =[1]vivienda!H56 -> 1.6552426 | J35: =[1]vivienda!I56 -> 4.5784742 | K35: =[1]vivienda!J56 -> 1.0438166 | L35: =[1]vivienda!K56 -> 1.0157737 | M35: =[1]vivienda!L56 -> 4.4093423
A36: De 26 - 30 Años | B36: =[1]vivienda!C57 -> 155724.32 | C36: =[1]vivienda!D57 -> 13537.279 | D36: =+C36/C$6*100 -> 9.0350815 | E36: =+C36/B36*100 -> 8.6931057 | F36: =[1]vivienda!E57 -> 3.9089937 | G36: =[1]vivienda!F57 -> 3.0120045 | H36: =[1]vivienda!G57 -> 1.4065255 | I36: =[1]vivienda!H57 -> 1.7269426 | J36: =[1]vivienda!I57 -> 5.1279968 | K36: =[1]vivienda!J57 -> 1.150164 | L36: =[1]vivienda!K57 -> 1.0218707 | M36: =[1]vivienda!L57 -> 4.7141446
A37: De 31 - 40 Años | B37: =[1]vivienda!C58 -> 361366.75 | C37: =[1]vivienda!D58 -> 41483.119 | D37: =+C37/C$6*100 -> 27.686757 | E37: =+C37/B37*100 -> 11.479507 | F37: =[1]vivienda!E58 -> 4.7914959 | G37: =[1]vivienda!F58 -> 3.3858406 | H37: =[1]vivienda!G58 -> 1.6939095 | I37: =[1]vivienda!H58 -> 1.8422054 | J37: =[1]vivienda!I58 -> 6.1018483 | K37: =[1]vivienda!J58 -> 1.3643299 | L37: =[1]vivienda!K58 -> 1.0723811 | M37: =[1]vivienda!L58 -> 4.7886247
A38: De 41 - 50 Años | B38: =[1]vivienda!C59 -> 361419 | C38: =[1]vivienda!D59 -> 35306.645 | D38: =+C38/C$6*100 -> 23.56444 | E38: =+C38/B38*100 -> 9.7688957 | F38: =[1]vivienda!E59 -> 5.1773297 | G38: =[1]vivienda!F59 -> 3.7857403 | H38: =[1]vivienda!G59 -> 1.97669 | I38: =[1]vivienda!H59 -> 1.7216783 | J38: =[1]vivienda!I59 -> 7.2091224 | K38: =[1]vivienda!J59 -> 1.6794665 | L38: =[1]vivienda!K59 -> 1.2077847 | M38: =[1]vivienda!L59 -> 4.7789561
A39: De 50 y mas Años | B39: =[1]vivienda!C60 -> 737405.66 | C39: =[1]vivienda!D60 -> 49741.931 | D39: =+C39/C$6*100 -> 33.198872 | E39: =+C39/B39*100 -> 6.7455315 | F39: =[1]vivienda!E60 -> 4.6670976 | G39: =[1]vivienda!F60 -> 3.9567306 | H39: =[1]vivienda!G60 -> 1.9798526 | I39: =[1]vivienda!H60 -> 1.4601109 | J39: =[1]vivienda!I60 -> 7.8264328 | K39: =[1]vivienda!J60 -> 1.8548358 | L39: =[1]vivienda!K60 -> 1.2731969 | M39: =[1]vivienda!L60 -> 4.851875
A40: =Cuadro01!A35 -> Fuente: Instituto Nacional de Estadística (INE). XL Encuesta Permanente de Hogares de Propósitos Múltiples, Septiembre 2010.
A41: /1 Porcentaje por columnas
A42: /2 Porcentaje por filas
A43: *Hacinamiento > 3 personas por pieza
