Workbook

Sheet Portada

Sheet Cuadro01
A3: Cuadro 1. Hogares por nivel de pobreza según dominio 1/
A4: (Valor Absoluto)
A6: Dominio | B6: Total | C6: No pobres | D6: Pobres 2/ | H6: Costo canasta básica
D7: Total | E7: Relativa 3/ | F7: Extrema 4/ | H7: Alimentos (Lps/mes/persona) 5/ | I7: Básica (Lps/mes/persona) 6/
A9: Total Nacional | B9: =+B11+B15 -> 1718337.8 | C9: =+C11+C15 -> 654172.45 | D9: =+D11+D15 -> 1064165.3 | E9: =+E11+E15 -> 348678.92 | F9: =+F11+F15 -> 715486.4
A11: Urbano | B11: =+B12+B13+B14 -> 840264.59 | C11: =+C12+C13+C14 -> 348682.55 | D11: =+D12+D13+D14 -> 491582.04 | E11: =+E12+E13+E14 -> 249670.4 | F11: =+F12+F13+F14 -> 241911.64 | H11: 1362.54 | I11: 2725.08
A12: Distrito Central | B12: =[1]Pobreza!C7 -> 230215.21 | C12: =[1]Pobreza!E7 -> 120284.43 | D12: =[1]Pobreza!G7 -> 109930.78 | E12: =[1]Pobreza!I7 -> 66672.983 | F12: =[1]Pobreza!K7 -> 43257.796
A13: San Pedro Sula | B13: =[1]Pobreza!C8 -> 142569.47 | C13: =[1]Pobreza!E8 -> 67924.349 | D13: =[1]Pobreza!G8 -> 74645.117 | E13: =[1]Pobreza!I8 -> 40706.831 | F13: =[1]Pobreza!K8 -> 33938.285
A14: Resto urbano | B14: =[1]Pobreza!C9 -> 467479.91 | C14: =[1]Pobreza!E9 -> 160473.77 | D14: =[1]Pobreza!G9 -> 307006.14 | E14: =[1]Pobreza!I9 -> 142290.58 | F14: =[1]Pobreza!K9 -> 164715.56
A15: Rural | B15: =[1]Pobreza!C10 -> 878073.19 | C15: =[1]Pobreza!E10 -> 305489.9 | D15: =[1]Pobreza!G10 -> 572583.29 | E15: =[1]Pobreza!I10 -> 99008.526 | F15: =[1]Pobreza!K10 -> 473574.76 | H15: 1082.88 | I15: 1445.64
A17: =[2]Resumen!A46 -> Fuente: Instituto Nacional de Estadística (INE). XLI Encuesta Permanente de Hogares de Propósitos Múltiples, Mayo 2011.
A20: Hogares por nivel de pobreza según dominio
A21: (Porcentaje)
A23: Dominio | B23: Total | C23: No pobres | D23: Pobres
D24: Total | E24: Relativa | F24: Extrema
A26: Total Nacional | B26: 100 | C26: =+C9/$B9*100 -> 38.070073 | D26: =+D9/$B9*100 -> 61.929927 | E26: =+E9/$B9*100 -> 20.291641 | F26: =+F9/$B9*100 -> 41.638286
A28: Urbano | B28: 100 | C28: =+C11/$B11*100 -> 41.496757 | D28: =+D11/$B11*100 -> 58.503243 | E28: =+E11/$B11*100 -> 29.713307 | F28: =+F11/$B11*100 -> 28.789936
A29: Distrito Central | B29: 100 | C29: =+C12/$B12*100 -> 52.24869 | D29: =+D12/$B12*100 -> 47.75131 | E29: =+E12/$B12*100 -> 28.961154 | F29: =+F12/$B12*100 -> 18.790155
A30: San Pedro Sula | B30: 100 | C30: =+C13/$B13*100 -> 47.642985 | D30: =+D13/$B13*100 -> 52.357015 | E30: =+E13/$B13*100 -> 28.552279 | F30: =+F13/$B13*100 -> 23.804736
A31: Resto urbano | B31: 100 | C31: =+C14/$B14*100 -> 34.327415 | D31: =+D14/$B14*100 -> 65.672585 | E31: =+E14/$B14*100 -> 30.437797 | F31: =+F14/$B14*100 -> 35.234788
A32: Rural | B32: 100 | C32: =+C15/$B15*100 -> 34.790938 | D32: =+D15/$B15*100 -> 65.209062 | E32: =+E15/$B15*100 -> 11.275658 | F32: =+F15/$B15*100 -> 53.933404
A34: =A17 -> Fuente: Instituto Nacional de Estadística (INE). XLI Encuesta Permanente de Hogares de Propósitos Múltiples, Mayo 2011.
A39: 1. Pobreza medida por el Método de la Línea de Pobreza, definida como el costo de la Canasta Básica.
A40: 2. Pobres: Hogares cuyos ingresos percápita, se encuentran por debajo de la Línea de Pobreza.
A41: 3. Pobreza relativa: Hogares cuyo ingreso es menor que el costo de la Canasta Básica 6/ y mayor que el costo da la Canasta Básica de Alimentos 5/.
A42: 4. Pobreza extrema: Hogares que tienen un ingreso percápita inferior al costo de la Canasta Básica de Alimentos.
A43: 5. Canasta Básica de Alimentos: Es la canasta de alimentos observada, ajustada para satisfacer los requerimientos nutricionales necesarios para desarrollar un nivel de actividad medio.
A44: 6. Canasta Básica: Además de los alimentos básicos, satisface necesidades básicas como ser vivienda, educación, salud, transporte etc.

Sheet Cuadro02
A3: Cuadro 2. Personas que viven en hogares por nivel de pobreza según dominio
A4: (Valor Absoluto)
A6: Dominio | B6: Total | C6: No pobres | D6: Pobreza | H6: Costo canasta básica
D7: Total | E7: Relativa | F7: Extrema | H7: Alimentos (Lps/mes/persona) 5/ | I7: Básica (Lps/mes/persona) 6/
A9: Total Nacional | B9: =+B11+B15 -> 8127695.9 | C9: =+C11+C15 -> 2634305.4 | D9: =+D11+D15 -> 5493390.5 | E9: =+E11+E15 -> 1683036.2 | F9: =+F11+F15 -> 3810354.2
A11: Urbano | B11: =+B12+B13+B14 -> 3677091.8 | C11: =+C12+C13+C14 -> 1297850.5 | D11: =+D12+D13+D14 -> 2379241.2 | E11: =+E12+E13+E14 -> 1183561.2 | F11: =+F12+F13+F14 -> 1195680.1 | H11: =Cuadro01!H11 -> 1362.54 | I11: =Cuadro01!I11 -> 2725.08
A12: Distrito Central | B12: =[1]Pobreza!D7 -> 1013429.3 | C12: =[1]Pobreza!F7 -> 466346.8 | D12: =[1]Pobreza!H7 -> 547082.55 | E12: =[1]Pobreza!J7 -> 329496.52 | F12: =[1]Pobreza!L7 -> 217586.03
A13: San Pedro Sula | B13: =[1]Pobreza!D8 -> 594055.37 | C13: =[1]Pobreza!F8 -> 248142.86 | D13: =[1]Pobreza!H8 -> 345912.51 | E13: =[1]Pobreza!J8 -> 182034.07 | F13: =[1]Pobreza!L8 -> 163878.44
A14: Resto urbano | B14: =[1]Pobreza!D9 -> 2069607.1 | C14: =[1]Pobreza!F9 -> 583360.88 | D14: =[1]Pobreza!H9 -> 1486246.2 | E14: =[1]Pobreza!J9 -> 672030.6 | F14: =[1]Pobreza!L9 -> 814215.59
A15: Rural | B15: =[1]Pobreza!D10 -> 4450604.1 | C15: =[1]Pobreza!F10 -> 1336454.9 | D15: =[1]Pobreza!H10 -> 3114149.2 | E15: =[1]Pobreza!J10 -> 499475.05 | F15: =[1]Pobreza!L10 -> 2614674.2 | H15: =Cuadro01!H15 -> 1082.88 | I15: =Cuadro01!I15 -> 1445.64
A17: =Cuadro01!A17 -> Fuente: Instituto Nacional de Estadística (INE). XLI Encuesta Permanente de Hogares de Propósitos Múltiples, Mayo 2011.
A20: Personas que viven en hogares por nivel de pobreza según dominio
A21: (Porcentaje)
A23: Dominio | B23: Total | C23: No pobres | D23: Pobres
D24: Total | E24: Relativa | F24: Extrema
A26: Total Nacional | B26: 100 | C26: =+C9/$B9*100 -> 32.411466 | D26: =+D9/$B9*100 -> 67.588534 | E26: =+E9/$B9*100 -> 20.707421 | F26: =+F9/$B9*100 -> 46.881112
A28: Urbano | B28: 100 | C28: =+C11/$B11*100 -> 35.295571 | D28: =+D11/$B11*100 -> 64.704429 | E28: =+E11/$B11*100 -> 32.187426 | F28: =+F11/$B11*100 -> 32.517003
A29: Distrito Central | B29: 100 | C29: =+C12/$B12*100 -> 46.016706 | D29: =+D12/$B12*100 -> 53.983294 | E29: =+E12/$B12*100 -> 32.513023 | F29: =+F12/$B12*100 -> 21.470271
A30: San Pedro Sula | B30: 100 | C30: =+C13/$B13*100 -> 41.770998 | D30: =+D13/$B13*100 -> 58.229002 | E30: =+E13/$B13*100 -> 30.64261 | F30: =+F13/$B13*100 -> 27.586392
A31: Resto urbano | B31: 100 | C31: =+C14/$B14*100 -> 28.187036 | D31: =+D14/$B14*100 -> 71.812964 | E31: =+E14/$B14*100 -> 32.47141 | F31: =+F14/$B14*100 -> 39.341554
A32: Rural | B32: 100 | C32: =+C15/$B15*100 -> 30.028618 | D32: =+D15/$B15*100 -> 69.971382 | E32: =+E15/$B15*100 -> 11.222635 | F32: =+F15/$B15*100 -> 58.748748
A34: =A17 -> Fuente: Instituto Nacional de Estadística (INE). XLI Encuesta Permanente de Hogares de Propósitos Múltiples, Mayo 2011.

Sheet Cuadro03
A1: Cuadro 3. Hogares por nivel de pobreza
A2: Periodo 2001- 2011
A3: (Valor Absoluto)
A5: Período | B5: Número de Hogares | F5: Pobreza | I5: Canasta Básica (Lps/mes/hogar)
B6: Total | C6: No pobres | D6: Pobres | F6: Relativa | G6: Extrema | I6: Urbano | J6: Rural
A8: 2001 | B8: 1235165.5 | C8: 448636.87 | D8: 786528.67 | F8: 240263.31 | G8: 546265.36 | I8: 1374 | J8: 738.6
A9: 2002 | B9: 1312021.6 | C9: 462357.32 | D9: 849664.31 | F9: 251847.71 | G9: 597816.6 | I9: 1398 | J9: 747.7
A10: 2003 | B10: 1357423.6 | C10: 471465.3 | D10: 885958.34 | F10: 252146.18 | G10: 633812.15 | I10: 1400 | J10: 750.65
A11: 2004 | B11: 1392151.4 | C11: 493021.75 | D11: 899129.62 | F11: 256456.7 | G11: 642672.92 | I11: 1516.92 | J11: 766.76
A12: 2005 | B12: 1459656.1 | C12: 530505.4 | D12: 929150.75 | F12: 256991.94 | G12: 672158.82 | I12: 1644.3 | J12: 836.2
A13: 2006 | B13: 1516226.9 | C13: 607336.29 | D13: 908890.65 | F13: 296483.26 | G13: 612407.4 | I13: 1775.1 | J13: 895.1
A14: 2007 | B14: 1608123.7 | C14: 671402.24 | D14: 936721.46 | F14: 334093.94 | G14: 602627.53 | I14: 1971.92 | J14: 1005.9
A15: 2008 | B15: 1650934.3 | C15: 674224.85 | D15: 976709.47 | F15: 378381.76 | G15: 598327.7 | I15: 2406.87 | J15: 1260.27
A16: 2009 | B16: 1688103.7 | C16: 696341.67 | D16: 991762.04 | F16: 376937.24 | G16: 614824.8 | I16: 2547.55 | J16: 1341.65
A17: 2010 | B17: =[3]Cuadro01!B7 -> 1732600.5 | C17: =[3]Cuadro01!C7 -> 693737.42 | D17: =[3]Cuadro01!D7 -> 1038863.1 | F17: =[3]Cuadro01!E7 -> 362130.2 | G17: =[3]Cuadro01!F7 -> 676732.85 | I17: 2647.08 | J17: 1379.02
A18: 2011 | B18: =Cuadro01!B9 -> 1718337.8 | C18: =Cuadro01!C9 -> 654172.45 | D18: =Cuadro01!D9 -> 1064165.3 | F18: =Cuadro01!E9 -> 348678.92 | G18: =Cuadro01!F9 -> 715486.4 | I18: =Cuadro01!I11 -> 2725.08 | J18: =Cuadro01!I15 -> 1445.64
A19: =Cuadro01!A17 -> Fuente: Instituto Nacional de Estadística (INE). XLI Encuesta Permanente de Hogares de Propósitos Múltiples, Mayo 2011.
A20: * Año 2000: Encuesta no realizada debido al cierre de la Dirección General de Estadística y Censo.
A21: Nota: Solo incluye los hogares que declaran ingreso
A22: Hogares por nivel de pobreza
A23: Periodo 2001- 2011
A24: (Porcentaje)
A26: Período | B26: Número de Hogares | F26: Pobreza
B27: Total | C27: No pobres | D27: Pobres | F27: Relativa | G27: Extrema
A29: 2001 | B29: 100 | C29: 36.322004 | D29: 63.677996 | F29: 19.451911 | G29: 44.226085
A30: 2002 | B30: 100 | C30: 35.240068 | D30: 64.759932 | F30: 19.195393 | G30: 45.564539
A31: 2003 | B31: 100 | C31: 34.732363 | D31: 65.267637 | F31: 18.575349 | G31: 46.692288
A32: 2004 | B32: 100 | C32: 35.414378 | D32: 64.585622 | F32: 18.42161 | G32: 46.164012
A33: 2005 | B33: 100 | C33: 36.344546 | D33: 63.655454 | F33: 17.606334 | G33: 46.04912
A34: 2006 | B34: 100 | C34: 40.055764 | D34: 59.944236 | F34: 19.554016 | G34: 40.39022
A35: 2007 | B35: 100 | C35: 41.750659 | D35: 58.249341 | F35: 20.775388 | G35: 37.473953
A36: 2008 | B36: 100 | C36: 40.838987 | D36: 59.161013 | F36: 22.91925 | G36: 36.241763
A37: 2009 | B37: 100 | C37: 41.249934 | D37: 58.750066 | F37: 22.329033 | G37: 36.421032
A38: 2010 | B38: 100 | C38: 40.040242 | D38: 59.959758 | F38: 20.900964 | G38: 39.058794
A39: 2011 | B39: =Cuadro02!B32 -> 100 | C39: =Cuadro01!C26 -> 38.070073 | D39: =Cuadro01!D26 -> 61.929927 | F39: =Cuadro01!E26 -> 20.291641 | G39: =Cuadro01!F26 -> 41.638286
A40: =A19 -> Fuente: Instituto Nacional de Estadística (INE). XLI Encuesta Permanente de Hogares de Propósitos Múltiples, Mayo 2011.
A41: * Año 2000: Encuesta no realizada debido al cierre de la Dirección General de Estadística y Censo.
A42: Nota: Solo incluye los hogares que declaran ingreso

Sheet Cuadro04
A3: Cuadro 4. Personas que viven en Hogares con ingreso percapita, de un dolar o menos por dia.
A5: Dominio | B5: Total | C5: Vive con mas de 1 Dolar por dia | E5: Vive con 1 dolar o menos por dia
C6: No | D6: % | E6: No | F6: %
A8: Total | B8: =+B10+B14 -> 8127695.9 | C8: =+C10+C14 -> 6379987.3 | D8: =+C8/B8*100 -> 78.496876 | E8: =+E10+E14 -> 1747708.6 | F8: =+E8/B8*100 -> 21.503124
A10: Urbano | B10: =+B11+B12+B13 -> 3677091.8 | C10: =+C11+C12+C13 -> 3330081.5 | D10: =+C10/B10*100 -> 90.562915 | E10: =+E11+E12+E13 -> 347010.27 | F10: =+E10/B10*100 -> 9.4370849
A11: Distrito Central | B11: =[1]Pobreza!C18 -> 1013429.3 | C11: =[1]Pobreza!D18 -> 955016.53 | D11: =+C11/B11*100 -> 94.236124 | E11: =[1]Pobreza!E18 -> 58412.815 | F11: =+E11/B11*100 -> 5.7638764
A12: San Pedro Sula | B12: =[1]Pobreza!C19 -> 594055.37 | C12: =[1]Pobreza!D19 -> 561375.23 | D12: =+C12/B12*100 -> 94.498807 | E12: =[1]Pobreza!E19 -> 32680.132 | F12: =+E12/B12*100 -> 5.501193
A13: Resto Urbano | B13: =[1]Pobreza!C20 -> 2069607.1 | C13: =[1]Pobreza!D20 -> 1813689.7 | D13: =+C13/B13*100 -> 87.634497 | E13: =[1]Pobreza!E20 -> 255917.33 | F13: =+E13/B13*100 -> 12.365503
A14: Rural | B14: =[1]Pobreza!C21 -> 4450604.1 | C14: =[1]Pobreza!D21 -> 3049905.8 | D14: =+C14/B14*100 -> 68.527907 | E14: =[1]Pobreza!E21 -> 1400698.3 | F14: =+E14/B14*100 -> 31.472093
A16: =Cuadro01!A17 -> Fuente: Instituto Nacional de Estadística (INE). XLI Encuesta Permanente de Hogares de Propósitos Múltiples, Mayo 2011.
A18: Tasa de cambio: 19.03 lempiras por un dólar Americano.

Sheet indicadores
A1: Indicadores de Pobreza
A3: Indicador | B3: 2001 | C3: 2002 | D3: 2003 | E3: 2004 | F3: 2005 | G3: 2006 | H3: 2007 | I3: 2008 | J3: 2009 | K3: 2010 | L3: 2011
A4: Total
A5: Hogares | B5: =[4]Vinculos!E4 -> 1235165.5 | C5: =[4]Vinculos!F4 -> 1312021.6 | D5: =[4]Vinculos!G4 -> 1357423.6 | E5: =[4]Vinculos!H4 -> 1396884 | F5: =[4]Vinculos!I4 -> 1459656.1 | G5: =[4]Vinculos!J4 -> 1516226.9 | H5: =[4]Vinculos!K4 -> 1608123.7 | I5: =[4]Vinculos!L4 -> 1650934.3 | ... L5: =[4]Vinculos!O4 -> 1718337.8
A6: Incidencia | B6: =[4]Vinculos!E5/[4]Vinculos!E4 -> 0.63677996 | C6: =[4]Vinculos!F5/[4]Vinculos!F4 -> 0.64759932 | D6: =[4]Vinculos!G5/[4]Vinculos!G4 -> 0.65051645 | E6: =[4]Vinculos!H5/[4]Vinculos!H4 -> 0.64705605 | F6: =[4]Vinculos!I5/[4]Vinculos!I4 -> 0.63655454 | G6: =[4]Vinculos!J5/[4]Vinculos!J4 -> 0.59944236 | H6: =[4]Vinculos!K5/[4]Vinculos!K4 -> 0.58249341 | I6: =[4]Vinculos!L5/[4]Vinculos!L4 -> 0.59161013 | ... L6: =[4]Vinculos!O5/[4]Vinculos!O4 -> 0.61929927
A7: Brecha | B7: =+B8/B6 -> 0.53284435 | C7: =+C8/C6 -> 0.53904312 | D7: =+D8/D6 -> 0.54946522 | E7: =+E8/E6 -> 0.55371094 | F7: =+F8/F6 -> 0.55449988 | G7: =+G8/G6 -> 0.52999327 | H7: =+H8/H6 -> 0.48694583 | I7: =+I8/I6 -> 0.46851331 | ... L7: =+L8/L6 -> 0.51196062
A8: Intensidad | B8: =[4]Vinculos!E6/[4]Vinculos!E4 -> 0.33930461 | C8: =[4]Vinculos!F6/[4]Vinculos!F4 -> 0.34908396 | D8: =[4]Vinculos!G6/[4]Vinculos!G4 -> 0.35743616 | E8: =[4]Vinculos!H6/[4]Vinculos!H4 -> 0.35828202 | F8: =[4]Vinculos!I6/[4]Vinculos!I4 -> 0.35296942 | G8: =[4]Vinculos!J6/[4]Vinculos!J4 -> 0.31770042 | H8: =[4]Vinculos!K6/[4]Vinculos!K4 -> 0.28364274 | I8: =[4]Vinculos!L6/[4]Vinculos!L4 -> 0.27717722 | ... L8: =[4]Vinculos!O6/[4]Vinculos!O4 -> 0.31705684
A9: Severidad | B9: =[4]Vinculos!E7/[4]Vinculos!E4 -> 0.22253175 | C9: =[4]Vinculos!F7/[4]Vinculos!F4 -> 0.23045234 | D9: =[4]Vinculos!G7/[4]Vinculos!G4 -> 0.24107078 | E9: =[4]Vinculos!H7/[4]Vinculos!H4 -> 0.24539476 | F9: =[4]Vinculos!I7/[4]Vinculos!I4 -> 0.24012383 | G9: =[4]Vinculos!J7/[4]Vinculos!J4 -> 0.21150055 | H9: =[4]Vinculos!K7/[4]Vinculos!K4 -> 0.17326254 | I9: =[4]Vinculos!L7/[4]Vinculos!L4 -> 0.16690963 | ... L9: =[4]Vinculos!O7/[4]Vinculos!O4 -> 0.203964
A11: Urbano
A12: Hogares | B12: =[4]Vinculos!E8 -> 612397.89 | C12: =[4]Vinculos!F8 -> 646708.51 | D12: =[4]Vinculos!G8 -> 663881.34 | E12: =[4]Vinculos!H8 -> 679966.31 | F12: =[4]Vinculos!I8 -> 723706.28 | G12: =[4]Vinculos!J8 -> 743823.55 | H12: =[4]Vinculos!K8 -> 789231.58 | I12: =[4]Vinculos!L8 -> 817241.6 | ... L12: =[4]Vinculos!O8 -> 840264.58
A13: Incidencia | B13: =[4]Vinculos!E9/[4]Vinculos!E8 -> 0.55904325 | C13: =[4]Vinculos!F9/[4]Vinculos!F8 -> 0.58003804 | D13: =[4]Vinculos!G9/[4]Vinculos!G8 -> 0.57032446 | E13: =[4]Vinculos!H9/[4]Vinculos!H8 -> 0.57124588 | F13: =[4]Vinculos!I9/[4]Vinculos!I8 -> 0.57740137 | G13: =[4]Vinculos!J9/[4]Vinculos!J8 -> 0.52860457 | H13: =[4]Vinculos!K9/[4]Vinculos!K8 -> 0.51030162 | I13: =[4]Vinculos!L9/[4]Vinculos!L8 -> 0.5515786 | ... L13: =[4]Vinculos!O9/[4]Vinculos!O8 -> 0.58503244
A14: Brecha | B14: =+B15/B13 -> 0.47056908 | C14: =+C15/C13 -> 0.48724397 | D14: =+D15/D13 -> 0.50541254 | E14: =+E15/E13 -> 0.50200102 | F14: =+F15/F13 -> 0.49381344 | G14: =+G15/G13 -> 0.46123184 | H14: =+H15/H13 -> 0.44383621 | I14: =+I15/I13 -> 0.44339431 | ... L14: =+L15/L13 -> 0.48960874
A15: Intensidad | B15: =[4]Vinculos!E10/[4]Vinculos!E8 -> 0.26306847 | C15: =[4]Vinculos!F10/[4]Vinculos!F8 -> 0.28262004 | D15: =[4]Vinculos!G10/[4]Vinculos!G8 -> 0.28824914 | E15: =[4]Vinculos!H10/[4]Vinculos!H8 -> 0.28676601 | F15: =[4]Vinculos!I10/[4]Vinculos!I8 -> 0.28512856 | G15: =[4]Vinculos!J10/[4]Vinculos!J8 -> 0.24380926 | H15: =[4]Vinculos!K10/[4]Vinculos!K8 -> 0.22649034 | I15: =[4]Vinculos!L10/[4]Vinculos!L8 -> 0.24456681 | ... L15: =[4]Vinculos!O10/[4]Vinculos!O8 -> 0.28643699
A16: Severidad | B16: =[4]Vinculos!E11/[4]Vinculos!E8 -> 0.15790733 | C16: =[4]Vinculos!F11/[4]Vinculos!F8 -> 0.17437325 | D16: =[4]Vinculos!G11/[4]Vinculos!G8 -> 0.18534159 | E16: =[4]Vinculos!H11/[4]Vinculos!H8 -> 0.18534562 | F16: =[4]Vinculos!I11/[4]Vinculos!I8 -> 0.1777465 | G16: =[4]Vinculos!J11/[4]Vinculos!J8 -> 0.1458068 | H16: =[4]Vinculos!K11/[4]Vinculos!K8 -> 0.12857801 | I16: =[4]Vinculos!L11/[4]Vinculos!L8 -> 0.14189966 | ... L16: =[4]Vinculos!O11/[4]Vinculos!O8 -> 0.17889695
A18: Rural
A19: Hogares | B19: =[4]Vinculos!E12 -> 622767.66 | C19: =[4]Vinculos!F12 -> 665313.11 | D19: =[4]Vinculos!G12 -> 693542.3 | E19: =[4]Vinculos!H12 -> 716917.69 | F19: =[4]Vinculos!I12 -> 735949.87 | G19: =[4]Vinculos!J12 -> 772403.4 | H19: =[4]Vinculos!K12 -> 818892.12 | I19: =[4]Vinculos!L12 -> 833692.72 | ... L19: =[4]Vinculos!O12 -> 878073.19
A20: Incidencia | B20: =[4]Vinculos!E13/[4]Vinculos!E12 -> 0.71322227 | C20: =[4]Vinculos!F13/[4]Vinculos!F12 -> 0.71327133 | D20: =[4]Vinculos!G13/[4]Vinculos!G12 -> 0.72727883 | E20: =[4]Vinculos!H13/[4]Vinculos!H12 -> 0.71895882 | F20: =[4]Vinculos!I13/[4]Vinculos!I12 -> 0.69472362 | G20: =[4]Vinculos!J13/[4]Vinculos!J12 -> 0.66765906 | H20: =[4]Vinculos!K13/[4]Vinculos!K12 -> 0.65207039 | I20: =[4]Vinculos!L13/[4]Vinculos!L12 -> 0.63085172 | ... L20: =[4]Vinculos!O13/[4]Vinculos!O12 -> 0.65209062
A21: Brecha | B21: =+B22/B20 -> 0.58084463 | C21: =+C22/C20 -> 0.57998868 | D21: =+D22/D20 -> 0.58253345 | E21: =+E22/E20 -> 0.5926792 | F21: =+F22/F20 -> 0.60409872 | G21: =+G22/G20 -> 0.58241928 | H21: =+H22/H20 -> 0.51946088 | I21: =+I22/I20 -> 0.49004246 | ... L21: =+L22/L20 -> 0.53115047
A22: Intensidad | B22: =[4]Vinculos!E14/[4]Vinculos!E12 -> 0.41427133 | C22: =[4]Vinculos!F14/[4]Vinculos!F12 -> 0.4136893 | D22: =[4]Vinculos!G14/[4]Vinculos!G12 -> 0.42366425 | E22: =[4]Vinculos!H14/[4]Vinculos!H12 -> 0.42611194 | F22: =[4]Vinculos!I14/[4]Vinculos!I12 -> 0.41968165 | G22: =[4]Vinculos!J14/[4]Vinculos!J12 -> 0.38885751 | H22: =[4]Vinculos!K14/[4]Vinculos!K12 -> 0.33872506 | I22: =[4]Vinculos!L14/[4]Vinculos!L12 -> 0.30914413 | ... L22: =[4]Vinculos!O14/[4]Vinculos!O12 -> 0.34635824
A23: Severidad | B23: =[4]Vinculos!E15/[4]Vinculos!E12 -> 0.28608009 | C23: =[4]Vinculos!F15/[4]Vinculos!F12 -> 0.28496325 | D23: =[4]Vinculos!G15/[4]Vinculos!G12 -> 0.29441658 | E23: =[4]Vinculos!H15/[4]Vinculos!H12 -> 0.30234884 | F23: =[4]Vinculos!I15/[4]Vinculos!I12 -> 0.30146342 | G23: =[4]Vinculos!J15/[4]Vinculos!J12 -> 0.27476355 | H23: =[4]Vinculos!K15/[4]Vinculos!K12 -> 0.21632858 | I23: =[4]Vinculos!L15/[4]Vinculos!L12 -> 0.19142609 | ... L23: =[4]Vinculos!O15/[4]Vinculos!O12 -> 0.2279517
A25: Fuente: Instituto Nacional de Estadística (INE). XLI Encuesta Permanente de Hogares de Propósitos Múltiples, Mayo 2011.
