Workbook

Sheet Portada

Sheet C01
A3: Cuadro No. 1. Población Económicamente Activa (PEA) en condición de empleo, según dominio, rama de actividad y ocupación
A4: Categorías | B4: PEA | D4: Ocupados | F4: Desocupados | I4: Subempleo Visible | L4: Subempleo Invisible
B5: No. | C5: AEP | D5: No. | E5: AEP | F5: No. | G5: AEP | H5: TDA | I5: No. | J5: AEP | K5: TSV | L5: No. | M5: AEP | N5: TSI
A7: Total Nacional | B7: =[1]ProEmp!C8 -> 3369918.7 | C7: =[1]ProEmp!D8 -> 7.4192967 | D7: =[1]ProEmp!E8 -> 3226135.3 | E7: =[1]ProEmp!F8 -> 7.3164623 | F7: =[1]ProEmp!G8 -> 143783.39 | G7: =[1]ProEmp!H8 -> 9.5208985 | H7: =F7/B7*100 -> 4.2666724 | I7: =[1]ProEmp!I8 -> 333969.16 | J7: =[1]ProEmp!J8 -> 7.2942285 | K7: =IF(ISNUMBER(I7/D7*100),I7/D7*100,0) -> 10.351989 | L7: =[1]ProEmp!K8 -> 1170974.8 | M7: =[1]ProEmp!L8 -> 6.2009567 | N7: =IF(ISNUMBER(L7/D7*100),L7/D7*100,0) -> 36.296519
A9: Dominio
A10: Urbano | B10: =SUM(B11:B13) -> 1603305.4 | C10: =AVERAGE(C11:C13) -> 9.2837201 | D10: =SUM(D11:D13) -> 1494287.1 | E10: =AVERAGE(E11:E13) -> 9.2250121 | F10: =SUM(F11:F13) -> 109018.26 | G10: =AVERAGE(G11:G13) -> 10.051472 | H10: =F10/B10*100 -> 6.7995943 | I10: =SUM(I11:I13) -> 157767.09 | J10: =AVERAGE(J11:J13) -> 8.7147848 | K10: =IF(ISNUMBER(I10/D10*100),I10/D10*100,0) -> 10.558017 | L10: =SUM(L11:L13) -> 460425.75 | M10: =AVERAGE(M11:M13) -> 7.5417413 | N10: =IF(ISNUMBER(L10/D10*100),L10/D10*100,0) -> 30.812401
A11: Distrito Central | B11: =[1]ProEmp!C9 -> 467188.75 | C11: =[1]ProEmp!D9 -> 9.967057 | D11: =[1]ProEmp!E9 -> 423180.03 | E11: =[1]ProEmp!F9 -> 9.8857046 | F11: =[1]ProEmp!G9 -> 44008.72 | G11: =[1]ProEmp!H9 -> 10.720481 | H11: =F11/B11*100 -> 9.4199016 | I11: =[1]ProEmp!I9 -> 55477.384 | J11: =[1]ProEmp!J9 -> 8.9714411 | K11: =IF(ISNUMBER(I11/D11*100),I11/D11*100,0) -> 13.109641 | L11: =[1]ProEmp!K9 -> 106585.75 | M11: =[1]ProEmp!L9 -> 7.7426807 | N11: =IF(ISNUMBER(L11/D11*100),L11/D11*100,0) -> 25.186858
A12: San Pedro Sula | B12: =[1]ProEmp!C10 -> 259402.53 | C12: =[1]ProEmp!D10 -> 9.3501036 | D12: =[1]ProEmp!E10 -> 246757.29 | E12: =[1]ProEmp!F10 -> 9.3191112 | F12: =[1]ProEmp!G10 -> 12645.236 | G12: =[1]ProEmp!H10 -> 9.9391192 | H12: =F12/B12*100 -> 4.8747544 | I12: =[1]ProEmp!I10 -> 21770.829 | J12: =[1]ProEmp!J10 -> 8.940856 | K12: =IF(ISNUMBER(I12/D12*100),I12/D12*100,0) -> 8.8227701 | L12: =[1]ProEmp!K10 -> 71284.733 | M12: =[1]ProEmp!L10 -> 7.537506 | N12: =IF(ISNUMBER(L12/D12*100),L12/D12*100,0) -> 28.888602
A13: Resto urbano | B13: =[1]ProEmp!C11 -> 876714.13 | C13: =[1]ProEmp!D11 -> 8.5339997 | D13: =[1]ProEmp!E11 -> 824349.83 | E13: =[1]ProEmp!F11 -> 8.4702205 | F13: =[1]ProEmp!G11 -> 52364.307 | G13: =[1]ProEmp!H11 -> 9.4948148 | H13: =F13/B13*100 -> 5.9727914 | I13: =[1]ProEmp!I11 -> 80518.881 | J13: =[1]ProEmp!J11 -> 8.2320574 | K13: =IF(ISNUMBER(I13/D13*100),I13/D13*100,0) -> 9.7675621 | L13: =[1]ProEmp!K11 -> 282555.27 | M13: =[1]ProEmp!L11 -> 7.3450372 | N13: =IF(ISNUMBER(L13/D13*100),L13/D13*100,0) -> 34.276136
A14: Rural | B14: =[1]ProEmp!C12 -> 1766613.3 | C14: =[1]ProEmp!D12 -> 5.7081551 | D14: =[1]ProEmp!E12 -> 1731848.2 | E14: =[1]ProEmp!F12 -> 5.661245 | F14: =[1]ProEmp!G12 -> 34765.13 | G14: =[1]ProEmp!H12 -> 7.7879538 | H14: =F14/B14*100 -> 1.967897 | I14: =[1]ProEmp!I12 -> 176202.07 | J14: =[1]ProEmp!J12 -> 6.0647395 | K14: =IF(ISNUMBER(I14/D14*100),I14/D14*100,0) -> 10.174221 | L14: =[1]ProEmp!K12 -> 710549.05 | M14: =[1]ProEmp!L12 -> 5.2507626 | N14: =IF(ISNUMBER(L14/D14*100),L14/D14*100,0) -> 41.028369
K15: =IF(ISNUMBER(I15/D15*100),I15/D15*100,0) -> 0 | N15: =IF(ISNUMBER(L15/D15*100),L15/D15*100,0) -> 0
A16: Rango de Edad
A17: De 10 a 11 años | B17: =[1]ProEmp!C14 -> 20743.007 | C17: =[1]ProEmp!D14 -> 3.5381447 | D17: =[1]ProEmp!E14 -> 20575.544 | E17: =[1]ProEmp!F14 -> 3.5164159 | F17: =[1]ProEmp!G14 -> 167.46323 | G17: =[1]ProEmp!H14 -> 6 | H17: =F17/B17*100 -> 0.80732379 | I17: =[1]ProEmp!I14 -> 854.44251 | J17: =[1]ProEmp!J14 -> 3.625 | K17: =IF(ISNUMBER(I17/D17*100),I17/D17*100,0) -> 4.1527092 | L17: =[1]ProEmp!K14 -> 1068.0531 | M17: =[1]ProEmp!L14 -> 4 | N17: =IF(ISNUMBER(L17/D17*100),L17/D17*100,0) -> 5.1908865
A18: De 12 a 14 años | B18: =[1]ProEmp!C15 -> 110128.29 | C18: =[1]ProEmp!D15 -> 5.3067334 | D18: =[1]ProEmp!E15 -> 109565.63 | E18: =[1]ProEmp!F15 -> 5.2922152 | F18: =[1]ProEmp!G15 -> 562.66143 | G18: =[1]ProEmp!H15 -> 8 | H18: =F18/B18*100 -> 0.51091451 | I18: =[1]ProEmp!I15 -> 10567.527 | J18: =[1]ProEmp!J15 -> 5.3680601 | K18: =IF(ISNUMBER(I18/D18*100),I18/D18*100,0) -> 9.6449284 | L18: =[1]ProEmp!K15 -> 14072.535 | M18: =[1]ProEmp!L15 -> 5.6165613 | N18: =IF(ISNUMBER(L18/D18*100),L18/D18*100,0) -> 12.843932
A19: De 15 a 18 años | B19: =[1]ProEmp!C16 -> 332325.43 | C19: =[1]ProEmp!D16 -> 6.7708731 | D19: =[1]ProEmp!E16 -> 317397.65 | E19: =[1]ProEmp!F16 -> 6.6654762 | F19: =[1]ProEmp!G16 -> 14927.78 | G19: =[1]ProEmp!H16 -> 8.9782304 | H19: =F19/B19*100 -> 4.4919162 | I19: =[1]ProEmp!I16 -> 40804.544 | J19: =[1]ProEmp!J16 -> 6.8292755 | K19: =IF(ISNUMBER(I19/D19*100),I19/D19*100,0) -> 12.855969 | L19: =[1]ProEmp!K16 -> 112417.42 | M19: =[1]ProEmp!L16 -> 6.3368448 | N19: =IF(ISNUMBER(L19/D19*100),L19/D19*100,0) -> 35.418478
A20: De 19 a 24 años | B20: =[1]ProEmp!C17 -> 600094.03 | C20: =[1]ProEmp!D17 -> 8.4061925 | D20: =[1]ProEmp!E17 -> 540797.82 | E20: =[1]ProEmp!F17 -> 8.2309841 | F20: =[1]ProEmp!G17 -> 59296.218 | G20: =[1]ProEmp!H17 -> 9.9520907 | H20: =F20/B20*100 -> 9.8811544 | I20: =[1]ProEmp!I17 -> 58047.094 | J20: =[1]ProEmp!J17 -> 8.3462561 | K20: =IF(ISNUMBER(I20/D20*100),I20/D20*100,0) -> 10.733604 | L20: =[1]ProEmp!K17 -> 221572.64 | M20: =[1]ProEmp!L17 -> 7.5373941 | N20: =IF(ISNUMBER(L20/D20*100),L20/D20*100,0) -> 40.971438
A21: De 25 a 29 años | B21: =[1]ProEmp!C18 -> 396397.03 | C21: =[1]ProEmp!D18 -> 8.3949976 | D21: =[1]ProEmp!E18 -> 370748.85 | E21: =[1]ProEmp!F18 -> 8.2628007 | F21: =[1]ProEmp!G18 -> 25648.18 | G21: =[1]ProEmp!H18 -> 10.215832 | H21: =F21/B21*100 -> 6.470326 | I21: =[1]ProEmp!I18 -> 40696.038 | J21: =[1]ProEmp!J18 -> 8.2292435 | K21: =IF(ISNUMBER(I21/D21*100),I21/D21*100,0) -> 10.976713 | L21: =[1]ProEmp!K18 -> 131094.33 | M21: =[1]ProEmp!L18 -> 6.8996257 | N21: =IF(ISNUMBER(L21/D21*100),L21/D21*100,0) -> 35.359336
A22: De 30 a 34 años | B22: =[1]ProEmp!C19 -> 342203.24 | C22: =[1]ProEmp!D19 -> 8.1087803 | D22: =[1]ProEmp!E19 -> 327700.39 | E22: =[1]ProEmp!F19 -> 8.0056814 | F22: =[1]ProEmp!G19 -> 14502.858 | G22: =[1]ProEmp!H19 -> 10.354381 | H22: =F22/B22*100 -> 4.2380831 | I22: =[1]ProEmp!I19 -> 33536.837 | J22: =[1]ProEmp!J19 -> 7.4001255 | K22: =IF(ISNUMBER(I22/D22*100),I22/D22*100,0) -> 10.233994 | L22: =[1]ProEmp!K19 -> 112821.32 | M22: =[1]ProEmp!L19 -> 6.5541497 | N22: =IF(ISNUMBER(L22/D22*100),L22/D22*100,0) -> 34.428193
A23: De 35 a 39 años | B23: =[1]ProEmp!C20 -> 305440.14 | C23: =[1]ProEmp!D20 -> 7.5550488 | D23: =[1]ProEmp!E20 -> 298092.32 | E23: =[1]ProEmp!F20 -> 7.568445 | F23: =[1]ProEmp!G20 -> 7347.823 | G23: =[1]ProEmp!H20 -> 7.0514588 | H23: =F23/B23*100 -> 2.4056507 | I23: =[1]ProEmp!I20 -> 36669.692 | J23: =[1]ProEmp!J20 -> 6.732223 | K23: =IF(ISNUMBER(I23/D23*100),I23/D23*100,0) -> 12.301455 | L23: =[1]ProEmp!K20 -> 105194.07 | M23: =[1]ProEmp!L20 -> 5.8656532 | N23: =IF(ISNUMBER(L23/D23*100),L23/D23*100,0) -> 35.289091
A24: De 40 a 44 años | B24: =[1]ProEmp!C21 -> 267896.47 | C24: =[1]ProEmp!D21 -> 7.6202204 | D24: =[1]ProEmp!E21 -> 262736.95 | E24: =[1]ProEmp!F21 -> 7.569467 | F24: =[1]ProEmp!G21 -> 5159.5206 | G24: =[1]ProEmp!H21 -> 10.000842 | H24: =F24/B24*100 -> 1.9259382 | I24: =[1]ProEmp!I21 -> 27404.258 | J24: =[1]ProEmp!J21 -> 7.5881683 | K24: =IF(ISNUMBER(I24/D24*100),I24/D24*100,0) -> 10.430302 | L24: =[1]ProEmp!K21 -> 104004.3 | M24: =[1]ProEmp!L21 -> 5.8221386 | N24: =IF(ISNUMBER(L24/D24*100),L24/D24*100,0) -> 39.584952
A25: De 45 a 49 años | B25: =[1]ProEmp!C22 -> 269238.92 | C25: =[1]ProEmp!D22 -> 7.1591912 | D25: =[1]ProEmp!E22 -> 263774.41 | E25: =[1]ProEmp!F22 -> 7.1752635 | F25: =[1]ProEmp!G22 -> 5464.5192 | G25: =[1]ProEmp!H22 -> 6.4617701 | H25: =F25/B25*100 -> 2.0296171 | I25: =[1]ProEmp!I22 -> 31401.405 | J25: =[1]ProEmp!J22 -> 6.4640211 | K25: =IF(ISNUMBER(I25/D25*100),I25/D25*100,0) -> 11.904644 | L25: =[1]ProEmp!K22 -> 91147.574 | M25: =[1]ProEmp!L22 -> 5.5663423 | N25: =IF(ISNUMBER(L25/D25*100),L25/D25*100,0) -> 34.555125
A26: De 50 a 54 años | B26: =[1]ProEmp!C23 -> 228554.61 | C26: =[1]ProEmp!D23 -> 6.5815904 | D26: =[1]ProEmp!E23 -> 223576.85 | E26: =[1]ProEmp!F23 -> 6.5326852 | F26: =[1]ProEmp!G23 -> 4977.7605 | G26: =[1]ProEmp!H23 -> 8.6271826 | H26: =F26/B26*100 -> 2.1779305 | I26: =[1]ProEmp!I23 -> 21026.149 | J26: =[1]ProEmp!J23 -> 6.1150486 | K26: =IF(ISNUMBER(I26/D26*100),I26/D26*100,0) -> 9.4044395 | L26: =[1]ProEmp!K23 -> 87909.356 | M26: =[1]ProEmp!L23 -> 5.1374642 | N26: =IF(ISNUMBER(L26/D26*100),L26/D26*100,0) -> 39.319526
A27: De 55 a 59 años | B27: =[1]ProEmp!C24 -> 175228.07 | C27: =[1]ProEmp!D24 -> 6.6322212 | D27: =[1]ProEmp!E24 -> 171016.67 | E27: =[1]ProEmp!F24 -> 6.6014478 | F27: =[1]ProEmp!G24 -> 4211.4005 | G27: =[1]ProEmp!H24 -> 7.8996029 | H27: =F27/B27*100 -> 2.4033824 | I27: =[1]ProEmp!I24 -> 15333.009 | J27: =[1]ProEmp!J24 -> 7.7565567 | K27: =IF(ISNUMBER(I27/D27*100),I27/D27*100,0) -> 8.9657984 | L27: =[1]ProEmp!K24 -> 66090.404 | M27: =[1]ProEmp!L24 -> 4.4900095 | N27: =IF(ISNUMBER(L27/D27*100),L27/D27*100,0) -> 38.645593
A28: De 60 a 64 años | B28: =[1]ProEmp!C25 -> 128012.1 | C28: =[1]ProEmp!D25 -> 5.6987571 | D28: =[1]ProEmp!E25 -> 127357.88 | E28: =[1]ProEmp!F25 -> 5.6971735 | F28: =[1]ProEmp!G25 -> 654.22326 | G28: =[1]ProEmp!H25 -> 6 | H28: =F28/B28*100 -> 0.51106359 | I28: =[1]ProEmp!I25 -> 8409.9635 | J28: =[1]ProEmp!J25 -> 6.7342246 | K28: =IF(ISNUMBER(I28/D28*100),I28/D28*100,0) -> 6.6034104 | L28: =[1]ProEmp!K25 -> 48315.97 | M28: =[1]ProEmp!L25 -> 4.464789 | N28: =IF(ISNUMBER(L28/D28*100),L28/D28*100,0) -> 37.937166
A29: De 65 años y más | B29: =[1]ProEmp!C26 -> 193657.35 | C29: =[1]ProEmp!D26 -> 5.1717416 | D29: =[1]ProEmp!E26 -> 192794.37 | E29: =[1]ProEmp!F26 -> 5.169762 | F29: =[1]ProEmp!G26 -> 862.98524 | G29: =[1]ProEmp!H26 -> 5.5010991 | H29: =F29/B29*100 -> 0.44562483 | I29: =[1]ProEmp!I26 -> 9218.2002 | J29: =[1]ProEmp!J26 -> 6.2753255 | K29: =IF(ISNUMBER(I29/D29*100),I29/D29*100,0) -> 4.7813639 | L29: =[1]ProEmp!K26 -> 75266.833 | M29: =[1]ProEmp!L26 -> 3.9802003 | N29: =IF(ISNUMBER(L29/D29*100),L29/D29*100,0) -> 39.039955
A31: Fuente: Instituto Nacional de Estadística (INE). XLI Encuesta Permanente de Hogares de Propósitos Múltiples, Mayo 2011.
A32: AEP: Años de Estudio Promedio
A33: TDA: Tasa de Desempleo Abierto
A34: TSV: Tasa de Subempleo Visible
A35: TSI: Tasa de Subempleo Invisible
A37: =A3 -> Cuadro No. 1. Población Económicamente Activa (PEA) en condición de empleo, según dominio, rama de actividad y ocupación
A38: ....... Continuación
A39: =A4 -> Categorías | B39: =B4 -> PEA | D39: =D4 -> Ocupados | F39: =F4 -> Desocupados | I39: =I4 -> Subempleo Visible | L39: =L4 -> Subempleo Invisible
B40: =B5 -> No. | C40: =C5 -> AEP | D40: =D5 -> No. | E40: =E5 -> AEP | F40: =F5 -> No. | G40: =G5 -> AEP | H40: =H5 -> TDA | I40: =I5 -> No. | ... N40: =N5 -> TSI
A42: =A7 -> Total Nacional | B42: =B7 -> 3369918.7 | C42: =C7 -> 7.4192967 | D42: =D7 -> 3226135.3 | E42: =E7 -> 7.3164623 | F42: =F7 -> 143783.39 | G42: =G7 -> 9.5208985 | H42: =H7 -> 4.2666724 | ... N42: =N7 -> 36.296519
A44: Rama de Actividad
A45: Agricultura, Silvicultura, Caza y Pesca | B45: =[1]ProEmp!C28 -> 1189237.8 | C45: =[1]ProEmp!D28 -> 5.1655307 | D45: =[1]ProEmp!E28 -> 1180402.9 | E45: =[1]ProEmp!F28 -> 5.1513453 | F45: =[1]ProEmp!G28 -> 8834.9081 | G45: =[1]ProEmp!H28 -> 6.8580686 | H45: =F45/B45*100 -> 0.74290509 | I45: =[1]ProEmp!I28 -> 103892.53 | J45: =[1]ProEmp!J28 -> 5.3970585 | K45: =IF(ISNUMBER(I45/D45*100),I45/D45*100,0) -> 8.8014468 | L45: =[1]ProEmp!K28 -> 498008.8 | M45: =[1]ProEmp!L28 -> 4.7787324 | N45: =IF(ISNUMBER(L45/D45*100),L45/D45*100,0) -> 42.18973
A46: Explotación de minas y canteras | B46: =[1]ProEmp!C29 -> 6630.0335 | C46: =[1]ProEmp!D29 -> 5.9956851 | D46: =[1]ProEmp!E29 -> 6462.5702 | E46: =[1]ProEmp!F29 -> 5.9955254 | F46: =[1]ProEmp!G29 -> 167.46323 | G46: =[1]ProEmp!H29 -> 6 | H46: =F46/B46*100 -> 2.5258279 | I46: =[1]ProEmp!I29 -> 1288.919 | J46: =[1]ProEmp!J29 -> 7.5238095 | K46: =IF(ISNUMBER(I46/D46*100),I46/D46*100,0) -> 19.944372 | L46: =[1]ProEmp!K29 -> 3710.582 | M46: =[1]ProEmp!L29 -> 4.8148087 | N46: =IF(ISNUMBER(L46/D46*100),L46/D46*100,0) -> 57.416505
A47: Industria manufacturera | B47: =[1]ProEmp!C30 -> 449526.48 | C47: =[1]ProEmp!D30 -> 7.5288354 | D47: =[1]ProEmp!E30 -> 432573.68 | E47: =[1]ProEmp!F30 -> 7.4791018 | F47: =[1]ProEmp!G30 -> 16952.797 | G47: =[1]ProEmp!H30 -> 8.7181385 | H47: =F47/B47*100 -> 3.7712566 | I47: =[1]ProEmp!I30 -> 45723.862 | J47: =[1]ProEmp!J30 -> 7.1211154 | K47: =IF(ISNUMBER(I47/D47*100),I47/D47*100,0) -> 10.57019 | L47: =[1]ProEmp!K30 -> 107149.28 | M47: =[1]ProEmp!L30 -> 6.6062658 | N47: =IF(ISNUMBER(L47/D47*100),L47/D47*100,0) -> 24.770181
A48: Electricidad, gas y agua | B48: =[1]ProEmp!C31 -> 16886.03 | C48: =[1]ProEmp!D31 -> 10.785306 | D48: =[1]ProEmp!E31 -> 15677.151 | E48: =[1]ProEmp!F31 -> 10.949036 | F48: =[1]ProEmp!G31 -> 1208.879 | G48: =[1]ProEmp!H31 -> 8.6835693 | H48: =F48/B48*100 -> 7.159048 | I48: =[1]ProEmp!I31 -> 0 | J48: =[1]ProEmp!J31 -> . | K48: =IF(ISNUMBER(I48/D48*100),I48/D48*100,0) -> 0 | L48: =[1]ProEmp!K31 -> 273.06341 | M48: =[1]ProEmp!L31 -> 17 | N48: =IF(ISNUMBER(L48/D48*100),L48/D48*100,0) -> 1.7417923
A49: Construcción | B49: =[1]ProEmp!C32 -> 183947.16 | C49: =[1]ProEmp!D32 -> 6.5556888 | D49: =[1]ProEmp!E32 -> 169335.34 | E49: =[1]ProEmp!F32 -> 6.5352592 | F49: =[1]ProEmp!G32 -> 14611.815 | G49: =[1]ProEmp!H32 -> 6.7940074 | H49: =F49/B49*100 -> 7.9434848 | I49: =[1]ProEmp!I32 -> 14858.647 | J49: =[1]ProEmp!J32 -> 6.7190637 | K49: =IF(ISNUMBER(I49/D49*100),I49/D49*100,0) -> 8.7746876 | L49: =[1]ProEmp!K32 -> 100680.88 | M49: =[1]ProEmp!L32 -> 6.2352299 | N49: =IF(ISNUMBER(L49/D49*100),L49/D49*100,0) -> 59.456504
A50: Comercio por Mayor / menor, Hoteles / restaurantes | B50: =[1]ProEmp!C33 -> 762650.71 | C50: =[1]ProEmp!D33 -> 7.863372 | D50: =[1]ProEmp!E33 -> 732227.46 | E50: =[1]ProEmp!F33 -> 7.7924677 | F50: =[1]ProEmp!G33 -> 30423.243 | G50: =[1]ProEmp!H33 -> 9.4490287 | H50: =F50/B50*100 -> 3.989145 | I50: =[1]ProEmp!I33 -> 80065.459 | J50: =[1]ProEmp!J33 -> 7.4323483 | K50: =IF(ISNUMBER(I50/D50*100),I50/D50*100,0) -> 10.934506 | L50: =[1]ProEmp!K33 -> 278902.01 | M50: =[1]ProEmp!L33 -> 7.349542 | N50: =IF(ISNUMBER(L50/D50*100),L50/D50*100,0) -> 38.089532
A51: Transp. almac. y comunicaciones | B51: =[1]ProEmp!C34 -> 102660.59 | C51: =[1]ProEmp!D34 -> 8.4730033 | D51: =[1]ProEmp!E34 -> 98177.028 | E51: =[1]ProEmp!F34 -> 8.4823255 | F51: =[1]ProEmp!G34 -> 4483.564 | G51: =[1]ProEmp!H34 -> 8.2774494 | H51: =F51/B51*100 -> 4.3673662 | I51: =[1]ProEmp!I34 -> 8693.5225 | J51: =[1]ProEmp!J34 -> 7.1398241 | K51: =IF(ISNUMBER(I51/D51*100),I51/D51*100,0) -> 8.8549457 | L51: =[1]ProEmp!K34 -> 33630.222 | M51: =[1]ProEmp!L34 -> 7.1684483 | N51: =IF(ISNUMBER(L51/D51*100),L51/D51*100,0) -> 34.254675
A52: Estab. finac. seguros, Bienes inmuebles y servicios | B52: =[1]ProEmp!C35 -> 108423.64 | C52: =[1]ProEmp!D35 -> 11.091338 | D52: =[1]ProEmp!E35 -> 100687.37 | E52: =[1]ProEmp!F35 -> 11.152646 | F52: =[1]ProEmp!G35 -> 7736.2692 | G52: =[1]ProEmp!H35 -> 10.285549 | H52: =F52/B52*100 -> 7.1352238 | I52: =[1]ProEmp!I35 -> 7600.3789 | J52: =[1]ProEmp!J35 -> 10.726668 | K52: =IF(ISNUMBER(I52/D52*100),I52/D52*100,0) -> 7.548493 | L52: =[1]ProEmp!K35 -> 21717.232 | M52: =[1]ProEmp!L35 -> 8.680487 | N52: =IF(ISNUMBER(L52/D52*100),L52/D52*100,0) -> 21.568974
A53: Servicios Comunales, Sociales y Personales | B53: =[1]ProEmp!C36 -> 512176.39 | C53: =[1]ProEmp!D36 -> 10.025832 | D53: =[1]ProEmp!E36 -> 487968.18 | E53: =[1]ProEmp!F36 -> 10.02272 | F53: =[1]ProEmp!G36 -> 24208.205 | G53: =[1]ProEmp!H36 -> 10.089522 | H53: =F53/B53*100 -> 4.7265368 | I53: =[1]ProEmp!I36 -> 71578.824 | J53: =[1]ProEmp!J36 -> 9.5796814 | K53: =IF(ISNUMBER(I53/D53*100),I53/D53*100,0) -> 14.668748 | L53: =[1]ProEmp!K36 -> 126468.26 | M53: =[1]ProEmp!L36 -> 7.1206117 | N53: =IF(ISNUMBER(L53/D53*100),L53/D53*100,0) -> 25.917316
A54: No sabe, No responde | B54: =[1]ProEmp!C37 -> 3246.1925 | C54: =[1]ProEmp!D37 -> 9.3989817 | D54: =[1]ProEmp!E37 -> 2623.6236 | E54: =[1]ProEmp!F37 -> 8.8685091 | F54: =[1]ProEmp!G37 -> 622.56892 | G54: =[1]ProEmp!H37 -> 11.634494 | H54: =F54/B54*100 -> 19.178435 | I54: =[1]ProEmp!I37 -> 267.01328 | J54: =[1]ProEmp!J37 -> 1 | K54: =IF(ISNUMBER(I54/D54*100),I54/D54*100,0) -> 10.177271 | L54: =[1]ProEmp!K37 -> 434.47652 | M54: =[1]ProEmp!L37 -> 6 | N54: =IF(ISNUMBER(L54/D54*100),L54/D54*100,0) -> 16.56017
A55: Busca Trabajo por Primera Vez | B55: =[1]ProEmp!C38 -> 34533.68 | C55: =[1]ProEmp!D38 -> 11.263481 | D55: =[1]ProEmp!E38 -> 0 | E55: =[1]ProEmp!F38 -> . | F55: =[1]ProEmp!G38 -> 34533.68 | G55: =[1]ProEmp!H38 -> 11.263481 | H55: =F55/B55*100 -> 100 | I55: =[1]ProEmp!I38 -> 0 | J55: =[1]ProEmp!J38 -> . | K55: =IF(ISNUMBER(I55/D55*100),I55/D55*100,0) -> 0 | L55: =[1]ProEmp!K38 -> 0 | M55: =[1]ProEmp!L38 -> . | N55: =IF(ISNUMBER(L55/D55*100),L55/D55*100,0) -> 0
K56: =IF(ISNUMBER(I56/D56*100),I56/D56*100,0) -> 0 | N56: =IF(ISNUMBER(L56/D56*100),L56/D56*100,0) -> 0
A57: Ocupación
A58: Profesionales, Técnicos y PEOA | B58: =[1]ProEmp!C40 -> 278775.86 | C58: =[1]ProEmp!D40 -> 13.113203 | D58: =[1]ProEmp!E40 -> 263868.38 | E58: =[1]ProEmp!F40 -> 13.129653 | F58: =[1]ProEmp!G40 -> 14907.477 | G58: =[1]ProEmp!H40 -> 12.824323 | H58: =F58/B58*100 -> 5.3474778 | I58: =[1]ProEmp!I40 -> 35718.027 | J58: =[1]ProEmp!J40 -> 12.429831 | K58: =IF(ISNUMBER(I58/D58*100),I58/D58*100,0) -> 13.536304 | L58: =[1]ProEmp!K40 -> 19161.024 | M58: =[1]ProEmp!L40 -> 11.462106 | N58: =IF(ISNUMBER(L58/D58*100),L58/D58*100,0) -> 7.261584
A59: Directores Gerentes y Administ. Grales. | B59: =[1]ProEmp!C41 -> 123354.64 | C59: =[1]ProEmp!D41 -> 12.001937 | D59: =[1]ProEmp!E41 -> 117142.67 | E59: =[1]ProEmp!F41 -> 11.967281 | F59: =[1]ProEmp!G41 -> 6211.9713 | G59: =[1]ProEmp!H41 -> 12.657114 | H59: =F59/B59*100 -> 5.0358633 | I59: =[1]ProEmp!I41 -> 7398.4581 | J59: =[1]ProEmp!J41 -> 10.494898 | K59: =IF(ISNUMBER(I59/D59*100),I59/D59*100,0) -> 6.3157669 | L59: =[1]ProEmp!K41 -> 27473.918 | M59: =[1]ProEmp!L41 -> 9.6802081 | N59: =IF(ISNUMBER(L59/D59*100),L59/D59*100,0) -> 23.453381
A60: Empleados de Oficina | B60: =[1]ProEmp!C42 -> 102002.47 | C60: =[1]ProEmp!D42 -> 11.625634 | D60: =[1]ProEmp!E42 -> 94389.184 | E60: =[1]ProEmp!F42 -> 11.60635 | F60: =[1]ProEmp!G42 -> 7613.2813 | G60: =[1]ProEmp!H42 -> 11.860987 | H60: =F60/B60*100 -> 7.4638209 | I60: =[1]ProEmp!I42 -> 4232.4488 | J60: =[1]ProEmp!J42 -> 9.6729098 | K60: =IF(ISNUMBER(I60/D60*100),I60/D60*100,0) -> 4.48404 | L60: =[1]ProEmp!K42 -> 21688.186 | M60: =[1]ProEmp!L42 -> 10.559491 | N60: =IF(ISNUMBER(L60/D60*100),L60/D60*100,0) -> 22.977406
A61: Comerciantes y Vendedores | B61: =[1]ProEmp!C43 -> 501981.93 | C61: =[1]ProEmp!D43 -> 7.5421451 | D61: =[1]ProEmp!E43 -> 483337.41 | E61: =[1]ProEmp!F43 -> 7.4522166 | F61: =[1]ProEmp!G43 -> 18644.518 | G61: =[1]ProEmp!H43 -> 9.6631133 | H61: =F61/B61*100 -> 3.7141811 | I61: =[1]ProEmp!I43 -> 52016.642 | J61: =[1]ProEmp!J43 -> 7.1273958 | K61: =IF(ISNUMBER(I61/D61*100),I61/D61*100,0) -> 10.761973 | L61: =[1]ProEmp!K43 -> 168442.5 | M61: =[1]ProEmp!L43 -> 7.1132414 | N61: =IF(ISNUMBER(L61/D61*100),L61/D61*100,0) -> 34.849878
A62: Agricultores, Ganaderos y Trab. Agrop. | B62: =[1]ProEmp!C44 -> 1154685.6 | C62: =[1]ProEmp!D44 -> 5.130913 | D62: =[1]ProEmp!E44 -> 1147777 | E62: =[1]ProEmp!F44 -> 5.119575 | F62: =[1]ProEmp!G44 -> 6908.5454 | G62: =[1]ProEmp!H44 -> 6.8013666 | H62: =F62/B62*100 -> 0.59830534 | I62: =[1]ProEmp!I44 -> 100386.7 | J62: =[1]ProEmp!J44 -> 5.4167098 | K62: =IF(ISNUMBER(I62/D62*100),I62/D62*100,0) -> 8.746185 | L62: =[1]ProEmp!K44 -> 484556.27 | M62: =[1]ProEmp!L44 -> 4.7743787 | N62: =IF(ISNUMBER(L62/D62*100),L62/D62*100,0) -> 42.216934
A63: Conductores de Transporte | B63: =[1]ProEmp!C45 -> 74491.588 | C63: =[1]ProEmp!D45 -> 7.2486313 | D63: =[1]ProEmp!E45 -> 70785.955 | E63: =[1]ProEmp!F45 -> 7.2950234 | F63: =[1]ProEmp!G45 -> 3705.6336 | G63: =[1]ProEmp!H45 -> 6.2982078 | H63: =F63/B63*100 -> 4.9745665 | I63: =[1]ProEmp!I45 -> 5769.6034 | J63: =[1]ProEmp!J45 -> 6.7917633 | K63: =IF(ISNUMBER(I63/D63*100),I63/D63*100,0) -> 8.1507743 | L63: =[1]ProEmp!K45 -> 25891.279 | M63: =[1]ProEmp!L45 -> 7.0851591 | N63: =IF(ISNUMBER(L63/D63*100),L63/D63*100,0) -> 36.576859
A64: Trab. Ind. Textil, Albañilería, Mecánica, etc. | B64: =[1]ProEmp!C46 -> 450547.04 | C64: =[1]ProEmp!D46 -> 7.0429758 | D64: =[1]ProEmp!E46 -> 428098.93 | E64: =[1]ProEmp!F46 -> 7.0717114 | F64: =[1]ProEmp!G46 -> 22448.113 | G64: =[1]ProEmp!H46 -> 6.4904516 | H64: =F64/B64*100 -> 4.9824127 | I64: =[1]ProEmp!I46 -> 37979.375 | J64: =[1]ProEmp!J46 -> 7.2467347 | K64: =IF(ISNUMBER(I64/D64*100),I64/D64*100,0) -> 8.8716351 | L64: =[1]ProEmp!K46 -> 180959.2 | M64: =[1]ProEmp!L46 -> 6.6801437 | N64: =IF(ISNUMBER(L64/D64*100),L64/D64*100,0) -> 42.270417
A65: Trab. Área Grafica, Quím., Alimentos, etc. | B65: =[1]ProEmp!C47 -> 150071.83 | C65: =[1]ProEmp!D47 -> 6.260076 | D65: =[1]ProEmp!E47 -> 148215.44 | E65: =[1]ProEmp!F47 -> 6.2382719 | F65: =[1]ProEmp!G47 -> 1856.3912 | G65: =[1]ProEmp!H47 -> 7.7432908 | H65: =F65/B65*100 -> 1.2370018 | I65: =[1]ProEmp!I47 -> 24754.906 | J65: =[1]ProEmp!J47 -> 6.7762321 | K65: =IF(ISNUMBER(I65/D65*100),I65/D65*100,0) -> 16.701975 | L65: =[1]ProEmp!K47 -> 50347.476 | M65: =[1]ProEmp!L47 -> 5.5885852 | N65: =IF(ISNUMBER(L65/D65*100),L65/D65*100,0) -> 33.969117
A66: Operador de Carga y Almacenaje | B66: =[1]ProEmp!C48 -> 71129.735 | C66: =[1]ProEmp!D48 -> 7.3694203 | D66: =[1]ProEmp!E48 -> 65268.449 | E66: =[1]ProEmp!F48 -> 7.3668198 | F66: =[1]ProEmp!G48 -> 5861.2864 | G66: =[1]ProEmp!H48 -> 7.3947642 | H66: =F66/B66*100 -> 8.2402758 | I66: =[1]ProEmp!I48 -> 5371.2557 | J66: =[1]ProEmp!J48 -> 6.1567505 | K66: =IF(ISNUMBER(I66/D66*100),I66/D66*100,0) -> 8.2294827 | L66: =[1]ProEmp!K48 -> 23997.989 | M66: =[1]ProEmp!L48 -> 7.2026157 | N66: =IF(ISNUMBER(L66/D66*100),L66/D66*100,0) -> 36.768131
A67: Ocupación de los Servicios | B67: =[1]ProEmp!C49 -> 396724.04 | C67: =[1]ProEmp!D49 -> 6.4901144 | D67: =[1]ProEmp!E49 -> 377773.49 | E67: =[1]ProEmp!F49 -> 6.4697829 | F67: =[1]ProEmp!G49 -> 18950.547 | G67: =[1]ProEmp!H49 -> 6.8986202 | H67: =F67/B67*100 -> 4.776758 | I67: =[1]ProEmp!I49 -> 55712.003 | J67: =[1]ProEmp!J49 -> 6.9550639 | K67: =IF(ISNUMBER(I67/D67*100),I67/D67*100,0) -> 14.747462 | L67: =[1]ProEmp!K49 -> 156754.48 | M67: =[1]ProEmp!L49 -> 6.1412467 | N67: =IF(ISNUMBER(L67/D67*100),L67/D67*100,0) -> 41.494304
A68: No sabe, No responde | B68: =[1]ProEmp!C50 -> 31620.319 | C68: =[1]ProEmp!D50 -> 7.8600467 | D68: =[1]ProEmp!E50 -> 29478.371 | E68: =[1]ProEmp!F50 -> 7.6922786 | F68: =[1]ProEmp!G50 -> 2141.9479 | G68: =[1]ProEmp!H50 -> 9.9755418 | H68: =F68/B68*100 -> 6.7739603 | I68: =[1]ProEmp!I50 -> 4629.7391 | J68: =[1]ProEmp!J50 -> 5.2692869 | K68: =IF(ISNUMBER(I68/D68*100),I68/D68*100,0) -> 15.705546 | L68: =[1]ProEmp!K50 -> 11702.491 | M68: =[1]ProEmp!L50 -> 7.1842455 | N68: =IF(ISNUMBER(L68/D68*100),L68/D68*100,0) -> 39.698566
A69: Busca Trabajo por Primera Vez | B69: =[1]ProEmp!C51 -> 34533.68 | C69: =[1]ProEmp!D51 -> 11.263481 | D69: =[1]ProEmp!E51 -> 0 | E69: =[1]ProEmp!F51 -> . | F69: =[1]ProEmp!G51 -> 34533.68 | G69: =[1]ProEmp!H51 -> 11.263481 | H69: =F69/B69*100 -> 100 | I69: =[1]ProEmp!I51 -> 0 | J69: =[1]ProEmp!J51 -> . | K69: =IF(ISNUMBER(I69/D69*100),I69/D69*100,0) -> 0 | L69: =[1]ProEmp!K51 -> 0 | M69: =[1]ProEmp!L51 -> . | N69: =IF(ISNUMBER(L69/D69*100),L69/D69*100,0) -> 0
A71: Fuente: Instituto Nacional de Estadística (INE). XLI Encuesta Permanente de Hogares de Propósitos Múltiples, Mayo 2011.
A72: AEP: Años de Estudio Promedio
A73: TDA: Tasa de Desempleo Abierto
A74: TSV: Tasa de Subempleo Visible
A75: TSI: Tasa de Subempleo Invisible

Sheet C02
A1: Cuadro No. 2. Población Económicamente Activa (PEA) en condición de empleo, según dominio, rango de edad, rama de actividad y ocupación
A2: HOMBRES
A3: Categorías | B3: PEA | D3: Ocupados | F3: Desocupados | I3: Subempleo Visible | L3: Subempleo Invisible
B4: No. | C4: AEP | D4: No. | E4: AEP | F4: No. | G4: AEP | H4: TDA | I4: No. | J4: AEP | K4: TSV | L4: No. | M4: AEP | N4: TSI
A6: Total Nacional | B6: =[1]ProEmp!M8 -> 2183811.3 | C6: =[1]ProEmp!N8 -> 6.9102827 | D6: =[1]ProEmp!O8 -> 2112345.1 | E6: =[1]ProEmp!P8 -> 6.8340573 | F6: =[1]ProEmp!Q8 -> 71466.141 | G6: =[1]ProEmp!R8 -> 8.9597707 | H6: =F6/B6*100 -> 3.272542 | I6: =[1]ProEmp!S8 -> 173722.45 | J6: =[1]ProEmp!T8 -> 6.7236773 | K6: =IF(ISNUMBER(I6/D6*100),I6/D6*100,0) -> 8.2241508 | L6: =[1]ProEmp!U8 -> 849853.81 | M6: =[1]ProEmp!V8 -> 5.8277812 | N6: =IF(ISNUMBER(L6/D6*100),L6/D6*100,0) -> 40.232715
A8: Dominio
A9: Urbano | B9: =SUM(B10:B12) -> 887969.11 | C9: =AVERAGE(C10:C12) -> 9.0076878 | D9: =SUM(D10:D12) -> 833351.51 | E9: =AVERAGE(E10:E12) -> 8.9710378 | F9: =SUM(F10:F12) -> 54617.602 | G9: =AVERAGE(G10:G12) -> 9.6048256 | H9: =F9/B9*100 -> 6.1508448 | I9: =SUM(I10:I12) -> 72791.429 | J9: =AVERAGE(J10:J12) -> 8.5481713 | K9: =IF(ISNUMBER(I9/D9*100),I9/D9*100,0) -> 8.7347809 | L9: =SUM(L10:L12) -> 274039.66 | M9: =AVERAGE(M10:M12) -> 7.3719085 | N9: =IF(ISNUMBER(L9/D9*100),L9/D9*100,0) -> 32.884042
A10: Distrito Central | B10: =[1]ProEmp!M9 -> 254131.02 | C10: =[1]ProEmp!N9 -> 9.7201527 | D10: =[1]ProEmp!O9 -> 232627.27 | E10: =[1]ProEmp!P9 -> 9.6895848 | F10: =[1]ProEmp!Q9 -> 21503.744 | G10: =[1]ProEmp!R9 -> 10.040642 | H10: =F10/B10*100 -> 8.4616762 | I10: =[1]ProEmp!S9 -> 25827.248 | J10: =[1]ProEmp!T9 -> 8.9549296 | K10: =IF(ISNUMBER(I10/D10*100),I10/D10*100,0) -> 11.102416 | L10: =[1]ProEmp!U9 -> 64761.54 | M10: =[1]ProEmp!V9 -> 7.5751511 | N10: =IF(ISNUMBER(L10/D10*100),L10/D10*100,0) -> 27.839186
A11: San Pedro Sula | B11: =[1]ProEmp!M10 -> 148223.19 | C11: =[1]ProEmp!N10 -> 9.1297353 | D11: =[1]ProEmp!O10 -> 140865.38 | E11: =[1]ProEmp!P10 -> 9.0736425 | F11: =[1]ProEmp!Q10 -> 7357.8075 | G11: =[1]ProEmp!R10 -> 10.190909 | H11: =F11/B11*100 -> 4.9640056 | I11: =[1]ProEmp!S10 -> 9475.9642 | J11: =[1]ProEmp!T10 -> 9.1401515 | K11: =IF(ISNUMBER(I11/D11*100),I11/D11*100,0) -> 6.7269644 | L11: =[1]ProEmp!U10 -> 43493.88 | M11: =[1]ProEmp!V10 -> 7.4367089 | N11: =IF(ISNUMBER(L11/D11*100),L11/D11*100,0) -> 30.876201
A12: Resto urbano | B12: =[1]ProEmp!M11 -> 485614.9 | C12: =[1]ProEmp!N11 -> 8.1731754 | D12: =[1]ProEmp!O11 -> 459858.85 | E12: =[1]ProEmp!P11 -> 8.149886 | F12: =[1]ProEmp!Q11 -> 25756.051 | G12: =[1]ProEmp!R11 -> 8.5829261 | H12: =F12/B12*100 -> 5.3038016 | I12: =[1]ProEmp!S11 -> 37488.217 | J12: =[1]ProEmp!T11 -> 7.5494329 | K12: =IF(ISNUMBER(I12/D12*100),I12/D12*100,0) -> 8.1521137 | L12: =[1]ProEmp!U11 -> 165784.24 | M12: =[1]ProEmp!V11 -> 7.1038655 | N12: =IF(ISNUMBER(L12/D12*100),L12/D12*100,0) -> 36.051115
A13: Rural | B13: =[1]ProEmp!M12 -> 1295842.2 | C13: =[1]ProEmp!N12 -> 5.4512922 | D13: =[1]ProEmp!O12 -> 1278993.6 | E13: =[1]ProEmp!P12 -> 5.4201469 | F13: =[1]ProEmp!Q12 -> 16848.538 | G13: =[1]ProEmp!R12 -> 7.5245347 | H13: =F13/B13*100 -> 1.3001999 | I13: =[1]ProEmp!S12 -> 100931.02 | J13: =[1]ProEmp!T12 -> 5.5604129 | K13: =IF(ISNUMBER(I13/D13*100),I13/D13*100,0) -> 7.8914405 | L13: =[1]ProEmp!U12 -> 575814.15 | M13: =[1]ProEmp!V12 -> 5.0296869 | N13: =IF(ISNUMBER(L13/D13*100),L13/D13*100,0) -> 45.020877
K14: =IF(ISNUMBER(I14/D14*100),I14/D14*100,0) -> 0 | N14: =IF(ISNUMBER(L14/D14*100),L14/D14*100,0) -> 0
A15: Rango de Edad
A16: De 10 a 11 años | B16: =[1]ProEmp!M14 -> 15989.874 | C16: =[1]ProEmp!N14 -> 3.3299045 | D16: =[1]ProEmp!O14 -> 15822.411 | E16: =[1]ProEmp!P14 -> 3.2984606 | F16: =[1]ProEmp!Q14 -> 167.46323 | G16: =[1]ProEmp!R14 -> 6 | H16: =F16/B16*100 -> 1.047308 | I16: =[1]ProEmp!S14 -> 587.42923 | J16: =[1]ProEmp!T14 -> 3 | K16: =IF(ISNUMBER(I16/D16*100),I16/D16*100,0) -> 3.7126405 | L16: =[1]ProEmp!U14 -> 1068.0531 | M16: =[1]ProEmp!V14 -> 4 | N16: =IF(ISNUMBER(L16/D16*100),L16/D16*100,0) -> 6.7502554
A17: De 12 a 14 años | B17: =[1]ProEmp!M15 -> 88722.076 | C17: =[1]ProEmp!N15 -> 5.1164618 | D17: =[1]ProEmp!O15 -> 88159.415 | E17: =[1]ProEmp!P15 -> 5.0971563 | F17: =[1]ProEmp!Q15 -> 562.66143 | G17: =[1]ProEmp!R15 -> 8 | H17: =F17/B17*100 -> 0.63418424 | I17: =[1]ProEmp!S15 -> 8965.447 | J17: =[1]ProEmp!T15 -> 5.2541892 | K17: =IF(ISNUMBER(I17/D17*100),I17/D17*100,0) -> 10.169585 | L17: =[1]ProEmp!U15 -> 11054.851 | M17: =[1]ProEmp!V15 -> 5.6281791 | N17: =IF(ISNUMBER(L17/D17*100),L17/D17*100,0) -> 12.539615
A18: De 15 a 18 años | B18: =[1]ProEmp!M16 -> 255564.26 | C18: =[1]ProEmp!N16 -> 6.4309192 | D18: =[1]ProEmp!O16 -> 247810.29 | E18: =[1]ProEmp!P16 -> 6.3872155 | F18: =[1]ProEmp!Q16 -> 7753.9647 | G18: =[1]ProEmp!R16 -> 7.7500483 | H18: =F18/B18*100 -> 3.0340568 | I18: =[1]ProEmp!S16 -> 29845.102 | J18: =[1]ProEmp!T16 -> 6.2587268 | K18: =IF(ISNUMBER(I18/D18*100),I18/D18*100,0) -> 12.043528 | L18: =[1]ProEmp!U16 -> 88521.702 | M18: =[1]ProEmp!V16 -> 6.1994222 | N18: =IF(ISNUMBER(L18/D18*100),L18/D18*100,0) -> 35.72156
A19: De 19 a 24 años | B19: =[1]ProEmp!M17 -> 395313.35 | C19: =[1]ProEmp!N17 -> 7.7551326 | D19: =[1]ProEmp!O17 -> 367579.89 | E19: =[1]ProEmp!P17 -> 7.6181134 | F19: =[1]ProEmp!Q17 -> 27733.457 | G19: =[1]ProEmp!R17 -> 9.4973766 | H19: =F19/B19*100 -> 7.015563 | I19: =[1]ProEmp!S17 -> 34005.256 | J19: =[1]ProEmp!T17 -> 7.5364269 | K19: =IF(ISNUMBER(I19/D19*100),I19/D19*100,0) -> 9.2511198 | L19: =[1]ProEmp!U17 -> 158257.41 | M19: =[1]ProEmp!V17 -> 6.9401293 | N19: =IF(ISNUMBER(L19/D19*100),L19/D19*100,0) -> 43.053882
A20: De 25 a 29 años | B20: =[1]ProEmp!M18 -> 248184.23 | C20: =[1]ProEmp!N18 -> 7.7963371 | D20: =[1]ProEmp!O18 -> 236276.69 | E20: =[1]ProEmp!P18 -> 7.7052377 | F20: =[1]ProEmp!Q18 -> 11907.536 | G20: =[1]ProEmp!R18 -> 9.4806629 | H20: =F20/B20*100 -> 4.7978616 | I20: =[1]ProEmp!S18 -> 20072.043 | J20: =[1]ProEmp!T18 -> 7.1420971 | K20: =IF(ISNUMBER(I20/D20*100),I20/D20*100,0) -> 8.4951431 | L20: =[1]ProEmp!U18 -> 94288.969 | M20: =[1]ProEmp!V18 -> 6.3374829 | N20: =IF(ISNUMBER(L20/D20*100),L20/D20*100,0) -> 39.906166
A21: De 30 a 34 años | B21: =[1]ProEmp!M19 -> 201109.46 | C21: =[1]ProEmp!N19 -> 7.4477651 | D21: =[1]ProEmp!O19 -> 194738.11 | E21: =[1]ProEmp!P19 -> 7.3761014 | F21: =[1]ProEmp!Q19 -> 6371.3474 | G21: =[1]ProEmp!R19 -> 9.558389 | H21: =F21/B21*100 -> 3.1680993 | I21: =[1]ProEmp!S19 -> 14011.484 | J21: =[1]ProEmp!T19 -> 7.0513854 | K21: =IF(ISNUMBER(I21/D21*100),I21/D21*100,0) -> 7.1950395 | L21: =[1]ProEmp!U19 -> 76776.891 | M21: =[1]ProEmp!V19 -> 6.0882174 | N21: =IF(ISNUMBER(L21/D21*100),L21/D21*100,0) -> 39.425714
A22: De 35 a 39 años | B22: =[1]ProEmp!M20 -> 173816.44 | C22: =[1]ProEmp!N20 -> 7.2872933 | D22: =[1]ProEmp!O20 -> 171191.61 | E22: =[1]ProEmp!P20 -> 7.2739505 | F22: =[1]ProEmp!Q20 -> 2624.8369 | G22: =[1]ProEmp!R20 -> 8.1281841 | H22: =F22/B22*100 -> 1.51012 | I22: =[1]ProEmp!S20 -> 13202.85 | J22: =[1]ProEmp!T20 -> 6.4050247 | K22: =IF(ISNUMBER(I22/D22*100),I22/D22*100,0) -> 7.712323 | L22: =[1]ProEmp!U20 -> 71721.462 | M22: =[1]ProEmp!V20 -> 5.6493833 | N22: =IF(ISNUMBER(L22/D22*100),L22/D22*100,0) -> 41.895432
A23: De 40 a 44 años | B23: =[1]ProEmp!M21 -> 158305.32 | C23: =[1]ProEmp!N21 -> 7.3007857 | D23: =[1]ProEmp!O21 -> 155214.45 | E23: =[1]ProEmp!P21 -> 7.2450024 | F23: =[1]ProEmp!Q21 -> 3090.8735 | G23: =[1]ProEmp!R21 -> 9.8692394 | H23: =F23/B23*100 -> 1.952476 | I23: =[1]ProEmp!S21 -> 9532.4655 | J23: =[1]ProEmp!T21 -> 7.6911086 | K23: =IF(ISNUMBER(I23/D23*100),I23/D23*100,0) -> 6.1414807 | L23: =[1]ProEmp!U21 -> 69472.468 | M23: =[1]ProEmp!V21 -> 5.5396199 | N23: =IF(ISNUMBER(L23/D23*100),L23/D23*100,0) -> 44.759021
A24: De 45 a 49 años | B24: =[1]ProEmp!M22 -> 165194.74 | C24: =[1]ProEmp!N22 -> 6.7214622 | D24: =[1]ProEmp!O22 -> 162132.13 | E24: =[1]ProEmp!P22 -> 6.7079564 | F24: =[1]ProEmp!Q22 -> 3062.6037 | G24: =[1]ProEmp!R22 -> 7.3680447 | H24: =F24/B24*100 -> 1.8539354 | I24: =[1]ProEmp!S22 -> 15250.623 | J24: =[1]ProEmp!T22 -> 5.7269377 | K24: =IF(ISNUMBER(I24/D24*100),I24/D24*100,0) -> 9.4062928 | L24: =[1]ProEmp!U22 -> 68165.988 | M24: =[1]ProEmp!V22 -> 5.413757 | N24: =IF(ISNUMBER(L24/D24*100),L24/D24*100,0) -> 42.043478
A25: De 50 a 54 años | B25: =[1]ProEmp!M23 -> 140603.97 | C25: =[1]ProEmp!N23 -> 6.4314042 | D25: =[1]ProEmp!O23 -> 136759.18 | E25: =[1]ProEmp!P23 -> 6.375601 | F25: =[1]ProEmp!Q23 -> 3844.7829 | G25: =[1]ProEmp!R23 -> 8.3228004 | H25: =F25/B25*100 -> 2.7344769 | I25: =[1]ProEmp!S23 -> 10597.431 | J25: =[1]ProEmp!T23 -> 5.8115347 | K25: =IF(ISNUMBER(I25/D25*100),I25/D25*100,0) -> 7.7489724 | L25: =[1]ProEmp!U23 -> 61723.765 | M25: =[1]ProEmp!V23 -> 5.0097148 | N25: =IF(ISNUMBER(L25/D25*100),L25/D25*100,0) -> 45.133177
A26: De 55 a 59 años | B26: =[1]ProEmp!M24 -> 118461.93 | C26: =[1]ProEmp!N24 -> 5.982723 | D26: =[1]ProEmp!O24 -> 115404.97 | E26: =[1]ProEmp!P24 -> 5.95943 | F26: =[1]ProEmp!Q24 -> 3056.9582 | G26: =[1]ProEmp!R24 -> 6.9018162 | H26: =F26/B26*100 -> 2.5805406 | I26: =[1]ProEmp!S24 -> 6501.755 | J26: =[1]ProEmp!T24 -> 8.0507634 | K26: =IF(ISNUMBER(I26/D26*100),I26/D26*100,0) -> 5.6338604 | L26: =[1]ProEmp!U24 -> 51676.179 | M26: =[1]ProEmp!V24 -> 4.0442845 | N26: =IF(ISNUMBER(L26/D26*100),L26/D26*100,0) -> 44.778122
A27: De 60 a 64 años | B27: =[1]ProEmp!M25 -> 88213.478 | C27: =[1]ProEmp!N25 -> 5.399399 | D27: =[1]ProEmp!O25 -> 87559.255 | E27: =[1]ProEmp!P25 -> 5.3948815 | F27: =[1]ProEmp!Q25 -> 654.22326 | G27: =[1]ProEmp!R25 -> 6 | H27: =F27/B27*100 -> 0.74163639 | I27: =[1]ProEmp!S25 -> 5191.2032 | J27: =[1]ProEmp!T25 -> 7.1339872 | K27: =IF(ISNUMBER(I27/D27*100),I27/D27*100,0) -> 5.9287887 | L27: =[1]ProEmp!U25 -> 38362.628 | M27: =[1]ProEmp!V25 -> 4.1775636 | N27: =IF(ISNUMBER(L27/D27*100),L27/D27*100,0) -> 43.813333
A28: De 65 años y más | B28: =[1]ProEmp!M26 -> 134332.15 | C28: =[1]ProEmp!N26 -> 4.9704205 | D28: =[1]ProEmp!O26 -> 133696.72 | E28: =[1]ProEmp!P26 -> 4.9688352 | F28: =[1]ProEmp!Q26 -> 635.4324 | G28: =[1]ProEmp!R26 -> 5.2398047 | H28: =F28/B28*100 -> 0.47303075 | I28: =[1]ProEmp!S26 -> 5959.3602 | J28: =[1]ProEmp!T26 -> 5.7908262 | K28: =IF(ISNUMBER(I28/D28*100),I28/D28*100,0) -> 4.457372 | L28: =[1]ProEmp!U26 -> 58763.442 | M28: =[1]ProEmp!V26 -> 3.6808459 | N28: =IF(ISNUMBER(L28/D28*100),L28/D28*100,0) -> 43.952792
A30: ='C01'!$A$31 -> Fuente: Instituto Nacional de Estadística (INE). XLI Encuesta Permanente de Hogares de Propósitos Múltiples, Mayo 2011.
A31: AEP: Años de Estudio Promedio
A32: TDA: Tasa de Desempleo Abierto
A33: TSV: Tasa de Subempleo Visible
A34: TSI: Tasa de Subempleo Invisible
A36: =A1 -> Cuadro No. 2. Población Económicamente Activa (PEA) en condición de empleo, según dominio, rango de edad, rama de actividad y ocupación
A37: Hombres
A38: ....... Continuación
A39: =A3 -> Categorías | B39: =B3 -> PEA | D39: =D3 -> Ocupados | F39: =F3 -> Desocupados | I39: =I3 -> Subempleo Visible | L39: =L3 -> Subempleo Invisible
B40: =B4 -> No. | C40: =C4 -> AEP | D40: =D4 -> No. | E40: =E4 -> AEP | F40: =F4 -> No. | G40: =G4 -> AEP | H40: =H4 -> TDA | I40: =I4 -> No. | ... N40: =N4 -> TSI
A42: =A6 -> Total Nacional | B42: =B6 -> 2183811.3 | C42: =C6 -> 6.9102827 | D42: =D6 -> 2112345.1 | E42: =E6 -> 6.8340573 | F42: =F6 -> 71466.141 | G42: =G6 -> 8.9597707 | H42: =H6 -> 3.272542 | ... N42: =N6 -> 40.232715
A44: Rama de Actividad
A45: Agricultura, Silvicultura, Caza y Pesca | B45: =[1]ProEmp!M28 -> 1080544.5 | C45: =[1]ProEmp!N28 -> 5.1710363 | D45: =[1]ProEmp!O28 -> 1073774.8 | E45: =[1]ProEmp!P28 -> 5.1552675 | F45: =[1]ProEmp!Q28 -> 6769.7171 | G45: =[1]ProEmp!R28 -> 7.5092283 | H45: =F45/B45*100 -> 0.62650978 | I45: =[1]ProEmp!S28 -> 87637.565 | J45: =[1]ProEmp!T28 -> 5.4651799 | K45: =IF(ISNUMBER(I45/D45*100),I45/D45*100,0) -> 8.1616336 | L45: =[1]ProEmp!U28 -> 480167.27 | M45: =[1]ProEmp!V28 -> 4.7621044 | N45: =IF(ISNUMBER(L45/D45*100),L45/D45*100,0) -> 44.717688
A46: Explotación de minas y canteras | B46: =[1]ProEmp!M29 -> 6195.5569 | C46: =[1]ProEmp!N29 -> 5.9954248 | D46: =[1]ProEmp!O29 -> 6028.0937 | E46: =[1]ProEmp!P29 -> 5.9952448 | F46: =[1]ProEmp!Q29 -> 167.46323 | G46: =[1]ProEmp!R29 -> 6 | H46: =F46/B46*100 -> 2.7029569 | I46: =[1]ProEmp!S29 -> 1121.4558 | J46: =[1]ProEmp!T29 -> 7.5238095 | K46: =IF(ISNUMBER(I46/D46*100),I46/D46*100,0) -> 18.603822 | L46: =[1]ProEmp!U29 -> 3443.5687 | M46: =[1]ProEmp!V29 -> 4.671487 | N46: =IF(ISNUMBER(L46/D46*100),L46/D46*100,0) -> 57.125335
A47: Industria manufacturera | B47: =[1]ProEmp!M30 -> 219591.01 | C47: =[1]ProEmp!N30 -> 7.8666457 | D47: =[1]ProEmp!O30 -> 211121.97 | E47: =[1]ProEmp!P30 -> 7.828088 | F47: =[1]ProEmp!Q30 -> 8469.041 | G47: =[1]ProEmp!R30 -> 8.8163734 | H47: =F47/B47*100 -> 3.8567339 | I47: =[1]ProEmp!S30 -> 13156.186 | J47: =[1]ProEmp!T30 -> 7.2914343 | K47: =IF(ISNUMBER(I47/D47*100),I47/D47*100,0) -> 6.2315573 | L47: =[1]ProEmp!U30 -> 57090.178 | M47: =[1]ProEmp!V30 -> 6.8070789 | N47: =IF(ISNUMBER(L47/D47*100),L47/D47*100,0) -> 27.041325
A48: Electricidad, gas y agua | B48: =[1]ProEmp!M31 -> 13641.735 | C48: =[1]ProEmp!N31 -> 10.598513 | D48: =[1]ProEmp!O31 -> 12623.967 | E48: =[1]ProEmp!P31 -> 10.818245 | F48: =[1]ProEmp!Q31 -> 1017.7671 | G48: =[1]ProEmp!R31 -> 7.8730487 | H48: =F48/B48*100 -> 7.460687 | I48: =[1]ProEmp!S31 -> 0 | J48: =[1]ProEmp!T31 -> . | K48: =IF(ISNUMBER(I48/D48*100),I48/D48*100,0) -> 0 | L48: =[1]ProEmp!U31 -> 273.06341 | M48: =[1]ProEmp!V31 -> 17 | N48: =IF(ISNUMBER(L48/D48*100),L48/D48*100,0) -> 2.1630554
A49: Construcción | B49: =[1]ProEmp!M32 -> 179239.01 | C49: =[1]ProEmp!N32 -> 6.4021416 | D49: =[1]ProEmp!O32 -> 165980.95 | E49: =[1]ProEmp!P32 -> 6.4326338 | F49: =[1]ProEmp!Q32 -> 13258.057 | G49: =[1]ProEmp!R32 -> 6.0145666 | H49: =F49/B49*100 -> 7.3968593 | I49: =[1]ProEmp!S32 -> 14858.647 | J49: =[1]ProEmp!T32 -> 6.7190637 | K49: =IF(ISNUMBER(I49/D49*100),I49/D49*100,0) -> 8.9520198 | L49: =[1]ProEmp!U32 -> 99459.006 | M49: =[1]ProEmp!V32 -> 6.2073224 | N49: =IF(ISNUMBER(L49/D49*100),L49/D49*100,0) -> 59.92194
A50: Comercio por Mayor / menor, Hoteles / restaurantes | B50: =[1]ProEmp!M33 -> 339872.5 | C50: =[1]ProEmp!N33 -> 8.1672724 | D50: =[1]ProEmp!O33 -> 327667.16 | E50: =[1]ProEmp!P33 -> 8.1605928 | F50: =[1]ProEmp!Q33 -> 12205.348 | G50: =[1]ProEmp!R33 -> 8.3374933 | H50: =F50/B50*100 -> 3.591155 | I50: =[1]ProEmp!S33 -> 27566.202 | J50: =[1]ProEmp!T33 -> 7.4950112 | K50: =IF(ISNUMBER(I50/D50*100),I50/D50*100,0) -> 8.4128669 | L50: =[1]ProEmp!U33 -> 128777.95 | M50: =[1]ProEmp!V33 -> 7.5126912 | N50: =IF(ISNUMBER(L50/D50*100),L50/D50*100,0) -> 39.301451
A51: Transp. almac. y comunicaciones | B51: =[1]ProEmp!M34 -> 91922.988 | C51: =[1]ProEmp!N34 -> 8.09804 | D51: =[1]ProEmp!O34 -> 87439.424 | E51: =[1]ProEmp!P34 -> 8.0884084 | F51: =[1]ProEmp!Q34 -> 4483.564 | G51: =[1]ProEmp!R34 -> 8.2774494 | H51: =F51/B51*100 -> 4.877522 | I51: =[1]ProEmp!S34 -> 7684.9187 | J51: =[1]ProEmp!T34 -> 6.7256426 | K51: =IF(ISNUMBER(I51/D51*100),I51/D51*100,0) -> 8.7888487 | L51: =[1]ProEmp!U34 -> 31694.436 | M51: =[1]ProEmp!V34 -> 6.9258215 | N51: =IF(ISNUMBER(L51/D51*100),L51/D51*100,0) -> 36.247306
A52: Estab. finac. seguros, Bienes inmuebles y servicios | B52: =[1]ProEmp!M35 -> 67936.6 | C52: =[1]ProEmp!N35 -> 10.12011 | D52: =[1]ProEmp!O35 -> 64012.383 | E52: =[1]ProEmp!P35 -> 10.090704 | F52: =[1]ProEmp!Q35 -> 3924.2171 | G52: =[1]ProEmp!R35 -> 10.626708 | H52: =F52/B52*100 -> 5.776293 | I52: =[1]ProEmp!S35 -> 5645.5034 | J52: =[1]ProEmp!T35 -> 9.878261 | K52: =IF(ISNUMBER(I52/D52*100),I52/D52*100,0) -> 8.8193927 | L52: =[1]ProEmp!U35 -> 16821.916 | M52: =[1]ProEmp!V35 -> 8.0845108 | N52: =IF(ISNUMBER(L52/D52*100),L52/D52*100,0) -> 26.279159
A53: Servicios Comunales, Sociales y Personales | B53: =[1]ProEmp!M36 -> 168951.99 | C53: =[1]ProEmp!N36 -> 10.44291 | D53: =[1]ProEmp!O36 -> 163133.74 | E53: =[1]ProEmp!P36 -> 10.400749 | F53: =[1]ProEmp!Q36 -> 5818.247 | G53: =[1]ProEmp!R36 -> 11.587439 | H53: =F53/B53*100 -> 3.443728 | I53: =[1]ProEmp!S36 -> 16051.971 | J53: =[1]ProEmp!T36 -> 10.325612 | K53: =IF(ISNUMBER(I53/D53*100),I53/D53*100,0) -> 9.8397617 | L53: =[1]ProEmp!U36 -> 31859.415 | M53: =[1]ProEmp!V36 -> 6.7401861 | N53: =IF(ISNUMBER(L53/D53*100),L53/D53*100,0) -> 19.529629
A54: No sabe, No responde | B54: =[1]ProEmp!M37 -> 1185.2303 | C54: =[1]ProEmp!N37 -> 8.9596447 | D54: =[1]ProEmp!O37 -> 562.66143 | E54: =[1]ProEmp!P37 -> 6 | F54: =[1]ProEmp!Q37 -> 622.56892 | G54: =[1]ProEmp!R37 -> 11.634494 | H54: =F54/B54*100 -> 52.527251 | I54: =[1]ProEmp!S37 -> 0 | J54: =[1]ProEmp!T37 -> . | K54: =IF(ISNUMBER(I54/D54*100),I54/D54*100,0) -> 0 | L54: =[1]ProEmp!U37 -> 267.01328 | M54: =[1]ProEmp!V37 -> 6 | N54: =IF(ISNUMBER(L54/D54*100),L54/D54*100,0) -> 47.45541
A55: Busca Trabajo por Primera Vez | B55: =[1]ProEmp!M38 -> 14730.15 | C55: =[1]ProEmp!N38 -> 11.290253 | D55: =[1]ProEmp!O38 -> 0 | E55: =[1]ProEmp!P38 -> . | F55: =[1]ProEmp!Q38 -> 14730.15 | G55: =[1]ProEmp!R38 -> 11.290253 | H55: =F55/B55*100 -> 100 | I55: =[1]ProEmp!S38 -> 0 | J55: =[1]ProEmp!T38 -> . | K55: =IF(ISNUMBER(I55/D55*100),I55/D55*100,0) -> 0 | L55: =[1]ProEmp!U38 -> 0 | M55: =[1]ProEmp!V38 -> . | N55: =IF(ISNUMBER(L55/D55*100),L55/D55*100,0) -> 0
K56: =IF(ISNUMBER(I56/D56*100),I56/D56*100,0) -> 0 | N56: =IF(ISNUMBER(L56/D56*100),L56/D56*100,0) -> 0
A57: Ocupación
A58: Profesionales, Técnicos y PEOA | B58: =[1]ProEmp!M40 -> 124941.62 | C58: =[1]ProEmp!N40 -> 13.074712 | D58: =[1]ProEmp!O40 -> 118407.44 | E58: =[1]ProEmp!P40 -> 13.068908 | F58: =[1]ProEmp!Q40 -> 6534.173 | G58: =[1]ProEmp!R40 -> 13.179399 | H58: =F58/B58*100 -> 5.2297811 | I58: =[1]ProEmp!S40 -> 11449.129 | J58: =[1]ProEmp!T40 -> 12.123314 | K58: =IF(ISNUMBER(I58/D58*100),I58/D58*100,0) -> 9.6692647 | L58: =[1]ProEmp!U40 -> 10990.038 | M58: =[1]ProEmp!V40 -> 11.023116 | N58: =IF(ISNUMBER(L58/D58*100),L58/D58*100,0) -> 9.2815431
A59: Directores Gerentes y Administ. Grales. | B59: =[1]ProEmp!M41 -> 81897.584 | C59: =[1]ProEmp!N41 -> 11.411064 | D59: =[1]ProEmp!O41 -> 78732.739 | E59: =[1]ProEmp!P41 -> 11.391564 | F59: =[1]ProEmp!Q41 -> 3164.8455 | G59: =[1]ProEmp!R41 -> 11.914683 | H59: =F59/B59*100 -> 3.8643942 | I59: =[1]ProEmp!S41 -> 4434.1777 | J59: =[1]ProEmp!T41 -> 8.7201899 | K59: =IF(ISNUMBER(I59/D59*100),I59/D59*100,0) -> 5.6319363 | L59: =[1]ProEmp!U41 -> 18530.938 | M59: =[1]ProEmp!V41 -> 8.9929557 | N59: =IF(ISNUMBER(L59/D59*100),L59/D59*100,0) -> 23.536509
A60: Empleados de Oficina | B60: =[1]ProEmp!M42 -> 31477.196 | C60: =[1]ProEmp!N42 -> 10.508571 | D60: =[1]ProEmp!O42 -> 30113.538 | E60: =[1]ProEmp!P42 -> 10.511449 | F60: =[1]ProEmp!Q42 -> 1363.6575 | G60: =[1]ProEmp!R42 -> 10.446655 | H60: =F60/B60*100 -> 4.3322076 | I60: =[1]ProEmp!S42 -> 1444.0403 | J60: =[1]ProEmp!T42 -> 7.4182261 | K60: =IF(ISNUMBER(I60/D60*100),I60/D60*100,0) -> 4.7953192 | L60: =[1]ProEmp!U42 -> 7368.2824 | M60: =[1]ProEmp!V42 -> 8.828395 | N60: =IF(ISNUMBER(L60/D60*100),L60/D60*100,0) -> 24.468338
A61: Comerciantes y Vendedores | B61: =[1]ProEmp!M43 -> 188434.17 | C61: =[1]ProEmp!N43 -> 7.8825411 | D61: =[1]ProEmp!O43 -> 181626.9 | E61: =[1]ProEmp!P43 -> 7.8468289 | F61: =[1]ProEmp!Q43 -> 6807.2783 | G61: =[1]ProEmp!R43 -> 8.7527535 | H61: =F61/B61*100 -> 3.6125498 | I61: =[1]ProEmp!S43 -> 14581.798 | J61: =[1]ProEmp!T43 -> 7.3297422 | K61: =IF(ISNUMBER(I61/D61*100),I61/D61*100,0) -> 8.0284357 | L61: =[1]ProEmp!U43 -> 60071.685 | M61: =[1]ProEmp!V43 -> 7.2202915 | N61: =IF(ISNUMBER(L61/D61*100),L61/D61*100,0) -> 33.074223
A62: Agricultores, Ganaderos y Trab. Agrop. | B62: =[1]ProEmp!M44 -> 1050188.7 | C62: =[1]ProEmp!N44 -> 5.1375427 | D62: =[1]ProEmp!O44 -> 1045049.7 | E62: =[1]ProEmp!P44 -> 5.1273812 | F62: =[1]ProEmp!Q44 -> 5139.0025 | G62: =[1]ProEmp!R44 -> 7.0627276 | H62: =F62/B62*100 -> 0.48934088 | I62: =[1]ProEmp!S44 -> 84398.747 | J62: =[1]ProEmp!T44 -> 5.4788422 | K62: =IF(ISNUMBER(I62/D62*100),I62/D62*100,0) -> 8.0760512 | L62: =[1]ProEmp!U44 -> 467683.24 | M62: =[1]ProEmp!V44 -> 4.7708264 | N62: =IF(ISNUMBER(L62/D62*100),L62/D62*100,0) -> 44.752249
A63: Conductores de Transporte | B63: =[1]ProEmp!M45 -> 72711.73 | C63: =[1]ProEmp!N45 -> 7.2151607 | D63: =[1]ProEmp!O45 -> 69233.649 | E63: =[1]ProEmp!P45 -> 7.2567645 | F63: =[1]ProEmp!Q45 -> 3478.0808 | G63: =[1]ProEmp!R45 -> 6.3204431 | H63: =F63/B63*100 -> 4.7833833 | I63: =[1]ProEmp!S45 -> 5542.0505 | J63: =[1]ProEmp!T45 -> 6.6189759 | K63: =IF(ISNUMBER(I63/D63*100),I63/D63*100,0) -> 8.0048511 | L63: =[1]ProEmp!U45 -> 25328.618 | M63: =[1]ProEmp!V45 -> 7.077 | N63: =IF(ISNUMBER(L63/D63*100),L63/D63*100,0) -> 36.584259
A64: Trab. Ind. Textil, Albañilería, Mecánica, etc. | B64: =[1]ProEmp!M46 -> 372695.8 | C64: =[1]ProEmp!N46 -> 6.9908832 | D64: =[1]ProEmp!O46 -> 354676.7 | E64: =[1]ProEmp!P46 -> 7.0280873 | F64: =[1]ProEmp!Q46 -> 18019.104 | G64: =[1]ProEmp!R46 -> 6.238066 | H64: =F64/B64*100 -> 4.8348021 | I64: =[1]ProEmp!S46 -> 31897.444 | J64: =[1]ProEmp!T46 -> 7.259667 | K64: =IF(ISNUMBER(I64/D64*100),I64/D64*100,0) -> 8.9933859 | L64: =[1]ProEmp!U46 -> 167844.95 | M64: =[1]ProEmp!V46 -> 6.6197268 | N64: =IF(ISNUMBER(L64/D64*100),L64/D64*100,0) -> 47.323367
A65: Trab. Área Grafica, Quím., Alimentos, etc. | B65: =[1]ProEmp!M47 -> 39842.061 | C65: =[1]ProEmp!N47 -> 6.604031 | D65: =[1]ProEmp!O47 -> 38775.884 | E65: =[1]ProEmp!P47 -> 6.5392754 | F65: =[1]ProEmp!Q47 -> 1066.1769 | G65: =[1]ProEmp!R47 -> 8.6941928 | H65: =F65/B65*100 -> 2.6760085 | I65: =[1]ProEmp!S47 -> 4490.6566 | J65: =[1]ProEmp!T47 -> 7.1668939 | K65: =IF(ISNUMBER(I65/D65*100),I65/D65*100,0) -> 11.581056 | L65: =[1]ProEmp!U47 -> 16235.558 | M65: =[1]ProEmp!V47 -> 5.8097912 | N65: =IF(ISNUMBER(L65/D65*100),L65/D65*100,0) -> 41.870245
A66: Operador de Carga y Almacenaje | B66: =[1]ProEmp!M48 -> 53922.494 | C66: =[1]ProEmp!N48 -> 7.3483164 | D66: =[1]ProEmp!O48 -> 49799.067 | E66: =[1]ProEmp!P48 -> 7.272938 | F66: =[1]ProEmp!Q48 -> 4123.4271 | G66: =[1]ProEmp!R48 -> 8.1561662 | H66: =F66/B66*100 -> 7.6469518 | I66: =[1]ProEmp!S48 -> 3267.6262 | J66: =[1]ProEmp!T48 -> 5.7509999 | K66: =IF(ISNUMBER(I66/D66*100),I66/D66*100,0) -> 6.5616213 | L66: =[1]ProEmp!U48 -> 19738.566 | M66: =[1]ProEmp!V48 -> 7.00876 | N66: =IF(ISNUMBER(L66/D66*100),L66/D66*100,0) -> 39.636417
A67: Ocupación de los Servicios | B67: =[1]ProEmp!M49 -> 122986.87 | C67: =[1]ProEmp!N49 -> 6.3606561 | D67: =[1]ProEmp!O49 -> 118088.57 | E67: =[1]ProEmp!P49 -> 6.3344094 | F67: =[1]ProEmp!Q49 -> 4898.2972 | G67: =[1]ProEmp!R49 -> 6.9682236 | H67: =F67/B67*100 -> 3.9827806 | I67: =[1]ProEmp!S49 -> 8121.0674 | J67: =[1]ProEmp!T49 -> 7.043247 | K67: =IF(ISNUMBER(I67/D67*100),I67/D67*100,0) -> 6.8770983 | L67: =[1]ProEmp!U49 -> 44686.166 | M67: =[1]ProEmp!V49 -> 5.3899187 | N67: =IF(ISNUMBER(L67/D67*100),L67/D67*100,0) -> 37.841228
A68: No sabe, No responde | B68: =[1]ProEmp!M50 -> 29982.925 | C68: =[1]ProEmp!N50 -> 7.9006486 | D68: =[1]ProEmp!O50 -> 27840.977 | E68: =[1]ProEmp!P50 -> 7.7266298 | F68: =[1]ProEmp!Q50 -> 2141.9479 | G68: =[1]ProEmp!R50 -> 9.9755418 | H68: =F68/B68*100 -> 7.1438924 | I68: =[1]ProEmp!S50 -> 4095.7125 | J68: =[1]ProEmp!T50 -> 5.4999784 | K68: =IF(ISNUMBER(I68/D68*100),I68/D68*100,0) -> 14.711095 | L68: =[1]ProEmp!U50 -> 11375.768 | M68: =[1]ProEmp!V50 -> 7.108418 | N68: =IF(ISNUMBER(L68/D68*100),L68/D68*100,0) -> 40.859801
A69: Busca Trabajo por Primera Vez | B69: =[1]ProEmp!M51 -> 14730.15 | C69: =[1]ProEmp!N51 -> 11.290253 | D69: =[1]ProEmp!O51 -> 0 | E69: =[1]ProEmp!P51 -> . | F69: =[1]ProEmp!Q51 -> 14730.15 | G69: =[1]ProEmp!R51 -> 11.290253 | H69: =F69/B69*100 -> 100 | I69: =[1]ProEmp!S51 -> 0 | J69: =[1]ProEmp!T51 -> . | K69: =IF(ISNUMBER(I69/D69*100),I69/D69*100,0) -> 0 | L69: =[1]ProEmp!U51 -> 0 | M69: =[1]ProEmp!V51 -> . | N69: =IF(ISNUMBER(L69/D69*100),L69/D69*100,0) -> 0
A71: =A30 -> Fuente: Instituto Nacional de Estadística (INE). XLI Encuesta Permanente de Hogares de Propósitos Múltiples, Mayo 2011.
A72: AEP: Años de Estudio Promedio
A73: TDA: Tasa de Desempleo Abierto
A74: TSV: Tasa de Subempleo Visible
A75: TSI: Tasa de Subempleo Invisible

Sheet C03
A1: Cuadro No. 1. Población Económicamente Activa (PEA) en condición de empleo, según dominio, rama de actividad y ocupación
A2: Mujeres
A3: Categorías | B3: PEA | D3: Ocupados | F3: Desocupados | I3: Subempleo Visible | L3: Subempleo Invisible
B4: No. | C4: AEP | D4: No. | E4: AEP | F4: No. | G4: AEP | H4: TDA | I4: No. | J4: AEP | K4: TSV | L4: No. | M4: AEP | N4: TSI
A6: Total Nacional | B6: =[1]ProEmp!W8 -> 1186107.4 | C6: =[1]ProEmp!X8 -> 8.3183897 | D6: =[1]ProEmp!Y8 -> 1113790.2 | E6: =[1]ProEmp!Z8 -> 8.1957777 | F6: =[1]ProEmp!AA8 -> 72317.252 | G6: =[1]ProEmp!AB8 -> 10.061796 | H6: =F6/B6*100 -> 6.0970239 | I6: =[1]ProEmp!AC8 -> 160246.71 | J6: =[1]ProEmp!AD8 -> 7.8985978 | K6: =IF(ISNUMBER(I6/D6*100),I6/D6*100,0) -> 14.387513 | L6: =[1]ProEmp!AE8 -> 321121 | M6: =[1]ProEmp!AF8 -> 7.0938933 | N6: =IF(ISNUMBER(L6/D6*100),L6/D6*100,0) -> 28.831373
A8: Dominio
A9: Urbano | B9: =SUM(B10:B12) -> 715336.29 | C9: =AVERAGE(C10:C12) -> 9.6265714 | D9: =SUM(D10:D12) -> 660935.63 | E9: =AVERAGE(E10:E12) -> 9.5465281 | F9: =SUM(F10:F12) -> 54400.661 | G9: =AVERAGE(G10:G12) -> 10.43221 | H9: =F9/B9*100 -> 7.6049071 | I9: =SUM(I10:I12) -> 84975.665 | J9: =AVERAGE(J10:J12) -> 8.8663198 | K9: =IF(ISNUMBER(I9/D9*100),I9/D9*100,0) -> 12.856874 | L9: =SUM(L10:L12) -> 186386.09 | M9: =AVERAGE(M10:M12) -> 7.7866736 | N9: =IF(ISNUMBER(L9/D9*100),L9/D9*100,0) -> 28.200339
A10: Distrito Central | B10: =[1]ProEmp!W9 -> 213057.73 | C10: =[1]ProEmp!X9 -> 10.264884 | D10: =[1]ProEmp!Y9 -> 190552.75 | E10: =[1]ProEmp!Z9 -> 10.12836 | F10: =[1]ProEmp!AA9 -> 22504.976 | G10: =[1]ProEmp!AB9 -> 11.369765 | H10: =F10/B10*100 -> 10.562854 | I10: =[1]ProEmp!AC9 -> 29650.136 | J10: =[1]ProEmp!AD9 -> 8.985962 | K10: =IF(ISNUMBER(I10/D10*100),I10/D10*100,0) -> 15.560067 | L10: =[1]ProEmp!AE9 -> 41824.213 | M10: =[1]ProEmp!AF9 -> 8 | N10: =IF(ISNUMBER(L10/D10*100),L10/D10*100,0) -> 21.948889
A11: San Pedro Sula | B11: =[1]ProEmp!W10 -> 111179.34 | C11: =[1]ProEmp!X10 -> 9.6392216 | D11: =[1]ProEmp!Y10 -> 105891.91 | E11: =[1]ProEmp!Z10 -> 9.6409893 | F11: =[1]ProEmp!AA10 -> 5287.4288 | G11: =[1]ProEmp!AB10 -> 9.6054217 | H11: =F11/B11*100 -> 4.7557656 | I11: =[1]ProEmp!AC10 -> 12294.865 | J11: =[1]ProEmp!AD10 -> 8.8018494 | K11: =IF(ISNUMBER(I11/D11*100),I11/D11*100,0) -> 11.610769 | L11: =[1]ProEmp!AE10 -> 27790.853 | M11: =[1]ProEmp!AF10 -> 7.6911942 | N11: =IF(ISNUMBER(L11/D11*100),L11/D11*100,0) -> 26.244548
A12: Resto urbano | B12: =[1]ProEmp!W11 -> 391099.23 | C12: =[1]ProEmp!X11 -> 8.9756085 | D12: =[1]ProEmp!Y11 -> 364490.97 | E12: =[1]ProEmp!Z11 -> 8.8702346 | F12: =[1]ProEmp!AA11 -> 26608.256 | G12: =[1]ProEmp!AB11 -> 10.321442 | H12: =F12/B12*100 -> 6.8034539 | I12: =[1]ProEmp!AC11 -> 43030.665 | J12: =[1]ProEmp!AD11 -> 8.811148 | K12: =IF(ISNUMBER(I12/D12*100),I12/D12*100,0) -> 11.805687 | L12: =[1]ProEmp!AE11 -> 116771.03 | M12: =[1]ProEmp!AF11 -> 7.6688266 | N12: =IF(ISNUMBER(L12/D12*100),L12/D12*100,0) -> 32.03674
A13: Rural | B13: =[1]ProEmp!W12 -> 470771.12 | C13: =[1]ProEmp!X12 -> 6.3912754 | D13: =[1]ProEmp!Y12 -> 452854.53 | E13: =[1]ProEmp!Z12 -> 6.3202029 | F13: =[1]ProEmp!AA12 -> 17916.591 | G13: =[1]ProEmp!AB12 -> 8.0386473 | H13: =F13/B13*100 -> 3.8057966 | I13: =[1]ProEmp!AC12 -> 75271.045 | J13: =[1]ProEmp!AD12 -> 6.7337898 | K13: =IF(ISNUMBER(I13/D13*100),I13/D13*100,0) -> 16.621462 | L13: =[1]ProEmp!AE12 -> 134734.9 | M13: =[1]ProEmp!AF12 -> 6.1068277 | N13: =IF(ISNUMBER(L13/D13*100),L13/D13*100,0) -> 29.752358
K14: =IF(ISNUMBER(I14/D14*100),I14/D14*100,0) -> 0 | N14: =IF(ISNUMBER(L14/D14*100),L14/D14*100,0) -> 0
A15: Rango de Edad
A16: De 10 a 11 años | B16: =[1]ProEmp!W14 -> 4753.1332 | C16: =[1]ProEmp!X14 -> 4.1684905 | D16: =[1]ProEmp!Y14 -> 4753.1332 | E16: =[1]ProEmp!Z14 -> 4.1684905 | F16: =[1]ProEmp!AA14 -> 0 | G16: =[1]ProEmp!AB14 -> . | H16: =F16/B16*100 -> 0 | I16: =[1]ProEmp!AC14 -> 267.01328 | J16: =[1]ProEmp!AD14 -> 5 | K16: =IF(ISNUMBER(I16/D16*100),I16/D16*100,0) -> 5.6176268 | L16: =[1]ProEmp!AE14 -> 0 | M16: =[1]ProEmp!AF14 -> . | N16: =IF(ISNUMBER(L16/D16*100),L16/D16*100,0) -> 0
A17: De 12 a 14 años | B17: =[1]ProEmp!W15 -> 21406.216 | C17: =[1]ProEmp!X15 -> 6.0982353 | D17: =[1]ProEmp!Y15 -> 21406.216 | E17: =[1]ProEmp!Z15 -> 6.0982353 | F17: =[1]ProEmp!AA15 -> 0 | G17: =[1]ProEmp!AB15 -> . | H17: =F17/B17*100 -> 0 | I17: =[1]ProEmp!AC15 -> 1602.0797 | J17: =[1]ProEmp!AD15 -> 6.25 | K17: =IF(ISNUMBER(I17/D17*100),I17/D17*100,0) -> 7.4841799 | L17: =[1]ProEmp!AE15 -> 3017.6838 | M17: =[1]ProEmp!AF15 -> 5.5688468 | N17: =IF(ISNUMBER(L17/D17*100),L17/D17*100,0) -> 14.097231
A18: De 15 a 18 años | B18: =[1]ProEmp!W16 -> 76761.17 | C18: =[1]ProEmp!X16 -> 7.8809137 | D18: =[1]ProEmp!Y16 -> 69587.355 | E18: =[1]ProEmp!Z16 -> 7.6315591 | F18: =[1]ProEmp!AA16 -> 7173.8151 | G18: =[1]ProEmp!AB16 -> 10.412505 | H18: =F18/B18*100 -> 9.3456302 | I18: =[1]ProEmp!AC16 -> 10959.442 | J18: =[1]ProEmp!AD16 -> 8.4349798 | K18: =IF(ISNUMBER(I18/D18*100),I18/D18*100,0) -> 15.749186 | L18: =[1]ProEmp!AE16 -> 23895.715 | M18: =[1]ProEmp!AF16 -> 6.8129828 | N18: =IF(ISNUMBER(L18/D18*100),L18/D18*100,0) -> 34.339162
A19: De 19 a 24 años | B19: =[1]ProEmp!W17 -> 204780.68 | C19: =[1]ProEmp!X17 -> 9.6231491 | D19: =[1]ProEmp!Y17 -> 173217.92 | E19: =[1]ProEmp!Z17 -> 9.489035 | F19: =[1]ProEmp!AA17 -> 31562.761 | G19: =[1]ProEmp!AB17 -> 10.349853 | H19: =F19/B19*100 -> 15.412958 | I19: =[1]ProEmp!AC17 -> 24041.838 | J19: =[1]ProEmp!AD17 -> 9.4809219 | K19: =IF(ISNUMBER(I19/D19*100),I19/D19*100,0) -> 13.879533 | L19: =[1]ProEmp!AE17 -> 63315.23 | M19: =[1]ProEmp!AF17 -> 8.9586347 | N19: =IF(ISNUMBER(L19/D19*100),L19/D19*100,0) -> 36.552355
A20: De 25 a 29 años | B20: =[1]ProEmp!W18 -> 148212.8 | C20: =[1]ProEmp!X18 -> 9.367145 | D20: =[1]ProEmp!Y18 -> 134472.15 | E20: =[1]ProEmp!Z18 -> 9.211167 | F20: =[1]ProEmp!AA18 -> 13740.644 | G20: =[1]ProEmp!AB18 -> 10.865549 | H20: =F20/B20*100 -> 9.270889 | I20: =[1]ProEmp!AC18 -> 20623.995 | J20: =[1]ProEmp!AD18 -> 9.2718589 | K20: =IF(ISNUMBER(I20/D20*100),I20/D20*100,0) -> 15.337001 | L20: =[1]ProEmp!AE18 -> 36805.362 | M20: =[1]ProEmp!AF18 -> 8.2834788 | N20: =IF(ISNUMBER(L20/D20*100),L20/D20*100,0) -> 27.370248
A21: De 30 a 34 años | B21: =[1]ProEmp!W19 -> 141093.78 | C21: =[1]ProEmp!X19 -> 8.9831336 | D21: =[1]ProEmp!Y19 -> 132962.27 | E21: =[1]ProEmp!Z19 -> 8.8611721 | F21: =[1]ProEmp!AA19 -> 8131.5105 | G21: =[1]ProEmp!AB19 -> 10.945196 | H21: =F21/B21*100 -> 5.7631954 | I21: =[1]ProEmp!AC19 -> 19525.353 | J21: =[1]ProEmp!AD19 -> 7.6140376 | K21: =IF(ISNUMBER(I21/D21*100),I21/D21*100,0) -> 14.684882 | L21: =[1]ProEmp!AE19 -> 36044.432 | M21: =[1]ProEmp!AF19 -> 7.4727577 | N21: =IF(ISNUMBER(L21/D21*100),L21/D21*100,0) -> 27.108766
A22: De 35 a 39 años | B22: =[1]ProEmp!W20 -> 131623.7 | C22: =[1]ProEmp!X20 -> 7.8994985 | D22: =[1]ProEmp!Y20 -> 126900.71 | E22: =[1]ProEmp!Z20 -> 7.9565715 | F22: =[1]ProEmp!AA20 -> 4722.986 | G22: =[1]ProEmp!AB20 -> 6.4988732 | H22: =F22/B22*100 -> 3.588249 | I22: =[1]ProEmp!AC20 -> 23466.842 | J22: =[1]ProEmp!AD20 -> 6.9063076 | K22: =IF(ISNUMBER(I22/D22*100),I22/D22*100,0) -> 18.492286 | L22: =[1]ProEmp!AE20 -> 33472.608 | M22: =[1]ProEmp!AF20 -> 6.2979007 | N22: =IF(ISNUMBER(L22/D22*100),L22/D22*100,0) -> 26.377005
A23: De 40 a 44 años | B23: =[1]ProEmp!W21 -> 109591.15 | C23: =[1]ProEmp!X21 -> 8.0381565 | D23: =[1]ProEmp!Y21 -> 107522.5 | E23: =[1]ProEmp!Z21 -> 7.9936013 | F23: =[1]ProEmp!AA21 -> 2068.6471 | G23: =[1]ProEmp!AB21 -> 10.180489 | H23: =F23/B23*100 -> 1.8876042 | I23: =[1]ProEmp!AC21 -> 17871.792 | J23: =[1]ProEmp!AD21 -> 7.5317148 | K23: =IF(ISNUMBER(I23/D23*100),I23/D23*100,0) -> 16.621444 | L23: =[1]ProEmp!AE21 -> 34531.829 | M23: =[1]ProEmp!AF21 -> 6.2940645 | N23: =IF(ISNUMBER(L23/D23*100),L23/D23*100,0) -> 32.115909
A24: De 45 a 49 años | B24: =[1]ProEmp!W22 -> 104044.19 | C24: =[1]ProEmp!X22 -> 7.8049601 | D24: =[1]ProEmp!Y22 -> 101642.27 | E24: =[1]ProEmp!Z22 -> 7.8682855 | F24: =[1]ProEmp!AA22 -> 2401.9155 | G24: =[1]ProEmp!AB22 -> 5.3920677 | H24: =F24/B24*100 -> 2.3085533 | I24: =[1]ProEmp!AC22 -> 16150.782 | J24: =[1]ProEmp!AD22 -> 7.078759 | K24: =IF(ISNUMBER(I24/D24*100),I24/D24*100,0) -> 15.889828 | L24: =[1]ProEmp!AE22 -> 22981.586 | M24: =[1]ProEmp!AF22 -> 5.958029 | N24: =IF(ISNUMBER(L24/D24*100),L24/D24*100,0) -> 22.610265
A25: De 50 a 54 años | B25: =[1]ProEmp!W23 -> 87950.64 | C25: =[1]ProEmp!X23 -> 6.8104347 | D25: =[1]ProEmp!Y23 -> 86817.662 | E25: =[1]ProEmp!Z23 -> 6.7687836 | F25: =[1]ProEmp!AA23 -> 1132.9776 | G25: =[1]ProEmp!AB23 -> 9.4981816 | H25: =F25/B25*100 -> 1.2881971 | I25: =[1]ProEmp!AC23 -> 10428.718 | J25: =[1]ProEmp!AD23 -> 6.4185159 | K25: =IF(ISNUMBER(I25/D25*100),I25/D25*100,0) -> 12.012208 | L25: =[1]ProEmp!AE23 -> 26185.591 | M25: =[1]ProEmp!AF23 -> 5.4084355 | N25: =IF(ISNUMBER(L25/D25*100),L25/D25*100,0) -> 30.161595
A26: De 55 a 59 años | B26: =[1]ProEmp!W24 -> 56766.135 | C26: =[1]ProEmp!X24 -> 8.0611118 | D26: =[1]ProEmp!Y24 -> 55611.693 | E26: =[1]ProEmp!Z24 -> 8.0092089 | F26: =[1]ProEmp!AA24 -> 1154.4423 | G26: =[1]ProEmp!AB24 -> 10.425556 | H26: =F26/B26*100 -> 2.0336813 | I26: =[1]ProEmp!AC24 -> 8831.2544 | J26: =[1]ProEmp!AD24 -> 7.5262032 | K26: =IF(ISNUMBER(I26/D26*100),I26/D26*100,0) -> 15.880211 | L26: =[1]ProEmp!AE24 -> 14414.225 | M26: =[1]ProEmp!AF24 -> 5.9453948 | N26: =IF(ISNUMBER(L26/D26*100),L26/D26*100,0) -> 25.919415
A27: De 60 a 64 años | B27: =[1]ProEmp!W25 -> 39798.625 | C27: =[1]ProEmp!X25 -> 6.3988172 | D27: =[1]ProEmp!Y25 -> 39798.625 | E27: =[1]ProEmp!Z25 -> 6.3988172 | F27: =[1]ProEmp!AA25 -> 0 | G27: =[1]ProEmp!AB25 -> . | H27: =F27/B27*100 -> 0 | I27: =[1]ProEmp!AC25 -> 3218.7603 | J27: =[1]ProEmp!AD25 -> 6.1430795 | K27: =IF(ISNUMBER(I27/D27*100),I27/D27*100,0) -> 8.0876167 | L27: =[1]ProEmp!AE25 -> 9953.3424 | M27: =[1]ProEmp!AF25 -> 5.513279 | N27: =IF(ISNUMBER(L27/D27*100),L27/D27*100,0) -> 25.009262
A28: De 65 años y más | B28: =[1]ProEmp!W26 -> 59325.197 | C28: =[1]ProEmp!X26 -> 5.5808803 | D28: =[1]ProEmp!Y26 -> 59097.645 | E28: =[1]ProEmp!Z26 -> 5.5782541 | F28: =[1]ProEmp!AA26 -> 227.55284 | G28: =[1]ProEmp!AB26 -> 6 | H28: =F28/B28*100 -> 0.38356863 | I28: =[1]ProEmp!AC26 -> 3258.84 | J28: =[1]ProEmp!AD26 -> 6.9911213 | K28: =IF(ISNUMBER(I28/D28*100),I28/D28*100,0) -> 5.5143315 | L28: =[1]ProEmp!AE26 -> 16503.391 | M28: =[1]ProEmp!AF26 -> 4.7393922 | N28: =IF(ISNUMBER(L28/D28*100),L28/D28*100,0) -> 27.925633
A30: ='C01'!$A$31 -> Fuente: Instituto Nacional de Estadística (INE). XLI Encuesta Permanente de Hogares de Propósitos Múltiples, Mayo 2011.
A31: AEP: Años de Estudio Promedio
A32: TDA: Tasa de Desempleo Abierto
A33: TSV: Tasa de Subempleo Visible
A34: TSI: Tasa de Subempleo Invisible
A36: =A1 -> Cuadro No. 1. Población Económicamente Activa (PEA) en condición de empleo, según dominio, rama de actividad y ocupación
A37: =A2 -> Mujeres
A38: ....... Continuación
A39: =A3 -> Categorías | B39: =B3 -> PEA | D39: =D3 -> Ocupados | F39: =F3 -> Desocupados | I39: =I3 -> Subempleo Visible | L39: =L3 -> Subempleo Invisible
B40: =B4 -> No. | C40: =C4 -> AEP | D40: =D4 -> No. | E40: =E4 -> AEP | F40: =F4 -> No. | G40: =G4 -> AEP | H40: =H4 -> TDA | I40: =I4 -> No. | ... N40: =N4 -> TSI
A42: =A6 -> Total Nacional | B42: =B6 -> 1186107.4 | C42: =C6 -> 8.3183897 | D42: =D6 -> 1113790.2 | E42: =E6 -> 8.1957777 | F42: =F6 -> 72317.252 | G42: =G6 -> 10.061796 | H42: =H6 -> 6.0970239 | ... N42: =N6 -> 28.831373
A44: Rama de Actividad
A45: Agricultura, Silvicultura, Caza y Pesca | B45: =[1]ProEmp!W28 -> 108693.29 | C45: =[1]ProEmp!X28 -> 5.1073098 | D45: =[1]ProEmp!Y28 -> 106628.1 | E45: =[1]ProEmp!Z28 -> 5.1090748 | F45: =[1]ProEmp!AA28 -> 2065.1911 | G45: =[1]ProEmp!AB28 -> 5.0394921 | H45: =F45/B45*100 -> 1.9000171 | I45: =[1]ProEmp!AC28 -> 16254.968 | J45: =[1]ProEmp!AD28 -> 4.9982975 | K45: =IF(ISNUMBER(I45/D45*100),I45/D45*100,0) -> 15.244545 | L45: =[1]ProEmp!AE28 -> 17841.532 | M45: =[1]ProEmp!AF28 -> 5.2572674 | N45: =IF(ISNUMBER(L45/D45*100),L45/D45*100,0) -> 16.732486
A46: Explotación de minas y canteras | B46: =[1]ProEmp!W29 -> 434.47652 | C46: =[1]ProEmp!X29 -> 6 | D46: =[1]ProEmp!Y29 -> 434.47652 | E46: =[1]ProEmp!Z29 -> 6 | F46: =[1]ProEmp!AA29 -> 0 | G46: =[1]ProEmp!AB29 -> . | H46: =F46/B46*100 -> 0 | I46: =[1]ProEmp!AC29 -> 167.46323 | J46: =[1]ProEmp!AD29 -> . | K46: =IF(ISNUMBER(I46/D46*100),I46/D46*100,0) -> 38.543679 | L46: =[1]ProEmp!AE29 -> 267.01328 | M46: =[1]ProEmp!AF29 -> 6 | N46: =IF(ISNUMBER(L46/D46*100),L46/D46*100,0) -> 61.456321
A47: Industria manufacturera | B47: =[1]ProEmp!W30 -> 229935.47 | C47: =[1]ProEmp!X30 -> 7.1870069 | D47: =[1]ProEmp!Y30 -> 221451.71 | E47: =[1]ProEmp!Z30 -> 7.1251313 | F47: =[1]ProEmp!AA30 -> 8483.7561 | G47: =[1]ProEmp!AB30 -> 8.624182 | H47: =F47/B47*100 -> 3.6896248 | I47: =[1]ProEmp!AC30 -> 32567.675 | J47: =[1]ProEmp!AD30 -> 7.056763 | K47: =IF(ISNUMBER(I47/D47*100),I47/D47*100,0) -> 14.706446 | L47: =[1]ProEmp!AE30 -> 50059.104 | M47: =[1]ProEmp!AF30 -> 6.3649705 | N47: =IF(ISNUMBER(L47/D47*100),L47/D47*100,0) -> 22.604975
A48: Electricidad, gas y agua | B48: =[1]ProEmp!W31 -> 3244.2955 | C48: =[1]ProEmp!X31 -> 11.611284 | D48: =[1]ProEmp!Y31 -> 3053.1836 | E48: =[1]ProEmp!Z31 -> 11.519575 | F48: =[1]ProEmp!AA31 -> 191.11188 | G48: =[1]ProEmp!AB31 -> 13 | H48: =F48/B48*100 -> 5.8907052 | I48: =[1]ProEmp!AC31 -> 0 | J48: =[1]ProEmp!AD31 -> . | K48: =IF(ISNUMBER(I48/D48*100),I48/D48*100,0) -> 0 | L48: =[1]ProEmp!AE31 -> 0 | M48: =[1]ProEmp!AF31 -> . | N48: =IF(ISNUMBER(L48/D48*100),L48/D48*100,0) -> 0
A49: Construcción | B49: =[1]ProEmp!W32 -> 4708.1526 | C49: =[1]ProEmp!X32 -> 11.876417 | D49: =[1]ProEmp!Y32 -> 3354.3951 | E49: =[1]ProEmp!Z32 -> 11.162588 | F49: =[1]ProEmp!AA32 -> 1353.7575 | G49: =[1]ProEmp!AB32 -> 13.64517 | H49: =F49/B49*100 -> 28.753475 | I49: =[1]ProEmp!AC32 -> 0 | J49: =[1]ProEmp!AD32 -> . | K49: =IF(ISNUMBER(I49/D49*100),I49/D49*100,0) -> 0 | L49: =[1]ProEmp!AE32 -> 1221.8709 | M49: =[1]ProEmp!AF32 -> 8.2741095 | N49: =IF(ISNUMBER(L49/D49*100),L49/D49*100,0) -> 36.425968
A50: Comercio por Mayor / menor, Hoteles / restaurantes | B50: =[1]ProEmp!W33 -> 422778.2 | C50: =[1]ProEmp!X33 -> 7.615972 | D50: =[1]ProEmp!Y33 -> 404560.31 | E50: =[1]ProEmp!Z33 -> 7.4899068 | F50: =[1]ProEmp!AA33 -> 18217.895 | G50: =[1]ProEmp!AB33 -> 10.177427 | H50: =F50/B50*100 -> 4.3090903 | I50: =[1]ProEmp!AC33 -> 52499.258 | J50: =[1]ProEmp!AD33 -> 7.3996803 | K50: =IF(ISNUMBER(I50/D50*100),I50/D50*100,0) -> 12.976868 | L50: =[1]ProEmp!AE33 -> 150124.07 | M50: =[1]ProEmp!AF33 -> 7.2088586 | N50: =IF(ISNUMBER(L50/D50*100),L50/D50*100,0) -> 37.107958
A51: Transp. almac. y comunicaciones | B51: =[1]ProEmp!W34 -> 10737.604 | C51: =[1]ProEmp!X34 -> 11.604599 | D51: =[1]ProEmp!Y34 -> 10737.604 | E51: =[1]ProEmp!Z34 -> 11.604599 | F51: =[1]ProEmp!AA34 -> 0 | G51: =[1]ProEmp!AB34 -> . | H51: =F51/B51*100 -> 0 | I51: =[1]ProEmp!AC34 -> 1008.6038 | J51: =[1]ProEmp!AD34 -> 10.185975 | K51: =IF(ISNUMBER(I51/D51*100),I51/D51*100,0) -> 9.3931926 | L51: =[1]ProEmp!AE34 -> 1935.7865 | M51: =[1]ProEmp!AF34 -> 10.879676 | N51: =IF(ISNUMBER(L51/D51*100),L51/D51*100,0) -> 18.028106
A52: Estab. finac. seguros, Bienes inmuebles y servicios | B52: =[1]ProEmp!W35 -> 40487.037 | C52: =[1]ProEmp!X35 -> 12.643625 | D52: =[1]ProEmp!Y35 -> 36674.985 | E52: =[1]ProEmp!Z35 -> 12.927216 | F52: =[1]ProEmp!AA35 -> 3812.0521 | G52: =[1]ProEmp!AB35 -> 9.9740409 | H52: =F52/B52*100 -> 9.4154879 | I52: =[1]ProEmp!AC35 -> 1954.8755 | J52: =[1]ProEmp!AD35 -> 13.176789 | K52: =IF(ISNUMBER(I52/D52*100),I52/D52*100,0) -> 5.3302694 | L52: =[1]ProEmp!AE35 -> 4895.3169 | M52: =[1]ProEmp!AF35 -> 10.541324 | N52: =IF(ISNUMBER(L52/D52*100),L52/D52*100,0) -> 13.347836
A53: Servicios Comunales, Sociales y Personales | B53: =[1]ProEmp!W36 -> 343224.4 | C53: =[1]ProEmp!X36 -> 9.8157493 | D53: =[1]ProEmp!Y36 -> 324834.44 | E53: =[1]ProEmp!Z36 -> 9.8289664 | F53: =[1]ProEmp!AA36 -> 18389.958 | G53: =[1]ProEmp!AB36 -> 9.5755468 | H53: =F53/B53*100 -> 5.3579986 | I53: =[1]ProEmp!AC36 -> 55526.853 | J53: =[1]ProEmp!AD36 -> 9.3735441 | K53: =IF(ISNUMBER(I53/D53*100),I53/D53*100,0) -> 17.093893 | L53: =[1]ProEmp!AE36 -> 94608.84 | M53: =[1]ProEmp!AF36 -> 7.2431146 | N53: =IF(ISNUMBER(L53/D53*100),L53/D53*100,0) -> 29.125249
A54: No sabe, No responde | B54: =[1]ProEmp!W37 -> 2060.9622 | C54: =[1]ProEmp!X37 -> 9.6516382 | D54: =[1]ProEmp!Y37 -> 2060.9622 | E54: =[1]ProEmp!Z37 -> 9.6516382 | F54: =[1]ProEmp!AA37 -> 0 | G54: =[1]ProEmp!AB37 -> . | H54: =F54/B54*100 -> 0 | I54: =[1]ProEmp!AC37 -> 267.01328 | J54: =[1]ProEmp!AD37 -> 1 | K54: =IF(ISNUMBER(I54/D54*100),I54/D54*100,0) -> 12.955759 | L54: =[1]ProEmp!AE37 -> 167.46323 | M54: =[1]ProEmp!AF37 -> 6 | N54: =IF(ISNUMBER(L54/D54*100),L54/D54*100,0) -> 8.125488
A55: Busca Trabajo por Primera Vez | B55: =[1]ProEmp!W38 -> 19803.531 | C55: =[1]ProEmp!X38 -> 11.243567 | D55: =[1]ProEmp!Y38 -> 0 | E55: =[1]ProEmp!Z38 -> . | F55: =[1]ProEmp!AA38 -> 19803.531 | G55: =[1]ProEmp!AB38 -> 11.243567 | H55: =F55/B55*100 -> 100 | I55: =[1]ProEmp!AC38 -> 0 | J55: =[1]ProEmp!AD38 -> . | K55: =IF(ISNUMBER(I55/D55*100),I55/D55*100,0) -> 0 | L55: =[1]ProEmp!AE38 -> 0 | M55: =[1]ProEmp!AF38 -> . | N55: =IF(ISNUMBER(L55/D55*100),L55/D55*100,0) -> 0
K56: =IF(ISNUMBER(I56/D56*100),I56/D56*100,0) -> 0 | N56: =IF(ISNUMBER(L56/D56*100),L56/D56*100,0) -> 0
A57: Ocupación
A58: Profesionales, Técnicos y PEOA | B58: =[1]ProEmp!W40 -> 153834.24 | C58: =[1]ProEmp!X40 -> 13.144631 | D58: =[1]ProEmp!Y40 -> 145460.94 | E58: =[1]ProEmp!Z40 -> 13.179379 | F58: =[1]ProEmp!AA40 -> 8373.3042 | G58: =[1]ProEmp!AB40 -> 12.547237 | H58: =F58/B58*100 -> 5.4430691 | I58: =[1]ProEmp!AC40 -> 24268.898 | J58: =[1]ProEmp!AD40 -> 12.576042 | K58: =IF(ISNUMBER(I58/D58*100),I58/D58*100,0) -> 16.684134 | L58: =[1]ProEmp!AE40 -> 8170.9862 | M58: =[1]ProEmp!AF40 -> 12.043554 | N58: =IF(ISNUMBER(L58/D58*100),L58/D58*100,0) -> 5.6173061
A59: Directores Gerentes y Administ. Grales. | B59: =[1]ProEmp!W41 -> 41457.06 | C59: =[1]ProEmp!X41 -> 13.133474 | D59: =[1]ProEmp!Y41 -> 38409.934 | E59: =[1]ProEmp!Z41 -> 13.114833 | F59: =[1]ProEmp!AA41 -> 3047.1258 | G59: =[1]ProEmp!AB41 -> 13.363169 | H59: =F59/B59*100 -> 7.350077 | I59: =[1]ProEmp!AC41 -> 2964.2804 | J59: =[1]ProEmp!AD41 -> 12.989769 | K59: =IF(ISNUMBER(I59/D59*100),I59/D59*100,0) -> 7.7174837 | L59: =[1]ProEmp!AE41 -> 8942.9796 | M59: =[1]ProEmp!AF41 -> 10.972107 | N59: =IF(ISNUMBER(L59/D59*100),L59/D59*100,0) -> 23.282986
A60: Empleados de Oficina | B60: =[1]ProEmp!W42 -> 70525.269 | C60: =[1]ProEmp!X42 -> 12.116891 | D60: =[1]ProEmp!Y42 -> 64275.645 | E60: =[1]ProEmp!Z42 -> 12.111711 | F60: =[1]ProEmp!AA42 -> 6249.6239 | G60: =[1]ProEmp!AB42 -> 12.169592 | H60: =F60/B60*100 -> 8.8615384 | I60: =[1]ProEmp!AC42 -> 2788.4085 | J60: =[1]ProEmp!AD42 -> 10.840549 | K60: =IF(ISNUMBER(I60/D60*100),I60/D60*100,0) -> 4.3382038 | L60: =[1]ProEmp!AE42 -> 14319.904 | M60: =[1]ProEmp!AF42 -> 11.429979 | N60: =IF(ISNUMBER(L60/D60*100),L60/D60*100,0) -> 22.278895
A61: Comerciantes y Vendedores | B61: =[1]ProEmp!W43 -> 313547.76 | C61: =[1]ProEmp!X43 -> 7.3363987 | D61: =[1]ProEmp!Y43 -> 301710.52 | E61: =[1]ProEmp!Z43 -> 7.2131994 | F61: =[1]ProEmp!AA43 -> 11837.24 | G61: =[1]ProEmp!AB43 -> 10.186637 | H61: =F61/B61*100 -> 3.775259 | I61: =[1]ProEmp!AC43 -> 37434.843 | J61: =[1]ProEmp!AD43 -> 7.044728 | K61: =IF(ISNUMBER(I61/D61*100),I61/D61*100,0) -> 12.407537 | L61: =[1]ProEmp!AE43 -> 108370.81 | M61: =[1]ProEmp!AF43 -> 7.0549469 | N61: =IF(ISNUMBER(L61/D61*100),L61/D61*100,0) -> 35.918805
A62: Agricultores, Ganaderos y Trab. Agrop. | B62: =[1]ProEmp!W44 -> 104496.89 | C62: =[1]ProEmp!X44 -> 5.0586525 | D62: =[1]ProEmp!Y44 -> 102727.35 | E62: =[1]ProEmp!Z44 -> 5.0329461 | F62: =[1]ProEmp!AA44 -> 1769.5429 | G62: =[1]ProEmp!AB44 -> 6.1508939 | H62: =F62/B62*100 -> 1.6933929 | I62: =[1]ProEmp!AC44 -> 15987.955 | J62: =[1]ProEmp!AD44 -> 5.0611852 | K62: =IF(ISNUMBER(I62/D62*100),I62/D62*100,0) -> 15.563485 | L62: =[1]ProEmp!AE44 -> 16873.029 | M62: =[1]ProEmp!AF44 -> 4.8861177 | N62: =IF(ISNUMBER(L62/D62*100),L62/D62*100,0) -> 16.42506
A63: Conductores de Transporte | B63: =[1]ProEmp!W45 -> 1779.858 | C63: =[1]ProEmp!X45 -> 8.5402277 | D63: =[1]ProEmp!Y45 -> 1552.3051 | E63: =[1]ProEmp!Z45 -> 8.9126004 | F63: =[1]ProEmp!AA45 -> 227.55284 | G63: =[1]ProEmp!AB45 -> 6 | H63: =F63/B63*100 -> 12.784888 | I63: =[1]ProEmp!AC45 -> 227.55284 | J63: =[1]ProEmp!AD45 -> 11 | K63: =IF(ISNUMBER(I63/D63*100),I63/D63*100,0) -> 14.659028 | L63: =[1]ProEmp!AE45 -> 562.66143 | M63: =[1]ProEmp!AF45 -> 7.4236623 | N63: =IF(ISNUMBER(L63/D63*100),L63/D63*100,0) -> 36.246832
A64: Trab. Ind. Textil, Albañilería, Mecánica, etc. | B64: =[1]ProEmp!W46 -> 77851.235 | C64: =[1]ProEmp!X46 -> 7.289477 | D64: =[1]ProEmp!Y46 -> 73422.226 | E64: =[1]ProEmp!Z46 -> 7.2810921 | F64: =[1]ProEmp!AA46 -> 4429.0087 | G64: =[1]ProEmp!AB46 -> 7.41962 | H64: =F64/B64*100 -> 5.6890667 | I64: =[1]ProEmp!AC46 -> 6081.9305 | J64: =[1]ProEmp!AD46 -> 7.1807453 | K64: =IF(ISNUMBER(I64/D64*100),I64/D64*100,0) -> 8.2835005 | L64: =[1]ProEmp!AE46 -> 13114.246 | M64: =[1]ProEmp!AF46 -> 7.4634089 | N64: =IF(ISNUMBER(L64/D64*100),L64/D64*100,0) -> 17.861411
A65: Trab. Área Grafica, Quím., Alimentos, etc. | B65: =[1]ProEmp!W47 -> 110229.77 | C65: =[1]ProEmp!X47 -> 6.1283702 | D65: =[1]ProEmp!Y47 -> 109439.56 | E65: =[1]ProEmp!Z47 -> 6.125515 | F65: =[1]ProEmp!AA47 -> 790.21427 | G65: =[1]ProEmp!AB47 -> 6.4603099 | H65: =F65/B65*100 -> 0.71687917 | I65: =[1]ProEmp!AC47 -> 20264.25 | J65: =[1]ProEmp!AD47 -> 6.6947148 | K65: =IF(ISNUMBER(I65/D65*100),I65/D65*100,0) -> 18.516385 | L65: =[1]ProEmp!AE47 -> 34111.918 | M65: =[1]ProEmp!AF47 -> 5.478514 | N65: =IF(ISNUMBER(L65/D65*100),L65/D65*100,0) -> 31.169642
A66: Operador de Carga y Almacenaje | B66: =[1]ProEmp!W48 -> 17207.242 | C66: =[1]ProEmp!X48 -> 7.4389288 | D66: =[1]ProEmp!Y48 -> 15469.382 | E66: =[1]ProEmp!Z48 -> 7.6876504 | F66: =[1]ProEmp!AA48 -> 1737.8593 | G66: =[1]ProEmp!AB48 -> 5.5881821 | H66: =F66/B66*100 -> 10.099581 | I66: =[1]ProEmp!AC48 -> 2103.6295 | J66: =[1]ProEmp!AD48 -> 6.9036108 | K66: =IF(ISNUMBER(I66/D66*100),I66/D66*100,0) -> 13.598665 | L66: =[1]ProEmp!AE48 -> 4259.4233 | M66: =[1]ProEmp!AF48 -> 8.0031512 | N66: =IF(ISNUMBER(L66/D66*100),L66/D66*100,0) -> 27.53454
A67: Ocupación de los Servicios | B67: =[1]ProEmp!W49 -> 273737.17 | C67: =[1]ProEmp!X49 -> 6.5474833 | D67: =[1]ProEmp!Y49 -> 259684.92 | E67: =[1]ProEmp!Z49 -> 6.53032 | F67: =[1]ProEmp!AA49 -> 14052.25 | G67: =[1]ProEmp!AB49 -> 6.8731098 | H67: =F67/B67*100 -> 5.1334826 | I67: =[1]ProEmp!AC49 -> 47590.935 | J67: =[1]ProEmp!AD49 -> 6.9427031 | K67: =IF(ISNUMBER(I67/D67*100),I67/D67*100,0) -> 18.326415 | L67: =[1]ProEmp!AE49 -> 112068.31 | M67: =[1]ProEmp!AF49 -> 6.4122759 | N67: =IF(ISNUMBER(L67/D67*100),L67/D67*100,0) -> 43.155496
A68: No sabe, No responde | B68: =[1]ProEmp!W50 -> 1637.3947 | C68: =[1]ProEmp!X50 -> 7.0954456 | D68: =[1]ProEmp!Y50 -> 1637.3947 | E68: =[1]ProEmp!Z50 -> 7.0954456 | F68: =[1]ProEmp!AA50 -> 0 | G68: =[1]ProEmp!AB50 -> . | H68: =F68/B68*100 -> 0 | I68: =[1]ProEmp!AC50 -> 534.02657 | J68: =[1]ProEmp!AD50 -> 3.5 | K68: =IF(ISNUMBER(I68/D68*100),I68/D68*100,0) -> 32.614407 | L68: =[1]ProEmp!AE50 -> 326.72314 | M68: =[1]ProEmp!AF50 -> 12 | N68: =IF(ISNUMBER(L68/D68*100),L68/D68*100,0) -> 19.953841
A69: Busca Trabajo por Primera Vez | B69: =[1]ProEmp!W51 -> 19803.531 | C69: =[1]ProEmp!X51 -> 11.243567 | D69: =[1]ProEmp!Y51 -> 0 | E69: =[1]ProEmp!Z51 -> . | F69: =[1]ProEmp!AA51 -> 19803.531 | G69: =[1]ProEmp!AB51 -> 11.243567 | H69: =F69/B69*100 -> 100 | I69: =[1]ProEmp!AC51 -> 0 | J69: =[1]ProEmp!AD51 -> . | K69: =IF(ISNUMBER(I69/D69*100),I69/D69*100,0) -> 0 | L69: =[1]ProEmp!AE51 -> 0 | M69: =[1]ProEmp!AF51 -> . | N69: =IF(ISNUMBER(L69/D69*100),L69/D69*100,0) -> 0
A71: =A30 -> Fuente: Instituto Nacional de Estadística (INE). XLI Encuesta Permanente de Hogares de Propósitos Múltiples, Mayo 2011.
A72: AEP: Años de Estudio Promedio
A73: TDA: Tasa de Desempleo Abierto
A74: TSV: Tasa de Subempleo Visible
A75: TSI: Tasa de Subempleo Invisible

Sheet C04
A1: Cuadro No. 4. Población con problemas de empleo y Años de Estudio Promedio (AEP), según dominio, rama de actividad y ocupación
A3: Categorías | B3: Total | C3: Desocupados | F3: Subempleo Visible | I3: Subempleo Invisible | L3: Potencialmente Activos | O3: Desalentados
C4: No. | D4: % 2/ | E4: AEP | F4: No. | G4: % 2/ | H4: AEP | I4: No. | J4: % 2/ | K4: AEP | L4: No. | M4: % 2/ | N4: AEP | O4: No. | P4: % 2/ | Q4: AEP
A6: Total Nacional | B6: =SUM(C6,F6,I6,L6,O6) -> 1854033.3 | C6: =[1]ProEmp!C61 -> 143783.39 | D6: =IF(ISNUMBER(C6/$B6*100),C6/$B6*100,0) -> 7.7551678 | E6: =[1]ProEmp!D61 -> 9.5208985 | F6: =[1]ProEmp!E61 -> 333969.16 | G6: =IF(ISNUMBER(F6/$B6*100),F6/$B6*100,0) -> 18.013116 | H6: =[1]ProEmp!F61 -> 7.2942285 | I6: =[1]ProEmp!G61 -> 1170974.8 | J6: =IF(ISNUMBER(I6/$B6*100),I6/$B6*100,0) -> 63.15824 | K6: =[1]ProEmp!H61 -> 6.2009567 | L6: =[1]ProEmp!I61 -> 44129.841 | M6: =IF(ISNUMBER(L6/$B6*100),L6/$B6*100,0) -> 2.3802076 | N6: =[1]ProEmp!J61 -> 7.8966451 | O6: =[1]ProEmp!K61 -> 161176.09 | P6: =IF(ISNUMBER(O6/$B6*100),O6/$B6*100,0) -> 8.6932686 | Q6: =[1]ProEmp!L61 -> 7.3079659
A8: Dominio
A9: Urbano | B9: =SUM(C9,F9,I9,L9,O9) -> 820318.06 | C9: =SUM(C10:C12) -> 109018.26 | D9: =IF(ISNUMBER(C9/$B9*100),C9/$B9*100,0) -> 13.289755 | E9: =AVERAGE(E10:E12) -> 10.051472 | F9: =SUM(F10:F12) -> 157767.09 | G9: =IF(ISNUMBER(F9/$B9*100),F9/$B9*100,0) -> 19.23243 | H9: =AVERAGE(H10:H12) -> 8.7147848 | I9: =SUM(I10:I12) -> 460425.75 | J9: =IF(ISNUMBER(I9/$B9*100),I9/$B9*100,0) -> 56.127711 | K9: =AVERAGE(K10:K12) -> 7.5417413 | L9: =SUM(L10:L12) -> 18096.046 | M9: =IF(ISNUMBER(L9/$B9*100),L9/$B9*100,0) -> 2.2059792 | N9: =AVERAGE(N10:N12) -> 10.276182 | O9: =SUM(O10:O12) -> 75010.906 | P9: =IF(ISNUMBER(O9/$B9*100),O9/$B9*100,0) -> 9.1441247 | Q9: =AVERAGE(Q10:Q12) -> 8.5652767
A10: Distrito Central | B10: =SUM(C10,F10,I10,L10,O10) -> 242093.47 | C10: =[1]ProEmp!C62 -> 44008.72 | D10: =IF(ISNUMBER(C10/$B10*100),C10/$B10*100,0) -> 18.1784 | E10: =[1]ProEmp!D62 -> 10.720481 | F10: =[1]ProEmp!E62 -> 55477.384 | G10: =IF(ISNUMBER(F10/$B10*100),F10/$B10*100,0) -> 22.915688 | H10: =[1]ProEmp!F62 -> 8.9714411 | I10: =[1]ProEmp!G62 -> 106585.75 | J10: =IF(ISNUMBER(I10/$B10*100),I10/$B10*100,0) -> 44.026694 | K10: =[1]ProEmp!H62 -> 7.7426807 | L10: =[1]ProEmp!I62 -> 7577.5097 | M10: =IF(ISNUMBER(L10/$B10*100),L10/$B10*100,0) -> 3.1299934 | N10: =[1]ProEmp!J62 -> 10.29703 | O10: =[1]ProEmp!K62 -> 28444.106 | P10: =IF(ISNUMBER(O10/$B10*100),O10/$B10*100,0) -> 11.749225 | Q10: =[1]ProEmp!L62 -> 8.424
A11: San Pedro Sula | B11: =SUM(C11,F11,I11,L11,O11) -> 121435.68 | C11: =[1]ProEmp!C63 -> 12645.236 | D11: =IF(ISNUMBER(C11/$B11*100),C11/$B11*100,0) -> 10.413115 | E11: =[1]ProEmp!D63 -> 9.9391192 | F11: =[1]ProEmp!E63 -> 21770.829 | G11: =IF(ISNUMBER(F11/$B11*100),F11/$B11*100,0) -> 17.927869 | H11: =[1]ProEmp!F63 -> 8.940856 | I11: =[1]ProEmp!G63 -> 71284.733 | J11: =IF(ISNUMBER(I11/$B11*100),I11/$B11*100,0) -> 58.701639 | K11: =[1]ProEmp!H63 -> 7.537506 | L11: =[1]ProEmp!I63 -> 3822.2377 | M11: =IF(ISNUMBER(L11/$B11*100),L11/$B11*100,0) -> 3.147541 | N11: =[1]ProEmp!J63 -> 10.5375 | O11: =[1]ProEmp!K63 -> 11912.641 | P11: =IF(ISNUMBER(O11/$B11*100),O11/$B11*100,0) -> 9.8098361 | Q11: =[1]ProEmp!L63 -> 8.5696594
A12: Resto urbano | B12: =SUM(C12,F12,I12,L12,O12) -> 456788.91 | C12: =[1]ProEmp!C64 -> 52364.307 | D12: =IF(ISNUMBER(C12/$B12*100),C12/$B12*100,0) -> 11.463568 | E12: =[1]ProEmp!D64 -> 9.4948148 | F12: =[1]ProEmp!E64 -> 80518.881 | G12: =IF(ISNUMBER(F12/$B12*100),F12/$B12*100,0) -> 17.627153 | H12: =[1]ProEmp!F64 -> 8.2320574 | I12: =[1]ProEmp!G64 -> 282555.27 | J12: =IF(ISNUMBER(I12/$B12*100),I12/$B12*100,0) -> 61.856858 | K12: =[1]ProEmp!H64 -> 7.3450372 | L12: =[1]ProEmp!I64 -> 6696.2986 | M12: =IF(ISNUMBER(L12/$B12*100),L12/$B12*100,0) -> 1.4659503 | N12: =[1]ProEmp!J64 -> 9.9940164 | O12: =[1]ProEmp!K64 -> 34654.16 | P12: =IF(ISNUMBER(O12/$B12*100),O12/$B12*100,0) -> 7.5864713 | Q12: =[1]ProEmp!L64 -> 8.7021707
A13: Rural | B13: =SUM(C13,F13,I13,L13,O13) -> 1033715.2 | C13: =[1]ProEmp!C65 -> 34765.13 | D13: =IF(ISNUMBER(C13/$B13*100),C13/$B13*100,0) -> 3.3631245 | E13: =[1]ProEmp!D65 -> 7.7879538 | F13: =[1]ProEmp!E65 -> 176202.07 | G13: =IF(ISNUMBER(F13/$B13*100),F13/$B13*100,0) -> 17.045513 | H13: =[1]ProEmp!F65 -> 6.0647395 | I13: =[1]ProEmp!G65 -> 710549.05 | J13: =IF(ISNUMBER(I13/$B13*100),I13/$B13*100,0) -> 68.737408 | K13: =[1]ProEmp!H65 -> 5.2507626 | L13: =[1]ProEmp!I65 -> 26033.795 | M13: =IF(ISNUMBER(L13/$B13*100),L13/$B13*100,0) -> 2.5184688 | N13: =[1]ProEmp!J65 -> 6.0874251 | O13: =[1]ProEmp!K65 -> 86165.187 | P13: =IF(ISNUMBER(O13/$B13*100),O13/$B13*100,0) -> 8.3354859 | Q13: =[1]ProEmp!L65 -> 6.2090569
A15: Rango de Edad
A16: De 10 a 11 años | B16: =SUM(C16,F16,I16,L16,O16) -> 4567.3944 | C16: =[1]ProEmp!C67 -> 167.46323 | D16: =IF(ISNUMBER(C16/$B16*100),C16/$B16*100,0) -> 3.6664938 | E16: =[1]ProEmp!D67 -> 6 | F16: =[1]ProEmp!E67 -> 854.44251 | G16: =IF(ISNUMBER(F16/$B16*100),F16/$B16*100,0) -> 18.707439 | H16: =[1]ProEmp!F67 -> 3.625 | I16: =[1]ProEmp!G67 -> 1068.0531 | J16: =IF(ISNUMBER(I16/$B16*100),I16/$B16*100,0) -> 23.384298 | K16: =[1]ProEmp!H67 -> 4 | L16: =[1]ProEmp!I67 -> 1142.3691 | M16: =IF(ISNUMBER(L16/$B16*100),L16/$B16*100,0) -> 25.011396 | N16: =[1]ProEmp!J67 -> 3.7662636 | O16: =[1]ProEmp!K67 -> 1335.0664 | P16: =IF(ISNUMBER(O16/$B16*100),O16/$B16*100,0) -> 29.230373 | Q16: =[1]ProEmp!L67 -> 2.6
A17: De 12 a 14 años | B17: =SUM(C17,F17,I17,L17,O17) -> 38200.698 | C17: =[1]ProEmp!C68 -> 562.66143 | D17: =IF(ISNUMBER(C17/$B17*100),C17/$B17*100,0) -> 1.4729087 | E17: =[1]ProEmp!D68 -> 8 | F17: =[1]ProEmp!E68 -> 10567.527 | G17: =IF(ISNUMBER(F17/$B17*100),F17/$B17*100,0) -> 27.663177 | H17: =[1]ProEmp!F68 -> 5.3680601 | I17: =[1]ProEmp!G68 -> 14072.535 | J17: =IF(ISNUMBER(I17/$B17*100),I17/$B17*100,0) -> 36.838422 | K17: =[1]ProEmp!H68 -> 5.6165613 | L17: =[1]ProEmp!I68 -> 2599.2177 | M17: =IF(ISNUMBER(L17/$B17*100),L17/$B17*100,0) -> 6.8041103 | N17: =[1]ProEmp!J68 -> 5.6705918 | O17: =[1]ProEmp!K68 -> 10398.758 | P17: =IF(ISNUMBER(O17/$B17*100),O17/$B17*100,0) -> 27.221382 | Q17: =[1]ProEmp!L68 -> 5.1612308
A18: De 15 a 18 años | B18: =SUM(C18,F18,I18,L18,O18) -> 207398.54 | C18: =[1]ProEmp!C69 -> 14927.78 | D18: =IF(ISNUMBER(C18/$B18*100),C18/$B18*100,0) -> 7.19763 | E18: =[1]ProEmp!D69 -> 8.9782304 | F18: =[1]ProEmp!E69 -> 40804.544 | G18: =IF(ISNUMBER(F18/$B18*100),F18/$B18*100,0) -> 19.67446 | H18: =[1]ProEmp!F69 -> 6.8292755 | I18: =[1]ProEmp!G69 -> 112417.42 | J18: =IF(ISNUMBER(I18/$B18*100),I18/$B18*100,0) -> 54.203571 | K18: =[1]ProEmp!H69 -> 6.3368448 | L18: =[1]ProEmp!I69 -> 5465.2532 | M18: =IF(ISNUMBER(L18/$B18*100),L18/$B18*100,0) -> 2.6351454 | N18: =[1]ProEmp!J69 -> 6.6308796 | O18: =[1]ProEmp!K69 -> 33783.55 | P18: =IF(ISNUMBER(O18/$B18*100),O18/$B18*100,0) -> 16.289193 | Q18: =[1]ProEmp!L69 -> 6.9991401
A19: De 19 a 24 años | B19: =SUM(C19,F19,I19,L19,O19) -> 397775.28 | C19: =[1]ProEmp!C70 -> 59296.218 | D19: =IF(ISNUMBER(C19/$B19*100),C19/$B19*100,0) -> 14.906964 | E19: =[1]ProEmp!D70 -> 9.9520907 | F19: =[1]ProEmp!E70 -> 58047.094 | G19: =IF(ISNUMBER(F19/$B19*100),F19/$B19*100,0) -> 14.592937 | H19: =[1]ProEmp!F70 -> 8.3462561 | I19: =[1]ProEmp!G70 -> 221572.64 | J19: =IF(ISNUMBER(I19/$B19*100),I19/$B19*100,0) -> 55.70297 | K19: =[1]ProEmp!H70 -> 7.5373941 | L19: =[1]ProEmp!I70 -> 14198.377 | M19: =IF(ISNUMBER(L19/$B19*100),L19/$B19*100,0) -> 3.5694469 | N19: =[1]ProEmp!J70 -> 9.5892141 | O19: =[1]ProEmp!K70 -> 44660.946 | P19: =IF(ISNUMBER(O19/$B19*100),O19/$B19*100,0) -> 11.227683 | Q19: =[1]ProEmp!L70 -> 8.7400299
A20: De 25 a 29 años | B20: =SUM(C20,F20,I20,L20,O20) -> 220403.99 | C20: =[1]ProEmp!C71 -> 25648.18 | D20: =IF(ISNUMBER(C20/$B20*100),C20/$B20*100,0) -> 11.636895 | E20: =[1]ProEmp!D71 -> 10.215832 | F20: =[1]ProEmp!E71 -> 40696.038 | G20: =IF(ISNUMBER(F20/$B20*100),F20/$B20*100,0) -> 18.464293 | H20: =[1]ProEmp!F71 -> 8.2292435 | I20: =[1]ProEmp!G71 -> 131094.33 | J20: =IF(ISNUMBER(I20/$B20*100),I20/$B20*100,0) -> 59.479111 | K20: =[1]ProEmp!H71 -> 6.8996257 | L20: =[1]ProEmp!I71 -> 6367.1773 | M20: =IF(ISNUMBER(L20/$B20*100),L20/$B20*100,0) -> 2.8888667 | N20: =[1]ProEmp!J71 -> 9.3497421 | O20: =[1]ProEmp!K71 -> 16598.259 | P20: =IF(ISNUMBER(O20/$B20*100),O20/$B20*100,0) -> 7.5308345 | Q20: =[1]ProEmp!L71 -> 8.3419089
A21: De 30 a 34 años | B21: =SUM(C21,F21,I21,L21,O21) -> 174702.69 | C21: =[1]ProEmp!C72 -> 14502.858 | D21: =IF(ISNUMBER(C21/$B21*100),C21/$B21*100,0) -> 8.301451 | E21: =[1]ProEmp!D72 -> 10.354381 | F21: =[1]ProEmp!E72 -> 33536.837 | G21: =IF(ISNUMBER(F21/$B21*100),F21/$B21*100,0) -> 19.196521 | H21: =[1]ProEmp!F72 -> 7.4001255 | I21: =[1]ProEmp!G72 -> 112821.32 | J21: =IF(ISNUMBER(I21/$B21*100),I21/$B21*100,0) -> 64.579043 | K21: =[1]ProEmp!H72 -> 6.5541497 | L21: =[1]ProEmp!I72 -> 3619.4249 | M21: =IF(ISNUMBER(L21/$B21*100),L21/$B21*100,0) -> 2.0717626 | N21: =[1]ProEmp!J72 -> 6.5636698 | O21: =[1]ProEmp!K72 -> 10222.243 | P21: =IF(ISNUMBER(O21/$B21*100),O21/$B21*100,0) -> 5.8512228 | Q21: =[1]ProEmp!L72 -> 6.8624362
A22: De 35 a 39 años | B22: =SUM(C22,F22,I22,L22,O22) -> 159661.68 | C22: =[1]ProEmp!C73 -> 7347.823 | D22: =IF(ISNUMBER(C22/$B22*100),C22/$B22*100,0) -> 4.6021205 | E22: =[1]ProEmp!D73 -> 7.0514588 | F22: =[1]ProEmp!E73 -> 36669.692 | G22: =IF(ISNUMBER(F22/$B22*100),F22/$B22*100,0) -> 22.967122 | H22: =[1]ProEmp!F73 -> 6.732223 | I22: =[1]ProEmp!G73 -> 105194.07 | J22: =IF(ISNUMBER(I22/$B22*100),I22/$B22*100,0) -> 65.885609 | K22: =[1]ProEmp!H73 -> 5.8656532 | L22: =[1]ProEmp!I73 -> 2752.7074 | M22: =IF(ISNUMBER(L22/$B22*100),L22/$B22*100,0) -> 1.7240877 | N22: =[1]ProEmp!J73 -> 6.5308097 | O22: =[1]ProEmp!K73 -> 7697.3876 | P22: =IF(ISNUMBER(O22/$B22*100),O22/$B22*100,0) -> 4.8210614 | Q22: =[1]ProEmp!L73 -> 6.7507363
A23: De 40 a 44 años | B23: =SUM(C23,F23,I23,L23,O23) -> 149837.29 | C23: =[1]ProEmp!C74 -> 5159.5206 | D23: =IF(ISNUMBER(C23/$B23*100),C23/$B23*100,0) -> 3.4434156 | E23: =[1]ProEmp!D74 -> 10.000842 | F23: =[1]ProEmp!E74 -> 27404.258 | G23: =IF(ISNUMBER(F23/$B23*100),F23/$B23*100,0) -> 18.289344 | H23: =[1]ProEmp!F74 -> 7.5881683 | I23: =[1]ProEmp!G74 -> 104004.3 | J23: =IF(ISNUMBER(I23/$B23*100),I23/$B23*100,0) -> 69.411491 | K23: =[1]ProEmp!H74 -> 5.8221386 | L23: =[1]ProEmp!I74 -> 2096.9064 | M23: =IF(ISNUMBER(L23/$B23*100),L23/$B23*100,0) -> 1.3994556 | N23: =[1]ProEmp!J74 -> 7.2146102 | O23: =[1]ProEmp!K74 -> 11172.309 | P23: =IF(ISNUMBER(O23/$B23*100),O23/$B23*100,0) -> 7.456294 | Q23: =[1]ProEmp!L74 -> 6.0634745
A24: De 45 a 49 años | B24: =SUM(C24,F24,I24,L24,O24) -> 136868.62 | C24: =[1]ProEmp!C75 -> 5464.5192 | D24: =IF(ISNUMBER(C24/$B24*100),C24/$B24*100,0) -> 3.9925288 | E24: =[1]ProEmp!D75 -> 6.4617701 | F24: =[1]ProEmp!E75 -> 31401.405 | G24: =IF(ISNUMBER(F24/$B24*100),F24/$B24*100,0) -> 22.942735 | H24: =[1]ProEmp!F75 -> 6.4640211 | I24: =[1]ProEmp!G75 -> 91147.574 | J24: =IF(ISNUMBER(I24/$B24*100),I24/$B24*100,0) -> 66.594938 | K24: =[1]ProEmp!H75 -> 5.5663423 | L24: =[1]ProEmp!I75 -> 2363.6591 | M24: =IF(ISNUMBER(L24/$B24*100),L24/$B24*100,0) -> 1.7269547 | N24: =[1]ProEmp!J75 -> 3 | O24: =[1]ProEmp!K75 -> 6491.465 | P24: =IF(ISNUMBER(O24/$B24*100),O24/$B24*100,0) -> 4.7428438 | Q24: =[1]ProEmp!L75 -> 5.8604511
A25: De 50 a 54 años | B25: =SUM(C25,F25,I25,L25,O25) -> 122168.34 | C25: =[1]ProEmp!C76 -> 4977.7605 | D25: =IF(ISNUMBER(C25/$B25*100),C25/$B25*100,0) -> 4.0745095 | E25: =[1]ProEmp!D76 -> 8.6271826 | F25: =[1]ProEmp!E76 -> 21026.149 | G25: =IF(ISNUMBER(F25/$B25*100),F25/$B25*100,0) -> 17.210801 | H25: =[1]ProEmp!F76 -> 6.1150486 | I25: =[1]ProEmp!G76 -> 87909.356 | J25: =IF(ISNUMBER(I25/$B25*100),I25/$B25*100,0) -> 71.957561 | K25: =[1]ProEmp!H76 -> 5.1374642 | L25: =[1]ProEmp!I76 -> 1330.291 | M25: =IF(ISNUMBER(L25/$B25*100),L25/$B25*100,0) -> 1.0888999 | N25: =[1]ProEmp!J76 -> 9.4293058 | O25: =[1]ProEmp!K76 -> 6924.7814 | P25: =IF(ISNUMBER(O25/$B25*100),O25/$B25*100,0) -> 5.6682292 | Q25: =[1]ProEmp!L76 -> 6.7451995
A26: De 55 a 59 años | B26: =SUM(C26,F26,I26,L26,O26) -> 89539.842 | C26: =[1]ProEmp!C77 -> 4211.4005 | D26: =IF(ISNUMBER(C26/$B26*100),C26/$B26*100,0) -> 4.7033816 | E26: =[1]ProEmp!D77 -> 7.8996029 | F26: =[1]ProEmp!E77 -> 15333.009 | G26: =IF(ISNUMBER(F26/$B26*100),F26/$B26*100,0) -> 17.124231 | H26: =[1]ProEmp!F77 -> 7.7565567 | I26: =[1]ProEmp!G77 -> 66090.404 | J26: =IF(ISNUMBER(I26/$B26*100),I26/$B26*100,0) -> 73.811169 | K26: =[1]ProEmp!H77 -> 4.4900095 | L26: =[1]ProEmp!I77 -> 238.88986 | M26: =IF(ISNUMBER(L26/$B26*100),L26/$B26*100,0) -> 0.26679727 | N26: =[1]ProEmp!J77 -> 18 | O26: =[1]ProEmp!K77 -> 3666.1378 | P26: =IF(ISNUMBER(O26/$B26*100),O26/$B26*100,0) -> 4.0944207 | Q26: =[1]ProEmp!L77 -> 5.619512
A27: De 60 a 64 años | B27: =SUM(C27,F27,I27,L27,O27) -> 62331.361 | C27: =[1]ProEmp!C78 -> 654.22326 | D27: =IF(ISNUMBER(C27/$B27*100),C27/$B27*100,0) -> 1.0495892 | E27: =[1]ProEmp!D78 -> 6 | F27: =[1]ProEmp!E78 -> 8409.9635 | G27: =IF(ISNUMBER(F27/$B27*100),F27/$B27*100,0) -> 13.492347 | H27: =[1]ProEmp!F78 -> 6.7342246 | I27: =[1]ProEmp!G78 -> 48315.97 | J27: =IF(ISNUMBER(I27/$B27*100),I27/$B27*100,0) -> 77.514704 | K27: =[1]ProEmp!H78 -> 4.464789 | L27: =[1]ProEmp!I78 -> 1461.002 | M27: =IF(ISNUMBER(L27/$B27*100),L27/$B27*100,0) -> 2.3439276 | N27: =[1]ProEmp!J78 -> 3.7818202 | O27: =[1]ProEmp!K78 -> 3490.2025 | P27: =IF(ISNUMBER(O27/$B27*100),O27/$B27*100,0) -> 5.5994325 | Q27: =[1]ProEmp!L78 -> 5.1914558
A28: De 65 años y más | B28: =SUM(C28,F28,I28,L28,O28) -> 90577.573 | C28: =[1]ProEmp!C79 -> 862.98524 | D28: =IF(ISNUMBER(C28/$B28*100),C28/$B28*100,0) -> 0.95275819 | E28: =[1]ProEmp!D79 -> 5.5010991 | F28: =[1]ProEmp!E79 -> 9218.2002 | G28: =IF(ISNUMBER(F28/$B28*100),F28/$B28*100,0) -> 10.177133 | H28: =[1]ProEmp!F79 -> 6.2753255 | I28: =[1]ProEmp!G79 -> 75266.833 | J28: =IF(ISNUMBER(I28/$B28*100),I28/$B28*100,0) -> 83.096545 | K28: =[1]ProEmp!H79 -> 3.9802003 | L28: =[1]ProEmp!I79 -> 494.56613 | M28: =IF(ISNUMBER(L28/$B28*100),L28/$B28*100,0) -> 0.54601389 | N28: =[1]ProEmp!J79 -> 2 | O28: =[1]ProEmp!K79 -> 4734.9876 | P28: =IF(ISNUMBER(O28/$B28*100),O28/$B28*100,0) -> 5.2275497 | Q28: =[1]ProEmp!L79 -> 7.215305
A30: ='C01'!$A$31 -> Fuente: Instituto Nacional de Estadística (INE). XLI Encuesta Permanente de Hogares de Propósitos Múltiples, Mayo 2011.
A31: AEP: Años de Estudio Promedio
A32: 2/ Porcentaje por filas
A34: =A1 -> Cuadro No. 4. Población con problemas de empleo y Años de Estudio Promedio (AEP), según dominio, rama de actividad y ocupación
A35: ....... Continuación
A36: =A3 -> Categorías | B36: Total | C36: Desocupados | F36: Subempleo Visible | I36: Subempleo Invisible | L36: Potencialmente Activos | O36: Desalentados
C37: No. | D37: % 2/ | E37: AEP | F37: No. | G37: % 2/ | H37: AEP | I37: No. | J37: % 2/ | K37: AEP | L37: No. | M37: % 2/ | N37: AEP | O37: No. | P37: % 2/ | Q37: AEP
A39: =A6 -> Total Nacional | B39: =B6 -> 1854033.3 | C39: =C6 -> 143783.39 | D39: =D6 -> 7.7551678 | E39: =E6 -> 9.5208985 | F39: =F6 -> 333969.16 | G39: =G6 -> 18.013116 | H39: =H6 -> 7.2942285 | ... Q39: =Q6 -> 7.3079659
A41: Rama de Actividad
A42: Agricultura, Silvicultura, Caza y Pesca | B42: =SUM(C42,F42,I42,L42,O42) -> 636495.95 | C42: =[1]ProEmp!C81 -> 8834.9081 | D42: =IF(ISNUMBER(C42/$B42*100),C42/$B42*100,0) -> 1.3880541 | E42: =[1]ProEmp!D81 -> 6.8580686 | F42: =[1]ProEmp!E81 -> 103892.53 | G42: =IF(ISNUMBER(F42/$B42*100),F42/$B42*100,0) -> 16.322576 | H42: =[1]ProEmp!F81 -> 5.3970585 | I42: =[1]ProEmp!G81 -> 498008.8 | J42: =IF(ISNUMBER(I42/$B42*100),I42/$B42*100,0) -> 78.242257 | K42: =[1]ProEmp!H81 -> 4.7787324 | L42: =[1]ProEmp!I81 -> 18008.204 | M42: =IF(ISNUMBER(L42/$B42*100),L42/$B42*100,0) -> 2.8292723 | N42: =[1]ProEmp!J81 -> 4.9180472 | O42: =[1]ProEmp!K81 -> 7751.5056 | P42: =IF(ISNUMBER(O42/$B42*100),O42/$B42*100,0) -> 1.2178405 | Q42: =[1]ProEmp!L81 -> 4.7943868
A43: Explotación de minas y canteras | B43: =SUM(C43,F43,I43,L43,O43) -> 5334.4275 | C43: =[1]ProEmp!C82 -> 167.46323 | D43: =IF(ISNUMBER(C43/$B43*100),C43/$B43*100,0) -> 3.1392916 | E43: =[1]ProEmp!D82 -> 6 | F43: =[1]ProEmp!E82 -> 1288.919 | G43: =IF(ISNUMBER(F43/$B43*100),F43/$B43*100,0) -> 24.162275 | H43: =[1]ProEmp!F82 -> 7.5238095 | I43: =[1]ProEmp!G82 -> 3710.582 | J43: =IF(ISNUMBER(I43/$B43*100),I43/$B43*100,0) -> 69.559142 | K43: =[1]ProEmp!H82 -> 4.8148087 | L43: =[1]ProEmp!I82 -> 0 | M43: =IF(ISNUMBER(L43/$B43*100),L43/$B43*100,0) -> 0 | N43: =[1]ProEmp!J82 -> . | O43: =[1]ProEmp!K82 -> 167.46323 | P43: =IF(ISNUMBER(O43/$B43*100),O43/$B43*100,0) -> 3.1392916 | Q43: =[1]ProEmp!L82 -> 9
A44: Industria manufacturera | B44: =SUM(C44,F44,I44,L44,O44) -> 181431.07 | C44: =[1]ProEmp!C83 -> 16952.797 | D44: =IF(ISNUMBER(C44/$B44*100),C44/$B44*100,0) -> 9.3439329 | E44: =[1]ProEmp!D83 -> 8.7181385 | F44: =[1]ProEmp!E83 -> 45723.862 | G44: =IF(ISNUMBER(F44/$B44*100),F44/$B44*100,0) -> 25.201782 | H44: =[1]ProEmp!F83 -> 7.1211154 | I44: =[1]ProEmp!G83 -> 107149.28 | J44: =IF(ISNUMBER(I44/$B44*100),I44/$B44*100,0) -> 59.057847 | K44: =[1]ProEmp!H83 -> 6.6062658 | L44: =[1]ProEmp!I83 -> 2804.7153 | M44: =IF(ISNUMBER(L44/$B44*100),L44/$B44*100,0) -> 1.5458848 | N44: =[1]ProEmp!J83 -> 7.5907528 | O44: =[1]ProEmp!K83 -> 8800.4102 | P44: =IF(ISNUMBER(O44/$B44*100),O44/$B44*100,0) -> 4.8505531 | Q44: =[1]ProEmp!L83 -> 8.2481274
A45: Electricidad, gas y agua | B45: =SUM(C45,F45,I45,L45,O45) -> 1481.9424 | C45: =[1]ProEmp!C84 -> 1208.879 | D45: =IF(ISNUMBER(C45/$B45*100),C45/$B45*100,0) -> 81.573952 | E45: =[1]ProEmp!D84 -> 8.6835693 | F45: =[1]ProEmp!E84 -> 0 | G45: =IF(ISNUMBER(F45/$B45*100),F45/$B45*100,0) -> 0 | H45: =[1]ProEmp!F84 -> . | I45: =[1]ProEmp!G84 -> 273.06341 | J45: =IF(ISNUMBER(I45/$B45*100),I45/$B45*100,0) -> 18.426048 | K45: =[1]ProEmp!H84 -> 17 | L45: =[1]ProEmp!I84 -> 0 | M45: =IF(ISNUMBER(L45/$B45*100),L45/$B45*100,0) -> 0 | N45: =[1]ProEmp!J84 -> . | O45: =[1]ProEmp!K84 -> 0 | P45: =IF(ISNUMBER(O45/$B45*100),O45/$B45*100,0) -> 0 | Q45: =[1]ProEmp!L84 -> .
A46: Construcción | B46: =SUM(C46,F46,I46,L46,O46) -> 137597.97 | C46: =[1]ProEmp!C85 -> 14611.815 | D46: =IF(ISNUMBER(C46/$B46*100),C46/$B46*100,0) -> 10.619208 | E46: =[1]ProEmp!D85 -> 6.7940074 | F46: =[1]ProEmp!E85 -> 14858.647 | G46: =IF(ISNUMBER(F46/$B46*100),F46/$B46*100,0) -> 10.798595 | H46: =[1]ProEmp!F85 -> 6.7190637 | I46: =[1]ProEmp!G85 -> 100680.88 | J46: =IF(ISNUMBER(I46/$B46*100),I46/$B46*100,0) -> 73.170321 | K46: =[1]ProEmp!H85 -> 6.2352299 | L46: =[1]ProEmp!I85 -> 2210.675 | M46: =IF(ISNUMBER(L46/$B46*100),L46/$B46*100,0) -> 1.6066189 | N46: =[1]ProEmp!J85 -> 7.8105079 | O46: =[1]ProEmp!K85 -> 5235.9566 | P46: =IF(ISNUMBER(O46/$B46*100),O46/$B46*100,0) -> 3.8052571 | Q46: =[1]ProEmp!L85 -> 5.5343457
A47: Comercio por Mayor / menor, Hoteles / restaurantes | B47: =SUM(C47,F47,I47,L47,O47) -> 414967.82 | C47: =[1]ProEmp!C86 -> 30423.243 | D47: =IF(ISNUMBER(C47/$B47*100),C47/$B47*100,0) -> 7.3314704 | E47: =[1]ProEmp!D86 -> 9.4490287 | F47: =[1]ProEmp!E86 -> 80065.459 | G47: =IF(ISNUMBER(F47/$B47*100),F47/$B47*100,0) -> 19.294378 | H47: =[1]ProEmp!F86 -> 7.4323483 | I47: =[1]ProEmp!G86 -> 278902.01 | J47: =IF(ISNUMBER(I47/$B47*100),I47/$B47*100,0) -> 67.210516 | K47: =[1]ProEmp!H86 -> 7.349542 | L47: =[1]ProEmp!I86 -> 5427.0717 | M47: =IF(ISNUMBER(L47/$B47*100),L47/$B47*100,0) -> 1.3078295 | N47: =[1]ProEmp!J86 -> 9.578252 | O47: =[1]ProEmp!K86 -> 20150.033 | P47: =IF(ISNUMBER(O47/$B47*100),O47/$B47*100,0) -> 4.8558061 | Q47: =[1]ProEmp!L86 -> 8.6839994
A48: Transp. almac. y comunicaciones | B48: =SUM(C48,F48,I48,L48,O48) -> 48371.743 | C48: =[1]ProEmp!C87 -> 4483.564 | D48: =IF(ISNUMBER(C48/$B48*100),C48/$B48*100,0) -> 9.2689733 | E48: =[1]ProEmp!D87 -> 8.2774494 | F48: =[1]ProEmp!E87 -> 8693.5225 | G48: =IF(ISNUMBER(F48/$B48*100),F48/$B48*100,0) -> 17.972316 | H48: =[1]ProEmp!F87 -> 7.1398241 | I48: =[1]ProEmp!G87 -> 33630.222 | J48: =IF(ISNUMBER(I48/$B48*100),I48/$B48*100,0) -> 69.52452 | K48: =[1]ProEmp!H87 -> 7.1684483 | L48: =[1]ProEmp!I87 -> 523.20099 | M48: =IF(ISNUMBER(L48/$B48*100),L48/$B48*100,0) -> 1.0816252 | N48: =[1]ProEmp!J87 -> 12.869849 | O48: =[1]ProEmp!K87 -> 1041.2337 | P48: =IF(ISNUMBER(O48/$B48*100),O48/$B48*100,0) -> 2.1525659 | Q48: =[1]ProEmp!L87 -> 7.3689595
A49: Estab. finac. seguros, Bienes inmuebles y servicios | B49: =SUM(C49,F49,I49,L49,O49) -> 39772.746 | C49: =[1]ProEmp!C88 -> 7736.2692 | D49: =IF(ISNUMBER(C49/$B49*100),C49/$B49*100,0) -> 19.451182 | E49: =[1]ProEmp!D88 -> 10.285549 | F49: =[1]ProEmp!E88 -> 7600.3789 | G49: =IF(ISNUMBER(F49/$B49*100),F49/$B49*100,0) -> 19.109515 | H49: =[1]ProEmp!F88 -> 10.726668 | I49: =[1]ProEmp!G88 -> 21717.232 | J49: =IF(ISNUMBER(I49/$B49*100),I49/$B49*100,0) -> 54.603301 | K49: =[1]ProEmp!H88 -> 8.680487 | L49: =[1]ProEmp!I88 -> 1410.8165 | M49: =IF(ISNUMBER(L49/$B49*100),L49/$B49*100,0) -> 3.547194 | N49: =[1]ProEmp!J88 -> 10.193435 | O49: =[1]ProEmp!K88 -> 1308.0493 | P49: =IF(ISNUMBER(O49/$B49*100),O49/$B49*100,0) -> 3.2888081 | Q49: =[1]ProEmp!L88 -> 10.218656
A50: Servicios Comunales, Sociales y Personales | B50: =SUM(C50,F50,I50,L50,O50) -> 245517.46 | C50: =[1]ProEmp!C89 -> 24208.205 | D50: =IF(ISNUMBER(C50/$B50*100),C50/$B50*100,0) -> 9.8600748 | E50: =[1]ProEmp!D89 -> 10.089522 | F50: =[1]ProEmp!E89 -> 71578.824 | G50: =IF(ISNUMBER(F50/$B50*100),F50/$B50*100,0) -> 29.15427 | H50: =[1]ProEmp!F89 -> 9.5796814 | I50: =[1]ProEmp!G89 -> 126468.26 | J50: =IF(ISNUMBER(I50/$B50*100),I50/$B50*100,0) -> 51.510901 | K50: =[1]ProEmp!H89 -> 7.1206117 | L50: =[1]ProEmp!I89 -> 3484.7616 | M50: =IF(ISNUMBER(L50/$B50*100),L50/$B50*100,0) -> 1.4193539 | N50: =[1]ProEmp!J89 -> 11.497334 | O50: =[1]ProEmp!K89 -> 19777.415 | P50: =IF(ISNUMBER(O50/$B50*100),O50/$B50*100,0) -> 8.0554004 | Q50: =[1]ProEmp!L89 -> 7.4713533
A51: No sabe, No responde | B51: =SUM(C51,F51,I51,L51,O51) -> 1324.0587 | C51: =[1]ProEmp!C90 -> 622.56892 | D51: =IF(ISNUMBER(C51/$B51*100),C51/$B51*100,0) -> 47.019736 | E51: =[1]ProEmp!D90 -> 11.634494 | F51: =[1]ProEmp!E90 -> 267.01328 | G51: =IF(ISNUMBER(F51/$B51*100),F51/$B51*100,0) -> 20.166272 | H51: =[1]ProEmp!F90 -> 1 | I51: =[1]ProEmp!G90 -> 434.47652 | J51: =IF(ISNUMBER(I51/$B51*100),I51/$B51*100,0) -> 32.813992 | K51: =[1]ProEmp!H90 -> 6 | L51: =[1]ProEmp!I90 -> 0 | M51: =IF(ISNUMBER(L51/$B51*100),L51/$B51*100,0) -> 0 | N51: =[1]ProEmp!J90 -> . | O51: =[1]ProEmp!K90 -> 0 | P51: =IF(ISNUMBER(O51/$B51*100),O51/$B51*100,0) -> 0 | Q51: =[1]ProEmp!L90 -> .
A52: Busca Trabajo por Primera Vez | B52: =SUM(C52,F52,I52,L52,O52) -> 141738.1 | C52: =[1]ProEmp!C91 -> 34533.68 | D52: =IF(ISNUMBER(C52/$B52*100),C52/$B52*100,0) -> 24.364429 | E52: =[1]ProEmp!D91 -> 11.263481 | F52: =[1]ProEmp!E91 -> 0 | G52: =IF(ISNUMBER(F52/$B52*100),F52/$B52*100,0) -> 0 | H52: =[1]ProEmp!F91 -> . | I52: =[1]ProEmp!G91 -> 0 | J52: =IF(ISNUMBER(I52/$B52*100),I52/$B52*100,0) -> 0 | K52: =[1]ProEmp!H91 -> . | L52: =[1]ProEmp!I91 -> 10260.396 | M52: =IF(ISNUMBER(L52/$B52*100),L52/$B52*100,0) -> 7.2389823 | N52: =[1]ProEmp!J91 -> 9.9496981 | O52: =[1]ProEmp!K91 -> 96944.027 | P52: =IF(ISNUMBER(O52/$B52*100),O52/$B52*100,0) -> 68.396588 | Q52: =[1]ProEmp!L91 -> 7.1194483
A54: Ocupación
A55: Profesionales, Técnicos y PEOA | B55: =SUM(C55,F55,I55,L55,O55) -> 77496.847 | C55: =[1]ProEmp!C93 -> 14907.477 | D55: =IF(ISNUMBER(C55/$B55*100),C55/$B55*100,0) -> 19.236237 | E55: =[1]ProEmp!D93 -> 12.824323 | F55: =[1]ProEmp!E93 -> 35718.027 | G55: =IF(ISNUMBER(F55/$B55*100),F55/$B55*100,0) -> 46.089652 | H55: =[1]ProEmp!F93 -> 12.429831 | I55: =[1]ProEmp!G93 -> 19161.024 | J55: =IF(ISNUMBER(I55/$B55*100),I55/$B55*100,0) -> 24.724908 | K55: =[1]ProEmp!H93 -> 11.462106 | L55: =[1]ProEmp!I93 -> 1613.7391 | M55: =IF(ISNUMBER(L55/$B55*100),L55/$B55*100,0) -> 2.0823287 | N55: =[1]ProEmp!J93 -> 13.710584 | O55: =[1]ProEmp!K93 -> 6096.58 | P55: =IF(ISNUMBER(O55/$B55*100),O55/$B55*100,0) -> 7.8668749 | Q55: =[1]ProEmp!L93 -> 11.572228
A56: Directores Gerentes y Administ. Grales. | B56: =SUM(C56,F56,I56,L56,O56) -> 42280.914 | C56: =[1]ProEmp!C94 -> 6211.9713 | D56: =IF(ISNUMBER(C56/$B56*100),C56/$B56*100,0) -> 14.69214 | E56: =[1]ProEmp!D94 -> 12.657114 | F56: =[1]ProEmp!E94 -> 7398.4581 | G56: =IF(ISNUMBER(F56/$B56*100),F56/$B56*100,0) -> 17.49834 | H56: =[1]ProEmp!F94 -> 10.494898 | I56: =[1]ProEmp!G94 -> 27473.918 | J56: =IF(ISNUMBER(I56/$B56*100),I56/$B56*100,0) -> 64.979478 | K56: =[1]ProEmp!H94 -> 9.6802081 | L56: =[1]ProEmp!I94 -> 762.09084 | M56: =IF(ISNUMBER(L56/$B56*100),L56/$B56*100,0) -> 1.8024465 | N56: =[1]ProEmp!J94 -> 13.314148 | O56: =[1]ProEmp!K94 -> 434.47652 | P56: =IF(ISNUMBER(O56/$B56*100),O56/$B56*100,0) -> 1.0275949 | Q56: =[1]ProEmp!L94 -> 10.239805
A57: Empleados de Oficina | B57: =SUM(C57,F57,I57,L57,O57) -> 38429.573 | C57: =[1]ProEmp!C95 -> 7613.2813 | D57: =IF(ISNUMBER(C57/$B57*100),C57/$B57*100,0) -> 19.810996 | E57: =[1]ProEmp!D95 -> 11.860987 | F57: =[1]ProEmp!E95 -> 4232.4488 | G57: =IF(ISNUMBER(F57/$B57*100),F57/$B57*100,0) -> 11.01352 | H57: =[1]ProEmp!F95 -> 9.6729098 | I57: =[1]ProEmp!G95 -> 21688.186 | J57: =IF(ISNUMBER(I57/$B57*100),I57/$B57*100,0) -> 56.436188 | K57: =[1]ProEmp!H95 -> 10.559491 | L57: =[1]ProEmp!I95 -> 816.81449 | M57: =IF(ISNUMBER(L57/$B57*100),L57/$B57*100,0) -> 2.1254842 | N57: =[1]ProEmp!J95 -> 13.142102 | O57: =[1]ProEmp!K95 -> 4078.8426 | P57: =IF(ISNUMBER(O57/$B57*100),O57/$B57*100,0) -> 10.613812 | Q57: =[1]ProEmp!L95 -> 11.377533
A58: Comerciantes y Vendedores | B58: =SUM(C58,F58,I58,L58,O58) -> 250574.74 | C58: =[1]ProEmp!C96 -> 18644.518 | D58: =IF(ISNUMBER(C58/$B58*100),C58/$B58*100,0) -> 7.4407014 | E58: =[1]ProEmp!D96 -> 9.6631133 | F58: =[1]ProEmp!E96 -> 52016.642 | G58: =IF(ISNUMBER(F58/$B58*100),F58/$B58*100,0) -> 20.758933 | H58: =[1]ProEmp!F96 -> 7.1273958 | I58: =[1]ProEmp!G96 -> 168442.5 | J58: =IF(ISNUMBER(I58/$B58*100),I58/$B58*100,0) -> 67.222458 | K58: =[1]ProEmp!H96 -> 7.1132414 | L58: =[1]ProEmp!I96 -> 2444.2956 | M58: =IF(ISNUMBER(L58/$B58*100),L58/$B58*100,0) -> 0.97547567 | N58: =[1]ProEmp!J96 -> 9.1286896 | O58: =[1]ProEmp!K96 -> 9026.7855 | P58: =IF(ISNUMBER(O58/$B58*100),O58/$B58*100,0) -> 3.6024324 | Q58: =[1]ProEmp!L96 -> 9.5792985
A59: Agricultores, Ganaderos y Trab. Agrop. | B59: =SUM(C59,F59,I59,L59,O59) -> 616375.71 | C59: =[1]ProEmp!C97 -> 6908.5454 | D59: =IF(ISNUMBER(C59/$B59*100),C59/$B59*100,0) -> 1.1208335 | E59: =[1]ProEmp!D97 -> 6.8013666 | F59: =[1]ProEmp!E97 -> 100386.7 | G59: =IF(ISNUMBER(F59/$B59*100),F59/$B59*100,0) -> 16.286609 | H59: =[1]ProEmp!F97 -> 5.4167098 | I59: =[1]ProEmp!G97 -> 484556.27 | J59: =IF(ISNUMBER(I59/$B59*100),I59/$B59*100,0) -> 78.613784 | K59: =[1]ProEmp!H97 -> 4.7743787 | L59: =[1]ProEmp!I97 -> 17741.191 | M59: =IF(ISNUMBER(L59/$B59*100),L59/$B59*100,0) -> 2.8783079 | N59: =[1]ProEmp!J97 -> 4.9180472 | O59: =[1]ProEmp!K97 -> 6783.0025 | P59: =IF(ISNUMBER(O59/$B59*100),O59/$B59*100,0) -> 1.1004656 | Q59: =[1]ProEmp!L97 -> 4.8001871
A60: Conductores de Transporte | B60: =SUM(C60,F60,I60,L60,O60) -> 36256.098 | C60: =[1]ProEmp!C98 -> 3705.6336 | D60: =IF(ISNUMBER(C60/$B60*100),C60/$B60*100,0) -> 10.220718 | E60: =[1]ProEmp!D98 -> 6.2982078 | F60: =[1]ProEmp!E98 -> 5769.6034 | G60: =IF(ISNUMBER(F60/$B60*100),F60/$B60*100,0) -> 15.91347 | H60: =[1]ProEmp!F98 -> 6.7917633 | I60: =[1]ProEmp!G98 -> 25891.279 | J60: =IF(ISNUMBER(I60/$B60*100),I60/$B60*100,0) -> 71.412205 | K60: =[1]ProEmp!H98 -> 7.0851591 | L60: =[1]ProEmp!I98 -> 455.10569 | M60: =IF(ISNUMBER(L60/$B60*100),L60/$B60*100,0) -> 1.2552528 | N60: =[1]ProEmp!J98 -> 10 | O60: =[1]ProEmp!K98 -> 434.47652 | P60: =IF(ISNUMBER(O60/$B60*100),O60/$B60*100,0) -> 1.1983543 | Q60: =[1]ProEmp!L98 -> 5.6145632
A61: Trab. Ind. Textil, Albañilería, Mecánica, etc. | B61: =SUM(C61,F61,I61,L61,O61) -> 256146.26 | C61: =[1]ProEmp!C99 -> 22448.113 | D61: =IF(ISNUMBER(C61/$B61*100),C61/$B61*100,0) -> 8.7637871 | E61: =[1]ProEmp!D99 -> 6.4904516 | F61: =[1]ProEmp!E99 -> 37979.375 | G61: =IF(ISNUMBER(F61/$B61*100),F61/$B61*100,0) -> 14.827222 | H61: =[1]ProEmp!F99 -> 7.2467347 | I61: =[1]ProEmp!G99 -> 180959.2 | J61: =IF(ISNUMBER(I61/$B61*100),I61/$B61*100,0) -> 70.646824 | K61: =[1]ProEmp!H99 -> 6.6801437 | L61: =[1]ProEmp!I99 -> 3602.8726 | M61: =IF(ISNUMBER(L61/$B61*100),L61/$B61*100,0) -> 1.4065685 | N61: =[1]ProEmp!J99 -> 7.4570672 | O61: =[1]ProEmp!K99 -> 11156.703 | P61: =IF(ISNUMBER(O61/$B61*100),O61/$B61*100,0) -> 4.3555984 | Q61: =[1]ProEmp!L99 -> 6.4165826
A62: Trab. Area Grafica, Quím., Alimentos, etc. | B62: =SUM(C62,F62,I62,L62,O62) -> 79146.073 | C62: =[1]ProEmp!C100 -> 1856.3912 | D62: =IF(ISNUMBER(C62/$B62*100),C62/$B62*100,0) -> 2.3455253 | E62: =[1]ProEmp!D100 -> 7.7432908 | F62: =[1]ProEmp!E100 -> 24754.906 | G62: =IF(ISNUMBER(F62/$B62*100),F62/$B62*100,0) -> 31.277492 | H62: =[1]ProEmp!F100 -> 6.7762321 | I62: =[1]ProEmp!G100 -> 50347.476 | J62: =IF(ISNUMBER(I62/$B62*100),I62/$B62*100,0) -> 63.61336 | K62: =[1]ProEmp!H100 -> 5.5885852 | L62: =[1]ProEmp!I100 -> 0 | M62: =IF(ISNUMBER(L62/$B62*100),L62/$B62*100,0) -> 0 | N62: =[1]ProEmp!J100 -> . | O62: =[1]ProEmp!K100 -> 2187.2993 | P62: =IF(ISNUMBER(O62/$B62*100),O62/$B62*100,0) -> 2.7636233 | Q62: =[1]ProEmp!L100 -> 6.9071607
A63: Operador de Carga y Almacenaje | B63: =SUM(C63,F63,I63,L63,O63) -> 39349.471 | C63: =[1]ProEmp!C101 -> 5861.2864 | D63: =IF(ISNUMBER(C63/$B63*100),C63/$B63*100,0) -> 14.895464 | E63: =[1]ProEmp!D101 -> 7.3947642 | F63: =[1]ProEmp!E101 -> 5371.2557 | G63: =IF(ISNUMBER(F63/$B63*100),F63/$B63*100,0) -> 13.650134 | H63: =[1]ProEmp!F101 -> 6.1567505 | I63: =[1]ProEmp!G101 -> 23997.989 | J63: =IF(ISNUMBER(I63/$B63*100),I63/$B63*100,0) -> 60.986815 | K63: =[1]ProEmp!H101 -> 7.2026157 | L63: =[1]ProEmp!I101 -> 1981.0184 | M63: =IF(ISNUMBER(L63/$B63*100),L63/$B63*100,0) -> 5.034422 | N63: =[1]ProEmp!J101 -> 7.9510462 | O63: =[1]ProEmp!K101 -> 2137.9216 | P63: =IF(ISNUMBER(O63/$B63*100),O63/$B63*100,0) -> 5.4331649 | Q63: =[1]ProEmp!L101 -> 7.8727685
A64: Ocupación de los Servicios | B64: =SUM(C64,F64,I64,L64,O64) -> 256700.44 | C64: =[1]ProEmp!C102 -> 18950.547 | D64: =IF(ISNUMBER(C64/$B64*100),C64/$B64*100,0) -> 7.3823586 | E64: =[1]ProEmp!D102 -> 6.8986202 | F64: =[1]ProEmp!E102 -> 55712.003 | G64: =IF(ISNUMBER(F64/$B64*100),F64/$B64*100,0) -> 21.703119 | H64: =[1]ProEmp!F102 -> 6.9550639 | I64: =[1]ProEmp!G102 -> 156754.48 | J64: =IF(ISNUMBER(I64/$B64*100),I64/$B64*100,0) -> 61.065138 | K64: =[1]ProEmp!H102 -> 6.1412467 | L64: =[1]ProEmp!I102 -> 3806.1 | M64: =IF(ISNUMBER(L64/$B64*100),L64/$B64*100,0) -> 1.482701 | N64: =[1]ProEmp!J102 -> 8.1329434 | O64: =[1]ProEmp!K102 -> 21477.314 | P64: =IF(ISNUMBER(O64/$B64*100),O64/$B64*100,0) -> 8.3666838 | Q64: =[1]ProEmp!L102 -> 6.0187049
A65: No sabe, No responde | B65: =SUM(C65,F65,I65,L65,O65) -> 19539.06 | C65: =[1]ProEmp!C103 -> 2141.9479 | D65: =IF(ISNUMBER(C65/$B65*100),C65/$B65*100,0) -> 10.96239 | E65: =[1]ProEmp!D103 -> 9.9755418 | F65: =[1]ProEmp!E103 -> 4629.7391 | G65: =IF(ISNUMBER(F65/$B65*100),F65/$B65*100,0) -> 23.694789 | H65: =[1]ProEmp!F103 -> 5.2692869 | I65: =[1]ProEmp!G103 -> 11702.491 | J65: =IF(ISNUMBER(I65/$B65*100),I65/$B65*100,0) -> 59.892803 | K65: =[1]ProEmp!H103 -> 7.1842455 | L65: =[1]ProEmp!I103 -> 646.21757 | M65: =IF(ISNUMBER(L65/$B65*100),L65/$B65*100,0) -> 3.3073115 | N65: =[1]ProEmp!J103 -> 12.295739 | O65: =[1]ProEmp!K103 -> 418.66473 | P65: =IF(ISNUMBER(O65/$B65*100),O65/$B65*100,0) -> 2.1427066 | Q65: =[1]ProEmp!L103 -> 8.7176023
A66: Busca Trabajo por Primera Vez | B66: =SUM(C66,F66,I66,L66,O66) -> 141738.1 | C66: =[1]ProEmp!C104 -> 34533.68 | D66: =IF(ISNUMBER(C66/$B66*100),C66/$B66*100,0) -> 24.364429 | E66: =[1]ProEmp!D104 -> 11.263481 | F66: =[1]ProEmp!E104 -> 0 | G66: =IF(ISNUMBER(F66/$B66*100),F66/$B66*100,0) -> 0 | H66: =[1]ProEmp!F104 -> . | I66: =[1]ProEmp!G104 -> 0 | J66: =IF(ISNUMBER(I66/$B66*100),I66/$B66*100,0) -> 0 | K66: =[1]ProEmp!H104 -> . | L66: =[1]ProEmp!I104 -> 10260.396 | M66: =IF(ISNUMBER(L66/$B66*100),L66/$B66*100,0) -> 7.2389823 | N66: =[1]ProEmp!J104 -> 9.9496981 | O66: =[1]ProEmp!K104 -> 96944.027 | P66: =IF(ISNUMBER(O66/$B66*100),O66/$B66*100,0) -> 68.396588 | Q66: =[1]ProEmp!L104 -> 7.1194483
A68: =A30 -> Fuente: Instituto Nacional de Estadística (INE). XLI Encuesta Permanente de Hogares de Propósitos Múltiples, Mayo 2011.
A69: AEP: Años de Estudio Promedio
A70: 2/ Porcentaje por filas

Sheet C05
A1: Cuadro No. 4. Población con problemas de empleo y Años de Estudio Promedio (AEP), según dominio, rama de actividad y ocupación
A2: Hombres
A3: Categorías | B3: Total | C3: Desocupados | F3: Subempleo Visible | I3: Subempleo Invisible | L3: Potencialmente Activos | O3: Desalentados
C4: No. | D4: % 2/ | E4: AEP | F4: No. | G4: % 2/ | H4: AEP | I4: No. | J4: % 2/ | K4: AEP | L4: No. | M4: % 2/ | N4: AEP | O4: No. | P4: % 2/ | Q4: AEP
A6: Total Nacional | B6: =+B9+B13 -> 1154948.4 | C6: =[1]ProEmp!M61 -> 71466.141 | D6: =IF(ISNUMBER(C6/$B6*100),C6/$B6*100,0) -> 6.187821 | E6: =[1]ProEmp!N61 -> 8.9597707 | F6: =[1]ProEmp!O61 -> 173722.45 | G6: =IF(ISNUMBER(F6/$B6*100),F6/$B6*100,0) -> 15.041577 | H6: =[1]ProEmp!P61 -> 6.7236773 | I6: =[1]ProEmp!Q61 -> 849853.81 | J6: =IF(ISNUMBER(I6/$B6*100),I6/$B6*100,0) -> 73.583703 | K6: =[1]ProEmp!R61 -> 5.8277812 | L6: =[1]ProEmp!S61 -> 14237.803 | M6: =IF(ISNUMBER(L6/$B6*100),L6/$B6*100,0) -> 1.2327653 | N6: =[1]ProEmp!T61 -> 7.9764758 | O6: =[1]ProEmp!U61 -> 45668.211 | P6: =IF(ISNUMBER(O6/$B6*100),O6/$B6*100,0) -> 3.9541342 | Q6: =[1]ProEmp!V61 -> 7.7359564
A8: Dominio
A9: Urbano | B9: =SUM(C9,F9,I9,L9,O9) -> 438738.68 | C9: =SUM(C10:C12) -> 54617.602 | D9: =IF(ISNUMBER(C9/$B9*100),C9/$B9*100,0) -> 12.448778 | E9: =AVERAGE(E10:E12) -> 9.6048256 | F9: =SUM(F10:F12) -> 72791.429 | G9: =IF(ISNUMBER(F9/$B9*100),F9/$B9*100,0) -> 16.591067 | H9: =AVERAGE(H10:H12) -> 8.5481713 | I9: =SUM(I10:I12) -> 274039.66 | J9: =IF(ISNUMBER(I9/$B9*100),I9/$B9*100,0) -> 62.460794 | K9: =AVERAGE(K10:K12) -> 7.3719085 | L9: =SUM(L10:L12) -> 7802.7828 | M9: =IF(ISNUMBER(L9/$B9*100),L9/$B9*100,0) -> 1.7784579 | N9: =AVERAGE(N10:N12) -> 8.9816562 | O9: =SUM(O10:O12) -> 29487.205 | P9: =IF(ISNUMBER(O9/$B9*100),O9/$B9*100,0) -> 6.720904 | Q9: =AVERAGE(Q10:Q12) -> 8.569885
A10: Distrito Central | B10: =SUM(C10,F10,I10,L10,O10) -> 127384.08 | C10: =[1]ProEmp!M62 -> 21503.744 | D10: =IF(ISNUMBER(C10/$B10*100),C10/$B10*100,0) -> 16.881029 | E10: =[1]ProEmp!N62 -> 10.040642 | F10: =[1]ProEmp!O62 -> 25827.248 | G10: =IF(ISNUMBER(F10/$B10*100),F10/$B10*100,0) -> 20.275098 | H10: =[1]ProEmp!P62 -> 8.9549296 | I10: =[1]ProEmp!Q62 -> 64761.54 | J10: =IF(ISNUMBER(I10/$B10*100),I10/$B10*100,0) -> 50.839586 | K10: =[1]ProEmp!R62 -> 7.5751511 | L10: =[1]ProEmp!S62 -> 2844.4106 | M10: =IF(ISNUMBER(L10/$B10*100),L10/$B10*100,0) -> 2.2329403 | N10: =[1]ProEmp!T62 -> 8.6086957 | O10: =[1]ProEmp!U62 -> 12447.141 | P10: =IF(ISNUMBER(O10/$B10*100),O10/$B10*100,0) -> 9.7713469 | Q10: =[1]ProEmp!V62 -> 7.8104449
A11: San Pedro Sula | B11: =SUM(C11,F11,I11,L11,O11) -> 66936.937 | C11: =[1]ProEmp!M63 -> 7357.8075 | D11: =IF(ISNUMBER(C11/$B11*100),C11/$B11*100,0) -> 10.992148 | E11: =[1]ProEmp!N63 -> 10.190909 | F11: =[1]ProEmp!O63 -> 9475.9642 | G11: =IF(ISNUMBER(F11/$B11*100),F11/$B11*100,0) -> 14.156555 | H11: =[1]ProEmp!P63 -> 9.1401515 | I11: =[1]ProEmp!Q63 -> 43493.88 | J11: =IF(ISNUMBER(I11/$B11*100),I11/$B11*100,0) -> 64.977397 | K11: =[1]ProEmp!R63 -> 7.4367089 | L11: =[1]ProEmp!S63 -> 1958.8968 | M11: =IF(ISNUMBER(L11/$B11*100),L11/$B11*100,0) -> 2.9264811 | N11: =[1]ProEmp!T63 -> 10.894309 | O11: =[1]ProEmp!U63 -> 4650.3892 | P11: =IF(ISNUMBER(O11/$B11*100),O11/$B11*100,0) -> 6.9474185 | Q11: =[1]ProEmp!V63 -> 9.162963
A12: Resto urbano | B12: =SUM(C12,F12,I12,L12,O12) -> 244417.66 | C12: =[1]ProEmp!M64 -> 25756.051 | D12: =IF(ISNUMBER(C12/$B12*100),C12/$B12*100,0) -> 10.537721 | E12: =[1]ProEmp!N64 -> 8.5829261 | F12: =[1]ProEmp!O64 -> 37488.217 | G12: =IF(ISNUMBER(F12/$B12*100),F12/$B12*100,0) -> 15.337769 | H12: =[1]ProEmp!P64 -> 7.5494329 | I12: =[1]ProEmp!Q64 -> 165784.24 | J12: =IF(ISNUMBER(I12/$B12*100),I12/$B12*100,0) -> 67.828258 | K12: =[1]ProEmp!R64 -> 7.1038655 | L12: =[1]ProEmp!S64 -> 2999.4754 | M12: =IF(ISNUMBER(L12/$B12*100),L12/$B12*100,0) -> 1.2271926 | N12: =[1]ProEmp!T64 -> 7.4419641 | O12: =[1]ProEmp!U64 -> 12389.676 | P12: =IF(ISNUMBER(O12/$B12*100),O12/$B12*100,0) -> 5.0690591 | Q12: =[1]ProEmp!V64 -> 8.736247
A13: Rural | B13: =SUM(C13,F13,I13,L13,O13) -> 716209.73 | C13: =[1]ProEmp!M65 -> 16848.538 | D13: =IF(ISNUMBER(C13/$B13*100),C13/$B13*100,0) -> 2.3524587 | E13: =[1]ProEmp!N65 -> 7.5245347 | F13: =[1]ProEmp!O65 -> 100931.02 | G13: =IF(ISNUMBER(F13/$B13*100),F13/$B13*100,0) -> 14.092383 | H13: =[1]ProEmp!P65 -> 5.5604129 | I13: =[1]ProEmp!Q65 -> 575814.15 | J13: =IF(ISNUMBER(I13/$B13*100),I13/$B13*100,0) -> 80.39742 | K13: =[1]ProEmp!R65 -> 5.0296869 | L13: =[1]ProEmp!S65 -> 6435.0202 | M13: =IF(ISNUMBER(L13/$B13*100),L13/$B13*100,0) -> 0.89848265 | N13: =[1]ProEmp!T65 -> 7.06639 | O13: =[1]ProEmp!U65 -> 16181.005 | P13: =IF(ISNUMBER(O13/$B13*100),O13/$B13*100,0) -> 2.2592551 | Q13: =[1]ProEmp!V65 -> 6.5631399
A15: Rango de Edad
A16: De 10 a 11 años | B16: =SUM(C16,F16,I16,L16,O16) -> 2698.3014 | C16: =[1]ProEmp!M67 -> 167.46323 | D16: =IF(ISNUMBER(C16/$B16*100),C16/$B16*100,0) -> 6.2062463 | E16: =[1]ProEmp!N67 -> 6 | F16: =[1]ProEmp!O67 -> 587.42923 | G16: =IF(ISNUMBER(F16/$B16*100),F16/$B16*100,0) -> 21.770334 | H16: =[1]ProEmp!P67 -> 3 | I16: =[1]ProEmp!Q67 -> 1068.0531 | J16: =IF(ISNUMBER(I16/$B16*100),I16/$B16*100,0) -> 39.582425 | K16: =[1]ProEmp!R67 -> 4 | L16: =[1]ProEmp!S67 -> 341.32927 | M16: =IF(ISNUMBER(L16/$B16*100),L16/$B16*100,0) -> 12.649783 | N16: =[1]ProEmp!T67 -> 4 | O16: =[1]ProEmp!U67 -> 534.02657 | P16: =IF(ISNUMBER(O16/$B16*100),O16/$B16*100,0) -> 19.791212 | Q16: =[1]ProEmp!V67 -> 1.5
A17: De 12 a 14 años | B17: =SUM(C17,F17,I17,L17,O17) -> 26616.824 | C17: =[1]ProEmp!M68 -> 562.66143 | D17: =IF(ISNUMBER(C17/$B17*100),C17/$B17*100,0) -> 2.1139315 | E17: =[1]ProEmp!N68 -> 8 | F17: =[1]ProEmp!O68 -> 8965.447 | G17: =IF(ISNUMBER(F17/$B17*100),F17/$B17*100,0) -> 33.683384 | H17: =[1]ProEmp!P68 -> 5.2541892 | I17: =[1]ProEmp!Q68 -> 11054.851 | J17: =IF(ISNUMBER(I17/$B17*100),I17/$B17*100,0) -> 41.533321 | K17: =[1]ProEmp!R68 -> 5.6281791 | L17: =[1]ProEmp!S68 -> 1798.1778 | M17: =IF(ISNUMBER(L17/$B17*100),L17/$B17*100,0) -> 6.7557941 | N17: =[1]ProEmp!T68 -> 5.3450398 | O17: =[1]ProEmp!U68 -> 4235.6866 | P17: =IF(ISNUMBER(O17/$B17*100),O17/$B17*100,0) -> 15.913569 | Q17: =[1]ProEmp!V68 -> 5.0596579
A18: De 15 a 18 años | B18: =SUM(C18,F18,I18,L18,O18) -> 141168.92 | C18: =[1]ProEmp!M69 -> 7753.9647 | D18: =IF(ISNUMBER(C18/$B18*100),C18/$B18*100,0) -> 5.4926855 | E18: =[1]ProEmp!N69 -> 7.7500483 | F18: =[1]ProEmp!O69 -> 29845.102 | G18: =IF(ISNUMBER(F18/$B18*100),F18/$B18*100,0) -> 21.141412 | H18: =[1]ProEmp!P69 -> 6.2587268 | I18: =[1]ProEmp!Q69 -> 88521.702 | J18: =IF(ISNUMBER(I18/$B18*100),I18/$B18*100,0) -> 62.706227 | K18: =[1]ProEmp!R69 -> 6.1994222 | L18: =[1]ProEmp!S69 -> 2354.905 | M18: =IF(ISNUMBER(L18/$B18*100),L18/$B18*100,0) -> 1.6681469 | N18: =[1]ProEmp!T69 -> 6.9173932 | O18: =[1]ProEmp!U69 -> 12693.244 | P18: =IF(ISNUMBER(O18/$B18*100),O18/$B18*100,0) -> 8.9915289 | Q18: =[1]ProEmp!V69 -> 7.2302996
A19: De 19 a 24 años | B19: =SUM(C19,F19,I19,L19,O19) -> 238763.78 | C19: =[1]ProEmp!M70 -> 27733.457 | D19: =IF(ISNUMBER(C19/$B19*100),C19/$B19*100,0) -> 11.615437 | E19: =[1]ProEmp!N70 -> 9.4973766 | F19: =[1]ProEmp!O70 -> 34005.256 | G19: =IF(ISNUMBER(F19/$B19*100),F19/$B19*100,0) -> 14.242217 | H19: =[1]ProEmp!P70 -> 7.5364269 | I19: =[1]ProEmp!Q70 -> 158257.41 | J19: =IF(ISNUMBER(I19/$B19*100),I19/$B19*100,0) -> 66.282001 | K19: =[1]ProEmp!R70 -> 6.9401293 | L19: =[1]ProEmp!S70 -> 5777.3316 | M19: =IF(ISNUMBER(L19/$B19*100),L19/$B19*100,0) -> 2.4196851 | N19: =[1]ProEmp!T70 -> 9.0421784 | O19: =[1]ProEmp!U70 -> 12990.325 | P19: =IF(ISNUMBER(O19/$B19*100),O19/$B19*100,0) -> 5.4406597 | Q19: =[1]ProEmp!V70 -> 8.9639128
A20: De 25 a 29 años | B20: =SUM(C20,F20,I20,L20,O20) -> 131029.23 | C20: =[1]ProEmp!M71 -> 11907.536 | D20: =IF(ISNUMBER(C20/$B20*100),C20/$B20*100,0) -> 9.0876946 | E20: =[1]ProEmp!N71 -> 9.4806629 | F20: =[1]ProEmp!O71 -> 20072.043 | G20: =IF(ISNUMBER(F20/$B20*100),F20/$B20*100,0) -> 15.318753 | H20: =[1]ProEmp!P71 -> 7.1420971 | I20: =[1]ProEmp!Q71 -> 94288.969 | J20: =IF(ISNUMBER(I20/$B20*100),I20/$B20*100,0) -> 71.960257 | K20: =[1]ProEmp!R71 -> 6.3374829 | L20: =[1]ProEmp!S71 -> 547.96879 | M20: =IF(ISNUMBER(L20/$B20*100),L20/$B20*100,0) -> 0.41820348 | N20: =[1]ProEmp!T71 -> 6.8305321 | O20: =[1]ProEmp!U71 -> 4212.7101 | P20: =IF(ISNUMBER(O20/$B20*100),O20/$B20*100,0) -> 3.2150919 | Q20: =[1]ProEmp!V71 -> 8.1373223
A21: De 30 a 34 años | B21: =SUM(C21,F21,I21,L21,O21) -> 99333.888 | C21: =[1]ProEmp!M72 -> 6371.3474 | D21: =IF(ISNUMBER(C21/$B21*100),C21/$B21*100,0) -> 6.4140723 | E21: =[1]ProEmp!N72 -> 9.558389 | F21: =[1]ProEmp!O72 -> 14011.484 | G21: =IF(ISNUMBER(F21/$B21*100),F21/$B21*100,0) -> 14.105442 | H21: =[1]ProEmp!P72 -> 7.0513854 | I21: =[1]ProEmp!Q72 -> 76776.891 | J21: =IF(ISNUMBER(I21/$B21*100),I21/$B21*100,0) -> 77.291741 | K21: =[1]ProEmp!R72 -> 6.0882174 | L21: =[1]ProEmp!S72 -> 494.56613 | M21: =IF(ISNUMBER(L21/$B21*100),L21/$B21*100,0) -> 0.49788259 | N21: =[1]ProEmp!T72 -> 8.760636 | O21: =[1]ProEmp!U72 -> 1679.5988 | P21: =IF(ISNUMBER(O21/$B21*100),O21/$B21*100,0) -> 1.6908619 | Q21: =[1]ProEmp!V72 -> 3.831413
A22: De 35 a 39 años | B22: =SUM(C22,F22,I22,L22,O22) -> 89318.552 | C22: =[1]ProEmp!M73 -> 2624.8369 | D22: =IF(ISNUMBER(C22/$B22*100),C22/$B22*100,0) -> 2.9387366 | E22: =[1]ProEmp!N73 -> 8.1281841 | F22: =[1]ProEmp!O73 -> 13202.85 | G22: =IF(ISNUMBER(F22/$B22*100),F22/$B22*100,0) -> 14.781755 | H22: =[1]ProEmp!P73 -> 6.4050247 | I22: =[1]ProEmp!Q73 -> 71721.462 | J22: =IF(ISNUMBER(I22/$B22*100),I22/$B22*100,0) -> 80.298506 | K22: =[1]ProEmp!R73 -> 5.6493833 | L22: =[1]ProEmp!S73 -> 682.65853 | M22: =IF(ISNUMBER(L22/$B22*100),L22/$B22*100,0) -> 0.76429647 | N22: =[1]ProEmp!T73 -> 10.666667 | O22: =[1]ProEmp!U73 -> 1086.7442 | P22: =IF(ISNUMBER(O22/$B22*100),O22/$B22*100,0) -> 1.2167061 | Q22: =[1]ProEmp!V73 -> 10.186158
A23: De 40 a 44 años | B23: =SUM(C23,F23,I23,L23,O23) -> 85356.292 | C23: =[1]ProEmp!M74 -> 3090.8735 | D23: =IF(ISNUMBER(C23/$B23*100),C23/$B23*100,0) -> 3.6211431 | E23: =[1]ProEmp!N74 -> 9.8692394 | F23: =[1]ProEmp!O74 -> 9532.4655 | G23: =IF(ISNUMBER(F23/$B23*100),F23/$B23*100,0) -> 11.167853 | H23: =[1]ProEmp!P74 -> 7.6911086 | I23: =[1]ProEmp!Q74 -> 69472.468 | J23: =IF(ISNUMBER(I23/$B23*100),I23/$B23*100,0) -> 81.39115 | K23: =[1]ProEmp!R74 -> 5.5396199 | L23: =[1]ProEmp!S74 -> 900.85042 | M23: =IF(ISNUMBER(L23/$B23*100),L23/$B23*100,0) -> 1.0554001 | N23: =[1]ProEmp!T74 -> 8.8286144 | O23: =[1]ProEmp!U74 -> 2359.6351 | P23: =IF(ISNUMBER(O23/$B23*100),O23/$B23*100,0) -> 2.7644536 | Q23: =[1]ProEmp!V74 -> 6.3516793
A24: De 45 a 49 años | B24: =SUM(C24,F24,I24,L24,O24) -> 87252.84 | C24: =[1]ProEmp!M75 -> 3062.6037 | D24: =IF(ISNUMBER(C24/$B24*100),C24/$B24*100,0) -> 3.5100333 | E24: =[1]ProEmp!N75 -> 7.3680447 | F24: =[1]ProEmp!O75 -> 15250.623 | G24: =IF(ISNUMBER(F24/$B24*100),F24/$B24*100,0) -> 17.478655 | H24: =[1]ProEmp!P75 -> 5.7269377 | I24: =[1]ProEmp!Q75 -> 68165.988 | J24: =IF(ISNUMBER(I24/$B24*100),I24/$B24*100,0) -> 78.124664 | K24: =[1]ProEmp!R75 -> 5.413757 | L24: =[1]ProEmp!S75 -> 227.55284 | M24: =IF(ISNUMBER(L24/$B24*100),L24/$B24*100,0) -> 0.26079706 | N24: =[1]ProEmp!T75 -> . | O24: =[1]ProEmp!U75 -> 546.07265 | P24: =IF(ISNUMBER(O24/$B24*100),O24/$B24*100,0) -> 0.62585086 | Q24: =[1]ProEmp!V75 -> 11.249628
A25: De 50 a 54 años | B25: =SUM(C25,F25,I25,L25,O25) -> 78332.65 | C25: =[1]ProEmp!M76 -> 3844.7829 | D25: =IF(ISNUMBER(C25/$B25*100),C25/$B25*100,0) -> 4.9082764 | E25: =[1]ProEmp!N76 -> 8.3228004 | F25: =[1]ProEmp!O76 -> 10597.431 | G25: =IF(ISNUMBER(F25/$B25*100),F25/$B25*100,0) -> 13.528754 | H25: =[1]ProEmp!P76 -> 5.8115347 | I25: =[1]ProEmp!Q76 -> 61723.765 | J25: =IF(ISNUMBER(I25/$B25*100),I25/$B25*100,0) -> 78.796983 | K25: =[1]ProEmp!R76 -> 5.0097148 | L25: =[1]ProEmp!S76 -> 0 | M25: =IF(ISNUMBER(L25/$B25*100),L25/$B25*100,0) -> 0 | N25: =[1]ProEmp!T76 -> . | O25: =[1]ProEmp!U76 -> 2166.6707 | P25: =IF(ISNUMBER(O25/$B25*100),O25/$B25*100,0) -> 2.7659867 | Q25: =[1]ProEmp!V76 -> 10.598459
A26: De 55 a 59 años | B26: =SUM(C26,F26,I26,L26,O26) -> 62159.46 | C26: =[1]ProEmp!M77 -> 3056.9582 | D26: =IF(ISNUMBER(C26/$B26*100),C26/$B26*100,0) -> 4.9179291 | E26: =[1]ProEmp!N77 -> 6.9018162 | F26: =[1]ProEmp!O77 -> 6501.755 | G26: =IF(ISNUMBER(F26/$B26*100),F26/$B26*100,0) -> 10.4598 | H26: =[1]ProEmp!P77 -> 8.0507634 | I26: =[1]ProEmp!Q77 -> 51676.179 | J26: =IF(ISNUMBER(I26/$B26*100),I26/$B26*100,0) -> 83.134858 | K26: =[1]ProEmp!R77 -> 4.0442845 | L26: =[1]ProEmp!S77 -> 238.88986 | M26: =IF(ISNUMBER(L26/$B26*100),L26/$B26*100,0) -> 0.38431778 | N26: =[1]ProEmp!T77 -> 18 | O26: =[1]ProEmp!U77 -> 685.67801 | P26: =IF(ISNUMBER(O26/$B26*100),O26/$B26*100,0) -> 1.1030952 | Q26: =[1]ProEmp!V77 -> 9.4970349
A27: De 60 a 64 años | B27: =SUM(C27,F27,I27,L27,O27) -> 45939.937 | C27: =[1]ProEmp!M78 -> 654.22326 | D27: =IF(ISNUMBER(C27/$B27*100),C27/$B27*100,0) -> 1.4240839 | E27: =[1]ProEmp!N78 -> 6 | F27: =[1]ProEmp!O78 -> 5191.2032 | G27: =IF(ISNUMBER(F27/$B27*100),F27/$B27*100,0) -> 11.299979 | H27: =[1]ProEmp!P78 -> 7.1339872 | I27: =[1]ProEmp!Q78 -> 38362.628 | J27: =IF(ISNUMBER(I27/$B27*100),I27/$B27*100,0) -> 83.506053 | K27: =[1]ProEmp!R78 -> 4.1775636 | L27: =[1]ProEmp!S78 -> 873.57277 | M27: =IF(ISNUMBER(L27/$B27*100),L27/$B27*100,0) -> 1.9015542 | N27: =[1]ProEmp!T78 -> 4.8021582 | O27: =[1]ProEmp!U78 -> 858.30957 | P27: =IF(ISNUMBER(O27/$B27*100),O27/$B27*100,0) -> 1.8683299 | Q27: =[1]ProEmp!V78 -> 6.8223556
A28: De 65 años y más | B28: =SUM(C28,F28,I28,L28,O28) -> 66977.744 | C28: =[1]ProEmp!M79 -> 635.4324 | D28: =IF(ISNUMBER(C28/$B28*100),C28/$B28*100,0) -> 0.94872171 | E28: =[1]ProEmp!N79 -> 5.2398047 | F28: =[1]ProEmp!O79 -> 5959.3602 | G28: =IF(ISNUMBER(F28/$B28*100),F28/$B28*100,0) -> 8.897523 | H28: =[1]ProEmp!P79 -> 5.7908262 | I28: =[1]ProEmp!Q79 -> 58763.442 | J28: =IF(ISNUMBER(I28/$B28*100),I28/$B28*100,0) -> 87.735774 | K28: =[1]ProEmp!R79 -> 3.6808459 | L28: =[1]ProEmp!S79 -> 0 | M28: =IF(ISNUMBER(L28/$B28*100),L28/$B28*100,0) -> 0 | N28: =[1]ProEmp!T79 -> . | O28: =[1]ProEmp!U79 -> 1619.5092 | P28: =IF(ISNUMBER(O28/$B28*100),O28/$B28*100,0) -> 2.4179812 | Q28: =[1]ProEmp!V79 -> 8.3898402
A30: ='C01'!$A$31 -> Fuente: Instituto Nacional de Estadística (INE). XLI Encuesta Permanente de Hogares de Propósitos Múltiples, Mayo 2011.
A31: AEP: Años de Estudio Promedio
A32: 2/ Porcentaje por filas
A34: =A1 -> Cuadro No. 4. Población con problemas de empleo y Años de Estudio Promedio (AEP), según dominio, rama de actividad y ocupación
A35: Hombres
A36: ....... Continuación
A37: =A3 -> Categorías | B37: Total | C37: Desocupados | F37: Subempleo Visible | I37: Subempleo Invisible | L37: Potencialmente Activos | O37: Desalentados
C38: No. | D38: % 2/ | E38: AEP | F38: No. | G38: % 2/ | H38: AEP | I38: No. | J38: % 2/ | K38: AEP | L38: No. | M38: % 2/ | N38: AEP | O38: No. | P38: % 2/ | Q38: AEP
A40: =A6 -> Total Nacional | B40: =B6 -> 1154948.4 | C40: =C6 -> 71466.141 | D40: =D6 -> 6.187821 | E40: =E6 -> 8.9597707 | F40: =F6 -> 173722.45 | G40: =G6 -> 15.041577 | H40: =H6 -> 6.7236773 | ... Q40: =Q6 -> 7.7359564
A42: Rama de Actividad
A43: Agricultura, Silvicultura, Caza y Pesca | B43: =SUM(C43,F43,I43,L43,O43) -> 579542.25 | C43: =[1]ProEmp!M81 -> 6769.7171 | D43: =IF(ISNUMBER(C43/$B43*100),C43/$B43*100,0) -> 1.1681145 | E43: =[1]ProEmp!N81 -> 7.5092283 | F43: =[1]ProEmp!O81 -> 87637.565 | G43: =IF(ISNUMBER(F43/$B43*100),F43/$B43*100,0) -> 15.12186 | H43: =[1]ProEmp!P81 -> 5.4651799 | I43: =[1]ProEmp!Q81 -> 480167.27 | J43: =IF(ISNUMBER(I43/$B43*100),I43/$B43*100,0) -> 82.85285 | K43: =[1]ProEmp!R81 -> 4.7621044 | L43: =[1]ProEmp!S81 -> 2400.1176 | M43: =IF(ISNUMBER(L43/$B43*100),L43/$B43*100,0) -> 0.41414022 | N43: =[1]ProEmp!T81 -> 4.6519638 | O43: =[1]ProEmp!U81 -> 2567.5808 | P43: =IF(ISNUMBER(O43/$B43*100),O43/$B43*100,0) -> 0.443036 | Q43: =[1]ProEmp!V81 -> 4.4571477
A44: Explotación de minas y canteras | B44: =SUM(C44,F44,I44,L44,O44) -> 4899.951 | C44: =[1]ProEmp!M82 -> 167.46323 | D44: =IF(ISNUMBER(C44/$B44*100),C44/$B44*100,0) -> 3.4176512 | E44: =[1]ProEmp!N82 -> 6 | F44: =[1]ProEmp!O82 -> 1121.4558 | G44: =IF(ISNUMBER(F44/$B44*100),F44/$B44*100,0) -> 22.887082 | H44: =[1]ProEmp!P82 -> 7.5238095 | I44: =[1]ProEmp!Q82 -> 3443.5687 | J44: =IF(ISNUMBER(I44/$B44*100),I44/$B44*100,0) -> 70.277616 | K44: =[1]ProEmp!R82 -> 4.671487 | L44: =[1]ProEmp!S82 -> 0 | M44: =IF(ISNUMBER(L44/$B44*100),L44/$B44*100,0) -> 0 | N44: =[1]ProEmp!T82 -> . | O44: =[1]ProEmp!U82 -> 167.46323 | P44: =IF(ISNUMBER(O44/$B44*100),O44/$B44*100,0) -> 3.4176512 | Q44: =[1]ProEmp!V82 -> 9
A45: Industria manufacturera | B45: =SUM(C45,F45,I45,L45,O45) -> 83868.304 | C45: =[1]ProEmp!M83 -> 8469.041 | D45: =IF(ISNUMBER(C45/$B45*100),C45/$B45*100,0) -> 10.098023 | E45: =[1]ProEmp!N83 -> 8.8163734 | F45: =[1]ProEmp!O83 -> 13156.186 | G45: =IF(ISNUMBER(F45/$B45*100),F45/$B45*100,0) -> 15.686721 | H45: =[1]ProEmp!P83 -> 7.2914343 | I45: =[1]ProEmp!Q83 -> 57090.178 | J45: =IF(ISNUMBER(I45/$B45*100),I45/$B45*100,0) -> 68.07122 | K45: =[1]ProEmp!R83 -> 6.8070789 | L45: =[1]ProEmp!S83 -> 1824.1661 | M45: =IF(ISNUMBER(L45/$B45*100),L45/$B45*100,0) -> 2.1750363 | N45: =[1]ProEmp!T83 -> 7.8606163 | O45: =[1]ProEmp!U83 -> 3328.7329 | P45: =IF(ISNUMBER(O45/$B45*100),O45/$B45*100,0) -> 3.9689999 | Q45: =[1]ProEmp!V83 -> 9.6802935
A46: Electricidad, gas y agua | B46: =SUM(C46,F46,I46,L46,O46) -> 1290.8305 | C46: =[1]ProEmp!M84 -> 1017.7671 | D46: =IF(ISNUMBER(C46/$B46*100),C46/$B46*100,0) -> 78.845913 | E46: =[1]ProEmp!N84 -> 7.8730487 | F46: =[1]ProEmp!O84 -> 0 | G46: =IF(ISNUMBER(F46/$B46*100),F46/$B46*100,0) -> 0 | H46: =[1]ProEmp!P84 -> . | I46: =[1]ProEmp!Q84 -> 273.06341 | J46: =IF(ISNUMBER(I46/$B46*100),I46/$B46*100,0) -> 21.154087 | K46: =[1]ProEmp!R84 -> 17 | L46: =[1]ProEmp!S84 -> 0 | M46: =IF(ISNUMBER(L46/$B46*100),L46/$B46*100,0) -> 0 | N46: =[1]ProEmp!T84 -> . | O46: =[1]ProEmp!U84 -> 0 | P46: =IF(ISNUMBER(O46/$B46*100),O46/$B46*100,0) -> 0 | Q46: =[1]ProEmp!V84 -> .
A47: Construcción | B47: =SUM(C47,F47,I47,L47,O47) -> 134555.9 | C47: =[1]ProEmp!M85 -> 13258.057 | D47: =IF(ISNUMBER(C47/$B47*100),C47/$B47*100,0) -> 9.8531965 | E47: =[1]ProEmp!N85 -> 6.0145666 | F47: =[1]ProEmp!O85 -> 14858.647 | G47: =IF(ISNUMBER(F47/$B47*100),F47/$B47*100,0) -> 11.042732 | H47: =[1]ProEmp!P85 -> 6.7190637 | I47: =[1]ProEmp!Q85 -> 99459.006 | J47: =IF(ISNUMBER(I47/$B47*100),I47/$B47*100,0) -> 73.916496 | K47: =[1]ProEmp!R85 -> 6.2073224 | L47: =[1]ProEmp!S85 -> 1971.7852 | M47: =IF(ISNUMBER(L47/$B47*100),L47/$B47*100,0) -> 1.4654022 | N47: =[1]ProEmp!T85 -> 6.9627958 | O47: =[1]ProEmp!U85 -> 5008.4037 | P47: =IF(ISNUMBER(O47/$B47*100),O47/$B47*100,0) -> 3.7221733 | Q47: =[1]ProEmp!V85 -> 5.4495022
A48: Comercio por Mayor / menor, Hoteles / restaurantes | B48: =SUM(C48,F48,I48,L48,O48) -> 175675.8 | C48: =[1]ProEmp!M86 -> 12205.348 | D48: =IF(ISNUMBER(C48/$B48*100),C48/$B48*100,0) -> 6.947655 | E48: =[1]ProEmp!N86 -> 8.3374933 | F48: =[1]ProEmp!O86 -> 27566.202 | G48: =IF(ISNUMBER(F48/$B48*100),F48/$B48*100,0) -> 15.691519 | H48: =[1]ProEmp!P86 -> 7.4950112 | I48: =[1]ProEmp!Q86 -> 128777.95 | J48: =IF(ISNUMBER(I48/$B48*100),I48/$B48*100,0) -> 73.304319 | K48: =[1]ProEmp!R86 -> 7.5126912 | L48: =[1]ProEmp!S86 -> 2053.8169 | M48: =IF(ISNUMBER(L48/$B48*100),L48/$B48*100,0) -> 1.169095 | N48: =[1]ProEmp!T86 -> 8.7540956 | O48: =[1]ProEmp!U86 -> 5072.4824 | P48: =IF(ISNUMBER(O48/$B48*100),O48/$B48*100,0) -> 2.8874111 | Q48: =[1]ProEmp!V86 -> 9.8260929
A49: Transp. almac. y comunicaciones | B49: =SUM(C49,F49,I49,L49,O49) -> 45199.8 | C49: =[1]ProEmp!M87 -> 4483.564 | D49: =IF(ISNUMBER(C49/$B49*100),C49/$B49*100,0) -> 9.9194332 | E49: =[1]ProEmp!N87 -> 8.2774494 | F49: =[1]ProEmp!O87 -> 7684.9187 | G49: =IF(ISNUMBER(F49/$B49*100),F49/$B49*100,0) -> 17.002108 | H49: =[1]ProEmp!P87 -> 6.7256426 | I49: =[1]ProEmp!Q87 -> 31694.436 | J49: =IF(ISNUMBER(I49/$B49*100),I49/$B49*100,0) -> 70.120743 | K49: =[1]ProEmp!R87 -> 6.9258215 | L49: =[1]ProEmp!S87 -> 295.64814 | M49: =IF(ISNUMBER(L49/$B49*100),L49/$B49*100,0) -> 0.6540917 | N49: =[1]ProEmp!T87 -> 12 | O49: =[1]ProEmp!U87 -> 1041.2337 | P49: =IF(ISNUMBER(O49/$B49*100),O49/$B49*100,0) -> 2.3036245 | Q49: =[1]ProEmp!V87 -> 7.3689595
A50: Estab. finac. seguros, Bienes inmuebles y servicios | B50: =SUM(C50,F50,I50,L50,O50) -> 27838.893 | C50: =[1]ProEmp!M88 -> 3924.2171 | D50: =IF(ISNUMBER(C50/$B50*100),C50/$B50*100,0) -> 14.096168 | E50: =[1]ProEmp!N88 -> 10.626708 | F50: =[1]ProEmp!O88 -> 5645.5034 | G50: =IF(ISNUMBER(F50/$B50*100),F50/$B50*100,0) -> 20.279195 | H50: =[1]ProEmp!P88 -> 9.878261 | I50: =[1]ProEmp!Q88 -> 16821.916 | J50: =IF(ISNUMBER(I50/$B50*100),I50/$B50*100,0) -> 60.425949 | K50: =[1]ProEmp!R88 -> 8.0845108 | L50: =[1]ProEmp!S88 -> 1219.7046 | M50: =IF(ISNUMBER(L50/$B50*100),L50/$B50*100,0) -> 4.3812969 | N50: =[1]ProEmp!T88 -> 9.9103694 | O50: =[1]ProEmp!U88 -> 227.55284 | P50: =IF(ISNUMBER(O50/$B50*100),O50/$B50*100,0) -> 0.81739184 | Q50: =[1]ProEmp!V88 -> 13
A51: Servicios Comunales, Sociales y Personales | B51: =SUM(C51,F51,I51,L51,O51) -> 56336.762 | C51: =[1]ProEmp!M89 -> 5818.247 | D51: =IF(ISNUMBER(C51/$B51*100),C51/$B51*100,0) -> 10.327621 | E51: =[1]ProEmp!N89 -> 11.587439 | F51: =[1]ProEmp!O89 -> 16051.971 | G51: =IF(ISNUMBER(F51/$B51*100),F51/$B51*100,0) -> 28.49289 | H51: =[1]ProEmp!P89 -> 10.325612 | I51: =[1]ProEmp!Q89 -> 31859.415 | J51: =IF(ISNUMBER(I51/$B51*100),I51/$B51*100,0) -> 56.551733 | K51: =[1]ProEmp!R89 -> 6.7401861 | L51: =[1]ProEmp!S89 -> 693.99554 | M51: =IF(ISNUMBER(L51/$B51*100),L51/$B51*100,0) -> 1.2318698 | N51: =[1]ProEmp!T89 -> 12.098015 | O51: =[1]ProEmp!U89 -> 1913.133 | P51: =IF(ISNUMBER(O51/$B51*100),O51/$B51*100,0) -> 3.3958874 | Q51: =[1]ProEmp!V89 -> 11.392708
A52: No sabe, No responde | B52: =SUM(C52,F52,I52,L52,O52) -> 889.58221 | C52: =[1]ProEmp!M90 -> 622.56892 | D52: =IF(ISNUMBER(C52/$B52*100),C52/$B52*100,0) -> 69.984417 | E52: =[1]ProEmp!N90 -> 11.634494 | F52: =[1]ProEmp!O90 -> 0 | G52: =IF(ISNUMBER(F52/$B52*100),F52/$B52*100,0) -> 0 | H52: =[1]ProEmp!P90 -> . | I52: =[1]ProEmp!Q90 -> 267.01328 | J52: =IF(ISNUMBER(I52/$B52*100),I52/$B52*100,0) -> 30.015583 | K52: =[1]ProEmp!R90 -> 6 | L52: =[1]ProEmp!S90 -> 0 | M52: =IF(ISNUMBER(L52/$B52*100),L52/$B52*100,0) -> 0 | N52: =[1]ProEmp!T90 -> . | O52: =[1]ProEmp!U90 -> 0 | P52: =IF(ISNUMBER(O52/$B52*100),O52/$B52*100,0) -> 0 | Q52: =[1]ProEmp!V90 -> .
A53: Busca Trabajo por Primera Vez | B53: =SUM(C53,F53,I53,L53,O53) -> 44850.347 | C53: =[1]ProEmp!M91 -> 14730.15 | D53: =IF(ISNUMBER(C53/$B53*100),C53/$B53*100,0) -> 32.842889 | E53: =[1]ProEmp!N91 -> 11.290253 | F53: =[1]ProEmp!O91 -> 0 | G53: =IF(ISNUMBER(F53/$B53*100),F53/$B53*100,0) -> 0 | H53: =[1]ProEmp!P91 -> . | I53: =[1]ProEmp!Q91 -> 0 | J53: =IF(ISNUMBER(I53/$B53*100),I53/$B53*100,0) -> 0 | K53: =[1]ProEmp!R91 -> . | L53: =[1]ProEmp!S91 -> 3778.569 | M53: =IF(ISNUMBER(L53/$B53*100),L53/$B53*100,0) -> 8.4248379 | N53: =[1]ProEmp!T91 -> 8.3459758 | O53: =[1]ProEmp!U91 -> 26341.628 | P53: =IF(ISNUMBER(O53/$B53*100),O53/$B53*100,0) -> 58.732273 | Q53: =[1]ProEmp!V91 -> 7.4561493
A55: Ocupación
A56: Profesionales, Técnicos y PEOA | B56: =SUM(C56,F56,I56,L56,O56) -> 31648.052 | C56: =[1]ProEmp!M93 -> 6534.173 | D56: =IF(ISNUMBER(C56/$B56*100),C56/$B56*100,0) -> 20.646367 | E56: =[1]ProEmp!N93 -> 13.179399 | F56: =[1]ProEmp!O93 -> 11449.129 | G56: =IF(ISNUMBER(F56/$B56*100),F56/$B56*100,0) -> 36.17641 | H56: =[1]ProEmp!P93 -> 12.123314 | I56: =[1]ProEmp!Q93 -> 10990.038 | J56: =IF(ISNUMBER(I56/$B56*100),I56/$B56*100,0) -> 34.725795 | K56: =[1]ProEmp!R93 -> 11.023116 | L56: =[1]ProEmp!S93 -> 227.55284 | M56: =IF(ISNUMBER(L56/$B56*100),L56/$B56*100,0) -> 0.71901058 | N56: =[1]ProEmp!T93 -> 12 | O56: =[1]ProEmp!U93 -> 2447.1596 | P56: =IF(ISNUMBER(O56/$B56*100),O56/$B56*100,0) -> 7.7324177 | Q56: =[1]ProEmp!V93 -> 11.53882
A57: Directores Gerentes y Administ. Grales. | B57: =SUM(C57,F57,I57,L57,O57) -> 27059.515 | C57: =[1]ProEmp!M94 -> 3164.8455 | D57: =IF(ISNUMBER(C57/$B57*100),C57/$B57*100,0) -> 11.695869 | E57: =[1]ProEmp!N94 -> 11.914683 | F57: =[1]ProEmp!O94 -> 4434.1777 | G57: =IF(ISNUMBER(F57/$B57*100),F57/$B57*100,0) -> 16.38676 | H57: =[1]ProEmp!P94 -> 8.7201899 | I57: =[1]ProEmp!Q94 -> 18530.938 | J57: =IF(ISNUMBER(I57/$B57*100),I57/$B57*100,0) -> 68.482151 | K57: =[1]ProEmp!R94 -> 8.9929557 | L57: =[1]ProEmp!S94 -> 762.09084 | M57: =IF(ISNUMBER(L57/$B57*100),L57/$B57*100,0) -> 2.8163507 | N57: =[1]ProEmp!T94 -> 13.314148 | O57: =[1]ProEmp!U94 -> 167.46323 | P57: =IF(ISNUMBER(O57/$B57*100),O57/$B57*100,0) -> 0.61887004 | Q57: =[1]ProEmp!V94 -> 17
A58: Empleados de Oficina | B58: =SUM(C58,F58,I58,L58,O58) -> 10758.311 | C58: =[1]ProEmp!M95 -> 1363.6575 | D58: =IF(ISNUMBER(C58/$B58*100),C58/$B58*100,0) -> 12.675386 | E58: =[1]ProEmp!N95 -> 10.446655 | F58: =[1]ProEmp!O95 -> 1444.0403 | G58: =IF(ISNUMBER(F58/$B58*100),F58/$B58*100,0) -> 13.422556 | H58: =[1]ProEmp!P95 -> 7.4182261 | I58: =[1]ProEmp!Q95 -> 7368.2824 | J58: =IF(ISNUMBER(I58/$B58*100),I58/$B58*100,0) -> 68.489213 | K58: =[1]ProEmp!R95 -> 8.828395 | L58: =[1]ProEmp!S95 -> 0 | M58: =IF(ISNUMBER(L58/$B58*100),L58/$B58*100,0) -> 0 | N58: =[1]ProEmp!T95 -> . | O58: =[1]ProEmp!U95 -> 582.33061 | P58: =IF(ISNUMBER(O58/$B58*100),O58/$B58*100,0) -> 5.4128443 | Q58: =[1]ProEmp!V95 -> 9.8277131
A59: Comerciantes y Vendedores | B59: =SUM(C59,F59,I59,L59,O59) -> 84517.881 | C59: =[1]ProEmp!M96 -> 6807.2783 | D59: =IF(ISNUMBER(C59/$B59*100),C59/$B59*100,0) -> 8.0542463 | E59: =[1]ProEmp!N96 -> 8.7527535 | F59: =[1]ProEmp!O96 -> 14581.798 | G59: =IF(ISNUMBER(F59/$B59*100),F59/$B59*100,0) -> 17.252915 | H59: =[1]ProEmp!P96 -> 7.3297422 | I59: =[1]ProEmp!Q96 -> 60071.685 | J59: =IF(ISNUMBER(I59/$B59*100),I59/$B59*100,0) -> 71.075711 | K59: =[1]ProEmp!R96 -> 7.2202915 | L59: =[1]ProEmp!S96 -> 458.12517 | M59: =IF(ISNUMBER(L59/$B59*100),L59/$B59*100,0) -> 0.54204526 | N59: =[1]ProEmp!T96 -> 8.9141958 | O59: =[1]ProEmp!U96 -> 2598.994 | P59: =IF(ISNUMBER(O59/$B59*100),O59/$B59*100,0) -> 3.0750819 | Q59: =[1]ProEmp!V96 -> 11.216965
A60: Agricultores, Ganaderos y Trab. Agrop. | B60: =SUM(C60,F60,I60,L60,O60) -> 561754.21 | C60: =[1]ProEmp!M97 -> 5139.0025 | D60: =IF(ISNUMBER(C60/$B60*100),C60/$B60*100,0) -> 0.91481335 | E60: =[1]ProEmp!N97 -> 7.0627276 | F60: =[1]ProEmp!O97 -> 84398.747 | G60: =IF(ISNUMBER(F60/$B60*100),F60/$B60*100,0) -> 15.024142 | H60: =[1]ProEmp!P97 -> 5.4788422 | I60: =[1]ProEmp!Q97 -> 467683.24 | J60: =IF(ISNUMBER(I60/$B60*100),I60/$B60*100,0) -> 83.254069 | K60: =[1]ProEmp!R97 -> 4.7708264 | L60: =[1]ProEmp!S97 -> 2400.1176 | M60: =IF(ISNUMBER(L60/$B60*100),L60/$B60*100,0) -> 0.42725404 | N60: =[1]ProEmp!T97 -> 4.6519638 | O60: =[1]ProEmp!U97 -> 2133.1043 | P60: =IF(ISNUMBER(O60/$B60*100),O60/$B60*100,0) -> 0.37972199 | Q60: =[1]ProEmp!V97 -> 3.7389694
A61: Conductores de Transporte | B61: =SUM(C61,F61,I61,L61,O61) -> 35238.331 | C61: =[1]ProEmp!M98 -> 3478.0808 | D61: =IF(ISNUMBER(C61/$B61*100),C61/$B61*100,0) -> 9.8701631 | E61: =[1]ProEmp!N98 -> 6.3204431 | F61: =[1]ProEmp!O98 -> 5542.0505 | G61: =IF(ISNUMBER(F61/$B61*100),F61/$B61*100,0) -> 15.727335 | H61: =[1]ProEmp!P98 -> 6.6189759 | I61: =[1]ProEmp!Q98 -> 25328.618 | J61: =IF(ISNUMBER(I61/$B61*100),I61/$B61*100,0) -> 71.878028 | K61: =[1]ProEmp!R98 -> 7.077 | L61: =[1]ProEmp!S98 -> 455.10569 | M61: =IF(ISNUMBER(L61/$B61*100),L61/$B61*100,0) -> 1.2915075 | N61: =[1]ProEmp!T98 -> 10 | O61: =[1]ProEmp!U98 -> 434.47652 | P61: =IF(ISNUMBER(O61/$B61*100),O61/$B61*100,0) -> 1.2329656 | Q61: =[1]ProEmp!V98 -> 5.6145632
A62: Trab. Ind. Textil, Albañilería, Mecánica, etc. | B62: =SUM(C62,F62,I62,L62,O62) -> 229111.02 | C62: =[1]ProEmp!M99 -> 18019.104 | D62: =IF(ISNUMBER(C62/$B62*100),C62/$B62*100,0) -> 7.8647915 | E62: =[1]ProEmp!N99 -> 6.238066 | F62: =[1]ProEmp!O99 -> 31897.444 | G62: =IF(ISNUMBER(F62/$B62*100),F62/$B62*100,0) -> 13.922265 | H62: =[1]ProEmp!P99 -> 7.259667 | I62: =[1]ProEmp!Q99 -> 167844.95 | J62: =IF(ISNUMBER(I62/$B62*100),I62/$B62*100,0) -> 73.259222 | K62: =[1]ProEmp!R99 -> 6.6197268 | L62: =[1]ProEmp!S99 -> 3443.6127 | M62: =IF(ISNUMBER(L62/$B62*100),L62/$B62*100,0) -> 1.5030323 | N62: =[1]ProEmp!T99 -> 7.2816205 | O62: =[1]ProEmp!U99 -> 7905.9082 | P62: =IF(ISNUMBER(O62/$B62*100),O62/$B62*100,0) -> 3.4506887 | Q62: =[1]ProEmp!V99 -> 6.1945159
A63: Trab. Area Grafica, Quím., Alimentos, etc. | B63: =SUM(C63,F63,I63,L63,O63) -> 22698.975 | C63: =[1]ProEmp!M100 -> 1066.1769 | D63: =IF(ISNUMBER(C63/$B63*100),C63/$B63*100,0) -> 4.6970268 | E63: =[1]ProEmp!N100 -> 8.6941928 | F63: =[1]ProEmp!O100 -> 4490.6566 | G63: =IF(ISNUMBER(F63/$B63*100),F63/$B63*100,0) -> 19.783522 | H63: =[1]ProEmp!P100 -> 7.1668939 | I63: =[1]ProEmp!Q100 -> 16235.558 | J63: =IF(ISNUMBER(I63/$B63*100),I63/$B63*100,0) -> 71.525511 | K63: =[1]ProEmp!R100 -> 5.8097912 | L63: =[1]ProEmp!S100 -> 0 | M63: =IF(ISNUMBER(L63/$B63*100),L63/$B63*100,0) -> 0 | N63: =[1]ProEmp!T100 -> . | O63: =[1]ProEmp!U100 -> 906.58359 | P63: =IF(ISNUMBER(O63/$B63*100),O63/$B63*100,0) -> 3.9939407 | Q63: =[1]ProEmp!V100 -> 11.445843
A64: Operador de Carga y Almacenaje | B64: =SUM(C64,F64,I64,L64,O64) -> 28872.145 | C64: =[1]ProEmp!M101 -> 4123.4271 | D64: =IF(ISNUMBER(C64/$B64*100),C64/$B64*100,0) -> 14.281679 | E64: =[1]ProEmp!N101 -> 8.1561662 | F64: =[1]ProEmp!O101 -> 3267.6262 | G64: =IF(ISNUMBER(F64/$B64*100),F64/$B64*100,0) -> 11.317573 | H64: =[1]ProEmp!P101 -> 5.7509999 | I64: =[1]ProEmp!Q101 -> 19738.566 | J64: =IF(ISNUMBER(I64/$B64*100),I64/$B64*100,0) -> 68.365429 | K64: =[1]ProEmp!R101 -> 7.00876 | L64: =[1]ProEmp!S101 -> 1088.3026 | M64: =IF(ISNUMBER(L64/$B64*100),L64/$B64*100,0) -> 3.7693859 | N64: =[1]ProEmp!T101 -> 8.2698405 | O64: =[1]ProEmp!U101 -> 654.22326 | P64: =IF(ISNUMBER(O64/$B64*100),O64/$B64*100,0) -> 2.2659323 | Q64: =[1]ProEmp!V101 -> 12.843776
A65: Ocupación de los Servicios | B65: =SUM(C65,F65,I65,L65,O65) -> 60443.973 | C65: =[1]ProEmp!M102 -> 4898.2972 | D65: =IF(ISNUMBER(C65/$B65*100),C65/$B65*100,0) -> 8.1038638 | E65: =[1]ProEmp!N102 -> 6.9682236 | F65: =[1]ProEmp!O102 -> 8121.0674 | G65: =IF(ISNUMBER(F65/$B65*100),F65/$B65*100,0) -> 13.435694 | H65: =[1]ProEmp!P102 -> 7.043247 | I65: =[1]ProEmp!Q102 -> 44686.166 | J65: =IF(ISNUMBER(I65/$B65*100),I65/$B65*100,0) -> 73.929896 | K65: =[1]ProEmp!R102 -> 5.3899187 | L65: =[1]ProEmp!S102 -> 1433.2147 | M65: =IF(ISNUMBER(L65/$B65*100),L65/$B65*100,0) -> 2.3711458 | N65: =[1]ProEmp!T102 -> 8.4284736 | O65: =[1]ProEmp!U102 -> 1305.2275 | P65: =IF(ISNUMBER(O65/$B65*100),O65/$B65*100,0) -> 2.1594005 | Q65: =[1]ProEmp!V102 -> 6.9539623
A66: No sabe, No responde | B66: =SUM(C66,F66,I66,L66,O66) -> 17995.652 | C66: =[1]ProEmp!M103 -> 2141.9479 | D66: =IF(ISNUMBER(C66/$B66*100),C66/$B66*100,0) -> 11.902586 | E66: =[1]ProEmp!N103 -> 9.9755418 | F66: =[1]ProEmp!O103 -> 4095.7125 | G66: =IF(ISNUMBER(F66/$B66*100),F66/$B66*100,0) -> 22.759457 | H66: =[1]ProEmp!P103 -> 5.4999784 | I66: =[1]ProEmp!Q103 -> 11375.768 | J66: =IF(ISNUMBER(I66/$B66*100),I66/$B66*100,0) -> 63.213979 | K66: =[1]ProEmp!R103 -> 7.108418 | L66: =[1]ProEmp!S103 -> 191.11188 | M66: =IF(ISNUMBER(L66/$B66*100),L66/$B66*100,0) -> 1.0619892 | N66: =[1]ProEmp!T103 -> 13 | O66: =[1]ProEmp!U103 -> 191.11188 | P66: =IF(ISNUMBER(O66/$B66*100),O66/$B66*100,0) -> 1.0619892 | Q66: =[1]ProEmp!V103 -> 6
A67: Busca Trabajo por Primera Vez | B67: =SUM(C67,F67,I67,L67,O67) -> 44850.347 | C67: =[1]ProEmp!M104 -> 14730.15 | D67: =IF(ISNUMBER(C67/$B67*100),C67/$B67*100,0) -> 32.842889 | E67: =[1]ProEmp!N104 -> 11.290253 | F67: =[1]ProEmp!O104 -> 0 | G67: =IF(ISNUMBER(F67/$B67*100),F67/$B67*100,0) -> 0 | H67: =[1]ProEmp!P104 -> . | I67: =[1]ProEmp!Q104 -> 0 | J67: =IF(ISNUMBER(I67/$B67*100),I67/$B67*100,0) -> 0 | K67: =[1]ProEmp!R104 -> . | L67: =[1]ProEmp!S104 -> 3778.569 | M67: =IF(ISNUMBER(L67/$B67*100),L67/$B67*100,0) -> 8.4248379 | N67: =[1]ProEmp!T104 -> 8.3459758 | O67: =[1]ProEmp!U104 -> 26341.628 | P67: =IF(ISNUMBER(O67/$B67*100),O67/$B67*100,0) -> 58.732273 | Q67: =[1]ProEmp!V104 -> 7.4561493
A69: =A30 -> Fuente: Instituto Nacional de Estadística (INE). XLI Encuesta Permanente de Hogares de Propósitos Múltiples, Mayo 2011.
A70: AEP: Años de Estudio Promedio
A71: 2/ Porcentaje por filas

Sheet C06
A1: Cuadro No. 4. Población con problemas de empleo y Años de Estudio Promedio (AEP), según dominio, rama de actividad y ocupación
A2: Mujeres
A3: Categorías | B3: Total | C3: Desocupados | F3: Subempleo Visible | I3: Subempleo Invisible | L3: Potencialmente Activos | O3: Desalentados
C4: No. | D4: % 1/ | E4: AEP | F4: No. | G4: % 1/ | H4: AEP | I4: No. | J4: % 1/ | K4: AEP | L4: No. | M4: % 1/ | N4: AEP | O4: No. | P4: % 1/ | Q4: AEP
A6: Total Nacional | B6: =+B9+B13 -> 699084.88 | C6: =[1]ProEmp!W61 -> 72317.252 | D6: =IF(ISNUMBER(C6/$B6*100),C6/$B6*100,0) -> 10.34456 | E6: =[1]ProEmp!X61 -> 10.061796 | F6: =[1]ProEmp!Y61 -> 160246.71 | G6: =IF(ISNUMBER(F6/$B6*100),F6/$B6*100,0) -> 22.922354 | H6: =[1]ProEmp!Z61 -> 7.8985978 | I6: =[1]ProEmp!AA61 -> 321121 | J6: =IF(ISNUMBER(I6/$B6*100),I6/$B6*100,0) -> 45.934479 | K6: =[1]ProEmp!AB61 -> 7.0938933 | L6: =[1]ProEmp!AC61 -> 29892.038 | M6: =IF(ISNUMBER(L6/$B6*100),L6/$B6*100,0) -> 4.2758811 | N6: =[1]ProEmp!AD61 -> 7.8536438 | O6: =[1]ProEmp!AE61 -> 115507.88 | P6: =IF(ISNUMBER(O6/$B6*100),O6/$B6*100,0) -> 16.522727 | Q6: =[1]ProEmp!AF61 -> 7.1295678
A8: Dominio
A9: Urbano | B9: =SUM(C9,F9,I9,L9,O9) -> 381579.38 | C9: =SUM(C10:C12) -> 54400.661 | D9: =IF(ISNUMBER(C9/$B9*100),C9/$B9*100,0) -> 14.256709 | E9: =AVERAGE(E10:E12) -> 10.43221 | F9: =SUM(F10:F12) -> 84975.665 | G9: =IF(ISNUMBER(F9/$B9*100),F9/$B9*100,0) -> 22.269459 | H9: =AVERAGE(H10:H12) -> 8.8663198 | I9: =SUM(I10:I12) -> 186386.09 | J9: =IF(ISNUMBER(I9/$B9*100),I9/$B9*100,0) -> 48.845955 | K9: =AVERAGE(K10:K12) -> 7.7866736 | L9: =SUM(L10:L12) -> 10293.263 | M9: =IF(ISNUMBER(L9/$B9*100),L9/$B9*100,0) -> 2.6975418 | N9: =AVERAGE(N10:N12) -> 11.147079 | O9: =SUM(O10:O12) -> 45523.701 | P9: =IF(ISNUMBER(O9/$B9*100),O9/$B9*100,0) -> 11.930336 | Q9: =AVERAGE(Q10:Q12) -> 8.5909426
A10: Distrito Central | B10: =SUM(C10,F10,I10,L10,O10) -> 114709.39 | C10: =[1]ProEmp!W62 -> 22504.976 | D10: =IF(ISNUMBER(C10/$B10*100),C10/$B10*100,0) -> 19.619123 | E10: =[1]ProEmp!X62 -> 11.369765 | F10: =[1]ProEmp!Y62 -> 29650.136 | G10: =IF(ISNUMBER(F10/$B10*100),F10/$B10*100,0) -> 25.848046 | H10: =[1]ProEmp!Z62 -> 8.985962 | I10: =[1]ProEmp!AA62 -> 41824.213 | J10: =IF(ISNUMBER(I10/$B10*100),I10/$B10*100,0) -> 36.46102 | K10: =[1]ProEmp!AB62 -> 8 | L10: =[1]ProEmp!AC62 -> 4733.0992 | M10: =IF(ISNUMBER(L10/$B10*100),L10/$B10*100,0) -> 4.1261654 | N10: =[1]ProEmp!AD62 -> 11.329787 | O10: =[1]ProEmp!AE62 -> 15996.965 | P10: =IF(ISNUMBER(O10/$B10*100),O10/$B10*100,0) -> 13.945646 | Q10: =[1]ProEmp!AF62 -> 8.9457237
A11: San Pedro Sula | B11: =SUM(C11,F11,I11,L11,O11) -> 54498.739 | C11: =[1]ProEmp!W63 -> 5287.4288 | D11: =IF(ISNUMBER(C11/$B11*100),C11/$B11*100,0) -> 9.7019287 | E11: =[1]ProEmp!X63 -> 9.6054217 | F11: =[1]ProEmp!Y63 -> 12294.865 | G11: =IF(ISNUMBER(F11/$B11*100),F11/$B11*100,0) -> 22.559906 | H11: =[1]ProEmp!Z63 -> 8.8018494 | I11: =[1]ProEmp!AA63 -> 27790.853 | J11: =IF(ISNUMBER(I11/$B11*100),I11/$B11*100,0) -> 50.993571 | K11: =[1]ProEmp!AB63 -> 7.6911942 | L11: =[1]ProEmp!AC63 -> 1863.3409 | M11: =IF(ISNUMBER(L11/$B11*100),L11/$B11*100,0) -> 3.4190532 | N11: =[1]ProEmp!AD63 -> 10.162393 | O11: =[1]ProEmp!AE63 -> 7262.2516 | P11: =IF(ISNUMBER(O11/$B11*100),O11/$B11*100,0) -> 13.325541 | Q11: =[1]ProEmp!AF63 -> 8.143617
A12: Resto urbano | B12: =SUM(C12,F12,I12,L12,O12) -> 212371.25 | C12: =[1]ProEmp!W64 -> 26608.256 | D12: =IF(ISNUMBER(C12/$B12*100),C12/$B12*100,0) -> 12.529123 | E12: =[1]ProEmp!X64 -> 10.321442 | F12: =[1]ProEmp!Y64 -> 43030.665 | G12: =IF(ISNUMBER(F12/$B12*100),F12/$B12*100,0) -> 20.262001 | H12: =[1]ProEmp!Z64 -> 8.811148 | I12: =[1]ProEmp!AA64 -> 116771.03 | J12: =IF(ISNUMBER(I12/$B12*100),I12/$B12*100,0) -> 54.984384 | K12: =[1]ProEmp!AB64 -> 7.6688266 | L12: =[1]ProEmp!AC64 -> 3696.8232 | M12: =IF(ISNUMBER(L12/$B12*100),L12/$B12*100,0) -> 1.7407362 | N12: =[1]ProEmp!AD64 -> 11.949058 | O12: =[1]ProEmp!AE64 -> 22264.484 | P12: =IF(ISNUMBER(O12/$B12*100),O12/$B12*100,0) -> 10.483756 | Q12: =[1]ProEmp!AF64 -> 8.6834872
A13: Rural | B13: =SUM(C13,F13,I13,L13,O13) -> 317505.5 | C13: =[1]ProEmp!W65 -> 17916.591 | D13: =IF(ISNUMBER(C13/$B13*100),C13/$B13*100,0) -> 5.6429232 | E13: =[1]ProEmp!X65 -> 8.0386473 | F13: =[1]ProEmp!Y65 -> 75271.045 | G13: =IF(ISNUMBER(F13/$B13*100),F13/$B13*100,0) -> 23.707005 | H13: =[1]ProEmp!Z65 -> 6.7337898 | I13: =[1]ProEmp!AA65 -> 134734.9 | J13: =IF(ISNUMBER(I13/$B13*100),I13/$B13*100,0) -> 42.435455 | K13: =[1]ProEmp!AB65 -> 6.1068277 | L13: =[1]ProEmp!AC65 -> 19598.775 | M13: =IF(ISNUMBER(L13/$B13*100),L13/$B13*100,0) -> 6.1727357 | N13: =[1]ProEmp!AD65 -> 5.6902357 | O13: =[1]ProEmp!AE65 -> 69984.182 | P13: =IF(ISNUMBER(O13/$B13*100),O13/$B13*100,0) -> 22.04188 | Q13: =[1]ProEmp!AF65 -> 6.1207997
A15: Rango de Edad
A16: De 10 a 11 años | B16: =SUM(C16,F16,I16,L16,O16) -> 1869.093 | C16: =[1]ProEmp!W67 -> 0 | D16: =IF(ISNUMBER(C16/$B16*100),C16/$B16*100,0) -> 0 | E16: =[1]ProEmp!X67 -> . | F16: =[1]ProEmp!Y67 -> 267.01328 | G16: =IF(ISNUMBER(F16/$B16*100),F16/$B16*100,0) -> 14.285714 | H16: =[1]ProEmp!Z67 -> 5 | I16: =[1]ProEmp!AA67 -> 0 | J16: =IF(ISNUMBER(I16/$B16*100),I16/$B16*100,0) -> 0 | K16: =[1]ProEmp!AB67 -> . | L16: =[1]ProEmp!AC67 -> 801.03985 | M16: =IF(ISNUMBER(L16/$B16*100),L16/$B16*100,0) -> 42.857143 | N16: =[1]ProEmp!AD67 -> 3.6666667 | O16: =[1]ProEmp!AE67 -> 801.03985 | P16: =IF(ISNUMBER(O16/$B16*100),O16/$B16*100,0) -> 42.857143 | Q16: =[1]ProEmp!AF67 -> 3.3333333
A17: De 12 a 14 años | B17: =SUM(C17,F17,I17,L17,O17) -> 11583.875 | C17: =[1]ProEmp!W68 -> 0 | D17: =IF(ISNUMBER(C17/$B17*100),C17/$B17*100,0) -> 0 | E17: =[1]ProEmp!X68 -> . | F17: =[1]ProEmp!Y68 -> 1602.0797 | G17: =IF(ISNUMBER(F17/$B17*100),F17/$B17*100,0) -> 13.830258 | H17: =[1]ProEmp!Z68 -> 6.25 | I17: =[1]ProEmp!AA68 -> 3017.6838 | J17: =IF(ISNUMBER(I17/$B17*100),I17/$B17*100,0) -> 26.050729 | K17: =[1]ProEmp!AB68 -> 5.5688468 | L17: =[1]ProEmp!AC68 -> 801.03985 | M17: =IF(ISNUMBER(L17/$B17*100),L17/$B17*100,0) -> 6.9151288 | N17: =[1]ProEmp!AD68 -> 6.3333333 | O17: =[1]ProEmp!AE68 -> 6163.0713 | P17: =IF(ISNUMBER(O17/$B17*100),O17/$B17*100,0) -> 53.203885 | Q17: =[1]ProEmp!AF68 -> 5.2328432
A18: De 15 a 18 años | B18: =SUM(C18,F18,I18,L18,O18) -> 66229.626 | C18: =[1]ProEmp!W69 -> 7173.8151 | D18: =IF(ISNUMBER(C18/$B18*100),C18/$B18*100,0) -> 10.831731 | E18: =[1]ProEmp!X69 -> 10.412505 | F18: =[1]ProEmp!Y69 -> 10959.442 | G18: =IF(ISNUMBER(F18/$B18*100),F18/$B18*100,0) -> 16.547643 | H18: =[1]ProEmp!Z69 -> 8.4349798 | I18: =[1]ProEmp!AA69 -> 23895.715 | J18: =IF(ISNUMBER(I18/$B18*100),I18/$B18*100,0) -> 36.080099 | K18: =[1]ProEmp!AB69 -> 6.8129828 | L18: =[1]ProEmp!AC69 -> 3110.3483 | M18: =IF(ISNUMBER(L18/$B18*100),L18/$B18*100,0) -> 4.6963096 | N18: =[1]ProEmp!AD69 -> 6.3935834 | O18: =[1]ProEmp!AE69 -> 21090.306 | P18: =IF(ISNUMBER(O18/$B18*100),O18/$B18*100,0) -> 31.844217 | Q18: =[1]ProEmp!AF69 -> 6.8571463
A19: De 19 a 24 años | B19: =SUM(C19,F19,I19,L19,O19) -> 159011.5 | C19: =[1]ProEmp!W70 -> 31562.761 | D19: =IF(ISNUMBER(C19/$B19*100),C19/$B19*100,0) -> 19.849358 | E19: =[1]ProEmp!X70 -> 10.349853 | F19: =[1]ProEmp!Y70 -> 24041.838 | G19: =IF(ISNUMBER(F19/$B19*100),F19/$B19*100,0) -> 15.11956 | H19: =[1]ProEmp!Z70 -> 9.4809219 | I19: =[1]ProEmp!AA70 -> 63315.23 | J19: =IF(ISNUMBER(I19/$B19*100),I19/$B19*100,0) -> 39.818021 | K19: =[1]ProEmp!AB70 -> 8.9586347 | L19: =[1]ProEmp!AC70 -> 8421.0457 | M19: =IF(ISNUMBER(L19/$B19*100),L19/$B19*100,0) -> 5.2958722 | N19: =[1]ProEmp!AD70 -> 9.9768022 | O19: =[1]ProEmp!AE70 -> 31670.621 | P19: =IF(ISNUMBER(O19/$B19*100),O19/$B19*100,0) -> 19.917189 | Q19: =[1]ProEmp!AF70 -> 8.6501828
A20: De 25 a 29 años | B20: =SUM(C20,F20,I20,L20,O20) -> 89374.758 | C20: =[1]ProEmp!W71 -> 13740.644 | D20: =IF(ISNUMBER(C20/$B20*100),C20/$B20*100,0) -> 15.374189 | E20: =[1]ProEmp!X71 -> 10.865549 | F20: =[1]ProEmp!Y71 -> 20623.995 | G20: =IF(ISNUMBER(F20/$B20*100),F20/$B20*100,0) -> 23.075861 | H20: =[1]ProEmp!Z71 -> 9.2718589 | I20: =[1]ProEmp!AA71 -> 36805.362 | J20: =IF(ISNUMBER(I20/$B20*100),I20/$B20*100,0) -> 41.180936 | K20: =[1]ProEmp!AB71 -> 8.2834788 | L20: =[1]ProEmp!AC71 -> 5819.2085 | M20: =IF(ISNUMBER(L20/$B20*100),L20/$B20*100,0) -> 6.5110201 | N20: =[1]ProEmp!AD71 -> 9.5983732 | O20: =[1]ProEmp!AE71 -> 12385.549 | P20: =IF(ISNUMBER(O20/$B20*100),O20/$B20*100,0) -> 13.857995 | Q20: =[1]ProEmp!AF71 -> 8.4251018
A21: De 30 a 34 años | B21: =SUM(C21,F21,I21,L21,O21) -> 75368.798 | C21: =[1]ProEmp!W72 -> 8131.5105 | D21: =IF(ISNUMBER(C21/$B21*100),C21/$B21*100,0) -> 10.788961 | E21: =[1]ProEmp!X72 -> 10.945196 | F21: =[1]ProEmp!Y72 -> 19525.353 | G21: =IF(ISNUMBER(F21/$B21*100),F21/$B21*100,0) -> 25.906414 | H21: =[1]ProEmp!Z72 -> 7.6140376 | I21: =[1]ProEmp!AA72 -> 36044.432 | J21: =IF(ISNUMBER(I21/$B21*100),I21/$B21*100,0) -> 47.824076 | K21: =[1]ProEmp!AB72 -> 7.4727577 | L21: =[1]ProEmp!AC72 -> 3124.8588 | M21: =IF(ISNUMBER(L21/$B21*100),L21/$B21*100,0) -> 4.1460908 | N21: =[1]ProEmp!AD72 -> 6.1834725 | O21: =[1]ProEmp!AE72 -> 8542.6446 | P21: =IF(ISNUMBER(O21/$B21*100),O21/$B21*100,0) -> 11.334458 | Q21: =[1]ProEmp!AF72 -> 7.3710804
A22: De 35 a 39 años | B22: =SUM(C22,F22,I22,L22,O22) -> 70343.129 | C22: =[1]ProEmp!W73 -> 4722.986 | D22: =IF(ISNUMBER(C22/$B22*100),C22/$B22*100,0) -> 6.7142109 | E22: =[1]ProEmp!X73 -> 6.4988732 | F22: =[1]ProEmp!Y73 -> 23466.842 | G22: =IF(ISNUMBER(F22/$B22*100),F22/$B22*100,0) -> 33.360533 | H22: =[1]ProEmp!Z73 -> 6.9063076 | I22: =[1]ProEmp!AA73 -> 33472.608 | J22: =IF(ISNUMBER(I22/$B22*100),I22/$B22*100,0) -> 47.584759 | K22: =[1]ProEmp!AB73 -> 6.2979007 | L22: =[1]ProEmp!AC73 -> 2070.0489 | M22: =IF(ISNUMBER(L22/$B22*100),L22/$B22*100,0) -> 2.9427876 | N22: =[1]ProEmp!AD73 -> 4.9649071 | O22: =[1]ProEmp!AE73 -> 6610.6434 | P22: =IF(ISNUMBER(O22/$B22*100),O22/$B22*100,0) -> 9.3977102 | Q22: =[1]ProEmp!AF73 -> 6.1081063
A23: De 40 a 44 años | B23: =SUM(C23,F23,I23,L23,O23) -> 64480.998 | C23: =[1]ProEmp!W74 -> 2068.6471 | D23: =IF(ISNUMBER(C23/$B23*100),C23/$B23*100,0) -> 3.20815 | E23: =[1]ProEmp!X74 -> 10.180489 | F23: =[1]ProEmp!Y74 -> 17871.792 | G23: =IF(ISNUMBER(F23/$B23*100),F23/$B23*100,0) -> 27.71637 | H23: =[1]ProEmp!Z74 -> 7.5317148 | I23: =[1]ProEmp!AA74 -> 34531.829 | J23: =IF(ISNUMBER(I23/$B23*100),I23/$B23*100,0) -> 53.553496 | K23: =[1]ProEmp!AB74 -> 6.2940645 | L23: =[1]ProEmp!AC74 -> 1196.0559 | M23: =IF(ISNUMBER(L23/$B23*100),L23/$B23*100,0) -> 1.8548968 | N23: =[1]ProEmp!AD74 -> 5.1419123 | O23: =[1]ProEmp!AE74 -> 8812.6737 | P23: =IF(ISNUMBER(O23/$B23*100),O23/$B23*100,0) -> 13.667087 | Q23: =[1]ProEmp!AF74 -> 5.992203
A24: De 45 a 49 años | B24: =SUM(C24,F24,I24,L24,O24) -> 49615.782 | C24: =[1]ProEmp!W75 -> 2401.9155 | D24: =IF(ISNUMBER(C24/$B24*100),C24/$B24*100,0) -> 4.8410311 | E24: =[1]ProEmp!X75 -> 5.3920677 | F24: =[1]ProEmp!Y75 -> 16150.782 | G24: =IF(ISNUMBER(F24/$B24*100),F24/$B24*100,0) -> 32.551703 | H24: =[1]ProEmp!Z75 -> 7.078759 | I24: =[1]ProEmp!AA75 -> 22981.586 | J24: =IF(ISNUMBER(I24/$B24*100),I24/$B24*100,0) -> 46.319105 | K24: =[1]ProEmp!AB75 -> 5.958029 | L24: =[1]ProEmp!AC75 -> 2136.1063 | M24: =IF(ISNUMBER(L24/$B24*100),L24/$B24*100,0) -> 4.305296 | N24: =[1]ProEmp!AD75 -> 3 | O24: =[1]ProEmp!AE75 -> 5945.3923 | P24: =IF(ISNUMBER(O24/$B24*100),O24/$B24*100,0) -> 11.982865 | Q24: =[1]ProEmp!AF75 -> 5.1404807
A25: De 50 a 54 años | B25: =SUM(C25,F25,I25,L25,O25) -> 43835.688 | C25: =[1]ProEmp!W76 -> 1132.9776 | D25: =IF(ISNUMBER(C25/$B25*100),C25/$B25*100,0) -> 2.5846009 | E25: =[1]ProEmp!X76 -> 9.4981816 | F25: =[1]ProEmp!Y76 -> 10428.718 | G25: =IF(ISNUMBER(F25/$B25*100),F25/$B25*100,0) -> 23.790473 | H25: =[1]ProEmp!Z76 -> 6.4185159 | I25: =[1]ProEmp!AA76 -> 26185.591 | J25: =IF(ISNUMBER(I25/$B25*100),I25/$B25*100,0) -> 59.735782 | K25: =[1]ProEmp!AB76 -> 5.4084355 | L25: =[1]ProEmp!AC76 -> 1330.291 | M25: =IF(ISNUMBER(L25/$B25*100),L25/$B25*100,0) -> 3.0347213 | N25: =[1]ProEmp!AD76 -> 9.4293058 | O25: =[1]ProEmp!AE76 -> 4758.1107 | P25: =IF(ISNUMBER(O25/$B25*100),O25/$B25*100,0) -> 10.854422 | Q25: =[1]ProEmp!AF76 -> 4.6912991
A26: De 55 a 59 años | B26: =SUM(C26,F26,I26,L26,O26) -> 27380.382 | C26: =[1]ProEmp!W77 -> 1154.4423 | D26: =IF(ISNUMBER(C26/$B26*100),C26/$B26*100,0) -> 4.2163119 | E26: =[1]ProEmp!X77 -> 10.425556 | F26: =[1]ProEmp!Y77 -> 8831.2544 | G26: =IF(ISNUMBER(F26/$B26*100),F26/$B26*100,0) -> 32.253949 | H26: =[1]ProEmp!Z77 -> 7.5262032 | I26: =[1]ProEmp!AA77 -> 14414.225 | J26: =IF(ISNUMBER(I26/$B26*100),I26/$B26*100,0) -> 52.644355 | K26: =[1]ProEmp!AB77 -> 5.9453948 | L26: =[1]ProEmp!AC77 -> 0 | M26: =IF(ISNUMBER(L26/$B26*100),L26/$B26*100,0) -> 0 | N26: =[1]ProEmp!AD77 -> . | O26: =[1]ProEmp!AE77 -> 2980.4598 | P26: =IF(ISNUMBER(O26/$B26*100),O26/$B26*100,0) -> 10.885384 | Q26: =[1]ProEmp!AF77 -> 4.8420769
A27: De 60 a 64 años | B27: =SUM(C27,F27,I27,L27,O27) -> 16391.425 | C27: =[1]ProEmp!W78 -> 0 | D27: =IF(ISNUMBER(C27/$B27*100),C27/$B27*100,0) -> 0 | E27: =[1]ProEmp!X78 -> . | F27: =[1]ProEmp!Y78 -> 3218.7603 | G27: =IF(ISNUMBER(F27/$B27*100),F27/$B27*100,0) -> 19.636855 | H27: =[1]ProEmp!Z78 -> 6.1430795 | I27: =[1]ProEmp!AA78 -> 9953.3424 | J27: =IF(ISNUMBER(I27/$B27*100),I27/$B27*100,0) -> 60.722863 | K27: =[1]ProEmp!AB78 -> 5.513279 | L27: =[1]ProEmp!AC78 -> 587.42923 | M27: =IF(ISNUMBER(L27/$B27*100),L27/$B27*100,0) -> 3.5837594 | N27: =[1]ProEmp!AD78 -> 1 | O27: =[1]ProEmp!AE78 -> 2631.8929 | P27: =IF(ISNUMBER(O27/$B27*100),O27/$B27*100,0) -> 16.056523 | Q27: =[1]ProEmp!AF78 -> 4.3117617
A28: De 65 años y más | B28: =SUM(C28,F28,I28,L28,O28) -> 23599.829 | C28: =[1]ProEmp!W79 -> 227.55284 | D28: =IF(ISNUMBER(C28/$B28*100),C28/$B28*100,0) -> 0.96421396 | E28: =[1]ProEmp!X79 -> 6 | F28: =[1]ProEmp!Y79 -> 3258.84 | G28: =IF(ISNUMBER(F28/$B28*100),F28/$B28*100,0) -> 13.808744 | H28: =[1]ProEmp!Z79 -> 6.9911213 | I28: =[1]ProEmp!AA79 -> 16503.391 | J28: =IF(ISNUMBER(I28/$B28*100),I28/$B28*100,0) -> 69.930132 | K28: =[1]ProEmp!AB79 -> 4.7393922 | L28: =[1]ProEmp!AC79 -> 494.56613 | M28: =IF(ISNUMBER(L28/$B28*100),L28/$B28*100,0) -> 2.0956344 | N28: =[1]ProEmp!AD79 -> 2 | O28: =[1]ProEmp!AE79 -> 3115.4784 | P28: =IF(ISNUMBER(O28/$B28*100),O28/$B28*100,0) -> 13.201276 | Q28: =[1]ProEmp!AF79 -> 6.4613032
A30: ='C01'!$A$31 -> Fuente: Instituto Nacional de Estadística (INE). XLI Encuesta Permanente de Hogares de Propósitos Múltiples, Mayo 2011.
A31: AEP: Años de Estudio Promedio
A32: 1/ Porcentaje por filas
A34: =A1 -> Cuadro No. 4. Población con problemas de empleo y Años de Estudio Promedio (AEP), según dominio, rama de actividad y ocupación
A35: =A2 -> Mujeres
A36: ....... Continuación
A37: =A3 -> Categorías | B37: Total | C37: Desocupados | F37: Subempleo Visible | I37: Subempleo Invisible | L37: Potencialmente Activos | O37: Desalentados
C38: No. | D38: % 1/ | E38: AEP | F38: No. | G38: % 1/ | H38: AEP | I38: No. | J38: % 1/ | K38: AEP | L38: No. | M38: % 1/ | N38: AEP | O38: No. | P38: % 1/ | Q38: AEP
A40: =A6 -> Total Nacional | B40: =B6 -> 699084.88 | C40: =C6 -> 72317.252 | D40: =D6 -> 10.34456 | E40: =E6 -> 10.061796 | F40: =F6 -> 160246.71 | G40: =G6 -> 22.922354 | H40: =H6 -> 7.8985978 | ... Q40: =Q6 -> 7.1295678
A42: Rama de Actividad
A43: Agricultura, Silvicultura, Caza y Pesca | B43: =SUM(C43,F43,I43,L43,O43) -> 56953.703 | C43: =[1]ProEmp!W81 -> 2065.1911 | D43: =IF(ISNUMBER(C43/$B43*100),C43/$B43*100,0) -> 3.6260875 | E43: =[1]ProEmp!X81 -> 5.0394921 | F43: =[1]ProEmp!Y81 -> 16254.968 | G43: =IF(ISNUMBER(F43/$B43*100),F43/$B43*100,0) -> 28.54067 | H43: =[1]ProEmp!Z81 -> 4.9982975 | I43: =[1]ProEmp!AA81 -> 17841.532 | J43: =IF(ISNUMBER(I43/$B43*100),I43/$B43*100,0) -> 31.326378 | K43: =[1]ProEmp!AB81 -> 5.2572674 | L43: =[1]ProEmp!AC81 -> 15608.086 | M43: =IF(ISNUMBER(L43/$B43*100),L43/$B43*100,0) -> 27.404867 | N43: =[1]ProEmp!AD81 -> 4.9649318 | O43: =[1]ProEmp!AE81 -> 5183.9248 | P43: =IF(ISNUMBER(O43/$B43*100),O43/$B43*100,0) -> 9.1019978 | Q43: =[1]ProEmp!AF81 -> 4.9828867
A44: Explotación de minas y canteras | B44: =SUM(C44,F44,I44,L44,O44) -> 434.47652 | C44: =[1]ProEmp!W82 -> 0 | D44: =IF(ISNUMBER(C44/$B44*100),C44/$B44*100,0) -> 0 | E44: =[1]ProEmp!X82 -> . | F44: =[1]ProEmp!Y82 -> 167.46323 | G44: =IF(ISNUMBER(F44/$B44*100),F44/$B44*100,0) -> 38.543679 | H44: =[1]ProEmp!Z82 -> . | I44: =[1]ProEmp!AA82 -> 267.01328 | J44: =IF(ISNUMBER(I44/$B44*100),I44/$B44*100,0) -> 61.456321 | K44: =[1]ProEmp!AB82 -> 6 | L44: =[1]ProEmp!AC82 -> 0 | M44: =IF(ISNUMBER(L44/$B44*100),L44/$B44*100,0) -> 0 | N44: =[1]ProEmp!AD82 -> . | O44: =[1]ProEmp!AE82 -> 0 | P44: =IF(ISNUMBER(O44/$B44*100),O44/$B44*100,0) -> 0 | Q44: =[1]ProEmp!AF82 -> .
A45: Industria manufacturera | B45: =SUM(C45,F45,I45,L45,O45) -> 97562.762 | C45: =[1]ProEmp!W83 -> 8483.7561 | D45: =IF(ISNUMBER(C45/$B45*100),C45/$B45*100,0) -> 8.6956908 | E45: =[1]ProEmp!X83 -> 8.624182 | F45: =[1]ProEmp!Y83 -> 32567.675 | G45: =IF(ISNUMBER(F45/$B45*100),F45/$B45*100,0) -> 33.381256 | H45: =[1]ProEmp!Z83 -> 7.056763 | I45: =[1]ProEmp!AA83 -> 50059.104 | J45: =IF(ISNUMBER(I45/$B45*100),I45/$B45*100,0) -> 51.309642 | K45: =[1]ProEmp!AB83 -> 6.3649705 | L45: =[1]ProEmp!AC83 -> 980.54917 | M45: =IF(ISNUMBER(L45/$B45*100),L45/$B45*100,0) -> 1.0050445 | N45: =[1]ProEmp!AD83 -> 7.0887117 | O45: =[1]ProEmp!AE83 -> 5471.6773 | P45: =IF(ISNUMBER(O45/$B45*100),O45/$B45*100,0) -> 5.6083665 | Q45: =[1]ProEmp!AF83 -> 7.3335792
A46: Electricidad, gas y agua | B46: =SUM(C46,F46,I46,L46,O46) -> 191.11188 | C46: =[1]ProEmp!W84 -> 191.11188 | D46: =IF(ISNUMBER(C46/$B46*100),C46/$B46*100,0) -> 100 | E46: =[1]ProEmp!X84 -> 13 | F46: =[1]ProEmp!Y84 -> 0 | G46: =IF(ISNUMBER(F46/$B46*100),F46/$B46*100,0) -> 0 | H46: =[1]ProEmp!Z84 -> . | I46: =[1]ProEmp!AA84 -> 0 | J46: =IF(ISNUMBER(I46/$B46*100),I46/$B46*100,0) -> 0 | K46: =[1]ProEmp!AB84 -> . | L46: =[1]ProEmp!AC84 -> 0 | M46: =IF(ISNUMBER(L46/$B46*100),L46/$B46*100,0) -> 0 | N46: =[1]ProEmp!AD84 -> . | O46: =[1]ProEmp!AE84 -> 0 | P46: =IF(ISNUMBER(O46/$B46*100),O46/$B46*100,0) -> 0 | Q46: =[1]ProEmp!AF84 -> .
A47: Construcción | B47: =SUM(C47,F47,I47,L47,O47) -> 3042.0711 | C47: =[1]ProEmp!W85 -> 1353.7575 | D47: =IF(ISNUMBER(C47/$B47*100),C47/$B47*100,0) -> 44.501179 | E47: =[1]ProEmp!X85 -> 13.64517 | F47: =[1]ProEmp!Y85 -> 0 | G47: =IF(ISNUMBER(F47/$B47*100),F47/$B47*100,0) -> 0 | H47: =[1]ProEmp!Z85 -> . | I47: =[1]ProEmp!AA85 -> 1221.8709 | J47: =IF(ISNUMBER(I47/$B47*100),I47/$B47*100,0) -> 40.165757 | K47: =[1]ProEmp!AB85 -> 8.2741095 | L47: =[1]ProEmp!AC85 -> 238.88986 | M47: =IF(ISNUMBER(L47/$B47*100),L47/$B47*100,0) -> 7.8528689 | N47: =[1]ProEmp!AD85 -> 14 | O47: =[1]ProEmp!AE85 -> 227.55284 | P47: =IF(ISNUMBER(O47/$B47*100),O47/$B47*100,0) -> 7.4801948 | Q47: =[1]ProEmp!AF85 -> 7
A48: Comercio por Mayor / menor, Hoteles / restaurantes | B48: =SUM(C48,F48,I48,L48,O48) -> 239292.03 | C48: =[1]ProEmp!W86 -> 18217.895 | D48: =IF(ISNUMBER(C48/$B48*100),C48/$B48*100,0) -> 7.6132477 | E48: =[1]ProEmp!X86 -> 10.177427 | F48: =[1]ProEmp!Y86 -> 52499.258 | G48: =IF(ISNUMBER(F48/$B48*100),F48/$B48*100,0) -> 21.93941 | H48: =[1]ProEmp!Z86 -> 7.3996803 | I48: =[1]ProEmp!AA86 -> 150124.07 | J48: =IF(ISNUMBER(I48/$B48*100),I48/$B48*100,0) -> 62.736762 | K48: =[1]ProEmp!AB86 -> 7.2088586 | L48: =[1]ProEmp!AC86 -> 3373.2548 | M48: =IF(ISNUMBER(L48/$B48*100),L48/$B48*100,0) -> 1.4096812 | N48: =[1]ProEmp!AD86 -> 10.166251 | O48: =[1]ProEmp!AE86 -> 15077.551 | P48: =IF(ISNUMBER(O48/$B48*100),O48/$B48*100,0) -> 6.3008997 | Q48: =[1]ProEmp!AF86 -> 8.2578325
A49: Transp. almac. y comunicaciones | B49: =SUM(C49,F49,I49,L49,O49) -> 3171.9432 | C49: =[1]ProEmp!W87 -> 0 | D49: =IF(ISNUMBER(C49/$B49*100),C49/$B49*100,0) -> 0 | E49: =[1]ProEmp!X87 -> . | F49: =[1]ProEmp!Y87 -> 1008.6038 | G49: =IF(ISNUMBER(F49/$B49*100),F49/$B49*100,0) -> 31.797663 | H49: =[1]ProEmp!Z87 -> 10.185975 | I49: =[1]ProEmp!AA87 -> 1935.7865 | J49: =IF(ISNUMBER(I49/$B49*100),I49/$B49*100,0) -> 61.028411 | K49: =[1]ProEmp!AB87 -> 10.879676 | L49: =[1]ProEmp!AC87 -> 227.55284 | M49: =IF(ISNUMBER(L49/$B49*100),L49/$B49*100,0) -> 7.1739256 | N49: =[1]ProEmp!AD87 -> 14 | O49: =[1]ProEmp!AE87 -> 0 | P49: =IF(ISNUMBER(O49/$B49*100),O49/$B49*100,0) -> 0 | Q49: =[1]ProEmp!AF87 -> .
A50: Estab. finac. seguros, Bienes inmuebles y servicios | B50: =SUM(C50,F50,I50,L50,O50) -> 11933.853 | C50: =[1]ProEmp!W88 -> 3812.0521 | D50: =IF(ISNUMBER(C50/$B50*100),C50/$B50*100,0) -> 31.94318 | E50: =[1]ProEmp!X88 -> 9.9740409 | F50: =[1]ProEmp!Y88 -> 1954.8755 | G50: =IF(ISNUMBER(F50/$B50*100),F50/$B50*100,0) -> 16.380925 | H50: =[1]ProEmp!Z88 -> 13.176789 | I50: =[1]ProEmp!AA88 -> 4895.3169 | J50: =IF(ISNUMBER(I50/$B50*100),I50/$B50*100,0) -> 41.020423 | K50: =[1]ProEmp!AB88 -> 10.541324 | L50: =[1]ProEmp!AC88 -> 191.11188 | M50: =IF(ISNUMBER(L50/$B50*100),L50/$B50*100,0) -> 1.6014265 | N50: =[1]ProEmp!AD88 -> 12 | O50: =[1]ProEmp!AE88 -> 1080.4964 | P50: =IF(ISNUMBER(O50/$B50*100),O50/$B50*100,0) -> 9.0540454 | Q50: =[1]ProEmp!AF88 -> 9.6329037
A51: Servicios Comunales, Sociales y Personales | B51: =SUM(C51,F51,I51,L51,O51) -> 189180.7 | C51: =[1]ProEmp!W89 -> 18389.958 | D51: =IF(ISNUMBER(C51/$B51*100),C51/$B51*100,0) -> 9.7208428 | E51: =[1]ProEmp!X89 -> 9.5755468 | F51: =[1]ProEmp!Y89 -> 55526.853 | G51: =IF(ISNUMBER(F51/$B51*100),F51/$B51*100,0) -> 29.351225 | H51: =[1]ProEmp!Z89 -> 9.3735441 | I51: =[1]ProEmp!AA89 -> 94608.84 | J51: =IF(ISNUMBER(I51/$B51*100),I51/$B51*100,0) -> 50.009774 | K51: =[1]ProEmp!AB89 -> 7.2431146 | L51: =[1]ProEmp!AC89 -> 2790.7661 | M51: =IF(ISNUMBER(L51/$B51*100),L51/$B51*100,0) -> 1.4751854 | N51: =[1]ProEmp!AD89 -> 11.315786 | O51: =[1]ProEmp!AE89 -> 17864.282 | P51: =IF(ISNUMBER(O51/$B51*100),O51/$B51*100,0) -> 9.4429726 | Q51: =[1]ProEmp!AF89 -> 7.0760024
A52: No sabe, No responde | B52: =SUM(C52,F52,I52,L52,O52) -> 434.47652 | C52: =[1]ProEmp!W90 -> 0 | D52: =IF(ISNUMBER(C52/$B52*100),C52/$B52*100,0) -> 0 | E52: =[1]ProEmp!X90 -> . | F52: =[1]ProEmp!Y90 -> 267.01328 | G52: =IF(ISNUMBER(F52/$B52*100),F52/$B52*100,0) -> 61.456321 | H52: =[1]ProEmp!Z90 -> 1 | I52: =[1]ProEmp!AA90 -> 167.46323 | J52: =IF(ISNUMBER(I52/$B52*100),I52/$B52*100,0) -> 38.543679 | K52: =[1]ProEmp!AB90 -> 6 | L52: =[1]ProEmp!AC90 -> 0 | M52: =IF(ISNUMBER(L52/$B52*100),L52/$B52*100,0) -> 0 | N52: =[1]ProEmp!AD90 -> . | O52: =[1]ProEmp!AE90 -> 0 | P52: =IF(ISNUMBER(O52/$B52*100),O52/$B52*100,0) -> 0 | Q52: =[1]ProEmp!AF90 -> .
A53: Busca Trabajo por Primera Vez | B53: =SUM(C53,F53,I53,L53,O53) -> 96887.757 | C53: =[1]ProEmp!W91 -> 19803.531 | D53: =IF(ISNUMBER(C53/$B53*100),C53/$B53*100,0) -> 20.439662 | E53: =[1]ProEmp!X91 -> 11.243567 | F53: =[1]ProEmp!Y91 -> 0 | G53: =IF(ISNUMBER(F53/$B53*100),F53/$B53*100,0) -> 0 | H53: =[1]ProEmp!Z91 -> . | I53: =[1]ProEmp!AA91 -> 0 | J53: =IF(ISNUMBER(I53/$B53*100),I53/$B53*100,0) -> 0 | K53: =[1]ProEmp!AB91 -> . | L53: =[1]ProEmp!AC91 -> 6481.8273 | M53: =IF(ISNUMBER(L53/$B53*100),L53/$B53*100,0) -> 6.6900375 | N53: =[1]ProEmp!AD91 -> 10.924751 | O53: =[1]ProEmp!AE91 -> 70602.399 | P53: =IF(ISNUMBER(O53/$B53*100),O53/$B53*100,0) -> 72.8703 | Q53: =[1]ProEmp!AF91 -> 6.9822292
A55: Ocupación
A56: Profesionales, Técnicos y PEOA | B56: =SUM(C56,F56,I56,L56,O56) -> 45848.795 | C56: =[1]ProEmp!W93 -> 8373.3042 | D56: =IF(ISNUMBER(C56/$B56*100),C56/$B56*100,0) -> 18.262866 | E56: =[1]ProEmp!X93 -> 12.547237 | F56: =[1]ProEmp!Y93 -> 24268.898 | G56: =IF(ISNUMBER(F56/$B56*100),F56/$B56*100,0) -> 52.932467 | H56: =[1]ProEmp!Z93 -> 12.576042 | I56: =[1]ProEmp!AA93 -> 8170.9862 | J56: =IF(ISNUMBER(I56/$B56*100),I56/$B56*100,0) -> 17.821594 | K56: =[1]ProEmp!AB93 -> 12.043554 | L56: =[1]ProEmp!AC93 -> 1386.1862 | M56: =IF(ISNUMBER(L56/$B56*100),L56/$B56*100,0) -> 3.0233864 | N56: =[1]ProEmp!AD93 -> 13.99139 | O56: =[1]ProEmp!AE93 -> 3649.4204 | P56: =IF(ISNUMBER(O56/$B56*100),O56/$B56*100,0) -> 7.9596866 | Q56: =[1]ProEmp!AF93 -> 11.592546
A57: Directores Gerentes y Administ. Grales. | B57: =SUM(C57,F57,I57,L57,O57) -> 15221.399 | C57: =[1]ProEmp!W94 -> 3047.1258 | D57: =IF(ISNUMBER(C57/$B57*100),C57/$B57*100,0) -> 20.018697 | E57: =[1]ProEmp!X94 -> 13.363169 | F57: =[1]ProEmp!Y94 -> 2964.2804 | G57: =IF(ISNUMBER(F57/$B57*100),F57/$B57*100,0) -> 19.474428 | H57: =[1]ProEmp!Z94 -> 12.989769 | I57: =[1]ProEmp!AA94 -> 8942.9796 | J57: =IF(ISNUMBER(I57/$B57*100),I57/$B57*100,0) -> 58.752678 | K57: =[1]ProEmp!AB94 -> 10.972107 | L57: =[1]ProEmp!AC94 -> 0 | M57: =IF(ISNUMBER(L57/$B57*100),L57/$B57*100,0) -> 0 | N57: =[1]ProEmp!AD94 -> . | O57: =[1]ProEmp!AE94 -> 267.01328 | P57: =IF(ISNUMBER(O57/$B57*100),O57/$B57*100,0) -> 1.7541967 | Q57: =[1]ProEmp!AF94 -> 6
A58: Empleados de Oficina | B58: =SUM(C58,F58,I58,L58,O58) -> 27671.262 | C58: =[1]ProEmp!W95 -> 6249.6239 | D58: =IF(ISNUMBER(C58/$B58*100),C58/$B58*100,0) -> 22.58525 | E58: =[1]ProEmp!X95 -> 12.169592 | F58: =[1]ProEmp!Y95 -> 2788.4085 | G58: =IF(ISNUMBER(F58/$B58*100),F58/$B58*100,0) -> 10.076911 | H58: =[1]ProEmp!Z95 -> 10.840549 | I58: =[1]ProEmp!AA95 -> 14319.904 | J58: =IF(ISNUMBER(I58/$B58*100),I58/$B58*100,0) -> 51.750091 | K58: =[1]ProEmp!AB95 -> 11.429979 | L58: =[1]ProEmp!AC95 -> 816.81449 | M58: =IF(ISNUMBER(L58/$B58*100),L58/$B58*100,0) -> 2.9518512 | N58: =[1]ProEmp!AD95 -> 13.142102 | O58: =[1]ProEmp!AE95 -> 3496.5119 | P58: =IF(ISNUMBER(O58/$B58*100),O58/$B58*100,0) -> 12.635896 | Q58: =[1]ProEmp!AF95 -> 11.63565
A59: Comerciantes y Vendedores | B59: =SUM(C59,F59,I59,L59,O59) -> 166056.86 | C59: =[1]ProEmp!W96 -> 11837.24 | D59: =IF(ISNUMBER(C59/$B59*100),C59/$B59*100,0) -> 7.1284257 | E59: =[1]ProEmp!X96 -> 10.186637 | F59: =[1]ProEmp!Y96 -> 37434.843 | G59: =IF(ISNUMBER(F59/$B59*100),F59/$B59*100,0) -> 22.543389 | H59: =[1]ProEmp!Z96 -> 7.044728 | I59: =[1]ProEmp!AA96 -> 108370.81 | J59: =IF(ISNUMBER(I59/$B59*100),I59/$B59*100,0) -> 65.261269 | K59: =[1]ProEmp!AB96 -> 7.0549469 | L59: =[1]ProEmp!AC96 -> 1986.1704 | M59: =IF(ISNUMBER(L59/$B59*100),L59/$B59*100,0) -> 1.1960785 | N59: =[1]ProEmp!AD96 -> 9.1781642 | O59: =[1]ProEmp!AE96 -> 6427.7914 | P59: =IF(ISNUMBER(O59/$B59*100),O59/$B59*100,0) -> 3.8708377 | Q59: =[1]ProEmp!AF96 -> 8.8928275
A60: Agricultores, Ganaderos y Trab. Agrop. | B60: =SUM(C60,F60,I60,L60,O60) -> 54621.498 | C60: =[1]ProEmp!W97 -> 1769.5429 | D60: =IF(ISNUMBER(C60/$B60*100),C60/$B60*100,0) -> 3.2396456 | E60: =[1]ProEmp!X97 -> 6.1508939 | F60: =[1]ProEmp!Y97 -> 15987.955 | G60: =IF(ISNUMBER(F60/$B60*100),F60/$B60*100,0) -> 29.270444 | H60: =[1]ProEmp!Z97 -> 5.0611852 | I60: =[1]ProEmp!AA97 -> 16873.029 | J60: =IF(ISNUMBER(I60/$B60*100),I60/$B60*100,0) -> 30.890821 | K60: =[1]ProEmp!AB97 -> 4.8861177 | L60: =[1]ProEmp!AC97 -> 15341.073 | M60: =IF(ISNUMBER(L60/$B60*100),L60/$B60*100,0) -> 28.086145 | N60: =[1]ProEmp!AD97 -> 4.9649318 | O60: =[1]ProEmp!AE97 -> 4649.8982 | P60: =IF(ISNUMBER(O60/$B60*100),O60/$B60*100,0) -> 8.5129452 | Q60: =[1]ProEmp!AF97 -> 5.3530667
A61: Conductores de Transporte | B61: =SUM(C61,F61,I61,L61,O61) -> 1017.7671 | C61: =[1]ProEmp!W98 -> 227.55284 | D61: =IF(ISNUMBER(C61/$B61*100),C61/$B61*100,0) -> 22.358046 | E61: =[1]ProEmp!X98 -> 6 | F61: =[1]ProEmp!Y98 -> 227.55284 | G61: =IF(ISNUMBER(F61/$B61*100),F61/$B61*100,0) -> 22.358046 | H61: =[1]ProEmp!Z98 -> 11 | I61: =[1]ProEmp!AA98 -> 562.66143 | J61: =IF(ISNUMBER(I61/$B61*100),I61/$B61*100,0) -> 55.283907 | K61: =[1]ProEmp!AB98 -> 7.4236623 | L61: =[1]ProEmp!AC98 -> 0 | M61: =IF(ISNUMBER(L61/$B61*100),L61/$B61*100,0) -> 0 | N61: =[1]ProEmp!AD98 -> . | O61: =[1]ProEmp!AE98 -> 0 | P61: =IF(ISNUMBER(O61/$B61*100),O61/$B61*100,0) -> 0 | Q61: =[1]ProEmp!AF98 -> .
A62: Trab. Ind. Textil, Albañilería, Mecánica, etc. | B62: =SUM(C62,F62,I62,L62,O62) -> 27035.239 | C62: =[1]ProEmp!W99 -> 4429.0087 | D62: =IF(ISNUMBER(C62/$B62*100),C62/$B62*100,0) -> 16.382355 | E62: =[1]ProEmp!X99 -> 7.41962 | F62: =[1]ProEmp!Y99 -> 6081.9305 | G62: =IF(ISNUMBER(F62/$B62*100),F62/$B62*100,0) -> 22.496307 | H62: =[1]ProEmp!Z99 -> 7.1807453 | I62: =[1]ProEmp!AA99 -> 13114.246 | J62: =IF(ISNUMBER(I62/$B62*100),I62/$B62*100,0) -> 48.50797 | K62: =[1]ProEmp!AB99 -> 7.4634089 | L62: =[1]ProEmp!AC99 -> 159.2599 | M62: =IF(ISNUMBER(L62/$B62*100),L62/$B62*100,0) -> 0.58908265 | N62: =[1]ProEmp!AD99 -> 11 | O62: =[1]ProEmp!AE99 -> 3250.7944 | P62: =IF(ISNUMBER(O62/$B62*100),O62/$B62*100,0) -> 12.024286 | Q62: =[1]ProEmp!AF99 -> 6.9562559
A63: Trab. Area Grafica, Quím., Alimentos, etc. | B63: =SUM(C63,F63,I63,L63,O63) -> 56447.098 | C63: =[1]ProEmp!W100 -> 790.21427 | D63: =IF(ISNUMBER(C63/$B63*100),C63/$B63*100,0) -> 1.3999201 | E63: =[1]ProEmp!X100 -> 6.4603099 | F63: =[1]ProEmp!Y100 -> 20264.25 | G63: =IF(ISNUMBER(F63/$B63*100),F63/$B63*100,0) -> 35.899542 | H63: =[1]ProEmp!Z100 -> 6.6947148 | I63: =[1]ProEmp!AA100 -> 34111.918 | J63: =IF(ISNUMBER(I63/$B63*100),I63/$B63*100,0) -> 60.43166 | K63: =[1]ProEmp!AB100 -> 5.478514 | L63: =[1]ProEmp!AC100 -> 0 | M63: =IF(ISNUMBER(L63/$B63*100),L63/$B63*100,0) -> 0 | N63: =[1]ProEmp!AD100 -> . | O63: =[1]ProEmp!AE100 -> 1280.7157 | P63: =IF(ISNUMBER(O63/$B63*100),O63/$B63*100,0) -> 2.2688778 | Q63: =[1]ProEmp!AF100 -> 3.2380952
A64: Operador de Carga y Almacenaje | B64: =SUM(C64,F64,I64,L64,O64) -> 10477.326 | C64: =[1]ProEmp!W101 -> 1737.8593 | D64: =IF(ISNUMBER(C64/$B64*100),C64/$B64*100,0) -> 16.586858 | E64: =[1]ProEmp!X101 -> 5.5881821 | F64: =[1]ProEmp!Y101 -> 2103.6295 | G64: =IF(ISNUMBER(F64/$B64*100),F64/$B64*100,0) -> 20.077923 | H64: =[1]ProEmp!Z101 -> 6.9036108 | I64: =[1]ProEmp!AA101 -> 4259.4233 | J64: =IF(ISNUMBER(I64/$B64*100),I64/$B64*100,0) -> 40.653724 | K64: =[1]ProEmp!AB101 -> 8.0031512 | L64: =[1]ProEmp!AC101 -> 892.71589 | M64: =IF(ISNUMBER(L64/$B64*100),L64/$B64*100,0) -> 8.520455 | N64: =[1]ProEmp!AD101 -> 7.4294527 | O64: =[1]ProEmp!AE101 -> 1483.6984 | P64: =IF(ISNUMBER(O64/$B64*100),O64/$B64*100,0) -> 14.16104 | Q64: =[1]ProEmp!AF101 -> 5.680848
A65: Ocupación de los Servicios | B65: =SUM(C65,F65,I65,L65,O65) -> 196256.47 | C65: =[1]ProEmp!W102 -> 14052.25 | D65: =IF(ISNUMBER(C65/$B65*100),C65/$B65*100,0) -> 7.1601461 | E65: =[1]ProEmp!X102 -> 6.8731098 | F65: =[1]ProEmp!Y102 -> 47590.935 | G65: =IF(ISNUMBER(F65/$B65*100),F65/$B65*100,0) -> 24.249359 | H65: =[1]ProEmp!Z102 -> 6.9427031 | I65: =[1]ProEmp!AA102 -> 112068.31 | J65: =IF(ISNUMBER(I65/$B65*100),I65/$B65*100,0) -> 57.10299 | K65: =[1]ProEmp!AB102 -> 6.4122759 | L65: =[1]ProEmp!AC102 -> 2372.8853 | M65: =IF(ISNUMBER(L65/$B65*100),L65/$B65*100,0) -> 1.2090737 | N65: =[1]ProEmp!AD102 -> 7.8178645 | O65: =[1]ProEmp!AE102 -> 20172.087 | P65: =IF(ISNUMBER(O65/$B65*100),O65/$B65*100,0) -> 10.278432 | Q65: =[1]ProEmp!AF102 -> 5.9500105
A66: No sabe, No responde | B66: =SUM(C66,F66,I66,L66,O66) -> 1543.4082 | C66: =[1]ProEmp!W103 -> 0 | D66: =IF(ISNUMBER(C66/$B66*100),C66/$B66*100,0) -> 0 | E66: =[1]ProEmp!X103 -> . | F66: =[1]ProEmp!Y103 -> 534.02657 | G66: =IF(ISNUMBER(F66/$B66*100),F66/$B66*100,0) -> 34.600474 | H66: =[1]ProEmp!Z103 -> 3.5 | I66: =[1]ProEmp!AA103 -> 326.72314 | J66: =IF(ISNUMBER(I66/$B66*100),I66/$B66*100,0) -> 21.168938 | K66: =[1]ProEmp!AB103 -> 12 | L66: =[1]ProEmp!AC103 -> 455.10569 | M66: =IF(ISNUMBER(L66/$B66*100),L66/$B66*100,0) -> 29.487058 | N66: =[1]ProEmp!AD103 -> 12 | O66: =[1]ProEmp!AE103 -> 227.55284 | P66: =IF(ISNUMBER(O66/$B66*100),O66/$B66*100,0) -> 14.743529 | Q66: =[1]ProEmp!AF103 -> 11
A67: Busca Trabajo por Primera Vez | B67: =SUM(C67,F67,I67,L67,O67) -> 96887.757 | C67: =[1]ProEmp!W104 -> 19803.531 | D67: =IF(ISNUMBER(C67/$B67*100),C67/$B67*100,0) -> 20.439662 | E67: =[1]ProEmp!X104 -> 11.243567 | F67: =[1]ProEmp!Y104 -> 0 | G67: =IF(ISNUMBER(F67/$B67*100),F67/$B67*100,0) -> 0 | H67: =[1]ProEmp!Z104 -> . | I67: =[1]ProEmp!AA104 -> 0 | J67: =IF(ISNUMBER(I67/$B67*100),I67/$B67*100,0) -> 0 | K67: =[1]ProEmp!AB104 -> . | L67: =[1]ProEmp!AC104 -> 6481.8273 | M67: =IF(ISNUMBER(L67/$B67*100),L67/$B67*100,0) -> 6.6900375 | N67: =[1]ProEmp!AD104 -> 10.924751 | O67: =[1]ProEmp!AE104 -> 70602.399 | P67: =IF(ISNUMBER(O67/$B67*100),O67/$B67*100,0) -> 72.8703 | Q67: =[1]ProEmp!AF104 -> 6.9822292
A69: =A30 -> Fuente: Instituto Nacional de Estadística (INE). XLI Encuesta Permanente de Hogares de Propósitos Múltiples, Mayo 2011.
A70: AEP: Años de Estudio Promedio
A71: 1/ Porcentaje por filas
