Workbook

Sheet Portada

Sheet C01
A3: Cuadro No. 1. Población Económicamente Activa (PEA) en condición de empleo, según dominio, rama de actividad y ocupación
A4: Categorías | B4: PEA | D4: Ocupados | F4: Desocupados | I4: Subempleo Visible | L4: Subempleo Invisible
B5: No. | C5: AEP | D5: No. | E5: AEP | F5: No. | G5: AEP | H5: TDA | I5: No. | J5: AEP | K5: TSV | L5: No. | M5: AEP | N5: TSI
A7: Total Nacional | B7: =[1]ProEmp!C8 -> 3369918.7 | C7: =[1]ProEmp!D8 -> 7.4192967 | D7: =[1]ProEmp!E8 -> 3226135.3 | E7: =[1]ProEmp!F8 -> 7.3164623 | F7: =[1]ProEmp!G8 -> 143783.39 | G7: =[1]ProEmp!H8 -> 9.5208985 | H7: =F7/B7*100 -> 4.2666724 | I7: =[1]ProEmp!I8 -> 333969.16 | J7: =[1]ProEmp!J8 -> 7.2942285 | K7: =IF(ISNUMBER(I7/D7*100),I7/D7*100,0) -> 10.351989 | L7: =[1]ProEmp!K8 -> 1170974.8 | M7: =[1]ProEmp!L8 -> 6.2009567 | N7: =IF(ISNUMBER(L7/D7*100),L7/D7*100,0) -> 36.296519
A9: Dominio
A10: Urbano | B10: =SUM(B11:B13) -> 1603305.4 | C10: =AVERAGE(C11:C13) -> 9.2837201 | D10: =SUM(D11:D13) -> 1494287.1 | E10: =AVERAGE(E11:E13) -> 9.2250121 | F10: =SUM(F11:F13) -> 109018.26 | G10: =AVERAGE(G11:G13) -> 10.051472 | H10: =F10/B10*100 -> 6.7995943 | I10: =SUM(I11:I13) -> 157767.09 | J10: =AVERAGE(J11:J13) -> 8.7147848 | K10: =IF(ISNUMBER(I10/D10*100),I10/D10*100,0) -> 10.558017 | L10: =SUM(L11:L13) -> 460425.75 | M10: =AVERAGE(M11:M13) -> 7.5417413 | N10: =IF(ISNUMBER(L10/D10*100),L10/D10*100,0) -> 30.812401
A11: Distrito Central | B11: =[1]ProEmp!C9 -> 467188.75 | C11: =[1]ProEmp!D9 -> 9.967057 | D11: =[1]ProEmp!E9 -> 423180.03 | E11: =[1]ProEmp!F9 -> 9.8857046 | F11: =[1]ProEmp!G9 -> 44008.72 | G11: =[1]ProEmp!H9 -> 10.720481 | H11: =F11/B11*100 -> 9.4199016 | I11: =[1]ProEmp!I9 -> 55477.384 | J11: =[1]ProEmp!J9 -> 8.9714411 | K11: =IF(ISNUMBER(I11/D11*100),I11/D11*100,0) -> 13.109641 | L11: =[1]ProEmp!K9 -> 106585.75 | M11: =[1]ProEmp!L9 -> 7.7426807 | N11: =IF(ISNUMBER(L11/D11*100),L11/D11*100,0) -> 25.186858
A12: San Pedro Sula | B12: =[1]ProEmp!C10 -> 259402.53 | C12: =[1]ProEmp!D10 -> 9.3501036 | D12: =[1]ProEmp!E10 -> 246757.29 | E12: =[1]ProEmp!F10 -> 9.3191112 | F12: =[1]ProEmp!G10 -> 12645.236 | G12: =[1]ProEmp!H10 -> 9.9391192 | H12: =F12/B12*100 -> 4.8747544 | I12: =[1]ProEmp!I10 -> 21770.829 | J12: =[1]ProEmp!J10 -> 8.940856 | K12: =IF(ISNUMBER(I12/D12*100),I12/D12*100,0) -> 8.8227701 | L12: =[1]ProEmp!K10 -> 71284.733 | M12: =[1]ProEmp!L10 -> 7.537506 | N12: =IF(ISNUMBER(L12/D12*100),L12/D12*100,0) -> 28.888602
A13: Resto urbano | B13: =[1]ProEmp!C11 -> 876714.13 | C13: =[1]ProEmp!D11 -> 8.5339997 | D13: =[1]ProEmp!E11 -> 824349.83 | E13: =[1]ProEmp!F11 -> 8.4702205 | F13: =[1]ProEmp!G11 -> 52364.307 | G13: =[1]ProEmp!H11 -> 9.4948148 | H13: =F13/B13*100 -> 5.9727914 | I13: =[1]ProEmp!I11 -> 80518.881 | J13: =[1]ProEmp!J11 -> 8.2320574 | K13: =IF(ISNUMBER(I13/D13*100),I13/D13*100,0) -> 9.7675621 | L13: =[1]ProEmp!K11 -> 282555.27 | M13: =[1]ProEmp!L11 -> 7.3450372 | N13: =IF(ISNUMBER(L13/D13*100),L13/D13*100,0) -> 34.276136
A14: Rural | B14: =[1]ProEmp!C12 -> 1766613.3 | C14: =[1]ProEmp!D12 -> 5.7081551 | D14: =[1]ProEmp!E12 -> 1731848.2 | E14: =[1]ProEmp!F12 -> 5.661245 | F14: =[1]ProEmp!G12 -> 34765.13 | G14: =[1]ProEmp!H12 -> 7.7879538 | H14: =F14/B14*100 -> 1.967897 | I14: =[1]ProEmp!I12 -> 176202.07 | J14: =[1]ProEmp!J12 -> 6.0647395 | K14: =IF(ISNUMBER(I14/D14*100),I14/D14*100,0) -> 10.174221 | L14: =[1]ProEmp!K12 -> 710549.05 | M14: =[1]ProEmp!L12 -> 5.2507626 | N14: =IF(ISNUMBER(L14/D14*100),L14/D14*100,0) -> 41.028369
K15: =IF(ISNUMBER(I15/D15*100),I15/D15*100,0) -> 0 | N15: =IF(ISNUMBER(L15/D15*100),L15/D15*100,0) -> 0
A16: Rango de Edad
A17: De 10 a 11 años | B17: =[1]ProEmp!C14 -> 20743.007 | C17: =[1]ProEmp!D14 -> 3.5381447 | D17: =[1]ProEmp!E14 -> 20575.544 | E17: =[1]ProEmp!F14 -> 3.5164159 | F17: =[1]ProEmp!G14 -> 167.46323 | G17: =[1]ProEmp!H14 -> 6 | H17: =F17/B17*100 -> 0.80732379 | I17: =[1]ProEmp!I14 -> 854.44251 | J17: =[1]ProEmp!J14 -> 3.625 | K17: =IF(ISNUMBER(I17/D17*100),I17/D17*100,0) -> 4.1527092 | L17: =[1]ProEmp!K14 -> 1068.0531 | M17: =[1]ProEmp!L14 -> 4 | N17: =IF(ISNUMBER(L17/D17*100),L17/D17*100,0) -> 5.1908865
A18: De 12 a 14 años | B18: =[1]ProEmp!C15 -> 110128.29 | C18: =[1]ProEmp!D15 -> 5.3067334 | D18: =[1]ProEmp!E15 -> 109565.63 | E18: =[1]ProEmp!F15 -> 5.2922152 | F18: =[1]ProEmp!G15 -> 562.66143 | G18: =[1]ProEmp!H15 -> 8 | H18: =F18/B18*100 -> 0.51091451 | I18: =[1]ProEmp!I15 -> 10567.527 | J18: =[1]ProEmp!J15 -> 5.3680601 | K18: =IF(ISNUMBER(I18/D18*100),I18/D18*100,0) -> 9.6449284 | L18: =[1]ProEmp!K15 -> 14072.535 | M18: =[1]ProEmp!L15 -> 5.6165613 | N18: =IF(ISNUMBER(L18/D18*100),L18/D18*100,0) -> 12.843932
A19: De 15 a 18 años | B19: =[1]ProEmp!C16 -> 332325.43 | C19: =[1]ProEmp!D16 -> 6.7708731 | D19: =[1]ProEmp!E16 -> 317397.65 | E19: =[1]ProEmp!F16 -> 6.6654762 | F19: =[1]ProEmp!G16 -> 14927.78 | G19: =[1]ProEmp!H16 -> 8.9782304 | H19: =F19/B19*100 -> 4.4919162 | I19: =[1]ProEmp!I16 -> 40804.544 | J19: =[1]ProEmp!J16 -> 6.8292755 | K19: =IF(ISNUMBER(I19/D19*100),I19/D19*100,0) -> 12.855969 | L19: =[1]ProEmp!K16 -> 112417.42 | M19: =[1]ProEmp!L16 -> 6.3368448 | N19: =IF(ISNUMBER(L19/D19*100),L19/D19*100,0) -> 35.418478
A20: De 19 a 24 años | B20: =[1]ProEmp!C17 -> 600094.03 | C20: =[1]ProEmp!D17 -> 8.4061925 | D20: =[1]ProEmp!E17 -> 540797.82 | E20: =[1]ProEmp!F17 -> 8.2309841 | F20: =[1]ProEmp!G17 -> 59296.218 | G20: =[1]ProEmp!H17 -> 9.9520907 | H20: =F20/B20*100 -> 9.8811544 | I20: =[1]ProEmp!I17 -> 58047.094 | J20: =[1]ProEmp!J17 -> 8.3462561 | K20: =IF(ISNUMBER(I20/D20*100),I20/D20*100,0) -> 10.733604 | L20: =[1]ProEmp!K17 -> 221572.64 | M20: =[1]ProEmp!L17 -> 7.5373941 | N20: =IF(ISNUMBER(L20/D20*100),L20/D20*100,0) -> 40.971438
A21: De 25 a 29 años | B21: =[1]ProEmp!C18 -> 396397.03 | C21: =[1]ProEmp!D18 -> 8.3949976 | D21: =[1]ProEmp!E18 -> 370748.85 | E21: =[1]ProEmp!F18 -> 8.2628007 | F21: =[1]ProEmp!G18 -> 25648.18 | G21: =[1]ProEmp!H18 -> 10.215832 | H21: =F21/B21*100 -> 6.470326 | I21: =[1]ProEmp!I18 -> 40696.038 | J21: =[1]ProEmp!J18 -> 8.2292435 | K21: =IF(ISNUMBER(I21/D21*100),I21/D21*100,0) -> 10.976713 | L21: =[1]ProEmp!K18 -> 131094.33 | M21: =[1]ProEmp!L18 -> 6.8996257 | N21: =IF(ISNUMBER(L21/D21*100),L21/D21*100,0) -> 35.359336
A22: De 30 a 34 años | B22: =[1]ProEmp!C19 -> 342203.24 | C22: =[1]ProEmp!D19 -> 8.1087803 | D22: =[1]ProEmp!E19 -> 327700.39 | E22: =[1]ProEmp!F19 -> 8.0056814 | F22: =[1]ProEmp!G19 -> 14502.858 | G22: =[1]ProEmp!H19 -> 10.354381 | H22: =F22/B22*100 -> 4.2380831 | I22: =[1]ProEmp!I19 -> 33536.837 | J22: =[1]ProEmp!J19 -> 7.4001255 | K22: =IF(ISNUMBER(I22/D22*100),I22/D22*100,0) -> 10.233994 | L22: =[1]ProEmp!K19 -> 112821.32 | M22: =[1]ProEmp!L19 -> 6.5541497 | N22: =IF(ISNUMBER(L22/D22*100),L22/D22*100,0) -> 34.428193
A23: De 35 a 39 años | B23: =[1]ProEmp!C20 -> 305440.14 | C23: =[1]ProEmp!D20 -> 7.5550488 | D23: =[1]ProEmp!E20 -> 298092.32 | E23: =[1]ProEmp!F20 -> 7.568445 | F23: =[1]ProEmp!G20 -> 7347.823 | G23: =[1]ProEmp!H20 -> 7.0514588 | H23: =F23/B23*100 -> 2.4056507 | I23: =[1]ProEmp!I20 -> 36669.692 | J23: =[1]ProEmp!J20 -> 6.732223 | K23: =IF(ISNUMBER(I23/D23*100),I23/D23*100,0) -> 12.301455 | L23: =[1]ProEmp!K20 -> 105194.07 | M23: =[1]ProEmp!L20 -> 5.8656532 | N23: =IF(ISNUMBER(L23/D23*100),L23/D23*100,0) -> 35.289091
A24: De 40 a 44 años | B24: =[1]ProEmp!C21 -> 267896.47 | C24: =[1]ProEmp!D21 -> 7.6202204 | D24: =[1]ProEmp!E21 -> 262736.95 | E24: =[1]ProEmp!F21 -> 7.569467 | F24: =[1]ProEmp!G21 -> 5159.5206 | G24: =[1]ProEmp!H21 -> 10.000842 | H24: =F24/B24*100 -> 1.9259382 | I24: =[1]ProEmp!I21 -> 27404.258 | J24: =[1]ProEmp!J21 -> 7.5881683 | K24: =IF(ISNUMBER(I24/D24*100),I24/D24*100,0) -> 10.430302 | L24: =[1]ProEmp!K21 -> 104004.3 | M24: =[1]ProEmp!L21 -> 5.8221386 | N24: =IF(ISNUMBER(L24/D24*100),L24/D24*100,0) -> 39.584952
A25: De 45 a 49 años | B25: =[1]ProEmp!C22 -> 269238.92 | C25: =[1]ProEmp!D22 -> 7.1591912 | D25: =[1]ProEmp!E22 -> 263774.41 | E25: =[1]ProEmp!F22 -> 7.1752635 | F25: =[1]ProEmp!G22 -> 5464.5192 | G25: =[1]ProEmp!H22 -> 6.4617701 | H25: =F25/B25*100 -> 2.0296171 | I25: =[1]ProEmp!I22 -> 31401.405 | J25: =[1]ProEmp!J22 -> 6.4640211 | K25: =IF(ISNUMBER(I25/D25*100),I25/D25*100,0) -> 11.904644 | L25: =[1]ProEmp!K22 -> 91147.574 | M25: =[1]ProEmp!L22 -> 5.5663423 | N25: =IF(ISNUMBER(L25/D25*100),L25/D25*100,0) -> 34.555125
A26: De 50 a 54 años | B26: =[1]ProEmp!C23 -> 228554.61 | C26: =[1]ProEmp!D23 -> 6.5815904 | D26: =[1]ProEmp!E23 -> 223576.85 | E26: =[1]ProEmp!F23 -> 6.5326852 | F26: =[1]ProEmp!G23 -> 4977.7605 | G26: =[1]ProEmp!H23 -> 8.6271826 | H26: =F26/B26*100 -> 2.1779305 | I26: =[1]ProEmp!I23 -> 21026.149 | J26: =[1]ProEmp!J23 -> 6.1150486 | K26: =IF(ISNUMBER(I26/D26*100),I26/D26*100,0) -> 9.4044395 | L26: =[1]ProEmp!K23 -> 87909.356 | M26: =[1]ProEmp!L23 -> 5.1374642 | N26: =IF(ISNUMBER(L26/D26*100),L26/D26*100,0) -> 39.319526
A27: De 55 a 59 años | B27: =[1]ProEmp!C24 -> 175228.07 | C27: =[1]ProEmp!D24 -> 6.6322212 | D27: =[1]ProEmp!E24 -> 171016.67 | E27: =[1]ProEmp!F24 -> 6.6014478 | F27: =[1]ProEmp!G24 -> 4211.4005 | G27: =[1]ProEmp!H24 -> 7.8996029 | H27: =F27/B27*100 -> 2.4033824 | I27: =[1]ProEmp!I24 -> 15333.009 | J27: =[1]ProEmp!J24 -> 7.7565567 | K27: =IF(ISNUMBER(I27/D27*100),I27/D27*100,0) -> 8.9657984 | L27: =[1]ProEmp!K24 -> 66090.404 | M27: =[1]ProEmp!L24 -> 4.4900095 | N27: =IF(ISNUMBER(L27/D27*100),L27/D27*100,0) -> 38.645593
A28: De 60 a 64 años | B28: =[1]ProEmp!C25 -> 128012.1 | C28: =[1]ProEmp!D25 -> 5.6987571 | D28: =[1]ProEmp!E25 -> 127357.88 | E28: =[1]ProEmp!F25 -> 5.6971735 | F28: =[1]ProEmp!G25 -> 654.22326 | G28: =[1]ProEmp!H25 -> 6 | H28: =F28/B28*100 -> 0.51106359 | I28: =[1]ProEmp!I25 -> 8409.9635 | J28: =[1]ProEmp!J25 -> 6.7342246 | K28: =IF(ISNUMBER(I28/D28*100),I28/D28*100,0) -> 6.6034104 | L28: =[1]ProEmp!K25 -> 48315.97 | M28: =[1]ProEmp!L25 -> 4.464789 | N28: =IF(ISNUMBER(L28/D28*100),L28/D28*100,0) -> 37.937166
A29: De 65 años y más | B29: =[1]ProEmp!C26 -> 193657.35 | C29: =[1]ProEmp!D26 -> 5.1717416 | D29: =[1]ProEmp!E26 -> 192794.37 | E29: =[1]ProEmp!F26 -> 5.169762 | F29: =[1]ProEmp!G26 -> 862.98524 | G29: =[1]ProEmp!H26 -> 5.5010991 | H29: =F29/B29*100 -> 0.44562483 | I29: =[1]ProEmp!I26 -> 9218.2002 | J29: =[1]ProEmp!J26 -> 6.2753255 | K29: =IF(ISNUMBER(I29/D29*100),I29/D29*100,0) -> 4.7813639 | L29: =[1]ProEmp!K26 -> 75266.833 | M29: =[1]ProEmp!L26 -> 3.9802003 | N29: =IF(ISNUMBER(L29/D29*100),L29/D29*100,0) -> 39.039955
A31: Fuente: Instituto Nacional de Estadística (INE). XLI Encuesta Permanente de Hogares de Propósitos Múltiples, Mayo 2011.
A32: AEP: Años de Estudio Promedio
A33: TDA: Tasa de Desempleo Abierto
A34: TSV: Tasa de Subempleo Visible
A35: TSI: Tasa de Subempleo Invisible
A37: =A3 -> Cuadro No. 1. Población Económicamente Activa (PEA) en condición de empleo, según dominio, rama de actividad y ocupación
A38: ....... Continuación
A39: =A4 -> Categorías | B39: =B4 -> PEA | D39: =D4 -> Ocupados | F39: =F4 -> Desocupados | I39: =I4 -> Subempleo Visible | L39: =L4 -> Subempleo Invisible
B40: =B5 -> No. | C40: =C5 -> AEP | D40: =D5 -> No. | E40: =E5 -> AEP | F40: =F5 -> No. | G40: =G5 -> AEP | H40: =H5 -> TDA | I40: =I5 -> No. | ... N40: =N5 -> TSI
A42: =A7 -> Total Nacional | B42: =B7 -> 3369918.7 | C42: =C7 -> 7.4192967 | D42: =D7 -> 3226135.3 | E42: =E7 -> 7.3164623 | F42: =F7 -> 143783.39 | G42: =G7 -> 9.5208985 | H42: =H7 -> 4.2666724 | ... N42: =N7 -> 36.296519
A44: Rama de Actividad
A45: Agricultura, Silvicultura, Caza y Pesca | B45: =[1]ProEmp!C28 -> 1189237.8 | C45: =[1]ProEmp!D28 -> 5.1655307 | D45: =[1]ProEmp!E28 -> 1180402.9 | E45: =[1]ProEmp!F28 -> 5.1513453 | F45: =[1]ProEmp!G28 -> 8834.9081 | G45: =[1]ProEmp!H28 -> 6.8580686 | H45: =F45/B45*100 -> 0.74290509 | I45: =[1]ProEmp!I28 -> 103892.53 | J45: =[1]ProEmp!J28 -> 5.3970585 | K45: =IF(ISNUMBER(I45/D45*100),I45/D45*100,0) -> 8.8014468 | L45: =[1]ProEmp!K28 -> 498008.8 | M45: =[1]ProEmp!L28 -> 4.7787324 | N45: =IF(ISNUMBER(L45/D45*100),L45/D45*100,0) -> 42.18973
A46: Explotación de minas y canteras | B46: =[1]ProEmp!C29 -> 6630.0335 | C46: =[1]ProEmp!D29 -> 5.9956851 | D46: =[1]ProEmp!E29 -> 6462.5702 | E46: =[1]ProEmp!F29 -> 5.9955254 | F46: =[1]ProEmp!G29 -> 167.46323 | G46: =[1]ProEmp!H29 -> 6 | H46: =F46/B46*100 -> 2.5258279 | I46: =[1]ProEmp!I29 -> 1288.919 | J46: =[1]ProEmp!J29 -> 7.5238095 | K46: =IF(ISNUMBER(I46/D46*100),I46/D46*100,0) -> 19.944372 | L46: =[1]ProEmp!K29 -> 3710.582 | M46: =[1]ProEmp!L29 -> 4.8148087 | N46: =IF(ISNUMBER(L46/D46*100),L46/D46*100,0) -> 57.416505
A47: Industria manufacturera | B47: =[1]ProEmp!C30 -> 449526.48 | C47: =[1]ProEmp!D30 -> 7.5288354 | D47: =[1]ProEmp!E30 -> 432573.68 | E47: =[1]ProEmp!F30 -> 7.4791018 | F47: =[1]ProEmp!G30 -> 16952.797 | G47: =[1]ProEmp!H30 -> 8.7181385 | H47: =F47/B47*100 -> 3.7712566 | I47: =[1]ProEmp!I30 -> 45723.862 | J47: =[1]ProEmp!J30 -> 7.1211154 | K47: =IF(ISNUMBER(I47/D47*100),I47/D47*100,0) -> 10.57019 | L47: =[1]ProEmp!K30 -> 107149.28 | M47: =[1]ProEmp!L30 -> 6.6062658 | N47: =IF(ISNUMBER(L47/D47*100),L47/D47*100,0) -> 24.770181
A48: Electricidad, gas y agua | B48: =[1]ProEmp!C31 -> 16886.03 | C48: =[1]ProEmp!D31 -> 10.785306 | D48: =[1]ProEmp!E31 -> 15677.151 | E48: =[1]ProEmp!F31 -> 10.949036 | F48: =[1]ProEmp!G31 -> 1208.879 | G48: =[1]ProEmp!H31 -> 8.6835693 | H48: =F48/B48*100 -> 7.159048 | I48: =[1]ProEmp!I31 -> 0 | J48: =[1]ProEmp!J31 -> . | K48: =IF(ISNUMBER(I48/D48*100),I48/D48*100,0) -> 0 | L48: =[1]ProEmp!K31 -> 273.06341 | M48: =[1]ProEmp!L31 -> 17 | N48: =IF(ISNUMBER(L48/D48*100),L48/D48*100,0) -> 1.7417923
...

Sheet C02
A1: Cuadro No. 2. Población Económicamente Activa (PEA) en condición de empleo, según dominio, rango de edad, rama de actividad y ocupación
A2: HOMBRES
A3: Categorías | B3: PEA | D3: Ocupados | F3: Desocupados | I3: Subempleo Visible | L3: Subempleo Invisible
B4: No. | C4: AEP | D4: No. | E4: AEP | F4: No. | G4: AEP | H4: TDA | I4: No. | J4: AEP | K4: TSV | L4: No. | M4: AEP | N4: TSI
A6: Total Nacional | B6: =[1]ProEmp!M8 -> 2183811.3 | C6: =[1]ProEmp!N8 -> 6.9102827 | D6: =[1]ProEmp!O8 -> 2112345.1 | E6: =[1]ProEmp!P8 -> 6.8340573 | F6: =[1]ProEmp!Q8 -> 71466.141 | G6: =[1]ProEmp!R8 -> 8.9597707 | H6: =F6/B6*100 -> 3.272542 | I6: =[1]ProEmp!S8 -> 173722.45 | J6: =[1]ProEmp!T8 -> 6.7236773 | K6: =IF(ISNUMBER(I6/D6*100),I6/D6*100,0) -> 8.2241508 | L6: =[1]ProEmp!U8 -> 849853.81 | M6: =[1]ProEmp!V8 -> 5.8277812 | N6: =IF(ISNUMBER(L6/D6*100),L6/D6*100,0) -> 40.232715
A8: Dominio
A9: Urbano | B9: =SUM(B10:B12) -> 887969.11 | C9: =AVERAGE(C10:C12) -> 9.0076878 | D9: =SUM(D10:D12) -> 833351.51 | E9: =AVERAGE(E10:E12) -> 8.9710378 | F9: =SUM(F10:F12) -> 54617.602 | G9: =AVERAGE(G10:G12) -> 9.6048256 | H9: =F9/B9*100 -> 6.1508448 | I9: =SUM(I10:I12) -> 72791.429 | J9: =AVERAGE(J10:J12) -> 8.5481713 | K9: =IF(ISNUMBER(I9/D9*100),I9/D9*100,0) -> 8.7347809 | L9: =SUM(L10:L12) -> 274039.66 | M9: =AVERAGE(M10:M12) -> 7.3719085 | N9: =IF(ISNUMBER(L9/D9*100),L9/D9*100,0) -> 32.884042
A10: Distrito Central | B10: =[1]ProEmp!M9 -> 254131.02 | C10: =[1]ProEmp!N9 -> 9.7201527 | D10: =[1]ProEmp!O9 -> 232627.27 | E10: =[1]ProEmp!P9 -> 9.6895848 | F10: =[1]ProEmp!Q9 -> 21503.744 | G10: =[1]ProEmp!R9 -> 10.040642 | H10: =F10/B10*100 -> 8.4616762 | I10: =[1]ProEmp!S9 -> 25827.248 | J10: =[1]ProEmp!T9 -> 8.9549296 | K10: =IF(ISNUMBER(I10/D10*100),I10/D10*100,0) -> 11.102416 | L10: =[1]ProEmp!U9 -> 64761.54 | M10: =[1]ProEmp!V9 -> 7.5751511 | N10: =IF(ISNUMBER(L10/D10*100),L10/D10*100,0) -> 27.839186
A11: San Pedro Sula | B11: =[1]ProEmp!M10 -> 148223.19 | C11: =[1]ProEmp!N10 -> 9.1297353 | D11: =[1]ProEmp!O10 -> 140865.38 | E11: =[1]ProEmp!P10 -> 9.0736425 | F11: =[1]ProEmp!Q10 -> 7357.8075 | G11: =[1]ProEmp!R10 -> 10.190909 | H11: =F11/B11*100 -> 4.9640056 | I11: =[1]ProEmp!S10 -> 9475.9642 | J11: =[1]ProEmp!T10 -> 9.1401515 | K11: =IF(ISNUMBER(I11/D11*100),I11/D11*100,0) -> 6.7269644 | L11: =[1]ProEmp!U10 -> 43493.88 | M11: =[1]ProEmp!V10 -> 7.4367089 | N11: =IF(ISNUMBER(L11/D11*100),L11/D11*100,0) -> 30.876201
A12: Resto urbano | B12: =[1]ProEmp!M11 -> 485614.9 | C12: =[1]ProEmp!N11 -> 8.1731754 | D12: =[1]ProEmp!O11 -> 459858.85 | E12: =[1]ProEmp!P11 -> 8.149886 | F12: =[1]ProEmp!Q11 -> 25756.051 | G12: =[1]ProEmp!R11 -> 8.5829261 | H12: =F12/B12*100 -> 5.3038016 | I12: =[1]ProEmp!S11 -> 37488.217 | J12: =[1]ProEmp!T11 -> 7.5494329 | K12: =IF(ISNUMBER(I12/D12*100),I12/D12*100,0) -> 8.1521137 | L12: =[1]ProEmp!U11 -> 165784.24 | M12: =[1]ProEmp!V11 -> 7.1038655 | N12: =IF(ISNUMBER(L12/D12*100),L12/D12*100,0) -> 36.051115
A13: Rural | B13: =[1]ProEmp!M12 -> 1295842.2 | C13: =[1]ProEmp!N12 -> 5.4512922 | D13: =[1]ProEmp!O12 -> 1278993.6 | E13: =[1]ProEmp!P12 -> 5.4201469 | F13: =[1]ProEmp!Q12 -> 16848.538 | G13: =[1]ProEmp!R12 -> 7.5245347 | H13: =F13/B13*100 -> 1.3001999 | I13: =[1]ProEmp!S12 -> 100931.02 | J13: =[1]ProEmp!T12 -> 5.5604129 | K13: =IF(ISNUMBER(I13/D13*100),I13/D13*100,0) -> 7.8914405 | L13: =[1]ProEmp!U12 -> 575814.15 | M13: =[1]ProEmp!V12 -> 5.0296869 | N13: =IF(ISNUMBER(L13/D13*100),L13/D13*100,0) -> 45.020877
K14: =IF(ISNUMBER(I14/D14*100),I14/D14*100,0) -> 0 | N14: =IF(ISNUMBER(L14/D14*100),L14/D14*100,0) -> 0
A15: Rango de Edad
A16: De 10 a 11 años | B16: =[1]ProEmp!M14 -> 15989.874 | C16: =[1]ProEmp!N14 -> 3.3299045 | D16: =[1]ProEmp!O14 -> 15822.411 | E16: =[1]ProEmp!P14 -> 3.2984606 | F16: =[1]ProEmp!Q14 -> 167.46323 | G16: =[1]ProEmp!R14 -> 6 | H16: =F16/B16*100 -> 1.047308 | I16: =[1]ProEmp!S14 -> 587.42923 | J16: =[1]ProEmp!T14 -> 3 | K16: =IF(ISNUMBER(I16/D16*100),I16/D16*100,0) -> 3.7126405 | L16: =[1]ProEmp!U14 -> 1068.0531 | M16: =[1]ProEmp!V14 -> 4 | N16: =IF(ISNUMBER(L16/D16*100),L16/D16*100,0) -> 6.7502554
A17: De 12 a 14 años | B17: =[1]ProEmp!M15 -> 88722.076 | C17: =[1]ProEmp!N15 -> 5.1164618 | D17: =[1]ProEmp!O15 -> 88159.415 | E17: =[1]ProEmp!P15 -> 5.0971563 | F17: =[1]ProEmp!Q15 -> 562.66143 | G17: =[1]ProEmp!R15 -> 8 | H17: =F17/B17*100 -> 0.63418424 | I17: =[1]ProEmp!S15 -> 8965.447 | J17: =[1]ProEmp!T15 -> 5.2541892 | K17: =IF(ISNUMBER(I17/D17*100),I17/D17*100,0) -> 10.169585 | L17: =[1]ProEmp!U15 -> 11054.851 | M17: =[1]ProEmp!V15 -> 5.6281791 | N17: =IF(ISNUMBER(L17/D17*100),L17/D17*100,0) -> 12.539615
A18: De 15 a 18 años | B18: =[1]ProEmp!M16 -> 255564.26 | C18: =[1]ProEmp!N16 -> 6.4309192 | D18: =[1]ProEmp!O16 -> 247810.29 | E18: =[1]ProEmp!P16 -> 6.3872155 | F18: =[1]ProEmp!Q16 -> 7753.9647 | G18: =[1]ProEmp!R16 -> 7.7500483 | H18: =F18/B18*100 -> 3.0340568 | I18: =[1]ProEmp!S16 -> 29845.102 | J18: =[1]ProEmp!T16 -> 6.2587268 | K18: =IF(ISNUMBER(I18/D18*100),I18/D18*100,0) -> 12.043528 | L18: =[1]ProEmp!U16 -> 88521.702 | M18: =[1]ProEmp!V16 -> 6.1994222 | N18: =IF(ISNUMBER(L18/D18*100),L18/D18*100,0) -> 35.72156
A19: De 19 a 24 años | B19: =[1]ProEmp!M17 -> 395313.35 | C19: =[1]ProEmp!N17 -> 7.7551326 | D19: =[1]ProEmp!O17 -> 367579.89 | E19: =[1]ProEmp!P17 -> 7.6181134 | F19: =[1]ProEmp!Q17 -> 27733.457 | G19: =[1]ProEmp!R17 -> 9.4973766 | H19: =F19/B19*100 -> 7.015563 | I19: =[1]ProEmp!S17 -> 34005.256 | J19: =[1]ProEmp!T17 -> 7.5364269 | K19: =IF(ISNUMBER(I19/D19*100),I19/D19*100,0) -> 9.2511198 | L19: =[1]ProEmp!U17 -> 158257.41 | M19: =[1]ProEmp!V17 -> 6.9401293 | N19: =IF(ISNUMBER(L19/D19*100),L19/D19*100,0) -> 43.053882
A20: De 25 a 29 años | B20: =[1]ProEmp!M18 -> 248184.23 | C20: =[1]ProEmp!N18 -> 7.7963371 | D20: =[1]ProEmp!O18 -> 236276.69 | E20: =[1]ProEmp!P18 -> 7.7052377 | F20: =[1]ProEmp!Q18 -> 11907.536 | G20: =[1]ProEmp!R18 -> 9.4806629 | H20: =F20/B20*100 -> 4.7978616 | I20: =[1]ProEmp!S18 -> 20072.043 | J20: =[1]ProEmp!T18 -> 7.1420971 | K20: =IF(ISNUMBER(I20/D20*100),I20/D20*100,0) -> 8.4951431 | L20: =[1]ProEmp!U18 -> 94288.969 | M20: =[1]ProEmp!V18 -> 6.3374829 | N20: =IF(ISNUMBER(L20/D20*100),L20/D20*100,0) -> 39.906166
A21: De 30 a 34 años | B21: =[1]ProEmp!M19 -> 201109.46 | C21: =[1]ProEmp!N19 -> 7.4477651 | D21: =[1]ProEmp!O19 -> 194738.11 | E21: =[1]ProEmp!P19 -> 7.3761014 | F21: =[1]ProEmp!Q19 -> 6371.3474 | G21: =[1]ProEmp!R19 -> 9.558389 | H21: =F21/B21*100 -> 3.1680993 | I21: =[1]ProEmp!S19 -> 14011.484 | J21: =[1]ProEmp!T19 -> 7.0513854 | K21: =IF(ISNUMBER(I21/D21*100),I21/D21*100,0) -> 7.1950395 | L21: =[1]ProEmp!U19 -> 76776.891 | M21: =[1]ProEmp!V19 -> 6.0882174 | N21: =IF(ISNUMBER(L21/D21*100),L21/D21*100,0) -> 39.425714
A22: De 35 a 39 años | B22: =[1]ProEmp!M20 -> 173816.44 | C22: =[1]ProEmp!N20 -> 7.2872933 | D22: =[1]ProEmp!O20 -> 171191.61 | E22: =[1]ProEmp!P20 -> 7.2739505 | F22: =[1]ProEmp!Q20 -> 2624.8369 | G22: =[1]ProEmp!R20 -> 8.1281841 | H22: =F22/B22*100 -> 1.51012 | I22: =[1]ProEmp!S20 -> 13202.85 | J22: =[1]ProEmp!T20 -> 6.4050247 | K22: =IF(ISNUMBER(I22/D22*100),I22/D22*100,0) -> 7.712323 | L22: =[1]ProEmp!U20 -> 71721.462 | M22: =[1]ProEmp!V20 -> 5.6493833 | N22: =IF(ISNUMBER(L22/D22*100),L22/D22*100,0) -> 41.895432
A23: De 40 a 44 años | B23: =[1]ProEmp!M21 -> 158305.32 | C23: =[1]ProEmp!N21 -> 7.3007857 | D23: =[1]ProEmp!O21 -> 155214.45 | E23: =[1]ProEmp!P21 -> 7.2450024 | F23: =[1]ProEmp!Q21 -> 3090.8735 | G23: =[1]ProEmp!R21 -> 9.8692394 | H23: =F23/B23*100 -> 1.952476 | I23: =[1]ProEmp!S21 -> 9532.4655 | J23: =[1]ProEmp!T21 -> 7.6911086 | K23: =IF(ISNUMBER(I23/D23*100),I23/D23*100,0) -> 6.1414807 | L23: =[1]ProEmp!U21 -> 69472.468 | M23: =[1]ProEmp!V21 -> 5.5396199 | N23: =IF(ISNUMBER(L23/D23*100),L23/D23*100,0) -> 44.759021
A24: De 45 a 49 años | B24: =[1]ProEmp!M22 -> 165194.74 | C24: =[1]ProEmp!N22 -> 6.7214622 | D24: =[1]ProEmp!O22 -> 162132.13 | E24: =[1]ProEmp!P22 -> 6.7079564 | F24: =[1]ProEmp!Q22 -> 3062.6037 | G24: =[1]ProEmp!R22 -> 7.3680447 | H24: =F24/B24*100 -> 1.8539354 | I24: =[1]ProEmp!S22 -> 15250.623 | J24: =[1]ProEmp!T22 -> 5.7269377 | K24: =IF(ISNUMBER(I24/D24*100),I24/D24*100,0) -> 9.4062928 | L24: =[1]ProEmp!U22 -> 68165.988 | M24: =[1]ProEmp!V22 -> 5.413757 | N24: =IF(ISNUMBER(L24/D24*100),L24/D24*100,0) -> 42.043478
A25: De 50 a 54 años | B25: =[1]ProEmp!M23 -> 140603.97 | C25: =[1]ProEmp!N23 -> 6.4314042 | D25: =[1]ProEmp!O23 -> 136759.18 | E25: =[1]ProEmp!P23 -> 6.375601 | F25: =[1]ProEmp!Q23 -> 3844.7829 | G25: =[1]ProEmp!R23 -> 8.3228004 | H25: =F25/B25*100 -> 2.7344769 | I25: =[1]ProEmp!S23 -> 10597.431 | J25: =[1]ProEmp!T23 -> 5.8115347 | K25: =IF(ISNUMBER(I25/D25*100),I25/D25*100,0) -> 7.7489724 | L25: =[1]ProEmp!U23 -> 61723.765 | M25: =[1]ProEmp!V23 -> 5.0097148 | N25: =IF(ISNUMBER(L25/D25*100),L25/D25*100,0) -> 45.133177
A26: De 55 a 59 años | B26: =[1]ProEmp!M24 -> 118461.93 | C26: =[1]ProEmp!N24 -> 5.982723 | D26: =[1]ProEmp!O24 -> 115404.97 | E26: =[1]ProEmp!P24 -> 5.95943 | F26: =[1]ProEmp!Q24 -> 3056.9582 | G26: =[1]ProEmp!R24 -> 6.9018162 | H26: =F26/B26*100 -> 2.5805406 | I26: =[1]ProEmp!S24 -> 6501.755 | J26: =[1]ProEmp!T24 -> 8.0507634 | K26: =IF(ISNUMBER(I26/D26*100),I26/D26*100,0) -> 5.6338604 | L26: =[1]ProEmp!U24 -> 51676.179 | M26: =[1]ProEmp!V24 -> 4.0442845 | N26: =IF(ISNUMBER(L26/D26*100),L26/D26*100,0) -> 44.778122
A27: De 60 a 64 años | B27: =[1]ProEmp!M25 -> 88213.478 | C27: =[1]ProEmp!N25 -> 5.399399 | D27: =[1]ProEmp!O25 -> 87559.255 | E27: =[1]ProEmp!P25 -> 5.3948815 | F27: =[1]ProEmp!Q25 -> 654.22326 | G27: =[1]ProEmp!R25 -> 6 | H27: =F27/B27*100 -> 0.74163639 | I27: =[1]ProEmp!S25 -> 5191.2032 | J27: =[1]ProEmp!T25 -> 7.1339872 | K27: =IF(ISNUMBER(I27/D27*100),I27/D27*100,0) -> 5.9287887 | L27: =[1]ProEmp!U25 -> 38362.628 | M27: =[1]ProEmp!V25 -> 4.1775636 | N27: =IF(ISNUMBER(L27/D27*100),L27/D27*100,0) -> 43.813333
A28: De 65 años y más | B28: =[1]ProEmp!M26 -> 134332.15 | C28: =[1]ProEmp!N26 -> 4.9704205 | D28: =[1]ProEmp!O26 -> 133696.72 | E28: =[1]ProEmp!P26 -> 4.9688352 | F28: =[1]ProEmp!Q26 -> 635.4324 | G28: =[1]ProEmp!R26 -> 5.2398047 | H28: =F28/B28*100 -> 0.47303075 | I28: =[1]ProEmp!S26 -> 5959.3602 | J28: =[1]ProEmp!T26 -> 5.7908262 | K28: =IF(ISNUMBER(I28/D28*100),I28/D28*100,0) -> 4.457372 | L28: =[1]ProEmp!U26 -> 58763.442 | M28: =[1]ProEmp!V26 -> 3.6808459 | N28: =IF(ISNUMBER(L28/D28*100),L28/D28*100,0) -> 43.952792
A30: ='C01'!$A$31 -> Fuente: Instituto Nacional de Estadística (INE). XLI Encuesta Permanente de Hogares de Propósitos Múltiples, Mayo 2011.
A31: AEP: Años de Estudio Promedio
A32: TDA: Tasa de Desempleo Abierto
A33: TSV: Tasa de Subempleo Visible
A34: TSI: Tasa de Subempleo Invisible
A36: =A1 -> Cuadro No. 2. Población Económicamente Activa (PEA) en condición de empleo, según dominio, rango de edad, rama de actividad y ocupación
A37: Hombres
A38: ....... Continuación
A39: =A3 -> Categorías | B39: =B3 -> PEA | D39: =D3 -> Ocupados | F39: =F3 -> Desocupados | I39: =I3 -> Subempleo Visible | L39: =L3 -> Subempleo Invisible
B40: =B4 -> No. | C40: =C4 -> AEP | D40: =D4 -> No. | E40: =E4 -> AEP | F40: =F4 -> No. | G40: =G4 -> AEP | H40: =H4 -> TDA | I40: =I4 -> No. | ... N40: =N4 -> TSI
A42: =A6 -> Total Nacional | B42: =B6 -> 2183811.3 | C42: =C6 -> 6.9102827 | D42: =D6 -> 2112345.1 | E42: =E6 -> 6.8340573 | F42: =F6 -> 71466.141 | G42: =G6 -> 8.9597707 | H42: =H6 -> 3.272542 | ... N42: =N6 -> 40.232715
A44: Rama de Actividad
A45: Agricultura, Silvicultura, Caza y Pesca | B45: =[1]ProEmp!M28 -> 1080544.5 | C45: =[1]ProEmp!N28 -> 5.1710363 | D45: =[1]ProEmp!O28 -> 1073774.8 | E45: =[1]ProEmp!P28 -> 5.1552675 | F45: =[1]ProEmp!Q28 -> 6769.7171 | G45: =[1]ProEmp!R28 -> 7.5092283 | H45: =F45/B45*100 -> 0.62650978 | I45: =[1]ProEmp!S28 -> 87637.565 | J45: =[1]ProEmp!T28 -> 5.4651799 | K45: =IF(ISNUMBER(I45/D45*100),I45/D45*100,0) -> 8.1616336 | L45: =[1]ProEmp!U28 -> 480167.27 | M45: =[1]ProEmp!V28 -> 4.7621044 | N45: =IF(ISNUMBER(L45/D45*100),L45/D45*100,0) -> 44.717688
A46: Explotación de minas y canteras | B46: =[1]ProEmp!M29 -> 6195.5569 | C46: =[1]ProEmp!N29 -> 5.9954248 | D46: =[1]ProEmp!O29 -> 6028.0937 | E46: =[1]ProEmp!P29 -> 5.9952448 | F46: =[1]ProEmp!Q29 -> 167.46323 | G46: =[1]ProEmp!R29 -> 6 | H46: =F46/B46*100 -> 2.7029569 | I46: =[1]ProEmp!S29 -> 1121.4558 | J46: =[1]ProEmp!T29 -> 7.5238095 | K46: =IF(ISNUMBER(I46/D46*100),I46/D46*100,0) -> 18.603822 | L46: =[1]ProEmp!U29 -> 3443.5687 | M46: =[1]ProEmp!V29 -> 4.671487 | N46: =IF(ISNUMBER(L46/D46*100),L46/D46*100,0) -> 57.125335
...

Sheet C03
A1: Cuadro No. 1. Población Económicamente Activa (PEA) en condición de empleo, según dominio, rama de actividad y ocupación
A2: Mujeres
A3: Categorías | B3: PEA | D3: Ocupados | F3: Desocupados | I3: Subempleo Visible | L3: Subempleo Invisible
B4: No. | C4: AEP | D4: No. | E4: AEP | F4: No. | G4: AEP | H4: TDA | I4: No. | J4: AEP | K4: TSV | L4: No. | M4: AEP | N4: TSI
A6: Total Nacional | B6: =[1]ProEmp!W8 -> 1186107.4 | C6: =[1]ProEmp!X8 -> 8.3183897 | D6: =[1]ProEmp!Y8 -> 1113790.2 | E6: =[1]ProEmp!Z8 -> 8.1957777 | F6: =[1]ProEmp!AA8 -> 72317.252 | G6: =[1]ProEmp!AB8 -> 10.061796 | H6: =F6/B6*100 -> 6.0970239 | I6: =[1]ProEmp!AC8 -> 160246.71 | J6: =[1]ProEmp!AD8 -> 7.8985978 | K6: =IF(ISNUMBER(I6/D6*100),I6/D6*100,0) -> 14.387513 | L6: =[1]ProEmp!AE8 -> 321121 | M6: =[1]ProEmp!AF8 -> 7.0938933 | N6: =IF(ISNUMBER(L6/D6*100),L6/D6*100,0) -> 28.831373
A8: Dominio
A9: Urbano | B9: =SUM(B10:B12) -> 715336.29 | C9: =AVERAGE(C10:C12) -> 9.6265714 | D9: =SUM(D10:D12) -> 660935.63 | E9: =AVERAGE(E10:E12) -> 9.5465281 | F9: =SUM(F10:F12) -> 54400.661 | G9: =AVERAGE(G10:G12) -> 10.43221 | H9: =F9/B9*100 -> 7.6049071 | I9: =SUM(I10:I12) -> 84975.665 | J9: =AVERAGE(J10:J12) -> 8.8663198 | K9: =IF(ISNUMBER(I9/D9*100),I9/D9*100,0) -> 12.856874 | L9: =SUM(L10:L12) -> 186386.09 | M9: =AVERAGE(M10:M12) -> 7.7866736 | N9: =IF(ISNUMBER(L9/D9*100),L9/D9*100,0) -> 28.200339
A10: Distrito Central | B10: =[1]ProEmp!W9 -> 213057.73 | C10: =[1]ProEmp!X9 -> 10.264884 | D10: =[1]ProEmp!Y9 -> 190552.75 | E10: =[1]ProEmp!Z9 -> 10.12836 | F10: =[1]ProEmp!AA9 -> 22504.976 | G10: =[1]ProEmp!AB9 -> 11.369765 | H10: =F10/B10*100 -> 10.562854 | I10: =[1]ProEmp!AC9 -> 29650.136 | J10: =[1]ProEmp!AD9 -> 8.985962 | K10: =IF(ISNUMBER(I10/D10*100),I10/D10*100,0) -> 15.560067 | L10: =[1]ProEmp!AE9 -> 41824.213 | M10: =[1]ProEmp!AF9 -> 8 | N10: =IF(ISNUMBER(L10/D10*100),L10/D10*100,0) -> 21.948889
A11: San Pedro Sula | B11: =[1]ProEmp!W10 -> 111179.34 | C11: =[1]ProEmp!X10 -> 9.6392216 | D11: =[1]ProEmp!Y10 -> 105891.91 | E11: =[1]ProEmp!Z10 -> 9.6409893 | F11: =[1]ProEmp!AA10 -> 5287.4288 | G11: =[1]ProEmp!AB10 -> 9.6054217 | H11: =F11/B11*100 -> 4.7557656 | I11: =[1]ProEmp!AC10 -> 12294.865 | J11: =[1]ProEmp!AD10 -> 8.8018494 | K11: =IF(ISNUMBER(I11/D11*100),I11/D11*100,0) -> 11.610769 | L11: =[1]ProEmp!AE10 -> 27790.853 | M11: =[1]ProEmp!AF10 -> 7.6911942 | N11: =IF(ISNUMBER(L11/D11*100),L11/D11*100,0) -> 26.244548
A12: Resto urbano | B12: =[1]ProEmp!W11 -> 391099.23 | C12: =[1]ProEmp!X11 -> 8.9756085 | D12: =[1]ProEmp!Y11 -> 364490.97 | E12: =[1]ProEmp!Z11 -> 8.8702346 | F12: =[1]ProEmp!AA11 -> 26608.256 | G12: =[1]ProEmp!AB11 -> 10.321442 | H12: =F12/B12*100 -> 6.8034539 | I12: =[1]ProEmp!AC11 -> 43030.665 | J12: =[1]ProEmp!AD11 -> 8.811148 | K12: =IF(ISNUMBER(I12/D12*100),I12/D12*100,0) -> 11.805687 | L12: =[1]ProEmp!AE11 -> 116771.03 | M12: =[1]ProEmp!AF11 -> 7.6688266 | N12: =IF(ISNUMBER(L12/D12*100),L12/D12*100,0) -> 32.03674
A13: Rural | B13: =[1]ProEmp!W12 -> 470771.12 | C13: =[1]ProEmp!X12 -> 6.3912754 | D13: =[1]ProEmp!Y12 -> 452854.53 | E13: =[1]ProEmp!Z12 -> 6.3202029 | F13: =[1]ProEmp!AA12 -> 17916.591 | G13: =[1]ProEmp!AB12 -> 8.0386473 | H13: =F13/B13*100 -> 3.8057966 | I13: =[1]ProEmp!AC12 -> 75271.045 | J13: =[1]ProEmp!AD12 -> 6.7337898 | K13: =IF(ISNUMBER(I13/D13*100),I13/D13*100,0) -> 16.621462 | L13: =[1]ProEmp!AE12 -> 134734.9 | M13: =[1]ProEmp!AF12 -> 6.1068277 | N13: =IF(ISNUMBER(L13/D13*100),L13/D13*100,0) -> 29.752358
K14: =IF(ISNUMBER(I14/D14*100),I14/D14*100,0) -> 0 | N14: =IF(ISNUMBER(L14/D14*100),L14/D14*100,0) -> 0
A15: Rango de Edad
A16: De 10 a 11 años | B16: =[1]ProEmp!W14 -> 4753.1332 | C16: =[1]ProEmp!X14 -> 4.1684905 | D16: =[1]ProEmp!Y14 -> 4753.1332 | E16: =[1]ProEmp!Z14 -> 4.1684905 | F16: =[1]ProEmp!AA14 -> 0 | G16: =[1]ProEmp!AB14 -> . | H16: =F16/B16*100 -> 0 | I16: =[1]ProEmp!AC14 -> 267.01328 | J16: =[1]ProEmp!AD14 -> 5 | K16: =IF(ISNUMBER(I16/D16*100),I16/D16*100,0) -> 5.6176268 | L16: =[1]ProEmp!AE14 -> 0 | M16: =[1]ProEmp!AF14 -> . | N16: =IF(ISNUMBER(L16/D16*100),L16/D16*100,0) -> 0
A17: De 12 a 14 años | B17: =[1]ProEmp!W15 -> 21406.216 | C17: =[1]ProEmp!X15 -> 6.0982353 | D17: =[1]ProEmp!Y15 -> 21406.216 | E17: =[1]ProEmp!Z15 -> 6.0982353 | F17: =[1]ProEmp!AA15 -> 0 | G17: =[1]ProEmp!AB15 -> . | H17: =F17/B17*100 -> 0 | I17: =[1]ProEmp!AC15 -> 1602.0797 | J17: =[1]ProEmp!AD15 -> 6.25 | K17: =IF(ISNUMBER(I17/D17*100),I17/D17*100,0) -> 7.4841799 | L17: =[1]ProEmp!AE15 -> 3017.6838 | M17: =[1]ProEmp!AF15 -> 5.5688468 | N17: =IF(ISNUMBER(L17/D17*100),L17/D17*100,0) -> 14.097231
A18: De 15 a 18 años | B18: =[1]ProEmp!W16 -> 76761.17 | C18: =[1]ProEmp!X16 -> 7.8809137 | D18: =[1]ProEmp!Y16 -> 69587.355 | E18: =[1]ProEmp!Z16 -> 7.6315591 | F18: =[1]ProEmp!AA16 -> 7173.8151 | G18: =[1]ProEmp!AB16 -> 10.412505 | H18: =F18/B18*100 -> 9.3456302 | I18: =[1]ProEmp!AC16 -> 10959.442 | J18: =[1]ProEmp!AD16 -> 8.4349798 | K18: =IF(ISNUMBER(I18/D18*100),I18/D18*100,0) -> 15.749186 | L18: =[1]ProEmp!AE16 -> 23895.715 | M18: =[1]ProEmp!AF16 -> 6.8129828 | N18: =IF(ISNUMBER(L18/D18*100),L18/D18*100,0) -> 34.339162
A19: De 19 a 24 años | B19: =[1]ProEmp!W17 -> 204780.68 | C19: =[1]ProEmp!X17 -> 9.6231491 | D19: =[1]ProEmp!Y17 -> 173217.92 | E19: =[1]ProEmp!Z17 -> 9.489035 | F19: =[1]ProEmp!AA17 -> 31562.761 | G19: =[1]ProEmp!AB17 -> 10.349853 | H19: =F19/B19*100 -> 15.412958 | I19: =[1]ProEmp!AC17 -> 24041.838 | J19: =[1]ProEmp!AD17 -> 9.4809219 | K19: =IF(ISNUMBER(I19/D19*100),I19/D19*100,0) -> 13.879533 | L19: =[1]ProEmp!AE17 -> 63315.23 | M19: =[1]ProEmp!AF17 -> 8.9586347 | N19: =IF(ISNUMBER(L19/D19*100),L19/D19*100,0) -> 36.552355
A20: De 25 a 29 años | B20: =[1]ProEmp!W18 -> 148212.8 | C20: =[1]ProEmp!X18 -> 9.367145 | D20: =[1]ProEmp!Y18 -> 134472.15 | E20: =[1]ProEmp!Z18 -> 9.211167 | F20: =[1]ProEmp!AA18 -> 13740.644 | G20: =[1]ProEmp!AB18 -> 10.865549 | H20: =F20/B20*100 -> 9.270889 | I20: =[1]ProEmp!AC18 -> 20623.995 | J20: =[1]ProEmp!AD18 -> 9.2718589 | K20: =IF(ISNUMBER(I20/D20*100),I20/D20*100,0) -> 15.337001 | L20: =[1]ProEmp!AE18 -> 36805.362 | M20: =[1]ProEmp!AF18 -> 8.2834788 | N20: =IF(ISNUMBER(L20/D20*100),L20/D20*100,0) -> 27.370248
A21: De 30 a 34 años | B21: =[1]ProEmp!W19 -> 141093.78 | C21: =[1]ProEmp!X19 -> 8.9831336 | D21: =[1]ProEmp!Y19 -> 132962.27 | E21: =[1]ProEmp!Z19 -> 8.8611721 | F21: =[1]ProEmp!AA19 -> 8131.5105 | G21: =[1]ProEmp!AB19 -> 10.945196 | H21: =F21/B21*100 -> 5.7631954 | I21: =[1]ProEmp!AC19 -> 19525.353 | J21: =[1]ProEmp!AD19 -> 7.6140376 | K21: =IF(ISNUMBER(I21/D21*100),I21/D21*100,0) -> 14.684882 | L21: =[1]ProEmp!AE19 -> 36044.432 | M21: =[1]ProEmp!AF19 -> 7.4727577 | N21: =IF(ISNUMBER(L21/D21*100),L21/D21*100,0) -> 27.108766
A22: De 35 a 39 años | B22: =[1]ProEmp!W20 -> 131623.7 | C22: =[1]ProEmp!X20 -> 7.8994985 | D22: =[1]ProEmp!Y20 -> 126900.71 | E22: =[1]ProEmp!Z20 -> 7.9565715 | F22: =[1]ProEmp!AA20 -> 4722.986 | G22: =[1]ProEmp!AB20 -> 6.4988732 | H22: =F22/B22*100 -> 3.588249 | I22: =[1]ProEmp!AC20 -> 23466.842 | J22: =[1]ProEmp!AD20 -> 6.9063076 | K22: =IF(ISNUMBER(I22/D22*100),I22/D22*100,0) -> 18.492286 | L22: =[1]ProEmp!AE20 -> 33472.608 | M22: =[1]ProEmp!AF20 -> 6.2979007 | N22: =IF(ISNUMBER(L22/D22*100),L22/D22*100,0) -> 26.377005
A23: De 40 a 44 años | B23: =[1]ProEmp!W21 -> 109591.15 | C23: =[1]ProEmp!X21 -> 8.0381565 | D23: =[1]ProEmp!Y21 -> 107522.5 | E23: =[1]ProEmp!Z21 -> 7.9936013 | F23: =[1]ProEmp!AA21 -> 2068.6471 | G23: =[1]ProEmp!AB21 -> 10.180489 | H23: =F23/B23*100 -> 1.8876042 | I23: =[1]ProEmp!AC21 -> 17871.792 | J23: =[1]ProEmp!AD21 -> 7.5317148 | K23: =IF(ISNUMBER(I23/D23*100),I23/D23*100,0) -> 16.621444 | L23: =[1]ProEmp!AE21 -> 34531.829 | M23: =[1]ProEmp!AF21 -> 6.2940645 | N23: =IF(ISNUMBER(L23/D23*100),L23/D23*100,0) -> 32.115909
A24: De 45 a 49 años | B24: =[1]ProEmp!W22 -> 104044.19 | C24: =[1]ProEmp!X22 -> 7.8049601 | D24: =[1]ProEmp!Y22 -> 101642.27 | E24: =[1]ProEmp!Z22 -> 7.8682855 | F24: =[1]ProEmp!AA22 -> 2401.9155 | G24: =[1]ProEmp!AB22 -> 5.3920677 | H24: =F24/B24*100 -> 2.3085533 | I24: =[1]ProEmp!AC22 -> 16150.782 | J24: =[1]ProEmp!AD22 -> 7.078759 | K24: =IF(ISNUMBER(I24/D24*100),I24/D24*100,0) -> 15.889828 | L24: =[1]ProEmp!AE22 -> 22981.586 | M24: =[1]ProEmp!AF22 -> 5.958029 | N24: =IF(ISNUMBER(L24/D24*100),L24/D24*100,0) -> 22.610265
A25: De 50 a 54 años | B25: =[1]ProEmp!W23 -> 87950.64 | C25: =[1]ProEmp!X23 -> 6.8104347 | D25: =[1]ProEmp!Y23 -> 86817.662 | E25: =[1]ProEmp!Z23 -> 6.7687836 | F25: =[1]ProEmp!AA23 -> 1132.9776 | G25: =[1]ProEmp!AB23 -> 9.4981816 | H25: =F25/B25*100 -> 1.2881971 | I25: =[1]ProEmp!AC23 -> 10428.718 | J25: =[1]ProEmp!AD23 -> 6.4185159 | K25: =IF(ISNUMBER(I25/D25*100),I25/D25*100,0) -> 12.012208 | L25: =[1]ProEmp!AE23 -> 26185.591 | M25: =[1]ProEmp!AF23 -> 5.4084355 | N25: =IF(ISNUMBER(L25/D25*100),L25/D25*100,0) -> 30.161595
A26: De 55 a 59 años | B26: =[1]ProEmp!W24 -> 56766.135 | C26: =[1]ProEmp!X24 -> 8.0611118 | D26: =[1]ProEmp!Y24 -> 55611.693 | E26: =[1]ProEmp!Z24 -> 8.0092089 | F26: =[1]ProEmp!AA24 -> 1154.4423 | G26: =[1]ProEmp!AB24 -> 10.425556 | H26: =F26/B26*100 -> 2.0336813 | I26: =[1]ProEmp!AC24 -> 8831.2544 | J26: =[1]ProEmp!AD24 -> 7.5262032 | K26: =IF(ISNUMBER(I26/D26*100),I26/D26*100,0) -> 15.880211 | L26: =[1]ProEmp!AE24 -> 14414.225 | M26: =[1]ProEmp!AF24 -> 5.9453948 | N26: =IF(ISNUMBER(L26/D26*100),L26/D26*100,0) -> 25.919415
A27: De 60 a 64 años | B27: =[1]ProEmp!W25 -> 39798.625 | C27: =[1]ProEmp!X25 -> 6.3988172 | D27: =[1]ProEmp!Y25 -> 39798.625 | E27: =[1]ProEmp!Z25 -> 6.3988172 | F27: =[1]ProEmp!AA25 -> 0 | G27: =[1]ProEmp!AB25 -> . | H27: =F27/B27*100 -> 0 | I27: =[1]ProEmp!AC25 -> 3218.7603 | J27: =[1]ProEmp!AD25 -> 6.1430795 | K27: =IF(ISNUMBER(I27/D27*100),I27/D27*100,0) -> 8.0876167 | L27: =[1]ProEmp!AE25 -> 9953.3424 | M27: =[1]ProEmp!AF25 -> 5.513279 | N27: =IF(ISNUMBER(L27/D27*100),L27/D27*100,0) -> 25.009262
A28: De 65 años y más | B28: =[1]ProEmp!W26 -> 59325.197 | C28: =[1]ProEmp!X26 -> 5.5808803 | D28: =[1]ProEmp!Y26 -> 59097.645 | E28: =[1]ProEmp!Z26 -> 5.5782541 | F28: =[1]ProEmp!AA26 -> 227.55284 | G28: =[1]ProEmp!AB26 -> 6 | H28: =F28/B28*100 -> 0.38356863 | I28: =[1]ProEmp!AC26 -> 3258.84 | J28: =[1]ProEmp!AD26 -> 6.9911213 | K28: =IF(ISNUMBER(I28/D28*100),I28/D28*100,0) -> 5.5143315 | L28: =[1]ProEmp!AE26 -> 16503.391 | M28: =[1]ProEmp!AF26 -> 4.7393922 | N28: =IF(ISNUMBER(L28/D28*100),L28/D28*100,0) -> 27.925633
A30: ='C01'!$A$31 -> Fuente: Instituto Nacional de Estadística (INE). XLI Encuesta Permanente de Hogares de Propósitos Múltiples, Mayo 2011.
A31: AEP: Años de Estudio Promedio
A32: TDA: Tasa de Desempleo Abierto
A33: TSV: Tasa de Subempleo Visible
A34: TSI: Tasa de Subempleo Invisible
A36: =A1 -> Cuadro No. 1. Población Económicamente Activa (PEA) en condición de empleo, según dominio, rama de actividad y ocupación
A37: =A2 -> Mujeres
A38: ....... Continuación
A39: =A3 -> Categorías | B39: =B3 -> PEA | D39: =D3 -> Ocupados | F39: =F3 -> Desocupados | I39: =I3 -> Subempleo Visible | L39: =L3 -> Subempleo Invisible
B40: =B4 -> No. | C40: =C4 -> AEP | D40: =D4 -> No. | E40: =E4 -> AEP | F40: =F4 -> No. | G40: =G4 -> AEP | H40: =H4 -> TDA | I40: =I4 -> No. | ... N40: =N4 -> TSI
A42: =A6 -> Total Nacional | B42: =B6 -> 1186107.4 | C42: =C6 -> 8.3183897 | D42: =D6 -> 1113790.2 | E42: =E6 -> 8.1957777 | F42: =F6 -> 72317.252 | G42: =G6 -> 10.061796 | H42: =H6 -> 6.0970239 | ... N42: =N6 -> 28.831373
A44: Rama de Actividad
A45: Agricultura, Silvicultura, Caza y Pesca | B45: =[1]ProEmp!W28 -> 108693.29 | C45: =[1]ProEmp!X28 -> 5.1073098 | D45: =[1]ProEmp!Y28 -> 106628.1 | E45: =[1]ProEmp!Z28 -> 5.1090748 | F45: =[1]ProEmp!AA28 -> 2065.1911 | G45: =[1]ProEmp!AB28 -> 5.0394921 | H45: =F45/B45*100 -> 1.9000171 | I45: =[1]ProEmp!AC28 -> 16254.968 | J45: =[1]ProEmp!AD28 -> 4.9982975 | K45: =IF(ISNUMBER(I45/D45*100),I45/D45*100,0) -> 15.244545 | L45: =[1]ProEmp!AE28 -> 17841.532 | M45: =[1]ProEmp!AF28 -> 5.2572674 | N45: =IF(ISNUMBER(L45/D45*100),L45/D45*100,0) -> 16.732486
A46: Explotación de minas y canteras | B46: =[1]ProEmp!W29 -> 434.47652 | C46: =[1]ProEmp!X29 -> 6 | D46: =[1]ProEmp!Y29 -> 434.47652 | E46: =[1]ProEmp!Z29 -> 6 | F46: =[1]ProEmp!AA29 -> 0 | G46: =[1]ProEmp!AB29 -> . | H46: =F46/B46*100 -> 0 | I46: =[1]ProEmp!AC29 -> 167.46323 | J46: =[1]ProEmp!AD29 -> . | K46: =IF(ISNUMBER(I46/D46*100),I46/D46*100,0) -> 38.543679 | L46: =[1]ProEmp!AE29 -> 267.01328 | M46: =[1]ProEmp!AF29 -> 6 | N46: =IF(ISNUMBER(L46/D46*100),L46/D46*100,0) -> 61.456321
...

Sheet C04
A1: Cuadro No. 4. Población con problemas de empleo y Años de Estudio Promedio (AEP), según dominio, rama de actividad y ocupación
A3: Categorías | B3: Total | C3: Desocupados | F3: Subempleo Visible | I3: Subempleo Invisible | L3: Potencialmente Activos | O3: Desalentados
C4: No. | D4: % 2/ | E4: AEP | F4: No. | G4: % 2/ | H4: AEP | I4: No. | J4: % 2/ | K4: AEP | L4: No. | M4: % 2/ | N4: AEP | O4: No. | P4: % 2/ | Q4: AEP
A6: Total Nacional | B6: =SUM(C6,F6,I6,L6,O6) -> 1854033.3 | C6: =[1]ProEmp!C61 -> 143783.39 | D6: =IF(ISNUMBER(C6/$B6*100),C6/$B6*100,0) -> 7.7551678 | E6: =[1]ProEmp!D61 -> 9.5208985 | F6: =[1]ProEmp!E61 -> 333969.16 | G6: =IF(ISNUMBER(F6/$B6*100),F6/$B6*100,0) -> 18.013116 | H6: =[1]ProEmp!F61 -> 7.2942285 | I6: =[1]ProEmp!G61 -> 1170974.8 | J6: =IF(ISNUMBER(I6/$B6*100),I6/$B6*100,0) -> 63.15824 | K6: =[1]ProEmp!H61 -> 6.2009567 | L6: =[1]ProEmp!I61 -> 44129.841 | M6: =IF(ISNUMBER(L6/$B6*100),L6/$B6*100,0) -> 2.3802076 | N6: =[1]ProEmp!J61 -> 7.8966451 | O6: =[1]ProEmp!K61 -> 161176.09 | P6: =IF(ISNUMBER(O6/$B6*100),O6/$B6*100,0) -> 8.6932686 | Q6: =[1]ProEmp!L61 -> 7.3079659
A8: Dominio
A9: Urbano | B9: =SUM(C9,F9,I9,L9,O9) -> 820318.06 | C9: =SUM(C10:C12) -> 109018.26 | D9: =IF(ISNUMBER(C9/$B9*100),C9/$B9*100,0) -> 13.289755 | E9: =AVERAGE(E10:E12) -> 10.051472 | F9: =SUM(F10:F12) -> 157767.09 | G9: =IF(ISNUMBER(F9/$B9*100),F9/$B9*100,0) -> 19.23243 | H9: =AVERAGE(H10:H12) -> 8.7147848 | I9: =SUM(I10:I12) -> 460425.75 | J9: =IF(ISNUMBER(I9/$B9*100),I9/$B9*100,0) -> 56.127711 | K9: =AVERAGE(K10:K12) -> 7.5417413 | L9: =SUM(L10:L12) -> 18096.046 | M9: =IF(ISNUMBER(L9/$B9*100),L9/$B9*100,0) -> 2.2059792 | N9: =AVERAGE(N10:N12) -> 10.276182 | O9: =SUM(O10:O12) -> 75010.906 | P9: =IF(ISNUMBER(O9/$B9*100),O9/$B9*100,0) -> 9.1441247 | Q9: =AVERAGE(Q10:Q12) -> 8.5652767
A10: Distrito Central | B10: =SUM(C10,F10,I10,L10,O10) -> 242093.47 | C10: =[1]ProEmp!C62 -> 44008.72 | D10: =IF(ISNUMBER(C10/$B10*100),C10/$B10*100,0) -> 18.1784 | E10: =[1]ProEmp!D62 -> 10.720481 | F10: =[1]ProEmp!E62 -> 55477.384 | G10: =IF(ISNUMBER(F10/$B10*100),F10/$B10*100,0) -> 22.915688 | H10: =[1]ProEmp!F62 -> 8.9714411 | I10: =[1]ProEmp!G62 -> 106585.75 | J10: =IF(ISNUMBER(I10/$B10*100),I10/$B10*100,0) -> 44.026694 | K10: =[1]ProEmp!H62 -> 7.7426807 | L10: =[1]ProEmp!I62 -> 7577.5097 | M10: =IF(ISNUMBER(L10/$B10*100),L10/$B10*100,0) -> 3.1299934 | N10: =[1]ProEmp!J62 -> 10.29703 | O10: =[1]ProEmp!K62 -> 28444.106 | P10: =IF(ISNUMBER(O10/$B10*100),O10/$B10*100,0) -> 11.749225 | Q10: =[1]ProEmp!L62 -> 8.424
A11: San Pedro Sula | B11: =SUM(C11,F11,I11,L11,O11) -> 121435.68 | C11: =[1]ProEmp!C63 -> 12645.236 | D11: =IF(ISNUMBER(C11/$B11*100),C11/$B11*100,0) -> 10.413115 | E11: =[1]ProEmp!D63 -> 9.9391192 | F11: =[1]ProEmp!E63 -> 21770.829 | G11: =IF(ISNUMBER(F11/$B11*100),F11/$B11*100,0) -> 17.927869 | H11: =[1]ProEmp!F63 -> 8.940856 | I11: =[1]ProEmp!G63 -> 71284.733 | J11: =IF(ISNUMBER(I11/$B11*100),I11/$B11*100,0) -> 58.701639 | K11: =[1]ProEmp!H63 -> 7.537506 | L11: =[1]ProEmp!I63 -> 3822.2377 | M11: =IF(ISNUMBER(L11/$B11*100),L11/$B11*100,0) -> 3.147541 | N11: =[1]ProEmp!J63 -> 10.5375 | O11: =[1]ProEmp!K63 -> 11912.641 | P11: =IF(ISNUMBER(O11/$B11*100),O11/$B11*100,0) -> 9.8098361 | Q11: =[1]ProEmp!L63 -> 8.5696594
A12: Resto urbano | B12: =SUM(C12,F12,I12,L12,O12) -> 456788.91 | C12: =[1]ProEmp!C64 -> 52364.307 | D12: =IF(ISNUMBER(C12/$B12*100),C12/$B12*100,0) -> 11.463568 | E12: =[1]ProEmp!D64 -> 9.4948148 | F12: =[1]ProEmp!E64 -> 80518.881 | G12: =IF(ISNUMBER(F12/$B12*100),F12/$B12*100,0) -> 17.627153 | H12: =[1]ProEmp!F64 -> 8.2320574 | I12: =[1]ProEmp!G64 -> 282555.27 | J12: =IF(ISNUMBER(I12/$B12*100),I12/$B12*100,0) -> 61.856858 | K12: =[1]ProEmp!H64 -> 7.3450372 | L12: =[1]ProEmp!I64 -> 6696.2986 | M12: =IF(ISNUMBER(L12/$B12*100),L12/$B12*100,0) -> 1.4659503 | N12: =[1]ProEmp!J64 -> 9.9940164 | O12: =[1]ProEmp!K64 -> 34654.16 | P12: =IF(ISNUMBER(O12/$B12*100),O12/$B12*100,0) -> 7.5864713 | Q12: =[1]ProEmp!L64 -> 8.7021707
A13: Rural | B13: =SUM(C13,F13,I13,L13,O13) -> 1033715.2 | C13: =[1]ProEmp!C65 -> 34765.13 | D13: =IF(ISNUMBER(C13/$B13*100),C13/$B13*100,0) -> 3.3631245 | E13: =[1]ProEmp!D65 -> 7.7879538 | F13: =[1]ProEmp!E65 -> 176202.07 | G13: =IF(ISNUMBER(F13/$B13*100),F13/$B13*100,0) -> 17.045513 | H13: =[1]ProEmp!F65 -> 6.0647395 | I13: =[1]ProEmp!G65 -> 710549.05 | J13: =IF(ISNUMBER(I13/$B13*100),I13/$B13*100,0) -> 68.737408 | K13: =[1]ProEmp!H65 -> 5.2507626 | L13: =[1]ProEmp!I65 -> 26033.795 | M13: =IF(ISNUMBER(L13/$B13*100),L13/$B13*100,0) -> 2.5184688 | N13: =[1]ProEmp!J65 -> 6.0874251 | O13: =[1]ProEmp!K65 -> 86165.187 | P13: =IF(ISNUMBER(O13/$B13*100),O13/$B13*100,0) -> 8.3354859 | Q13: =[1]ProEmp!L65 -> 6.2090569
A15: Rango de Edad
A16: De 10 a 11 años | B16: =SUM(C16,F16,I16,L16,O16) -> 4567.3944 | C16: =[1]ProEmp!C67 -> 167.46323 | D16: =IF(ISNUMBER(C16/$B16*100),C16/$B16*100,0) -> 3.6664938 | E16: =[1]ProEmp!D67 -> 6 | F16: =[1]ProEmp!E67 -> 854.44251 | G16: =IF(ISNUMBER(F16/$B16*100),F16/$B16*100,0) -> 18.707439 | H16: =[1]ProEmp!F67 -> 3.625 | I16: =[1]ProEmp!G67 -> 1068.0531 | J16: =IF(ISNUMBER(I16/$B16*100),I16/$B16*100,0) -> 23.384298 | K16: =[1]ProEmp!H67 -> 4 | L16: =[1]ProEmp!I67 -> 1142.3691 | M16: =IF(ISNUMBER(L16/$B16*100),L16/$B16*100,0) -> 25.011396 | N16: =[1]ProEmp!J67 -> 3.7662636 | O16: =[1]ProEmp!K67 -> 1335.0664 | P16: =IF(ISNUMBER(O16/$B16*100),O16/$B16*100,0) -> 29.230373 | Q16: =[1]ProEmp!L67 -> 2.6
A17: De 12 a 14 años | B17: =SUM(C17,F17,I17,L17,O17) -> 38200.698 | C17: =[1]ProEmp!C68 -> 562.66143 | D17: =IF(ISNUMBER(C17/$B17*100),C17/$B17*100,0) -> 1.4729087 | E17: =[1]ProEmp!D68 -> 8 | F17: =[1]ProEmp!E68 -> 10567.527 | G17: =IF(ISNUMBER(F17/$B17*100),F17/$B17*100,0) -> 27.663177 | H17: =[1]ProEmp!F68 -> 5.3680601 | I17: =[1]ProEmp!G68 -> 14072.535 | J17: =IF(ISNUMBER(I17/$B17*100),I17/$B17*100,0) -> 36.838422 | K17: =[1]ProEmp!H68 -> 5.6165613 | L17: =[1]ProEmp!I68 -> 2599.2177 | M17: =IF(ISNUMBER(L17/$B17*100),L17/$B17*100,0) -> 6.8041103 | N17: =[1]ProEmp!J68 -> 5.6705918 | O17: =[1]ProEmp!K68 -> 10398.758 | P17: =IF(ISNUMBER(O17/$B17*100),O17/$B17*100,0) -> 27.221382 | Q17: =[1]ProEmp!L68 -> 5.1612308
A18: De 15 a 18 años | B18: =SUM(C18,F18,I18,L18,O18) -> 207398.54 | C18: =[1]ProEmp!C69 -> 14927.78 | D18: =IF(ISNUMBER(C18/$B18*100),C18/$B18*100,0) -> 7.19763 | E18: =[1]ProEmp!D69 -> 8.9782304 | F18: =[1]ProEmp!E69 -> 40804.544 | G18: =IF(ISNUMBER(F18/$B18*100),F18/$B18*100,0) -> 19.67446 | H18: =[1]ProEmp!F69 -> 6.8292755 | I18: =[1]ProEmp!G69 -> 112417.42 | J18: =IF(ISNUMBER(I18/$B18*100),I18/$B18*100,0) -> 54.203571 | K18: =[1]ProEmp!H69 -> 6.3368448 | L18: =[1]ProEmp!I69 -> 5465.2532 | M18: =IF(ISNUMBER(L18/$B18*100),L18/$B18*100,0) -> 2.6351454 | N18: =[1]ProEmp!J69 -> 6.6308796 | O18: =[1]ProEmp!K69 -> 33783.55 | P18: =IF(ISNUMBER(O18/$B18*100),O18/$B18*100,0) -> 16.289193 | Q18: =[1]ProEmp!L69 -> 6.9991401
A19: De 19 a 24 años | B19: =SUM(C19,F19,I19,L19,O19) -> 397775.28 | C19: =[1]ProEmp!C70 -> 59296.218 | D19: =IF(ISNUMBER(C19/$B19*100),C19/$B19*100,0) -> 14.906964 | E19: =[1]ProEmp!D70 -> 9.9520907 | F19: =[1]ProEmp!E70 -> 58047.094 | G19: =IF(ISNUMBER(F19/$B19*100),F19/$B19*100,0) -> 14.592937 | H19: =[1]ProEmp!F70 -> 8.3462561 | I19: =[1]ProEmp!G70 -> 221572.64 | J19: =IF(ISNUMBER(I19/$B19*100),I19/$B19*100,0) -> 55.70297 | K19: =[1]ProEmp!H70 -> 7.5373941 | L19: =[1]ProEmp!I70 -> 14198.377 | M19: =IF(ISNUMBER(L19/$B19*100),L19/$B19*100,0) -> 3.5694469 | N19: =[1]ProEmp!J70 -> 9.5892141 | O19: =[1]ProEmp!K70 -> 44660.946 | P19: =IF(ISNUMBER(O19/$B19*100),O19/$B19*100,0) -> 11.227683 | Q19: =[1]ProEmp!L70 -> 8.7400299
A20: De 25 a 29 años | B20: =SUM(C20,F20,I20,L20,O20) -> 220403.99 | C20: =[1]ProEmp!C71 -> 25648.18 | D20: =IF(ISNUMBER(C20/$B20*100),C20/$B20*100,0) -> 11.636895 | E20: =[1]ProEmp!D71 -> 10.215832 | F20: =[1]ProEmp!E71 -> 40696.038 | G20: =IF(ISNUMBER(F20/$B20*100),F20/$B20*100,0) -> 18.464293 | H20: =[1]ProEmp!F71 -> 8.2292435 | I20: =[1]ProEmp!G71 -> 131094.33 | J20: =IF(ISNUMBER(I20/$B20*100),I20/$B20*100,0) -> 59.479111 | K20: =[1]ProEmp!H71 -> 6.8996257 | L20: =[1]ProEmp!I71 -> 6367.1773 | M20: =IF(ISNUMBER(L20/$B20*100),L20/$B20*100,0) -> 2.8888667 | N20: =[1]ProEmp!J71 -> 9.3497421 | O20: =[1]ProEmp!K71 -> 16598.259 | P20: =IF(ISNUMBER(O20/$B20*100),O20/$B20*100,0) -> 7.5308345 | Q20: =[1]ProEmp!L71 -> 8.3419089
A21: De 30 a 34 años | B21: =SUM(C21,F21,I21,L21,O21) -> 174702.69 | C21: =[1]ProEmp!C72 -> 14502.858 | D21: =IF(ISNUMBER(C21/$B21*100),C21/$B21*100,0) -> 8.301451 | E21: =[1]ProEmp!D72 -> 10.354381 | F21: =[1]ProEmp!E72 -> 33536.837 | G21: =IF(ISNUMBER(F21/$B21*100),F21/$B21*100,0) -> 19.196521 | H21: =[1]ProEmp!F72 -> 7.4001255 | I21: =[1]ProEmp!G72 -> 112821.32 | J21: =IF(ISNUMBER(I21/$B21*100),I21/$B21*100,0) -> 64.579043 | K21: =[1]ProEmp!H72 -> 6.5541497 | L21: =[1]ProEmp!I72 -> 3619.4249 | M21: =IF(ISNUMBER(L21/$B21*100),L21/$B21*100,0) -> 2.0717626 | N21: =[1]ProEmp!J72 -> 6.5636698 | O21: =[1]ProEmp!K72 -> 10222.243 | P21: =IF(ISNUMBER(O21/$B21*100),O21/$B21*100,0) -> 5.8512228 | Q21: =[1]ProEmp!L72 -> 6.8624362
A22: De 35 a 39 años | B22: =SUM(C22,F22,I22,L22,O22) -> 159661.68 | C22: =[1]ProEmp!C73 -> 7347.823 | D22: =IF(ISNUMBER(C22/$B22*100),C22/$B22*100,0) -> 4.6021205 | E22: =[1]ProEmp!D73 -> 7.0514588 | F22: =[1]ProEmp!E73 -> 36669.692 | G22: =IF(ISNUMBER(F22/$B22*100),F22/$B22*100,0) -> 22.967122 | H22: =[1]ProEmp!F73 -> 6.732223 | I22: =[1]ProEmp!G73 -> 105194.07 | J22: =IF(ISNUMBER(I22/$B22*100),I22/$B22*100,0) -> 65.885609 | K22: =[1]ProEmp!H73 -> 5.8656532 | L22: =[1]ProEmp!I73 -> 2752.7074 | M22: =IF(ISNUMBER(L22/$B22*100),L22/$B22*100,0) -> 1.7240877 | N22: =[1]ProEmp!J73 -> 6.5308097 | O22: =[1]ProEmp!K73 -> 7697.3876 | P22: =IF(ISNUMBER(O22/$B22*100),O22/$B22*100,0) -> 4.8210614 | Q22: =[1]ProEmp!L73 -> 6.7507363
A23: De 40 a 44 años | B23: =SUM(C23,F23,I23,L23,O23) -> 149837.29 | C23: =[1]ProEmp!C74 -> 5159.5206 | D23: =IF(ISNUMBER(C23/$B23*100),C23/$B23*100,0) -> 3.4434156 | E23: =[1]ProEmp!D74 -> 10.000842 | F23: =[1]ProEmp!E74 -> 27404.258 | G23: =IF(ISNUMBER(F23/$B23*100),F23/$B23*100,0) -> 18.289344 | H23: =[1]ProEmp!F74 -> 7.5881683 | I23: =[1]ProEmp!G74 -> 104004.3 | J23: =IF(ISNUMBER(I23/$B23*100),I23/$B23*100,0) -> 69.411491 | K23: =[1]ProEmp!H74 -> 5.8221386 | L23: =[1]ProEmp!I74 -> 2096.9064 | M23: =IF(ISNUMBER(L23/$B23*100),L23/$B23*100,0) -> 1.3994556 | N23: =[1]ProEmp!J74 -> 7.2146102 | O23: =[1]ProEmp!K74 -> 11172.309 | P23: =IF(ISNUMBER(O23/$B23*100),O23/$B23*100,0) -> 7.456294 | Q23: =[1]ProEmp!L74 -> 6.0634745
A24: De 45 a 49 años | B24: =SUM(C24,F24,I24,L24,O24) -> 136868.62 | C24: =[1]ProEmp!C75 -> 5464.5192 | D24: =IF(ISNUMBER(C24/$B24*100),C24/$B24*100,0) -> 3.9925288 | E24: =[1]ProEmp!D75 -> 6.4617701 | F24: =[1]ProEmp!E75 -> 31401.405 | G24: =IF(ISNUMBER(F24/$B24*100),F24/$B24*100,0) -> 22.942735 | H24: =[1]ProEmp!F75 -> 6.4640211 | I24: =[1]ProEmp!G75 -> 91147.574 | J24: =IF(ISNUMBER(I24/$B24*100),I24/$B24*100,0) -> 66.594938 | K24: =[1]ProEmp!H75 -> 5.5663423 | L24: =[1]ProEmp!I75 -> 2363.6591 | M24: =IF(ISNUMBER(L24/$B24*100),L24/$B24*100,0) -> 1.7269547 | N24: =[1]ProEmp!J75 -> 3 | O24: =[1]ProEmp!K75 -> 6491.465 | P24: =IF(ISNUMBER(O24/$B24*100),O24/$B24*100,0) -> 4.7428438 | Q24: =[1]ProEmp!L75 -> 5.8604511
A25: De 50 a 54 años | B25: =SUM(C25,F25,I25,L25,O25) -> 122168.34 | C25: =[1]ProEmp!C76 -> 4977.7605 | D25: =IF(ISNUMBER(C25/$B25*100),C25/$B25*100,0) -> 4.0745095 | E25: =[1]ProEmp!D76 -> 8.6271826 | F25: =[1]ProEmp!E76 -> 21026.149 | G25: =IF(ISNUMBER(F25/$B25*100),F25/$B25*100,0) -> 17.210801 | H25: =[1]ProEmp!F76 -> 6.1150486 | I25: =[1]ProEmp!G76 -> 87909.356 | J25: =IF(ISNUMBER(I25/$B25*100),I25/$B25*100,0) -> 71.957561 | K25: =[1]ProEmp!H76 -> 5.1374642 | L25: =[1]ProEmp!I76 -> 1330.291 | M25: =IF(ISNUMBER(L25/$B25*100),L25/$B25*100,0) -> 1.0888999 | N25: =[1]ProEmp!J76 -> 9.4293058 | O25: =[1]ProEmp!K76 -> 6924.7814 | P25: =IF(ISNUMBER(O25/$B25*100),O25/$B25*100,0) -> 5.6682292 | Q25: =[1]ProEmp!L76 -> 6.7451995
A26: De 55 a 59 años | B26: =SUM(C26,F26,I26,L26,O26) -> 89539.842 | C26: =[1]ProEmp!C77 -> 4211.4005 | D26: =IF(ISNUMBER(C26/$B26*100),C26/$B26*100,0) -> 4.7033816 | E26: =[1]ProEmp!D77 -> 7.8996029 | F26: =[1]ProEmp!E77 -> 15333.009 | G26: =IF(ISNUMBER(F26/$B26*100),F26/$B26*100,0) -> 17.124231 | H26: =[1]ProEmp!F77 -> 7.7565567 | I26: =[1]ProEmp!G77 -> 66090.404 | J26: =IF(ISNUMBER(I26/$B26*100),I26/$B26*100,0) -> 73.811169 | K26: =[1]ProEmp!H77 -> 4.4900095 | L26: =[1]ProEmp!I77 -> 238.88986 | M26: =IF(ISNUMBER(L26/$B26*100),L26/$B26*100,0) -> 0.26679727 | N26: =[1]ProEmp!J77 -> 18 | O26: =[1]ProEmp!K77 -> 3666.1378 | P26: =IF(ISNUMBER(O26/$B26*100),O26/$B26*100,0) -> 4.0944207 | Q26: =[1]ProEmp!L77 -> 5.619512
A27: De 60 a 64 años | B27: =SUM(C27,F27,I27,L27,O27) -> 62331.361 | C27: =[1]ProEmp!C78 -> 654.22326 | D27: =IF(ISNUMBER(C27/$B27*100),C27/$B27*100,0) -> 1.0495892 | E27: =[1]ProEmp!D78 -> 6 | F27: =[1]ProEmp!E78 -> 8409.9635 | G27: =IF(ISNUMBER(F27/$B27*100),F27/$B27*100,0) -> 13.492347 | H27: =[1]ProEmp!F78 -> 6.7342246 | I27: =[1]ProEmp!G78 -> 48315.97 | J27: =IF(ISNUMBER(I27/$B27*100),I27/$B27*100,0) -> 77.514704 | K27: =[1]ProEmp!H78 -> 4.464789 | L27: =[1]ProEmp!I78 -> 1461.002 | M27: =IF(ISNUMBER(L27/$B27*100),L27/$B27*100,0) -> 2.3439276 | N27: =[1]ProEmp!J78 -> 3.7818202 | O27: =[1]ProEmp!K78 -> 3490.2025 | P27: =IF(ISNUMBER(O27/$B27*100),O27/$B27*100,0) -> 5.5994325 | Q27: =[1]ProEmp!L78 -> 5.1914558
A28: De 65 años y más | B28: =SUM(C28,F28,I28,L28,O28) -> 90577.573 | C28: =[1]ProEmp!C79 -> 862.98524 | D28: =IF(ISNUMBER(C28/$B28*100),C28/$B28*100,0) -> 0.95275819 | E28: =[1]ProEmp!D79 -> 5.5010991 | F28: =[1]ProEmp!E79 -> 9218.2002 | G28: =IF(ISNUMBER(F28/$B28*100),F28/$B28*100,0) -> 10.177133 | H28: =[1]ProEmp!F79 -> 6.2753255 | I28: =[1]ProEmp!G79 -> 75266.833 | J28: =IF(ISNUMBER(I28/$B28*100),I28/$B28*100,0) -> 83.096545 | K28: =[1]ProEmp!H79 -> 3.9802003 | L28: =[1]ProEmp!I79 -> 494.56613 | M28: =IF(ISNUMBER(L28/$B28*100),L28/$B28*100,0) -> 0.54601389 | N28: =[1]ProEmp!J79 -> 2 | O28: =[1]ProEmp!K79 -> 4734.9876 | P28: =IF(ISNUMBER(O28/$B28*100),O28/$B28*100,0) -> 5.2275497 | Q28: =[1]ProEmp!L79 -> 7.215305
A30: ='C01'!$A$31 -> Fuente: Instituto Nacional de Estadística (INE). XLI Encuesta Permanente de Hogares de Propósitos Múltiples, Mayo 2011.
A31: AEP: Años de Estudio Promedio
A32: 2/ Porcentaje por filas
A34: =A1 -> Cuadro No. 4. Población con problemas de empleo y Años de Estudio Promedio (AEP), según dominio, rama de actividad y ocupación
A35: ....... Continuación
A36: =A3 -> Categorías | B36: Total | C36: Desocupados | F36: Subempleo Visible | I36: Subempleo Invisible | L36: Potencialmente Activos | O36: Desalentados
C37: No. | D37: % 2/ | E37: AEP | F37: No. | G37: % 2/ | H37: AEP | I37: No. | J37: % 2/ | K37: AEP | L37: No. | M37: % 2/ | N37: AEP | O37: No. | P37: % 2/ | Q37: AEP
A39: =A6 -> Total Nacional | B39: =B6 -> 1854033.3 | C39: =C6 -> 143783.39 | D39: =D6 -> 7.7551678 | E39: =E6 -> 9.5208985 | F39: =F6 -> 333969.16 | G39: =G6 -> 18.013116 | H39: =H6 -> 7.2942285 | ... Q39: =Q6 -> 7.3079659
A41: Rama de Actividad
A42: Agricultura, Silvicultura, Caza y Pesca | B42: =SUM(C42,F42,I42,L42,O42) -> 636495.95 | C42: =[1]ProEmp!C81 -> 8834.9081 | D42: =IF(ISNUMBER(C42/$B42*100),C42/$B42*100,0) -> 1.3880541 | E42: =[1]ProEmp!D81 -> 6.8580686 | F42: =[1]ProEmp!E81 -> 103892.53 | G42: =IF(ISNUMBER(F42/$B42*100),F42/$B42*100,0) -> 16.322576 | H42: =[1]ProEmp!F81 -> 5.3970585 | I42: =[1]ProEmp!G81 -> 498008.8 | J42: =IF(ISNUMBER(I42/$B42*100),I42/$B42*100,0) -> 78.242257 | K42: =[1]ProEmp!H81 -> 4.7787324 | L42: =[1]ProEmp!I81 -> 18008.204 | M42: =IF(ISNUMBER(L42/$B42*100),L42/$B42*100,0) -> 2.8292723 | N42: =[1]ProEmp!J81 -> 4.9180472 | O42: =[1]ProEmp!K81 -> 7751.5056 | P42: =IF(ISNUMBER(O42/$B42*100),O42/$B42*100,0) -> 1.2178405 | Q42: =[1]ProEmp!L81 -> 4.7943868
A43: Explotación de minas y canteras | B43: =SUM(C43,F43,I43,L43,O43) -> 5334.4275 | C43: =[1]ProEmp!C82 -> 167.46323 | D43: =IF(ISNUMBER(C43/$B43*100),C43/$B43*100,0) -> 3.1392916 | E43: =[1]ProEmp!D82 -> 6 | F43: =[1]ProEmp!E82 -> 1288.919 | G43: =IF(ISNUMBER(F43/$B43*100),F43/$B43*100,0) -> 24.162275 | H43: =[1]ProEmp!F82 -> 7.5238095 | I43: =[1]ProEmp!G82 -> 3710.582 | J43: =IF(ISNUMBER(I43/$B43*100),I43/$B43*100,0) -> 69.559142 | K43: =[1]ProEmp!H82 -> 4.8148087 | L43: =[1]ProEmp!I82 -> 0 | M43: =IF(ISNUMBER(L43/$B43*100),L43/$B43*100,0) -> 0 | N43: =[1]ProEmp!J82 -> . | O43: =[1]ProEmp!K82 -> 167.46323 | P43: =IF(ISNUMBER(O43/$B43*100),O43/$B43*100,0) -> 3.1392916 | Q43: =[1]ProEmp!L82 -> 9
A44: Industria manufacturera | B44: =SUM(C44,F44,I44,L44,O44) -> 181431.07 | C44: =[1]ProEmp!C83 -> 16952.797 | D44: =IF(ISNUMBER(C44/$B44*100),C44/$B44*100,0) -> 9.3439329 | E44: =[1]ProEmp!D83 -> 8.7181385 | F44: =[1]ProEmp!E83 -> 45723.862 | G44: =IF(ISNUMBER(F44/$B44*100),F44/$B44*100,0) -> 25.201782 | H44: =[1]ProEmp!F83 -> 7.1211154 | I44: =[1]ProEmp!G83 -> 107149.28 | J44: =IF(ISNUMBER(I44/$B44*100),I44/$B44*100,0) -> 59.057847 | K44: =[1]ProEmp!H83 -> 6.6062658 | L44: =[1]ProEmp!I83 -> 2804.7153 | M44: =IF(ISNUMBER(L44/$B44*100),L44/$B44*100,0) -> 1.5458848 | N44: =[1]ProEmp!J83 -> 7.5907528 | O44: =[1]ProEmp!K83 -> 8800.4102 | P44: =IF(ISNUMBER(O44/$B44*100),O44/$B44*100,0) -> 4.8505531 | Q44: =[1]ProEmp!L83 -> 8.2481274
A45: Electricidad, gas y agua | B45: =SUM(C45,F45,I45,L45,O45) -> 1481.9424 | C45: =[1]ProEmp!C84 -> 1208.879 | D45: =IF(ISNUMBER(C45/$B45*100),C45/$B45*100,0) -> 81.573952 | E45: =[1]ProEmp!D84 -> 8.6835693 | F45: =[1]ProEmp!E84 -> 0 | G45: =IF(ISNUMBER(F45/$B45*100),F45/$B45*100,0) -> 0 | H45: =[1]ProEmp!F84 -> . | I45: =[1]ProEmp!G84 -> 273.06341 | J45: =IF(ISNUMBER(I45/$B45*100),I45/$B45*100,0) -> 18.426048 | K45: =[1]ProEmp!H84 -> 17 | L45: =[1]ProEmp!I84 -> 0 | M45: =IF(ISNUMBER(L45/$B45*100),L45/$B45*100,0) -> 0 | N45: =[1]ProEmp!J84 -> . | O45: =[1]ProEmp!K84 -> 0 | P45: =IF(ISNUMBER(O45/$B45*100),O45/$B45*100,0) -> 0 | Q45: =[1]ProEmp!L84 -> .
A46: Construcción | B46: =SUM(C46,F46,I46,L46,O46) -> 137597.97 | C46: =[1]ProEmp!C85 -> 14611.815 | D46: =IF(ISNUMBER(C46/$B46*100),C46/$B46*100,0) -> 10.619208 | E46: =[1]ProEmp!D85 -> 6.7940074 | F46: =[1]ProEmp!E85 -> 14858.647 | G46: =IF(ISNUMBER(F46/$B46*100),F46/$B46*100,0) -> 10.798595 | H46: =[1]ProEmp!F85 -> 6.7190637 | I46: =[1]ProEmp!G85 -> 100680.88 | J46: =IF(ISNUMBER(I46/$B46*100),I46/$B46*100,0) -> 73.170321 | K46: =[1]ProEmp!H85 -> 6.2352299 | L46: =[1]ProEmp!I85 -> 2210.675 | M46: =IF(ISNUMBER(L46/$B46*100),L46/$B46*100,0) -> 1.6066189 | N46: =[1]ProEmp!J85 -> 7.8105079 | O46: =[1]ProEmp!K85 -> 5235.9566 | P46: =IF(ISNUMBER(O46/$B46*100),O46/$B46*100,0) -> 3.8052571 | Q46: =[1]ProEmp!L85 -> 5.5343457
A47: Comercio por Mayor / menor, Hoteles / restaurantes | B47: =SUM(C47,F47,I47,L47,O47) -> 414967.82 | C47: =[1]ProEmp!C86 -> 30423.243 | D47: =IF(ISNUMBER(C47/$B47*100),C47/$B47*100,0) -> 7.3314704 | E47: =[1]ProEmp!D86 -> 9.4490287 | F47: =[1]ProEmp!E86 -> 80065.459 | G47: =IF(ISNUMBER(F47/$B47*100),F47/$B47*100,0) -> 19.294378 | H47: =[1]ProEmp!F86 -> 7.4323483 | I47: =[1]ProEmp!G86 -> 278902.01 | J47: =IF(ISNUMBER(I47/$B47*100),I47/$B47*100,0) -> 67.210516 | K47: =[1]ProEmp!H86 -> 7.349542 | L47: =[1]ProEmp!I86 -> 5427.0717 | M47: =IF(ISNUMBER(L47/$B47*100),L47/$B47*100,0) -> 1.3078295 | N47: =[1]ProEmp!J86 -> 9.578252 | O47: =[1]ProEmp!K86 -> 20150.033 | P47: =IF(ISNUMBER(O47/$B47*100),O47/$B47*100,0) -> 4.8558061 | Q47: =[1]ProEmp!L86 -> 8.6839994
A48: Transp. almac. y comunicaciones | B48: =SUM(C48,F48,I48,L48,O48) -> 48371.743 | C48: =[1]ProEmp!C87 -> 4483.564 | D48: =IF(ISNUMBER(C48/$B48*100),C48/$B48*100,0) -> 9.2689733 | E48: =[1]ProEmp!D87 -> 8.2774494 | F48: =[1]ProEmp!E87 -> 8693.5225 | G48: =IF(ISNUMBER(F48/$B48*100),F48/$B48*100,0) -> 17.972316 | H48: =[1]ProEmp!F87 -> 7.1398241 | I48: =[1]ProEmp!G87 -> 33630.222 | J48: =IF(ISNUMBER(I48/$B48*100),I48/$B48*100,0) -> 69.52452 | K48: =[1]ProEmp!H87 -> 7.1684483 | L48: =[1]ProEmp!I87 -> 523.20099 | M48: =IF(ISNUMBER(L48/$B48*100),L48/$B48*100,0) -> 1.0816252 | N48: =[1]ProEmp!J87 -> 12.869849 | O48: =[1]ProEmp!K87 -> 1041.2337 | P48: =IF(ISNUMBER(O48/$B48*100),O48/$B48*100,0) -> 2.1525659 | Q48: =[1]ProEmp!L87 -> 7.3689595
...

Sheet C05
A1: Cuadro No. 4. Población con problemas de empleo y Años de Estudio Promedio (AEP), según dominio, rama de actividad y ocupación
A2: Hombres
A3: Categorías | B3: Total | C3: Desocupados | F3: Subempleo Visible | I3: Subempleo Invisible | L3: Potencialmente Activos | O3: Desalentados
C4: No. | D4: % 2/ | E4: AEP | F4: No. | G4: % 2/ | H4: AEP | I4: No. | J4: % 2/ | K4: AEP | L4: No. | M4: % 2/ | N4: AEP | O4: No. | P4: % 2/ | Q4: AEP
A6: Total Nacional | B6: =+B9+B13 -> 1154948.4 | C6: =[1]ProEmp!M61 -> 71466.141 | D6: =IF(ISNUMBER(C6/$B6*100),C6/$B6*100,0) -> 6.187821 | E6: =[1]ProEmp!N61 -> 8.9597707 | F6: =[1]ProEmp!O61 -> 173722.45 | G6: =IF(ISNUMBER(F6/$B6*100),F6/$B6*100,0) -> 15.041577 | H6: =[1]ProEmp!P61 -> 6.7236773 | I6: =[1]ProEmp!Q61 -> 849853.81 | J6: =IF(ISNUMBER(I6/$B6*100),I6/$B6*100,0) -> 73.583703 | K6: =[1]ProEmp!R61 -> 5.8277812 | L6: =[1]ProEmp!S61 -> 14237.803 | M6: =IF(ISNUMBER(L6/$B6*100),L6/$B6*100,0) -> 1.2327653 | N6: =[1]ProEmp!T61 -> 7.9764758 | O6: =[1]ProEmp!U61 -> 45668.211 | P6: =IF(ISNUMBER(O6/$B6*100),O6/$B6*100,0) -> 3.9541342 | Q6: =[1]ProEmp!V61 -> 7.7359564
A8: Dominio
